{"text_format":"1","workbook":"xlsx","n_sheets":7,"sheets":["Settings","Original","Standard","Modified","Pro-Modified","Prototype","UTV"],"not_rendered":{"charts":0,"images":0,"macros":1,"external_links":0,"defined_names":21,"comments":0,"pivot_tables":0},"unopened":[],"bounds":{"document_bytes":16777216,"sheet_cells":100000,"rows_first":2000,"rows_last":500,"rows_between":2000,"halvings":0,"cell_chars":16384,"cell_head_chars":4096},"cells_cut":0,"cells_raw":0,"read":"whole","date_system":"1900"}

{"sheet":"Settings","index":0,"n_rows":14,"n_cols":7,"rows_kept":14,"cut":false,"hidden":false,"merged":[]}
[]
[null,"Race name:","Eurotrial Finland 2025 : 18-20.7.2025 - Results"]
[]
[]
[]
[]
[]
[]
[]
[]
[]
[null,"File save bath:","C:\\Users\\Mylppy\\OneDrive - Tietopartio Oy\\4x4cup\\Eurotrial2025\\Tuloslaskenta\\tulokset",null,null,null,"<- Save Bath"]
[null,null,"Eurotrial_2025_Results_Long",null,null,null,"<- File name for all pages"]
[null,null,"Eurotrial_2025_Result_Short",null,null,null,"<- File name for result page only"]

{"sheet":"Original","index":1,"n_rows":43,"n_cols":242,"rows_kept":43,"cut":false,"hidden":false,"merged":[[0,21,0,26]]}
[null,{"$f":"Settings!C2","v":"Eurotrial Finland 2025 : 18-20.7.2025 - Results"},null,null,null,null,null,null,null,null,null,null,null,null,null,null,null,null,null,null,null,{"$f":"NOW()","v":"2025-07-20T20:32:14.320"},null,null,null,null,null,null,null,{"$f":"B1","v":"Eurotrial Finland 2025 : 18-20.7.2025 - Results"},null,null,null,null,null,null,null,null,null,null,null,null,null,null,null,{"$f":"B1","v":"Eurotrial Finland 2025 : 18-20.7.2025 - Results"},null,null,null,null,null,null,null,null,null,null,{"$f":"B1","v":"Eurotrial Finland 2025 : 18-20.7.2025 - Results"},null,null,null,null,null,null,null,null,null,null,{"$f":"B1","v":"Eurotrial Finland 2025 : 18-20.7.2025 - Results"},null,null,null,null,null,null,null,null,null,null,{"$f":"B1","v":"Eurotrial Finland 2025 : 18-20.7.2025 - Results"},null,null,null,null,null,null,null,null,null,null,{"$f":"B1","v":"Eurotrial Finland 2025 : 18-20.7.2025 - Results"},null,null,null,null,null,null,null,null,null,null,{"$f":"B1","v":"Eurotrial Finland 2025 : 18-20.7.2025 - Results"},null,null,null,null,null,null,null,null,null,null,{"$f":"B1","v":"Eurotrial Finland 2025 : 18-20.7.2025 - Results"},null,null,null,null,null,null,null,null,null,null,{"$f":"B1","v":"Eurotrial Finland 2025 : 18-20.7.2025 - Results"},null,null,null,null,null,null,null,null,null,null,{"$f":"B1","v":"Eurotrial Finland 2025 : 18-20.7.2025 - Results"},null,null,null,null,null,null,null,null,null,null,{"$f":"B1","v":"Eurotrial Finland 2025 : 18-20.7.2025 - Results"},null,null,null,null,null,null,null,null,null,null,{"$f":"B1","v":"Eurotrial Finland 2025 : 18-20.7.2025 - Results"},null,null,null,null,null,null,null,null,null,null,{"$f":"B1","v":"Eurotrial Finland 2025 : 18-20.7.2025 - Results"},null,null,null,null,null,null,null,null,null,null,{"$f":"B1","v":"Eurotrial Finland 2025 : 18-20.7.2025 - Results"},null,null,null,null,null,null,null,null,null,null,{"$f":"B1","v":"Eurotrial Finland 2025 : 18-20.7.2025 - Results"},null,null,null,null,null,null,null,null,null,null,{"$f":"B1","v":"Eurotrial Finland 2025 : 18-20.7.2025 - Results"},null,null,null,null,null,null,null,null,null,null,{"$f":"B1","v":"Eurotrial Finland 2025 : 18-20.7.2025 - Results"},null,null,null,null,null,null,null,null,null,null,{"$f":"B1","v":"Eurotrial Finland 2025 : 18-20.7.2025 - Results"},null,null,null,null,null,null,null,null,null,null,{"$f":"B1","v":"Eurotrial Finland 2025 : 18-20.7.2025 - Results"}]
[null,"Class: Original",null,null,null,null,null,null,null,null,null,null,null,null,null,null,null,null,null,null,null,null,null,null,null,null,null,null,null,{"$f":"B2","v":"Class: Original"},null,null,null,null,null,null,null,null,null,null,null,null,null,null,null,{"$f":"B2","v":"Class: Original"},null,null,null,null,null,null,null,null,{"$f":"AT3","v":"Section L1"},null,{"$f":"B2","v":"Class: Original"},null,null,null,null,null,null,null,null,{"$f":"BE3","v":"Section L2"},null,{"$f":"B2","v":"Class: Original"},null,null,null,null,null,null,null,null,{"$f":"BP3","v":"Section L3"},null,{"$f":"B2","v":"Class: Original"},null,null,null,null,null,null,null,null,{"$f":"CA3","v":"Section L4"},null,{"$f":"B2","v":"Class: Original"},null,null,null,null,null,null,null,null,{"$f":"CL3","v":"Section L5"},null,{"$f":"B2","v":"Class: Original"},null,null,null,null,null,null,null,null,{"$f":"CW3","v":"Section L6"},null,{"$f":"B2","v":"Class: Original"},null,null,null,null,null,null,null,null,{"$f":"DH3","v":"Section L7"},null,{"$f":"B2","v":"Class: Original"},null,null,null,null,null,null,null,null,{"$f":"DS3","v":"Section L9"},null,{"$f":"B2","v":"Class: Original"},null,null,null,null,null,null,null,null,{"$f":"ED3","v":"Section S1"},null,{"$f":"B2","v":"Class: Original"},null,null,null,null,null,null,null,null,{"$f":"EO3","v":"Section S2"},null,{"$f":"B2","v":"Class: Original"},null,null,null,null,null,null,null,null,{"$f":"EZ3","v":"Section S3"},null,{"$f":"B2","v":"Class: Original"},null,null,null,null,null,null,null,null,{"$f":"FK3","v":"Section S4"},null,{"$f":"B2","v":"Class: Original"},null,null,null,null,null,null,null,null,{"$f":"FV3","v":"Section S5"},null,{"$f":"B2","v":"Class: Original"},null,null,null,null,null,null,null,null,{"$f":"GG3","v":"Section S6"},null,{"$f":"B2","v":"Class: Original"},null,null,null,null,null,null,null,null,{"$f":"GR3","v":"Section S7"},null,{"$f":"B2","v":"Class: Original"},null,null,null,null,null,null,null,null,{"$f":"HC3","v":"Section S9"},null,{"$f":"B2","v":"Class: Original"},null,null,null,null,null,null,null,null,{"$f":"HN3","v":"Run-off section 1"},null,{"$f":"B2","v":"Class: Original"},null,null,null,null,null,null,null,null,{"$f":"HY3","v":"Run-off section 2"}]
[null,null,null,null,null,null,null,null,null,null,null,null,null,null,null,null,null,null,null,null,null,null,null,null,null,null,null,null,null,null,null,null,null,null,null,null,null,null,null,null,null,"Helper columns for ordering",null,null,null,"Section L1",null,{"$f":"AT3","v":"Section L1"},null,{"$f":"AT3","v":"Section L1"},null,{"$f":"AT3","v":"Section L1"},null,{"$f":"AT3","v":"Section L1"},null,null,"Section L2",null,{"$f":"BE3","v":"Section L2"},null,{"$f":"BE3","v":"Section L2"},null,{"$f":"BE3","v":"Section L2"},null,{"$f":"BE3","v":"Section L2"},null,null,"Section L3",null,{"$f":"BP3","v":"Section L3"},null,{"$f":"BP3","v":"Section L3"},null,{"$f":"BP3","v":"Section L3"},null,{"$f":"BP3","v":"Section L3"},null,null,"Section L4",null,{"$f":"CA3","v":"Section L4"},null,{"$f":"CA3","v":"Section L4"},null,{"$f":"CA3","v":"Section L4"},null,{"$f":"CA3","v":"Section L4"},null,null,"Section L5",null,{"$f":"CL3","v":"Section L5"},null,{"$f":"CL3","v":"Section L5"},null,{"$f":"CL3","v":"Section L5"},null,{"$f":"CL3","v":"Section L5"},null,null,"Section L6",null,{"$f":"CW3","v":"Section L6"},null,{"$f":"CW3","v":"Section L6"},null,{"$f":"CW3","v":"Section L6"},null,{"$f":"CW3","v":"Section L6"},null,null,"Section L7",null,{"$f":"DH3","v":"Section L7"},null,{"$f":"DH3","v":"Section L7"},null,{"$f":"DH3","v":"Section L7"},null,{"$f":"DH3","v":"Section L7"},null,null,"Section L9",null,{"$f":"DS3","v":"Section L9"},null,{"$f":"DS3","v":"Section L9"},null,{"$f":"DS3","v":"Section L9"},null,{"$f":"DS3","v":"Section L9"},null,null,"Section S1",null,{"$f":"ED3","v":"Section S1"},null,{"$f":"ED3","v":"Section S1"},null,{"$f":"ED3","v":"Section S1"},null,{"$f":"ED3","v":"Section S1"},null,null,"Section S2",null,{"$f":"EO3","v":"Section S2"},null,{"$f":"EO3","v":"Section S2"},null,{"$f":"EO3","v":"Section S2"},null,{"$f":"EO3","v":"Section S2"},null,null,"Section S3",null,{"$f":"EZ3","v":"Section S3"},null,{"$f":"EZ3","v":"Section S3"},null,{"$f":"EZ3","v":"Section S3"},null,{"$f":"EZ3","v":"Section S3"},null,null,"Section S4",null,{"$f":"FK3","v":"Section S4"},null,{"$f":"FK3","v":"Section S4"},null,{"$f":"FK3","v":"Section S4"},null,{"$f":"FK3","v":"Section S4"},null,null,"Section S5",null,{"$f":"FV3","v":"Section S5"},null,{"$f":"FV3","v":"Section S5"},null,{"$f":"FV3","v":"Section S5"},null,{"$f":"FV3","v":"Section S5"},null,null,"Section S6",null,{"$f":"GG3","v":"Section S6"},null,{"$f":"GG3","v":"Section S6"},null,{"$f":"GG3","v":"Section S6"},null,{"$f":"GG3","v":"Section S6"},null,null,"Section S7",null,{"$f":"GR3","v":"Section S7"},null,{"$f":"GR3","v":"Section S7"},null,{"$f":"GR3","v":"Section S7"},null,{"$f":"GR3","v":"Section S7"},null,null,"Section S9",null,{"$f":"HC3","v":"Section S9"},null,{"$f":"HC3","v":"Section S9"},null,{"$f":"HC3","v":"Section S9"},null,{"$f":"HC3","v":"Section S9"},null,null,"Run-off section 1",null,"Run-off section 1",null,"Run-off section 1",null,"Run-off section 1",null,"Run-off section 1",null,null,"Run-off section 2",null,"Run-off section 2",null,"Run-off section 2",null,"Run-off section 2",null,"Run-off section 2"]
[null,"Pos.","Race #"," Team","Car","Driver","Co-Driver","L1","L2","L3","L4","L5","L6","L7","L9","S1","S2","S3","S4","S5","S6","S7","S9","Extra penalty","Run-off 1","Run-off 2","Total",null,null,"Race #","Car base reverse points","Car width (mm)","Car wheelbase (mm)","\"Magic Number\" ","Traditional reverse points","Extra penalty","Extra penalty reason","DNF/DSQ (1 if DNF 2 if DSQ)","Ended race (1 if ok)","Order change (1 = go higher)",null,"Result points, do not change","Run-off points do not change",null,null,"Race #","Reverse","Touching / Driving under (5)","Broken post / stick (25)","Not Passed Gate (50)","Section not completed (50)","Not driven section (500)","Comment","Clean (1 = ok)","Total",null,"Race #","Reverse","Touching / Driving under (5)","Broken post / stick (25)","Not Passed Gate (50)","Section not completed (50)","Not driven section (500)","Comment","Clean (1 = ok)","Total",null,"Race #","Reverse","Touching / Driving under (5)","Broken post / stick (25)","Not Passed Gate (50)","Section not completed (50)","Not driven section (500)","Comment","Clean (1 = ok)","Total",null,"Race #","Reverse","Touching / Driving under (5)","Broken post / stick (25)","Not Passed Gate (50)","Section not completed (50)","Not driven section (500)","Comment","Clean (1 = ok)","Total",null,"Race #","Reverse","Touching / Driving under (5)","Broken post / stick (25)","Not Passed Gate (50)","Section not completed (50)","Not driven section (500)","Comment","Clean (1 = ok)","Total",null,"Race #","Reverse","Touching / Driving under (5)","Broken post / stick (25)","Not Passed Gate (50)","Section not completed (50)","Not driven section (500)","Comment","Clean (1 = ok)","Total",null,"Race #","Reverse","Touching / Driving under (5)","Broken post / stick (25)","Not Passed Gate (50)","Section not completed (50)","Not driven section (500)","Comment","Clean (1 = ok)","Total",null,"Race #","Reverse","Touching / Driving under (5)","Broken post / stick (25)","Not Passed Gate (50)","Section not completed (50)","Not driven section (500)","Comment","Clean (1 = ok)","Total",null,"Race #","Reverse","Touching / Driving under (5)","Broken post / stick (25)","Not Passed Gate (50)","Section not completed (50)","Not driven section (500)","Comment","Clean (1 = ok)","Total",null,"Race #","Reverse","Touching / Driving under (5)","Broken post / stick (25)","Not Passed Gate (50)","Section not completed (50)","Not driven section (500)","Comment","Clean (1 = ok)","Total",null,"Race #","Reverse","Touching / Driving under (5)","Broken post / stick (25)","Not Passed Gate (50)","Section not completed (50)","Not driven section (500)","Comment","Clean (1 = ok)","Total",null,"Race #","Reverse","Touching / Driving under (5)","Broken post / stick (25)","Not Passed Gate (50)","Section not completed (50)","Not driven section (500)","Comment","Clean (1 = ok)","Total",null,"Race #","Reverse","Touching / Driving under (5)","Broken post / stick (25)","Not Passed Gate (50)","Section not completed (50)","Not driven section (500)","Comment","Clean (1 = ok)","Total",null,"Race #","Reverse","Touching / Driving under (5)","Broken post / stick (25)","Not Passed Gate (50)","Section not completed (50)","Not driven section (500)","Comment","Clean (1 = ok)","Total",null,"Race #","Reverse","Touching / Driving under (5)","Broken post / stick (25)","Not Passed Gate (50)","Section not completed (50)","Not driven section (500)","Comment","Clean (1 = ok)","Total",null,"Race #","Reverse","Touching / Driving under (5)","Broken post / stick (25)","Not Passed Gate (50)","Section not completed (50)","Not driven section (500)","Comment","Clean (1 = ok)","Total",null,"Race #","Reverse","Touching / Driving under (5)","Broken post / stick (25)","Not Passed Gate (50)","Section not completed (50)","Not driven section (500)","Comment","Clean (1 = ok)","Total",null,"Race #","Reverse","Touching / Driving under (5)","Broken post / stick (25)","Not Passed Gate (50)","Section not completed (50)","Not driven section (500)","Comment","Clean (1 = ok)","Total"]
[null,{"$f":"IF(C5=0,\"\",ROW(C5)-4)","v":1},107,"Finland","Toyota RJ70","Sinisalo Tarmo","Uimonen Mika",{"$f":"IF(C5=0,\"\",IF(OR(BB5=1,BC5<>0),BC5,\"-\"))","v":0},{"$f":"IF(C5=0,\"\",IF(OR(BM5=1,BN5<>0),BN5,\"-\"))","v":0},{"$f":"IF(C5=0,\"\",IF(OR(BX5=1,BY5<>0),BY5,\" -\"))","v":3.0425963488843815},{"$f":"IF(C5=0,\"\",IF(OR(CJ5<>0,CI5=1),CJ5,\" -\"))","v":0},{"$f":"IF(C5=0,\"\",IF(OR(CU5<>0,CT5=1),CU5,\" -\"))","v":17.241379310344829},{"$f":"IF(C5=0,\"\",IF(OR(DF5<>0,DE5=1),DF5,\" -\"))","v":1.5212981744421907},{"$f":"IF(C5=0,\"\",IF(OR(DQ5<>0,DP5=1),DQ5,\" -\"))","v":0},{"$f":"IF(C5=0,\"\",IF(OR(EB5<>0,EA5=1),EB5,\" -\"))","v":0},{"$f":"IF(C5=0,\"\",IF(OR(EM5<>0,EL5=1),EM5,\" -\"))","v":2.5354969574036512},{"$f":"IF(C5=0,\"\",IF(OR(EX5<>0,EW5=1),EX5,\" -\"))","v":0},{"$f":"IF(C5=0,\"\",IF(OR(FI5<>0,FH5=1),FI5,\" -\"))","v":3.0425963488843815},{"$f":"IF(C5=0,\"\",IF(OR(FT5<>0,FS5=1),FT5,\" -\"))","v":0},{"$f":"IF(C5=0,\"\",IF(OR(GE5<>0,GD5=1),GE5,\" -\"))","v":0},{"$f":"IF(C5=0,\"\",IF(OR(GP5<>0,GO5=1),GP5,\" -\"))","v":3.0425963488843815},{"$f":"IF(C5=0,\"\",IF(OR(HA5<>0,GZ5=1),HA5,\" -\"))","v":0},{"$f":"IF(C5=0,\"\",IF(OR(HL5<>0,HK5=1),HL5,\" -\"))","v":3.0425963488843815},{"$f":"IF(C5=0,\"\",IF(AJ5<>0,AJ5,\" -\"))","v":" -"},{"$f":"IF(C5=0,\"\",IF(OR(HW5<>0,HV5=1),HW5,\" -\"))","v":" -"},{"$f":"IF(C5=0,\"\",IF(OR(IH5<>0,IG5=1),IH5,\" -\"))","v":" -"},{"$f":"IF(C5=0,\"\",IF(AL5=1,\"DNF\",IF(AL5=2,\"DSQ\",IF(AM5<>1,\"~ \"&ROUND(SUM(H5:X5),3),ROUND(SUM(H5:X5),3)))))","v":33.469000000000001},null,null,{"$f":"IF(C5<>\"\",C5,\"\")","v":107},{"$f":"IF(AD5<>\"\",3,\"\")","v":3},1700,2320,{"$f":"IF(AD5<>\"\",(AF5/1000*AG5/1000)/2,\"\")","v":1.972},3,null,null,null,1,null,null,{"$f":"IF(C5=0,99999,IF(AL5>0,9999,SUM(H5:X5)-AN5))","v":33.468559837728193},{"$f":"IF(C5=0,99999,IF(AL5=1,9999,SUM(Y5:Z5)))","v":0},null,null,{"$f":"IF(C5<>\"\",C5,\"\")","v":107},null,null,null,null,null,null,null,1,{"$f":"IF($C5=\"\",\"\", IF(BB5=1,0,IF(AZ5<>0,500,AU5*$AE5/$AH5+AV5/$AH5*5+AW5/$AH5*25+AX5*50+AY5*50)))","v":0},null,{"$f":"IF(C5<>\"\",C5,\"\")","v":107},null,null,null,null,null,null,null,1,{"$f":"IF($C5=\"\",\"\", IF(BM5=1,0,IF(BK5<>0,500,BF5*$AE5/$AH5+BG5/$AH5*5+BH5/$AH5*25+BI5*50+BJ5*50)))","v":0},null,{"$f":"IF(C5<>\"\",C5,\"\")","v":107},2,null,null,null,null,null,null,null,{"$f":"IF($C5=\"\",\"\", IF(BX5=1,0,IF(BV5<>0,500,BQ5*$AE5/$AH5+BR5/$AH5*5+BS5/$AH5*25+BT5*50+BU5*50)))","v":3.0425963488843815},null,{"$f":"IF(C5<>\"\",C5,\"\")","v":107},null,null,null,null,null,null,null,1,{"$f":"IF($C5=\"\",\"\", IF(CI5=1,0,IF(CG5<>0,500,CB5*$AE5/$AH5+CC5/$AH5*5+CD5/$AH5*25+CE5*50+CF5*50)))","v":0},null,{"$f":"IF(C5<>\"\",C5,\"\")","v":107},3,null,1,null,null,null,null,null,{"$f":"IF($C5=\"\",\"\", IF(CT5=1,0,IF(CR5<>0,500,CM5*$AE5/$AH5+CN5/$AH5*5+CO5/$AH5*25+CP5*50+CQ5*50)))","v":17.241379310344829},null,{"$f":"IF(C5<>\"\",C5,\"\")","v":107},1,null,null,null,null,null,null,null,{"$f":"IF($C5=\"\",\"\", IF(DE5=1,0,IF(DC5<>0,500,CX5*$AE5/$AH5+CY5/$AH5*5+CZ5/$AH5*25+DA5*50+DB5*50)))","v":1.5212981744421907},null,{"$f":"IF(C5<>\"\",C5,\"\")","v":107},null,null,null,null,null,null,null,1,{"$f":"IF($C5=\"\",\"\", IF(DP5=1,0,IF(DN5<>0,500,DI5*$AE5/$AH5+DJ5/$AH5*5+DK5/$AH5*25+DL5*50+DM5*50)))","v":0},null,{"$f":"IF(C5<>\"\",C5,\"\")","v":107},null,null,null,null,null,null,null,1,{"$f":"IF($C5=\"\",\"\", IF(EA5=1,0,IF(DY5<>0,500,DT5*$AE5/$AH5+DU5/$AH5*5+DV5/$AH5*25+DW5*50+DX5*50)))","v":0},null,{"$f":"IF(C5<>\"\",C5,\"\")","v":107},null,1,null,null,null,null,null,null,{"$f":"IF($C5=\"\",\"\", IF(EL5=1,0,IF(EJ5<>0,500,EE5*$AE5/$AH5+EF5/$AH5*5+EG5/$AH5*25+EH5*50+EI5*50)))","v":2.5354969574036512},null,{"$f":"IF(C5<>\"\",C5,\"\")","v":107},null,null,null,null,null,null,null,1,{"$f":"IF($C5=\"\",\"\", IF(EW5=1,0,IF(EU5<>0,500,EP5*$AE5/$AH5+EQ5/$AH5*5+ER5/$AH5*25+ES5*50+ET5*50)))","v":0},null,{"$f":"IF(C5<>\"\",C5,\"\")","v":107},2,null,null,null,null,null,null,null,{"$f":"IF($C5=\"\",\"\", IF(FH5=1,0,IF(FF5<>0,500,FA5*$AE5/$AH5+FB5/$AH5*5+FC5/$AH5*25+FD5*50+FE5*50)))","v":3.0425963488843815},null,{"$f":"IF(C5<>\"\",C5,\"\")","v":107},null,null,null,null,null,null,null,1,{"$f":"IF($C5=\"\",\"\", IF(FS5=1,0,IF(FQ5<>0,500,FL5*$AE5/$AH5+FM5/$AH5*5+FN5/$AH5*25+FO5*50+FP5*50)))","v":0},null,{"$f":"IF(C5<>\"\",C5,\"\")","v":107},null,null,null,null,null,null,null,1,{"$f":"IF($C5=\"\",\"\", IF(GD5=1,0,IF(GB5<>0,500,FW5*$AE5/$AH5+FX5/$AH5*5+FY5/$AH5*25+FZ5*50+GA5*50)))","v":0},null,{"$f":"IF(C5<>\"\",C5,\"\")","v":107},2,null,null,null,null,null,null,null,{"$f":"IF($C5=\"\",\"\", IF(GO5=1,0,IF(GM5<>0,500,GH5*$AE5/$AH5+GI5/$AH5*5+GJ5/$AH5*25+GK5*50+GL5*50)))","v":3.0425963488843815},null,{"$f":"IF(C5<>\"\",C5,\"\")","v":107},null,null,null,null,null,null,null,1,{"$f":"IF($C5=\"\",\"\", IF(GZ5=1,0,IF(GX5<>0,500,GS5*$AE5/$AH5+GT5/$AH5*5+GU5/$AH5*25+GV5*50+GW5*50)))","v":0},null,{"$f":"IF(C5<>\"\",C5,\"\")","v":107},2,null,null,null,null,null,null,null,{"$f":"IF($C5=\"\",\"\", IF(HK5=1,0,IF(HI5<>0,500,HD5*$AE5/$AH5+HE5/$AH5*5+HF5/$AH5*25+HG5*50+HH5*50)))","v":3.0425963488843815},null,{"$f":"IF(C5<>\"\",C5,\"\")","v":107},null,null,null,null,null,null,null,null,{"$f":"IF($C5=\"\",\"\", IF(HV5=1,0,IF(HT5<>0,500,HO5*$AE5/$AH5+HP5/$AH5*5+HQ5/$AH5*25+HR5*50+HS5*50)))","v":0},null,{"$f":"IF(C5<>\"\",C5,\"\")","v":107},null,null,null,null,null,null,null,null,{"$f":"IF($C5=\"\",\"\", IF(IG5=1,0,IF(IE5<>0,500,HZ5*$AE5/$AH5+IA5/$AH5*5+IB5/$AH5*25+IC5*50+ID5*50)))","v":0}]
[null,{"$f":"IF(C6=0,\"\",ROW(C6)-4)","v":2},110,"Finland","Joyhill Racing Rubiconna TJ","Ilomäki Jouni","Forss Jonas",{"$f":"IF(C6=0,\"\",IF(OR(BB6=1,BC6<>0),BC6,\"-\"))","v":0},{"$f":"IF(C6=0,\"\",IF(OR(BM6=1,BN6<>0),BN6,\"-\"))","v":0},{"$f":"IF(C6=0,\"\",IF(OR(BX6=1,BY6<>0),BY6,\" -\"))","v":4.3217286914765909},{"$f":"IF(C6=0,\"\",IF(OR(CJ6<>0,CI6=1),CJ6,\" -\"))","v":0},{"$f":"IF(C6=0,\"\",IF(OR(CU6<>0,CT6=1),CU6,\" -\"))","v":13.445378151260503},{"$f":"IF(C6=0,\"\",IF(OR(DF6<>0,DE6=1),DF6,\" -\"))","v":2.8811524609843939},{"$f":"IF(C6=0,\"\",IF(OR(DQ6<>0,DP6=1),DQ6,\" -\"))","v":0},{"$f":"IF(C6=0,\"\",IF(OR(EB6<>0,EA6=1),EB6,\" -\"))","v":0},{"$f":"IF(C6=0,\"\",IF(OR(EM6<>0,EL6=1),EM6,\" -\"))","v":1.440576230492197},{"$f":"IF(C6=0,\"\",IF(OR(EX6<>0,EW6=1),EX6,\" -\"))","v":0},{"$f":"IF(C6=0,\"\",IF(OR(FI6<>0,FH6=1),FI6,\" -\"))","v":4.3217286914765909},{"$f":"IF(C6=0,\"\",IF(OR(FT6<>0,FS6=1),FT6,\" -\"))","v":0},{"$f":"IF(C6=0,\"\",IF(OR(GE6<>0,GD6=1),GE6,\" -\"))","v":1.440576230492197},{"$f":"IF(C6=0,\"\",IF(OR(GP6<>0,GO6=1),GP6,\" -\"))","v":2.8811524609843939},{"$f":"IF(C6=0,\"\",IF(OR(HA6<>0,GZ6=1),HA6,\" -\"))","v":0},{"$f":"IF(C6=0,\"\",IF(OR(HL6<>0,HK6=1),HL6,\" -\"))","v":6.7226890756302522},{"$f":"IF(C6=0,\"\",IF(AJ6<>0,AJ6,\" -\"))","v":" -"},{"$f":"IF(C6=0,\"\",IF(OR(HW6<>0,HV6=1),HW6,\" -\"))","v":" -"},{"$f":"IF(C6=0,\"\",IF(OR(IH6<>0,IG6=1),IH6,\" -\"))","v":" -"},{"$f":"IF(C6=0,\"\",IF(AL6=1,\"DNF\",IF(AL6=2,\"DSQ\",IF(AM6<>1,\"~ \"&ROUND(SUM(H6:X6),3),ROUND(SUM(H6:X6),3)))))","v":37.454999999999998},null,null,{"$f":"IF(C6<>\"\",C6,\"\")","v":110},{"$f":"IF(AD6<>\"\",3,\"\")","v":3},1750,2380,{"$f":"IF(AD6<>\"\",(AF6/1000*AG6/1000)/2,\"\")","v":2.0825},3,null,null,null,1,null,null,{"$f":"IF(C6=0,99999,IF(AL6>0,9999,SUM(H6:X6)-AN6))","v":37.454981992797116},{"$f":"IF(C6=0,99999,IF(AL6=1,9999,SUM(Y6:Z6)))","v":0},null,null,{"$f":"IF(C6<>\"\",C6,\"\")","v":110},null,null,null,null,null,null,null,1,{"$f":"IF($C6=\"\",\"\", IF(BB6=1,0,IF(AZ6<>0,500,AU6*$AE6/$AH6+AV6/$AH6*5+AW6/$AH6*25+AX6*50+AY6*50)))","v":0},null,{"$f":"IF(C6<>\"\",C6,\"\")","v":110},null,null,null,null,null,null,null,1,{"$f":"IF($C6=\"\",\"\", IF(BM6=1,0,IF(BK6<>0,500,BF6*$AE6/$AH6+BG6/$AH6*5+BH6/$AH6*25+BI6*50+BJ6*50)))","v":0},null,{"$f":"IF(C6<>\"\",C6,\"\")","v":110},3,null,null,null,null,null,null,null,{"$f":"IF($C6=\"\",\"\", IF(BX6=1,0,IF(BV6<>0,500,BQ6*$AE6/$AH6+BR6/$AH6*5+BS6/$AH6*25+BT6*50+BU6*50)))","v":4.3217286914765909},null,{"$f":"IF(C6<>\"\",C6,\"\")","v":110},null,null,null,null,null,null,null,1,{"$f":"IF($C6=\"\",\"\", IF(CI6=1,0,IF(CG6<>0,500,CB6*$AE6/$AH6+CC6/$AH6*5+CD6/$AH6*25+CE6*50+CF6*50)))","v":0},null,{"$f":"IF(C6<>\"\",C6,\"\")","v":110},1,null,1,null,null,null,null,null,{"$f":"IF($C6=\"\",\"\", IF(CT6=1,0,IF(CR6<>0,500,CM6*$AE6/$AH6+CN6/$AH6*5+CO6/$AH6*25+CP6*50+CQ6*50)))","v":13.445378151260503},null,{"$f":"IF(C6<>\"\",C6,\"\")","v":110},2,null,null,null,null,null,null,null,{"$f":"IF($C6=\"\",\"\", IF(DE6=1,0,IF(DC6<>0,500,CX6*$AE6/$AH6+CY6/$AH6*5+CZ6/$AH6*25+DA6*50+DB6*50)))","v":2.8811524609843939},null,{"$f":"IF(C6<>\"\",C6,\"\")","v":110},null,null,null,null,null,null,null,1,{"$f":"IF($C6=\"\",\"\", IF(DP6=1,0,IF(DN6<>0,500,DI6*$AE6/$AH6+DJ6/$AH6*5+DK6/$AH6*25+DL6*50+DM6*50)))","v":0},null,{"$f":"IF(C6<>\"\",C6,\"\")","v":110},null,null,null,null,null,null,null,1,{"$f":"IF($C6=\"\",\"\", IF(EA6=1,0,IF(DY6<>0,500,DT6*$AE6/$AH6+DU6/$AH6*5+DV6/$AH6*25+DW6*50+DX6*50)))","v":0},null,{"$f":"IF(C6<>\"\",C6,\"\")","v":110},1,null,null,null,null,null,null,null,{"$f":"IF($C6=\"\",\"\", IF(EL6=1,0,IF(EJ6<>0,500,EE6*$AE6/$AH6+EF6/$AH6*5+EG6/$AH6*25+EH6*50+EI6*50)))","v":1.440576230492197},null,{"$f":"IF(C6<>\"\",C6,\"\")","v":110},null,null,null,null,null,null,null,1,{"$f":"IF($C6=\"\",\"\", IF(EW6=1,0,IF(EU6<>0,500,EP6*$AE6/$AH6+EQ6/$AH6*5+ER6/$AH6*25+ES6*50+ET6*50)))","v":0},null,{"$f":"IF(C6<>\"\",C6,\"\")","v":110},3,null,null,null,null,null,null,null,{"$f":"IF($C6=\"\",\"\", IF(FH6=1,0,IF(FF6<>0,500,FA6*$AE6/$AH6+FB6/$AH6*5+FC6/$AH6*25+FD6*50+FE6*50)))","v":4.3217286914765909},null,{"$f":"IF(C6<>\"\",C6,\"\")","v":110},null,null,null,null,null,null,null,1,{"$f":"IF($C6=\"\",\"\", IF(FS6=1,0,IF(FQ6<>0,500,FL6*$AE6/$AH6+FM6/$AH6*5+FN6/$AH6*25+FO6*50+FP6*50)))","v":0},null,{"$f":"IF(C6<>\"\",C6,\"\")","v":110},1,null,null,null,null,null,null,null,{"$f":"IF($C6=\"\",\"\", IF(GD6=1,0,IF(GB6<>0,500,FW6*$AE6/$AH6+FX6/$AH6*5+FY6/$AH6*25+FZ6*50+GA6*50)))","v":1.440576230492197},null,{"$f":"IF(C6<>\"\",C6,\"\")","v":110},2,null,null,null,null,null,null,null,{"$f":"IF($C6=\"\",\"\", IF(GO6=1,0,IF(GM6<>0,500,GH6*$AE6/$AH6+GI6/$AH6*5+GJ6/$AH6*25+GK6*50+GL6*50)))","v":2.8811524609843939},null,{"$f":"IF(C6<>\"\",C6,\"\")","v":110},null,null,null,null,null,null,null,1,{"$f":"IF($C6=\"\",\"\", IF(GZ6=1,0,IF(GX6<>0,500,GS6*$AE6/$AH6+GT6/$AH6*5+GU6/$AH6*25+GV6*50+GW6*50)))","v":0},null,{"$f":"IF(C6<>\"\",C6,\"\")","v":110},3,1,null,null,null,null,null,null,{"$f":"IF($C6=\"\",\"\", IF(HK6=1,0,IF(HI6<>0,500,HD6*$AE6/$AH6+HE6/$AH6*5+HF6/$AH6*25+HG6*50+HH6*50)))","v":6.7226890756302522},null,{"$f":"IF(C6<>\"\",C6,\"\")","v":110},null,null,null,null,null,null,null,null,{"$f":"IF($C6=\"\",\"\", IF(HV6=1,0,IF(HT6<>0,500,HO6*$AE6/$AH6+HP6/$AH6*5+HQ6/$AH6*25+HR6*50+HS6*50)))","v":0},null,{"$f":"IF(C6<>\"\",C6,\"\")","v":110},null,null,null,null,null,null,null,null,{"$f":"IF($C6=\"\",\"\", IF(IG6=1,0,IF(IE6<>0,500,HZ6*$AE6/$AH6+IA6/$AH6*5+IB6/$AH6*25+IC6*50+ID6*50)))","v":0}]
[null,{"$f":"IF(C7=0,\"\",ROW(C7)-4)","v":3},108,"Hungarian","Suzuki Jimny","János Kónya","Fanni Takács",{"$f":"IF(C7=0,\"\",IF(OR(BB7=1,BC7<>0),BC7,\"-\"))","v":0},{"$f":"IF(C7=0,\"\",IF(OR(BM7=1,BN7<>0),BN7,\"-\"))","v":0},{"$f":"IF(C7=0,\"\",IF(OR(BX7=1,BY7<>0),BY7,\" -\"))","v":3.333333333333333},{"$f":"IF(C7=0,\"\",IF(OR(CJ7<>0,CI7=1),CJ7,\" -\"))","v":0},{"$f":"IF(C7=0,\"\",IF(OR(CU7<>0,CT7=1),CU7,\" -\"))","v":13.888888888888889},{"$f":"IF(C7=0,\"\",IF(OR(DF7<>0,DE7=1),DF7,\" -\"))","v":1.6666666666666665},{"$f":"IF(C7=0,\"\",IF(OR(DQ7<>0,DP7=1),DQ7,\" -\"))","v":1.6666666666666665},{"$f":"IF(C7=0,\"\",IF(OR(EB7<>0,EA7=1),EB7,\" -\"))","v":0},{"$f":"IF(C7=0,\"\",IF(OR(EM7<>0,EL7=1),EM7,\" -\"))","v":1.6666666666666665},{"$f":"IF(C7=0,\"\",IF(OR(EX7<>0,EW7=1),EX7,\" -\"))","v":13.888888888888889},{"$f":"IF(C7=0,\"\",IF(OR(FI7<>0,FH7=1),FI7,\" -\"))","v":3.333333333333333},{"$f":"IF(C7=0,\"\",IF(OR(FT7<>0,FS7=1),FT7,\" -\"))","v":13.888888888888889},{"$f":"IF(C7=0,\"\",IF(OR(GE7<>0,GD7=1),GE7,\" -\"))","v":0},{"$f":"IF(C7=0,\"\",IF(OR(GP7<>0,GO7=1),GP7,\" -\"))","v":1.6666666666666665},{"$f":"IF(C7=0,\"\",IF(OR(HA7<>0,GZ7=1),HA7,\" -\"))","v":1.6666666666666665},{"$f":"IF(C7=0,\"\",IF(OR(HL7<>0,HK7=1),HL7,\" -\"))","v":6.1111111111111107},{"$f":"IF(C7=0,\"\",IF(AJ7<>0,AJ7,\" -\"))","v":" -"},{"$f":"IF(C7=0,\"\",IF(OR(HW7<>0,HV7=1),HW7,\" -\"))","v":" -"},{"$f":"IF(C7=0,\"\",IF(OR(IH7<>0,IG7=1),IH7,\" -\"))","v":" -"},{"$f":"IF(C7=0,\"\",IF(AL7=1,\"DNF\",IF(AL7=2,\"DSQ\",IF(AM7<>1,\"~ \"&ROUND(SUM(H7:X7),3),ROUND(SUM(H7:X7),3)))))","v":62.777999999999999},null,null,{"$f":"IF(C7<>\"\",C7,\"\")","v":108},{"$f":"IF(AD7<>\"\",3,\"\")","v":3},1600,2250,{"$f":"IF(AD7<>\"\",(AF7/1000*AG7/1000)/2,\"\")","v":1.8},4,null,null,null,1,null,null,{"$f":"IF(C7=0,99999,IF(AL7>0,9999,SUM(H7:X7)-AN7))","v":62.777777777777786},{"$f":"IF(C7=0,99999,IF(AL7=1,9999,SUM(Y7:Z7)))","v":0},null,null,{"$f":"IF(C7<>\"\",C7,\"\")","v":108},null,null,null,null,null,null,null,1,{"$f":"IF($C7=\"\",\"\", IF(BB7=1,0,IF(AZ7<>0,500,AU7*$AE7/$AH7+AV7/$AH7*5+AW7/$AH7*25+AX7*50+AY7*50)))","v":0},null,{"$f":"IF(C7<>\"\",C7,\"\")","v":108},null,null,null,null,null,null,null,1,{"$f":"IF($C7=\"\",\"\", IF(BM7=1,0,IF(BK7<>0,500,BF7*$AE7/$AH7+BG7/$AH7*5+BH7/$AH7*25+BI7*50+BJ7*50)))","v":0},null,{"$f":"IF(C7<>\"\",C7,\"\")","v":108},2,null,null,null,null,null,null,null,{"$f":"IF($C7=\"\",\"\", IF(BX7=1,0,IF(BV7<>0,500,BQ7*$AE7/$AH7+BR7/$AH7*5+BS7/$AH7*25+BT7*50+BU7*50)))","v":3.333333333333333},null,{"$f":"IF(C7<>\"\",C7,\"\")","v":108},null,null,null,null,null,null,null,1,{"$f":"IF($C7=\"\",\"\", IF(CI7=1,0,IF(CG7<>0,500,CB7*$AE7/$AH7+CC7/$AH7*5+CD7/$AH7*25+CE7*50+CF7*50)))","v":0},null,{"$f":"IF(C7<>\"\",C7,\"\")","v":108},null,null,1,null,null,null,null,null,{"$f":"IF($C7=\"\",\"\", IF(CT7=1,0,IF(CR7<>0,500,CM7*$AE7/$AH7+CN7/$AH7*5+CO7/$AH7*25+CP7*50+CQ7*50)))","v":13.888888888888889},null,{"$f":"IF(C7<>\"\",C7,\"\")","v":108},1,null,null,null,null,null,null,null,{"$f":"IF($C7=\"\",\"\", IF(DE7=1,0,IF(DC7<>0,500,CX7*$AE7/$AH7+CY7/$AH7*5+CZ7/$AH7*25+DA7*50+DB7*50)))","v":1.6666666666666665},null,{"$f":"IF(C7<>\"\",C7,\"\")","v":108},1,null,null,null,null,null,null,null,{"$f":"IF($C7=\"\",\"\", IF(DP7=1,0,IF(DN7<>0,500,DI7*$AE7/$AH7+DJ7/$AH7*5+DK7/$AH7*25+DL7*50+DM7*50)))","v":1.6666666666666665},null,{"$f":"IF(C7<>\"\",C7,\"\")","v":108},null,null,null,null,null,null,null,1,{"$f":"IF($C7=\"\",\"\", IF(EA7=1,0,IF(DY7<>0,500,DT7*$AE7/$AH7+DU7/$AH7*5+DV7/$AH7*25+DW7*50+DX7*50)))","v":0},null,{"$f":"IF(C7<>\"\",C7,\"\")","v":108},1,null,null,null,null,null,null,null,{"$f":"IF($C7=\"\",\"\", IF(EL7=1,0,IF(EJ7<>0,500,EE7*$AE7/$AH7+EF7/$AH7*5+EG7/$AH7*25+EH7*50+EI7*50)))","v":1.6666666666666665},null,{"$f":"IF(C7<>\"\",C7,\"\")","v":108},null,null,1,null,null,null,null,null,{"$f":"IF($C7=\"\",\"\", IF(EW7=1,0,IF(EU7<>0,500,EP7*$AE7/$AH7+EQ7/$AH7*5+ER7/$AH7*25+ES7*50+ET7*50)))","v":13.888888888888889},null,{"$f":"IF(C7<>\"\",C7,\"\")","v":108},2,null,null,null,null,null,null,null,{"$f":"IF($C7=\"\",\"\", IF(FH7=1,0,IF(FF7<>0,500,FA7*$AE7/$AH7+FB7/$AH7*5+FC7/$AH7*25+FD7*50+FE7*50)))","v":3.333333333333333},null,{"$f":"IF(C7<>\"\",C7,\"\")","v":108},null,null,1,null,null,null,null,null,{"$f":"IF($C7=\"\",\"\", IF(FS7=1,0,IF(FQ7<>0,500,FL7*$AE7/$AH7+FM7/$AH7*5+FN7/$AH7*25+FO7*50+FP7*50)))","v":13.888888888888889},null,{"$f":"IF(C7<>\"\",C7,\"\")","v":108},null,null,null,null,null,null,null,1,{"$f":"IF($C7=\"\",\"\", IF(GD7=1,0,IF(GB7<>0,500,FW7*$AE7/$AH7+FX7/$AH7*5+FY7/$AH7*25+FZ7*50+GA7*50)))","v":0},null,{"$f":"IF(C7<>\"\",C7,\"\")","v":108},1,null,null,null,null,null,null,null,{"$f":"IF($C7=\"\",\"\", IF(GO7=1,0,IF(GM7<>0,500,GH7*$AE7/$AH7+GI7/$AH7*5+GJ7/$AH7*25+GK7*50+GL7*50)))","v":1.6666666666666665},null,{"$f":"IF(C7<>\"\",C7,\"\")","v":108},1,null,null,null,null,null,null,null,{"$f":"IF($C7=\"\",\"\", IF(GZ7=1,0,IF(GX7<>0,500,GS7*$AE7/$AH7+GT7/$AH7*5+GU7/$AH7*25+GV7*50+GW7*50)))","v":1.6666666666666665},null,{"$f":"IF(C7<>\"\",C7,\"\")","v":108},2,1,null,null,null,null,null,null,{"$f":"IF($C7=\"\",\"\", IF(HK7=1,0,IF(HI7<>0,500,HD7*$AE7/$AH7+HE7/$AH7*5+HF7/$AH7*25+HG7*50+HH7*50)))","v":6.1111111111111107},null,{"$f":"IF(C7<>\"\",C7,\"\")","v":108},null,null,null,null,null,null,null,null,{"$f":"IF($C7=\"\",\"\", IF(HV7=1,0,IF(HT7<>0,500,HO7*$AE7/$AH7+HP7/$AH7*5+HQ7/$AH7*25+HR7*50+HS7*50)))","v":0},null,{"$f":"IF(C7<>\"\",C7,\"\")","v":108},null,null,null,null,null,null,null,null,{"$f":"IF($C7=\"\",\"\", IF(IG7=1,0,IF(IE7<>0,500,HZ7*$AE7/$AH7+IA7/$AH7*5+IB7/$AH7*25+IC7*50+ID7*50)))","v":0}]
[null,{"$f":"IF(C8=0,\"\",ROW(C8)-4)","v":4},102,"Germany","Suzuki LJ80","Dominik Keuper","Leon Keuper",{"$f":"IF(C8=0,\"\",IF(OR(BB8=1,BC8<>0),BC8,\"-\"))","v":0},{"$f":"IF(C8=0,\"\",IF(OR(BM8=1,BN8<>0),BN8,\"-\"))","v":0},{"$f":"IF(C8=0,\"\",IF(OR(BX8=1,BY8<>0),BY8,\" -\"))","v":2.2365527267305332},{"$f":"IF(C8=0,\"\",IF(OR(CJ8<>0,CI8=1),CJ8,\" -\"))","v":2.2365527267305332},{"$f":"IF(C8=0,\"\",IF(OR(CU8<>0,CT8=1),CU8,\" -\"))","v":2.2365527267305332},{"$f":"IF(C8=0,\"\",IF(OR(DF8<>0,DE8=1),DF8,\" -\"))","v":2.2365527267305332},{"$f":"IF(C8=0,\"\",IF(OR(DQ8<>0,DP8=1),DQ8,\" -\"))","v":20.874492116151639},{"$f":"IF(C8=0,\"\",IF(OR(EB8<>0,EA8=1),EB8,\" -\"))","v":0},{"$f":"IF(C8=0,\"\",IF(OR(EM8<>0,EL8=1),EM8,\" -\"))","v":0},{"$f":"IF(C8=0,\"\",IF(OR(EX8<>0,EW8=1),EX8,\" -\"))","v":5.9641406046147551},{"$f":"IF(C8=0,\"\",IF(OR(FI8<>0,FH8=1),FI8,\" -\"))","v":0},{"$f":"IF(C8=0,\"\",IF(OR(FT8<>0,FS8=1),FT8,\" -\"))","v":0},{"$f":"IF(C8=0,\"\",IF(OR(GE8<>0,GD8=1),GE8,\" -\"))","v":2.2365527267305332},{"$f":"IF(C8=0,\"\",IF(OR(GP8<>0,GO8=1),GP8,\" -\"))","v":2.2365527267305332},{"$f":"IF(C8=0,\"\",IF(OR(HA8<>0,GZ8=1),HA8,\" -\"))","v":0},{"$f":"IF(C8=0,\"\",IF(OR(HL8<>0,HK8=1),HL8,\" -\"))","v":34.293808476534835},{"$f":"IF(C8=0,\"\",IF(AJ8<>0,AJ8,\" -\"))","v":" -"},{"$f":"IF(C8=0,\"\",IF(OR(HW8<>0,HV8=1),HW8,\" -\"))","v":" -"},{"$f":"IF(C8=0,\"\",IF(OR(IH8<>0,IG8=1),IH8,\" -\"))","v":" -"},{"$f":"IF(C8=0,\"\",IF(AL8=1,\"DNF\",IF(AL8=2,\"DSQ\",IF(AM8<>1,\"~ \"&ROUND(SUM(H8:X8),3),ROUND(SUM(H8:X8),3)))))","v":74.552000000000007},null,null,{"$f":"IF(C8<>\"\",C8,\"\")","v":102},{"$f":"IF(AD8<>\"\",3,\"\")","v":3},1390,1930,{"$f":"IF(AD8<>\"\",(AF8/1000*AG8/1000)/2,\"\")","v":1.3413499999999998},6,null,null,null,1,null,null,{"$f":"IF(C8=0,99999,IF(AL8>0,9999,SUM(H8:X8)-AN8))","v":74.551757557684439},{"$f":"IF(C8=0,99999,IF(AL8=1,9999,SUM(Y8:Z8)))","v":0},null,null,{"$f":"IF(C8<>\"\",C8,\"\")","v":102},null,null,null,null,null,null,null,1,{"$f":"IF($C8=\"\",\"\", IF(BB8=1,0,IF(AZ8<>0,500,AU8*$AE8/$AH8+AV8/$AH8*5+AW8/$AH8*25+AX8*50+AY8*50)))","v":0},null,{"$f":"IF(C8<>\"\",C8,\"\")","v":102},null,null,null,null,null,null,null,1,{"$f":"IF($C8=\"\",\"\", IF(BM8=1,0,IF(BK8<>0,500,BF8*$AE8/$AH8+BG8/$AH8*5+BH8/$AH8*25+BI8*50+BJ8*50)))","v":0},null,{"$f":"IF(C8<>\"\",C8,\"\")","v":102},1,null,null,null,null,null,null,null,{"$f":"IF($C8=\"\",\"\", IF(BX8=1,0,IF(BV8<>0,500,BQ8*$AE8/$AH8+BR8/$AH8*5+BS8/$AH8*25+BT8*50+BU8*50)))","v":2.2365527267305332},null,{"$f":"IF(C8<>\"\",C8,\"\")","v":102},1,null,null,null,null,null,null,null,{"$f":"IF($C8=\"\",\"\", IF(CI8=1,0,IF(CG8<>0,500,CB8*$AE8/$AH8+CC8/$AH8*5+CD8/$AH8*25+CE8*50+CF8*50)))","v":2.2365527267305332},null,{"$f":"IF(C8<>\"\",C8,\"\")","v":102},1,null,null,null,null,null,null,null,{"$f":"IF($C8=\"\",\"\", IF(CT8=1,0,IF(CR8<>0,500,CM8*$AE8/$AH8+CN8/$AH8*5+CO8/$AH8*25+CP8*50+CQ8*50)))","v":2.2365527267305332},null,{"$f":"IF(C8<>\"\",C8,\"\")","v":102},1,null,null,null,null,null,null,null,{"$f":"IF($C8=\"\",\"\", IF(DE8=1,0,IF(DC8<>0,500,CX8*$AE8/$AH8+CY8/$AH8*5+CZ8/$AH8*25+DA8*50+DB8*50)))","v":2.2365527267305332},null,{"$f":"IF(C8<>\"\",C8,\"\")","v":102},1,null,1,null,null,null,null,null,{"$f":"IF($C8=\"\",\"\", IF(DP8=1,0,IF(DN8<>0,500,DI8*$AE8/$AH8+DJ8/$AH8*5+DK8/$AH8*25+DL8*50+DM8*50)))","v":20.874492116151639},null,{"$f":"IF(C8<>\"\",C8,\"\")","v":102},null,null,null,null,null,null,null,1,{"$f":"IF($C8=\"\",\"\", IF(EA8=1,0,IF(DY8<>0,500,DT8*$AE8/$AH8+DU8/$AH8*5+DV8/$AH8*25+DW8*50+DX8*50)))","v":0},null,{"$f":"IF(C8<>\"\",C8,\"\")","v":102},null,null,null,null,null,null,null,1,{"$f":"IF($C8=\"\",\"\", IF(EL8=1,0,IF(EJ8<>0,500,EE8*$AE8/$AH8+EF8/$AH8*5+EG8/$AH8*25+EH8*50+EI8*50)))","v":0},null,{"$f":"IF(C8<>\"\",C8,\"\")","v":102},1,1,null,null,null,null,null,null,{"$f":"IF($C8=\"\",\"\", IF(EW8=1,0,IF(EU8<>0,500,EP8*$AE8/$AH8+EQ8/$AH8*5+ER8/$AH8*25+ES8*50+ET8*50)))","v":5.9641406046147551},null,{"$f":"IF(C8<>\"\",C8,\"\")","v":102},null,null,null,null,null,null,null,1,{"$f":"IF($C8=\"\",\"\", IF(FH8=1,0,IF(FF8<>0,500,FA8*$AE8/$AH8+FB8/$AH8*5+FC8/$AH8*25+FD8*50+FE8*50)))","v":0},null,{"$f":"IF(C8<>\"\",C8,\"\")","v":102},null,null,null,null,null,null,null,1,{"$f":"IF($C8=\"\",\"\", IF(FS8=1,0,IF(FQ8<>0,500,FL8*$AE8/$AH8+FM8/$AH8*5+FN8/$AH8*25+FO8*50+FP8*50)))","v":0},null,{"$f":"IF(C8<>\"\",C8,\"\")","v":102},1,null,null,null,null,null,null,null,{"$f":"IF($C8=\"\",\"\", IF(GD8=1,0,IF(GB8<>0,500,FW8*$AE8/$AH8+FX8/$AH8*5+FY8/$AH8*25+FZ8*50+GA8*50)))","v":2.2365527267305332},null,{"$f":"IF(C8<>\"\",C8,\"\")","v":102},1,null,null,null,null,null,null,null,{"$f":"IF($C8=\"\",\"\", IF(GO8=1,0,IF(GM8<>0,500,GH8*$AE8/$AH8+GI8/$AH8*5+GJ8/$AH8*25+GK8*50+GL8*50)))","v":2.2365527267305332},null,{"$f":"IF(C8<>\"\",C8,\"\")","v":102},null,null,null,null,null,null,null,1,{"$f":"IF($C8=\"\",\"\", IF(GZ8=1,0,IF(GX8<>0,500,GS8*$AE8/$AH8+GT8/$AH8*5+GU8/$AH8*25+GV8*50+GW8*50)))","v":0},null,{"$f":"IF(C8<>\"\",C8,\"\")","v":102},7,null,1,null,null,null,null,null,{"$f":"IF($C8=\"\",\"\", IF(HK8=1,0,IF(HI8<>0,500,HD8*$AE8/$AH8+HE8/$AH8*5+HF8/$AH8*25+HG8*50+HH8*50)))","v":34.293808476534835},null,{"$f":"IF(C8<>\"\",C8,\"\")","v":102},null,null,null,null,null,null,null,null,{"$f":"IF($C8=\"\",\"\", IF(HV8=1,0,IF(HT8<>0,500,HO8*$AE8/$AH8+HP8/$AH8*5+HQ8/$AH8*25+HR8*50+HS8*50)))","v":0},null,{"$f":"IF(C8<>\"\",C8,\"\")","v":102},null,null,null,null,null,null,null,null,{"$f":"IF($C8=\"\",\"\", IF(IG8=1,0,IF(IE8<>0,500,HZ8*$AE8/$AH8+IA8/$AH8*5+IB8/$AH8*25+IC8*50+ID8*50)))","v":0}]
[null,{"$f":"IF(C9=0,\"\",ROW(C9)-4)","v":5},109,"Germany","Suzuki Samurai","Marc Koch","Daniel Koch",{"$f":"IF(C9=0,\"\",IF(OR(BB9=1,BC9<>0),BC9,\"-\"))","v":3.3973161202649909},{"$f":"IF(C9=0,\"\",IF(OR(BM9=1,BN9<>0),BN9,\"-\"))","v":2.0383896721589947},{"$f":"IF(C9=0,\"\",IF(OR(BX9=1,BY9<>0),BY9,\" -\"))","v":0},{"$f":"IF(C9=0,\"\",IF(OR(CJ9<>0,CI9=1),CJ9,\" -\"))","v":2.0383896721589947},{"$f":"IF(C9=0,\"\",IF(OR(CU9<>0,CT9=1),CU9,\" -\"))","v":2.0383896721589947},{"$f":"IF(C9=0,\"\",IF(OR(DF9<>0,DE9=1),DF9,\" -\"))","v":7.4740954645829802},{"$f":"IF(C9=0,\"\",IF(OR(DQ9<>0,DP9=1),DQ9,\" -\"))","v":33.973161202649912},{"$f":"IF(C9=0,\"\",IF(OR(EB9<>0,EA9=1),EB9,\" -\"))","v":0},{"$f":"IF(C9=0,\"\",IF(OR(EM9<>0,EL9=1),EM9,\" -\"))","v":0},{"$f":"IF(C9=0,\"\",IF(OR(EX9<>0,EW9=1),EX9,\" -\"))","v":7.4740954645829802},{"$f":"IF(C9=0,\"\",IF(OR(FI9<>0,FH9=1),FI9,\" -\"))","v":19.024970273483952},{"$f":"IF(C9=0,\"\",IF(OR(FT9<>0,FS9=1),FT9,\" -\"))","v":0},{"$f":"IF(C9=0,\"\",IF(OR(GE9<>0,GD9=1),GE9,\" -\"))","v":2.0383896721589947},{"$f":"IF(C9=0,\"\",IF(OR(GP9<>0,GO9=1),GP9,\" -\"))","v":2.0383896721589947},{"$f":"IF(C9=0,\"\",IF(OR(HA9<>0,GZ9=1),HA9,\" -\"))","v":0},{"$f":"IF(C9=0,\"\",IF(OR(HL9<>0,HK9=1),HL9,\" -\"))","v":53.677594700186859},{"$f":"IF(C9=0,\"\",IF(AJ9<>0,AJ9,\" -\"))","v":" -"},{"$f":"IF(C9=0,\"\",IF(OR(HW9<>0,HV9=1),HW9,\" -\"))","v":" -"},{"$f":"IF(C9=0,\"\",IF(OR(IH9<>0,IG9=1),IH9,\" -\"))","v":" -"},{"$f":"IF(C9=0,\"\",IF(AL9=1,\"DNF\",IF(AL9=2,\"DSQ\",IF(AM9<>1,\"~ \"&ROUND(SUM(H9:X9),3),ROUND(SUM(H9:X9),3)))))","v":135.21299999999999},null,null,{"$f":"IF(C9<>\"\",C9,\"\")","v":109},{"$f":"IF(AD9<>\"\",3,\"\")","v":3},1450,2030,{"$f":"IF(AD9<>\"\",(AF9/1000*AG9/1000)/2,\"\")","v":1.4717499999999999},5,null,null,null,1,null,null,{"$f":"IF(C9=0,99999,IF(AL9>0,9999,SUM(H9:X9)-AN9))","v":135.21318158654665},{"$f":"IF(C9=0,99999,IF(AL9=1,9999,SUM(Y9:Z9)))","v":0},null,null,{"$f":"IF(C9<>\"\",C9,\"\")","v":109},null,1,null,null,null,null,null,null,{"$f":"IF($C9=\"\",\"\", IF(BB9=1,0,IF(AZ9<>0,500,AU9*$AE9/$AH9+AV9/$AH9*5+AW9/$AH9*25+AX9*50+AY9*50)))","v":3.3973161202649909},null,{"$f":"IF(C9<>\"\",C9,\"\")","v":109},1,null,null,null,null,null,null,null,{"$f":"IF($C9=\"\",\"\", IF(BM9=1,0,IF(BK9<>0,500,BF9*$AE9/$AH9+BG9/$AH9*5+BH9/$AH9*25+BI9*50+BJ9*50)))","v":2.0383896721589947},null,{"$f":"IF(C9<>\"\",C9,\"\")","v":109},null,null,null,null,null,null,null,1,{"$f":"IF($C9=\"\",\"\", IF(BX9=1,0,IF(BV9<>0,500,BQ9*$AE9/$AH9+BR9/$AH9*5+BS9/$AH9*25+BT9*50+BU9*50)))","v":0},null,{"$f":"IF(C9<>\"\",C9,\"\")","v":109},1,null,null,null,null,null,null,null,{"$f":"IF($C9=\"\",\"\", IF(CI9=1,0,IF(CG9<>0,500,CB9*$AE9/$AH9+CC9/$AH9*5+CD9/$AH9*25+CE9*50+CF9*50)))","v":2.0383896721589947},null,{"$f":"IF(C9<>\"\",C9,\"\")","v":109},1,null,null,null,null,null,null,null,{"$f":"IF($C9=\"\",\"\", IF(CT9=1,0,IF(CR9<>0,500,CM9*$AE9/$AH9+CN9/$AH9*5+CO9/$AH9*25+CP9*50+CQ9*50)))","v":2.0383896721589947},null,{"$f":"IF(C9<>\"\",C9,\"\")","v":109},2,1,null,null,null,null,null,null,{"$f":"IF($C9=\"\",\"\", IF(DE9=1,0,IF(DC9<>0,500,CX9*$AE9/$AH9+CY9/$AH9*5+CZ9/$AH9*25+DA9*50+DB9*50)))","v":7.4740954645829802},null,{"$f":"IF(C9<>\"\",C9,\"\")","v":109},null,null,2,null,null,null,null,null,{"$f":"IF($C9=\"\",\"\", IF(DP9=1,0,IF(DN9<>0,500,DI9*$AE9/$AH9+DJ9/$AH9*5+DK9/$AH9*25+DL9*50+DM9*50)))","v":33.973161202649912},null,{"$f":"IF(C9<>\"\",C9,\"\")","v":109},null,null,null,null,null,null,null,1,{"$f":"IF($C9=\"\",\"\", IF(EA9=1,0,IF(DY9<>0,500,DT9*$AE9/$AH9+DU9/$AH9*5+DV9/$AH9*25+DW9*50+DX9*50)))","v":0},null,{"$f":"IF(C9<>\"\",C9,\"\")","v":109},null,null,null,null,null,null,null,1,{"$f":"IF($C9=\"\",\"\", IF(EL9=1,0,IF(EJ9<>0,500,EE9*$AE9/$AH9+EF9/$AH9*5+EG9/$AH9*25+EH9*50+EI9*50)))","v":0},null,{"$f":"IF(C9<>\"\",C9,\"\")","v":109},2,1,null,null,null,null,null,null,{"$f":"IF($C9=\"\",\"\", IF(EW9=1,0,IF(EU9<>0,500,EP9*$AE9/$AH9+EQ9/$AH9*5+ER9/$AH9*25+ES9*50+ET9*50)))","v":7.4740954645829802},null,{"$f":"IF(C9<>\"\",C9,\"\")","v":109},1,null,1,null,null,null,null,null,{"$f":"IF($C9=\"\",\"\", IF(FH9=1,0,IF(FF9<>0,500,FA9*$AE9/$AH9+FB9/$AH9*5+FC9/$AH9*25+FD9*50+FE9*50)))","v":19.024970273483952},null,{"$f":"IF(C9<>\"\",C9,\"\")","v":109},null,null,null,null,null,null,null,1,{"$f":"IF($C9=\"\",\"\", IF(FS9=1,0,IF(FQ9<>0,500,FL9*$AE9/$AH9+FM9/$AH9*5+FN9/$AH9*25+FO9*50+FP9*50)))","v":0},null,{"$f":"IF(C9<>\"\",C9,\"\")","v":109},1,null,null,null,null,null,null,null,{"$f":"IF($C9=\"\",\"\", IF(GD9=1,0,IF(GB9<>0,500,FW9*$AE9/$AH9+FX9/$AH9*5+FY9/$AH9*25+FZ9*50+GA9*50)))","v":2.0383896721589947},null,{"$f":"IF(C9<>\"\",C9,\"\")","v":109},1,null,null,null,null,null,null,null,{"$f":"IF($C9=\"\",\"\", IF(GO9=1,0,IF(GM9<>0,500,GH9*$AE9/$AH9+GI9/$AH9*5+GJ9/$AH9*25+GK9*50+GL9*50)))","v":2.0383896721589947},null,{"$f":"IF(C9<>\"\",C9,\"\")","v":109},null,null,null,null,null,null,null,1,{"$f":"IF($C9=\"\",\"\", IF(GZ9=1,0,IF(GX9<>0,500,GS9*$AE9/$AH9+GT9/$AH9*5+GU9/$AH9*25+GV9*50+GW9*50)))","v":0},null,{"$f":"IF(C9<>\"\",C9,\"\")","v":109},8,1,2,null,null,null,null,null,{"$f":"IF($C9=\"\",\"\", IF(HK9=1,0,IF(HI9<>0,500,HD9*$AE9/$AH9+HE9/$AH9*5+HF9/$AH9*25+HG9*50+HH9*50)))","v":53.677594700186859},null,{"$f":"IF(C9<>\"\",C9,\"\")","v":109},null,null,null,null,null,null,null,null,{"$f":"IF($C9=\"\",\"\", IF(HV9=1,0,IF(HT9<>0,500,HO9*$AE9/$AH9+HP9/$AH9*5+HQ9/$AH9*25+HR9*50+HS9*50)))","v":0},null,{"$f":"IF(C9<>\"\",C9,\"\")","v":109},null,null,null,null,null,null,null,null,{"$f":"IF($C9=\"\",\"\", IF(IG9=1,0,IF(IE9<>0,500,HZ9*$AE9/$AH9+IA9/$AH9*5+IB9/$AH9*25+IC9*50+ID9*50)))","v":0}]
[null,{"$f":"IF(C10=0,\"\",ROW(C10)-4)","v":6},111,"Germany","Suzuki SJ 413","Fleur-Marie Saar","Nicolas Keuper",{"$f":"IF(C10=0,\"\",IF(OR(BB10=1,BC10<>0),BC10,\"-\"))","v":2.0383896721589947},{"$f":"IF(C10=0,\"\",IF(OR(BM10=1,BN10<>0),BN10,\"-\"))","v":3.3973161202649909},{"$f":"IF(C10=0,\"\",IF(OR(BX10=1,BY10<>0),BY10,\" -\"))","v":7.4740954645829802},{"$f":"IF(C10=0,\"\",IF(OR(CJ10<>0,CI10=1),CJ10,\" -\"))","v":2.0383896721589947},{"$f":"IF(C10=0,\"\",IF(OR(CU10<>0,CT10=1),CU10,\" -\"))","v":23.101749617801939},{"$f":"IF(C10=0,\"\",IF(OR(DF10<>0,DE10=1),DF10,\" -\"))","v":10.191948360794973},{"$f":"IF(C10=0,\"\",IF(OR(DQ10<>0,DP10=1),DQ10,\" -\"))","v":23.101749617801939},{"$f":"IF(C10=0,\"\",IF(OR(EB10<>0,EA10=1),EB10,\" -\"))","v":6.1151690164769841},{"$f":"IF(C10=0,\"\",IF(OR(EM10<>0,EL10=1),EM10,\" -\"))","v":4.0767793443179894},{"$f":"IF(C10=0,\"\",IF(OR(EX10<>0,EW10=1),EX10,\" -\"))","v":19.024970273483952},{"$f":"IF(C10=0,\"\",IF(OR(FI10<>0,FH10=1),FI10,\" -\"))","v":16.986580601324956},{"$f":"IF(C10=0,\"\",IF(OR(FT10<>0,FS10=1),FT10,\" -\"))","v":0},{"$f":"IF(C10=0,\"\",IF(OR(GE10<>0,GD10=1),GE10,\" -\"))","v":2.0383896721589947},{"$f":"IF(C10=0,\"\",IF(OR(GP10<>0,GO10=1),GP10,\" -\"))","v":9.5124851367419758},{"$f":"IF(C10=0,\"\",IF(OR(HA10<>0,GZ10=1),HA10,\" -\"))","v":2.0383896721589947},{"$f":"IF(C10=0,\"\",IF(OR(HL10<>0,HK10=1),HL10,\" -\"))","v":82.614234754543915},{"$f":"IF(C10=0,\"\",IF(AJ10<>0,AJ10,\" -\"))","v":" -"},{"$f":"IF(C10=0,\"\",IF(OR(HW10<>0,HV10=1),HW10,\" -\"))","v":" -"},{"$f":"IF(C10=0,\"\",IF(OR(IH10<>0,IG10=1),IH10,\" -\"))","v":" -"},{"$f":"IF(C10=0,\"\",IF(AL10=1,\"DNF\",IF(AL10=2,\"DSQ\",IF(AM10<>1,\"~ \"&ROUND(SUM(H10:X10),3),ROUND(SUM(H10:X10),3)))))","v":213.751},null,null,{"$f":"IF(C10<>\"\",C10,\"\")","v":111},{"$f":"IF(AD10<>\"\",3,\"\")","v":3},1450,2030,{"$f":"IF(AD10<>\"\",(AF10/1000*AG10/1000)/2,\"\")","v":1.4717499999999999},5,null,null,null,1,null,null,{"$f":"IF(C10=0,99999,IF(AL10>0,9999,SUM(H10:X10)-AN10))","v":213.75063699677258},{"$f":"IF(C10=0,99999,IF(AL10=1,9999,SUM(Y10:Z10)))","v":0},null,null,{"$f":"IF(C10<>\"\",C10,\"\")","v":111},1,null,null,null,null,null,null,null,{"$f":"IF($C10=\"\",\"\", IF(BB10=1,0,IF(AZ10<>0,500,AU10*$AE10/$AH10+AV10/$AH10*5+AW10/$AH10*25+AX10*50+AY10*50)))","v":2.0383896721589947},null,{"$f":"IF(C10<>\"\",C10,\"\")","v":111},null,1,null,null,null,null,null,null,{"$f":"IF($C10=\"\",\"\", IF(BM10=1,0,IF(BK10<>0,500,BF10*$AE10/$AH10+BG10/$AH10*5+BH10/$AH10*25+BI10*50+BJ10*50)))","v":3.3973161202649909},null,{"$f":"IF(C10<>\"\",C10,\"\")","v":111},2,1,null,null,null,null,null,null,{"$f":"IF($C10=\"\",\"\", IF(BX10=1,0,IF(BV10<>0,500,BQ10*$AE10/$AH10+BR10/$AH10*5+BS10/$AH10*25+BT10*50+BU10*50)))","v":7.4740954645829802},null,{"$f":"IF(C10<>\"\",C10,\"\")","v":111},1,null,null,null,null,null,null,null,{"$f":"IF($C10=\"\",\"\", IF(CI10=1,0,IF(CG10<>0,500,CB10*$AE10/$AH10+CC10/$AH10*5+CD10/$AH10*25+CE10*50+CF10*50)))","v":2.0383896721589947},null,{"$f":"IF(C10<>\"\",C10,\"\")","v":111},3,null,1,null,null,null,null,null,{"$f":"IF($C10=\"\",\"\", IF(CT10=1,0,IF(CR10<>0,500,CM10*$AE10/$AH10+CN10/$AH10*5+CO10/$AH10*25+CP10*50+CQ10*50)))","v":23.101749617801939},null,{"$f":"IF(C10<>\"\",C10,\"\")","v":111},5,null,null,null,null,null,null,null,{"$f":"IF($C10=\"\",\"\", IF(DE10=1,0,IF(DC10<>0,500,CX10*$AE10/$AH10+CY10/$AH10*5+CZ10/$AH10*25+DA10*50+DB10*50)))","v":10.191948360794973},null,{"$f":"IF(C10<>\"\",C10,\"\")","v":111},3,null,1,null,null,null,null,null,{"$f":"IF($C10=\"\",\"\", IF(DP10=1,0,IF(DN10<>0,500,DI10*$AE10/$AH10+DJ10/$AH10*5+DK10/$AH10*25+DL10*50+DM10*50)))","v":23.101749617801939},null,{"$f":"IF(C10<>\"\",C10,\"\")","v":111},3,null,null,null,null,null,null,null,{"$f":"IF($C10=\"\",\"\", IF(EA10=1,0,IF(DY10<>0,500,DT10*$AE10/$AH10+DU10/$AH10*5+DV10/$AH10*25+DW10*50+DX10*50)))","v":6.1151690164769841},null,{"$f":"IF(C10<>\"\",C10,\"\")","v":111},2,null,null,null,null,null,null,null,{"$f":"IF($C10=\"\",\"\", IF(EL10=1,0,IF(EJ10<>0,500,EE10*$AE10/$AH10+EF10/$AH10*5+EG10/$AH10*25+EH10*50+EI10*50)))","v":4.0767793443179894},null,{"$f":"IF(C10<>\"\",C10,\"\")","v":111},1,null,1,null,null,null,null,null,{"$f":"IF($C10=\"\",\"\", IF(EW10=1,0,IF(EU10<>0,500,EP10*$AE10/$AH10+EQ10/$AH10*5+ER10/$AH10*25+ES10*50+ET10*50)))","v":19.024970273483952},null,{"$f":"IF(C10<>\"\",C10,\"\")","v":111},null,null,1,null,null,null,null,null,{"$f":"IF($C10=\"\",\"\", IF(FH10=1,0,IF(FF10<>0,500,FA10*$AE10/$AH10+FB10/$AH10*5+FC10/$AH10*25+FD10*50+FE10*50)))","v":16.986580601324956},null,{"$f":"IF(C10<>\"\",C10,\"\")","v":111},null,null,null,null,null,null,null,1,{"$f":"IF($C10=\"\",\"\", IF(FS10=1,0,IF(FQ10<>0,500,FL10*$AE10/$AH10+FM10/$AH10*5+FN10/$AH10*25+FO10*50+FP10*50)))","v":0},null,{"$f":"IF(C10<>\"\",C10,\"\")","v":111},1,null,null,null,null,null,null,null,{"$f":"IF($C10=\"\",\"\", IF(GD10=1,0,IF(GB10<>0,500,FW10*$AE10/$AH10+FX10/$AH10*5+FY10/$AH10*25+FZ10*50+GA10*50)))","v":2.0383896721589947},null,{"$f":"IF(C10<>\"\",C10,\"\")","v":111},3,1,null,null,null,null,null,null,{"$f":"IF($C10=\"\",\"\", IF(GO10=1,0,IF(GM10<>0,500,GH10*$AE10/$AH10+GI10/$AH10*5+GJ10/$AH10*25+GK10*50+GL10*50)))","v":9.5124851367419758},null,{"$f":"IF(C10<>\"\",C10,\"\")","v":111},1,null,null,null,null,null,null,null,{"$f":"IF($C10=\"\",\"\", IF(GZ10=1,0,IF(GX10<>0,500,GS10*$AE10/$AH10+GT10/$AH10*5+GU10/$AH10*25+GV10*50+GW10*50)))","v":2.0383896721589947},null,{"$f":"IF(C10<>\"\",C10,\"\")","v":111},6,1,1,null,1,null,"time",null,{"$f":"IF($C10=\"\",\"\", IF(HK10=1,0,IF(HI10<>0,500,HD10*$AE10/$AH10+HE10/$AH10*5+HF10/$AH10*25+HG10*50+HH10*50)))","v":82.614234754543915},null,{"$f":"IF(C10<>\"\",C10,\"\")","v":111},null,null,null,null,null,null,null,null,{"$f":"IF($C10=\"\",\"\", IF(HV10=1,0,IF(HT10<>0,500,HO10*$AE10/$AH10+HP10/$AH10*5+HQ10/$AH10*25+HR10*50+HS10*50)))","v":0},null,{"$f":"IF(C10<>\"\",C10,\"\")","v":111},null,null,null,null,null,null,null,null,{"$f":"IF($C10=\"\",\"\", IF(IG10=1,0,IF(IE10<>0,500,HZ10*$AE10/$AH10+IA10/$AH10*5+IB10/$AH10*25+IC10*50+ID10*50)))","v":0}]
[null,{"$f":"IF(C11=0,\"\",ROW(C11)-4)","v":7},106,"Switzerland","Suzuki LJ80","Brügger Markus",null,{"$f":"IF(C11=0,\"\",IF(OR(BB11=1,BC11<>0),BC11,\"-\"))","v":0},{"$f":"IF(C11=0,\"\",IF(OR(BM11=1,BN11<>0),BN11,\"-\"))","v":0},{"$f":"IF(C11=0,\"\",IF(OR(BX11=1,BY11<>0),BY11,\" -\"))","v":220.87449211615163},{"$f":"IF(C11=0,\"\",IF(OR(CJ11<>0,CI11=1),CJ11,\" -\"))","v":2.2365527267305332},{"$f":"IF(C11=0,\"\",IF(OR(CU11<>0,CT11=1),CU11,\" -\"))","v":18.637939389421106},{"$f":"IF(C11=0,\"\",IF(OR(DF11<>0,DE11=1),DF11,\" -\"))","v":4.4731054534610664},{"$f":"IF(C11=0,\"\",IF(OR(DQ11<>0,DP11=1),DQ11,\" -\"))","v":0},{"$f":"IF(C11=0,\"\",IF(OR(EB11<>0,EA11=1),EB11,\" -\"))","v":0},{"$f":"IF(C11=0,\"\",IF(OR(EM11<>0,EL11=1),EM11,\" -\"))","v":0},{"$f":"IF(C11=0,\"\",IF(OR(EX11<>0,EW11=1),EX11,\" -\"))","v":0},{"$f":"IF(C11=0,\"\",IF(OR(FI11<>0,FH11=1),FI11,\" -\"))","v":2.2365527267305332},{"$f":"IF(C11=0,\"\",IF(OR(FT11<>0,FS11=1),FT11,\" -\"))","v":0},{"$f":"IF(C11=0,\"\",IF(OR(GE11<>0,GD11=1),GE11,\" -\"))","v":0},{"$f":"IF(C11=0,\"\",IF(OR(GP11<>0,GO11=1),GP11,\" -\"))","v":4.4731054534610664},{"$f":"IF(C11=0,\"\",IF(OR(HA11<>0,GZ11=1),HA11,\" -\"))","v":5.9641406046147551},{"$f":"IF(C11=0,\"\",IF(OR(HL11<>0,HK11=1),HL11,\" -\"))","v":261.18276363365266},{"$f":"IF(C11=0,\"\",IF(AJ11<>0,AJ11,\" -\"))","v":" -"},{"$f":"IF(C11=0,\"\",IF(OR(HW11<>0,HV11=1),HW11,\" -\"))","v":" -"},{"$f":"IF(C11=0,\"\",IF(OR(IH11<>0,IG11=1),IH11,\" -\"))","v":" -"},{"$f":"IF(C11=0,\"\",IF(AL11=1,\"DNF\",IF(AL11=2,\"DSQ\",IF(AM11<>1,\"~ \"&ROUND(SUM(H11:X11),3),ROUND(SUM(H11:X11),3)))))","v":520.07899999999995},null,null,{"$f":"IF(C11<>\"\",C11,\"\")","v":106},{"$f":"IF(AD11<>\"\",3,\"\")","v":3},1390,1930,{"$f":"IF(AD11<>\"\",(AF11/1000*AG11/1000)/2,\"\")","v":1.3413499999999998},6,null,null,null,1,null,null,{"$f":"IF(C11=0,99999,IF(AL11>0,9999,SUM(H11:X11)-AN11))","v":520.07865210422335},{"$f":"IF(C11=0,99999,IF(AL11=1,9999,SUM(Y11:Z11)))","v":0},null,null,{"$f":"IF(C11<>\"\",C11,\"\")","v":106},null,null,null,null,null,null,null,1,{"$f":"IF($C11=\"\",\"\", IF(BB11=1,0,IF(AZ11<>0,500,AU11*$AE11/$AH11+AV11/$AH11*5+AW11/$AH11*25+AX11*50+AY11*50)))","v":0},null,{"$f":"IF(C11<>\"\",C11,\"\")","v":106},null,null,null,null,null,null,null,1,{"$f":"IF($C11=\"\",\"\", IF(BM11=1,0,IF(BK11<>0,500,BF11*$AE11/$AH11+BG11/$AH11*5+BH11/$AH11*25+BI11*50+BJ11*50)))","v":0},null,{"$f":"IF(C11<>\"\",C11,\"\")","v":106},1,null,1,3,1,null,null,null,{"$f":"IF($C11=\"\",\"\", IF(BX11=1,0,IF(BV11<>0,500,BQ11*$AE11/$AH11+BR11/$AH11*5+BS11/$AH11*25+BT11*50+BU11*50)))","v":220.87449211615163},null,{"$f":"IF(C11<>\"\",C11,\"\")","v":106},1,null,null,null,null,null,null,null,{"$f":"IF($C11=\"\",\"\", IF(CI11=1,0,IF(CG11<>0,500,CB11*$AE11/$AH11+CC11/$AH11*5+CD11/$AH11*25+CE11*50+CF11*50)))","v":2.2365527267305332},null,{"$f":"IF(C11<>\"\",C11,\"\")","v":106},null,null,1,null,null,null,null,null,{"$f":"IF($C11=\"\",\"\", IF(CT11=1,0,IF(CR11<>0,500,CM11*$AE11/$AH11+CN11/$AH11*5+CO11/$AH11*25+CP11*50+CQ11*50)))","v":18.637939389421106},null,{"$f":"IF(C11<>\"\",C11,\"\")","v":106},2,null,null,null,null,null,null,null,{"$f":"IF($C11=\"\",\"\", IF(DE11=1,0,IF(DC11<>0,500,CX11*$AE11/$AH11+CY11/$AH11*5+CZ11/$AH11*25+DA11*50+DB11*50)))","v":4.4731054534610664},null,{"$f":"IF(C11<>\"\",C11,\"\")","v":106},null,null,null,null,null,null,null,1,{"$f":"IF($C11=\"\",\"\", IF(DP11=1,0,IF(DN11<>0,500,DI11*$AE11/$AH11+DJ11/$AH11*5+DK11/$AH11*25+DL11*50+DM11*50)))","v":0},null,{"$f":"IF(C11<>\"\",C11,\"\")","v":106},null,null,null,null,null,null,null,1,{"$f":"IF($C11=\"\",\"\", IF(EA11=1,0,IF(DY11<>0,500,DT11*$AE11/$AH11+DU11/$AH11*5+DV11/$AH11*25+DW11*50+DX11*50)))","v":0},null,{"$f":"IF(C11<>\"\",C11,\"\")","v":106},null,null,null,null,null,null,null,1,{"$f":"IF($C11=\"\",\"\", IF(EL11=1,0,IF(EJ11<>0,500,EE11*$AE11/$AH11+EF11/$AH11*5+EG11/$AH11*25+EH11*50+EI11*50)))","v":0},null,{"$f":"IF(C11<>\"\",C11,\"\")","v":106},null,null,null,null,null,null,null,1,{"$f":"IF($C11=\"\",\"\", IF(EW11=1,0,IF(EU11<>0,500,EP11*$AE11/$AH11+EQ11/$AH11*5+ER11/$AH11*25+ES11*50+ET11*50)))","v":0},null,{"$f":"IF(C11<>\"\",C11,\"\")","v":106},1,null,null,null,null,null,null,null,{"$f":"IF($C11=\"\",\"\", IF(FH11=1,0,IF(FF11<>0,500,FA11*$AE11/$AH11+FB11/$AH11*5+FC11/$AH11*25+FD11*50+FE11*50)))","v":2.2365527267305332},null,{"$f":"IF(C11<>\"\",C11,\"\")","v":106},null,null,null,null,null,null,null,1,{"$f":"IF($C11=\"\",\"\", IF(FS11=1,0,IF(FQ11<>0,500,FL11*$AE11/$AH11+FM11/$AH11*5+FN11/$AH11*25+FO11*50+FP11*50)))","v":0},null,{"$f":"IF(C11<>\"\",C11,\"\")","v":106},null,null,null,null,null,null,null,1,{"$f":"IF($C11=\"\",\"\", IF(GD11=1,0,IF(GB11<>0,500,FW11*$AE11/$AH11+FX11/$AH11*5+FY11/$AH11*25+FZ11*50+GA11*50)))","v":0},null,{"$f":"IF(C11<>\"\",C11,\"\")","v":106},2,null,null,null,null,null,null,null,{"$f":"IF($C11=\"\",\"\", IF(GO11=1,0,IF(GM11<>0,500,GH11*$AE11/$AH11+GI11/$AH11*5+GJ11/$AH11*25+GK11*50+GL11*50)))","v":4.4731054534610664},null,{"$f":"IF(C11<>\"\",C11,\"\")","v":106},1,1,null,null,null,null,null,null,{"$f":"IF($C11=\"\",\"\", IF(GZ11=1,0,IF(GX11<>0,500,GS11*$AE11/$AH11+GT11/$AH11*5+GU11/$AH11*25+GV11*50+GW11*50)))","v":5.9641406046147551},null,{"$f":"IF(C11<>\"\",C11,\"\")","v":106},5,null,null,4,1,null,"Wanted to quit",null,{"$f":"IF($C11=\"\",\"\", IF(HK11=1,0,IF(HI11<>0,500,HD11*$AE11/$AH11+HE11/$AH11*5+HF11/$AH11*25+HG11*50+HH11*50)))","v":261.18276363365266},null,{"$f":"IF(C11<>\"\",C11,\"\")","v":106},null,null,null,null,null,null,null,null,{"$f":"IF($C11=\"\",\"\", IF(HV11=1,0,IF(HT11<>0,500,HO11*$AE11/$AH11+HP11/$AH11*5+HQ11/$AH11*25+HR11*50+HS11*50)))","v":0},null,{"$f":"IF(C11<>\"\",C11,\"\")","v":106},null,null,null,null,null,null,null,null,{"$f":"IF($C11=\"\",\"\", IF(IG11=1,0,IF(IE11<>0,500,HZ11*$AE11/$AH11+IA11/$AH11*5+IB11/$AH11*25+IC11*50+ID11*50)))","v":0}]
[null,{"$f":"IF(C12=0,\"\",ROW(C12)-4)","v":8},112,"Finland","SukiSuki Jimny","Suominen Venla","Loukinainen Virve",{"$f":"IF(C12=0,\"\",IF(OR(BB12=1,BC12<>0),BC12,\"-\"))","v":1.6666666666666665},{"$f":"IF(C12=0,\"\",IF(OR(BM12=1,BN12<>0),BN12,\"-\"))","v":1.6666666666666665},{"$f":"IF(C12=0,\"\",IF(OR(BX12=1,BY12<>0),BY12,\" -\"))","v":115.55555555555556},{"$f":"IF(C12=0,\"\",IF(OR(CJ12<>0,CI12=1),CJ12,\" -\"))","v":3.333333333333333},{"$f":"IF(C12=0,\"\",IF(OR(CU12<>0,CT12=1),CU12,\" -\"))","v":20.555555555555557},{"$f":"IF(C12=0,\"\",IF(OR(DF12<>0,DE12=1),DF12,\" -\"))","v":249.44444444444446},{"$f":"IF(C12=0,\"\",IF(OR(DQ12<>0,DP12=1),DQ12,\" -\"))","v":255},{"$f":"IF(C12=0,\"\",IF(OR(EB12<>0,EA12=1),EB12,\" -\"))","v":23.333333333333332},{"$f":"IF(C12=0,\"\",IF(OR(EM12<>0,EL12=1),EM12,\" -\"))","v":103.33333333333334},{"$f":"IF(C12=0,\"\",IF(OR(EX12<>0,EW12=1),EX12,\" -\"))","v":116.11111111111111},{"$f":"IF(C12=0,\"\",IF(OR(FI12<>0,FH12=1),FI12,\" -\"))","v":1.6666666666666665},{"$f":"IF(C12=0,\"\",IF(OR(FT12<>0,FS12=1),FT12,\" -\"))","v":1.6666666666666665},{"$f":"IF(C12=0,\"\",IF(OR(GE12<>0,GD12=1),GE12,\" -\"))","v":15.555555555555555},{"$f":"IF(C12=0,\"\",IF(OR(GP12<>0,GO12=1),GP12,\" -\"))","v":5},{"$f":"IF(C12=0,\"\",IF(OR(HA12<>0,GZ12=1),HA12,\" -\"))","v":41.111111111111114},{"$f":"IF(C12=0,\"\",IF(OR(HL12<>0,HK12=1),HL12,\" -\"))","v":255},{"$f":"IF(C12=0,\"\",IF(AJ12<>0,AJ12,\" -\"))","v":" -"},{"$f":"IF(C12=0,\"\",IF(OR(HW12<>0,HV12=1),HW12,\" -\"))","v":" -"},{"$f":"IF(C12=0,\"\",IF(OR(IH12<>0,IG12=1),IH12,\" -\"))","v":" -"},{"$f":"IF(C12=0,\"\",IF(AL12=1,\"DNF\",IF(AL12=2,\"DSQ\",IF(AM12<>1,\"~ \"&ROUND(SUM(H12:X12),3),ROUND(SUM(H12:X12),3)))))","v":1210},null,null,{"$f":"IF(C12<>\"\",C12,\"\")","v":112},{"$f":"IF(AD12<>\"\",3,\"\")","v":3},1600,2250,{"$f":"IF(AD12<>\"\",(AF12/1000*AG12/1000)/2,\"\")","v":1.8},4,null,null,null,1,null,null,{"$f":"IF(C12=0,99999,IF(AL12>0,9999,SUM(H12:X12)-AN12))","v":1210},{"$f":"IF(C12=0,99999,IF(AL12=1,9999,SUM(Y12:Z12)))","v":0},null,null,{"$f":"IF(C12<>\"\",C12,\"\")","v":112},1,null,null,null,null,null,null,null,{"$f":"IF($C12=\"\",\"\", IF(BB12=1,0,IF(AZ12<>0,500,AU12*$AE12/$AH12+AV12/$AH12*5+AW12/$AH12*25+AX12*50+AY12*50)))","v":1.6666666666666665},null,{"$f":"IF(C12<>\"\",C12,\"\")","v":112},1,null,null,null,null,null,null,null,{"$f":"IF($C12=\"\",\"\", IF(BM12=1,0,IF(BK12<>0,500,BF12*$AE12/$AH12+BG12/$AH12*5+BH12/$AH12*25+BI12*50+BJ12*50)))","v":1.6666666666666665},null,{"$f":"IF(C12<>\"\",C12,\"\")","v":112},1,null,1,1,1,null,"broken line",null,{"$f":"IF($C12=\"\",\"\", IF(BX12=1,0,IF(BV12<>0,500,BQ12*$AE12/$AH12+BR12/$AH12*5+BS12/$AH12*25+BT12*50+BU12*50)))","v":115.55555555555556},null,{"$f":"IF(C12<>\"\",C12,\"\")","v":112},2,null,null,null,null,null,null,null,{"$f":"IF($C12=\"\",\"\", IF(CI12=1,0,IF(CG12<>0,500,CB12*$AE12/$AH12+CC12/$AH12*5+CD12/$AH12*25+CE12*50+CF12*50)))","v":3.333333333333333},null,{"$f":"IF(C12<>\"\",C12,\"\")","v":112},4,null,1,null,null,null,null,null,{"$f":"IF($C12=\"\",\"\", IF(CT12=1,0,IF(CR12<>0,500,CM12*$AE12/$AH12+CN12/$AH12*5+CO12/$AH12*25+CP12*50+CQ12*50)))","v":20.555555555555557},null,{"$f":"IF(C12<>\"\",C12,\"\")","v":112},13,null,2,3,1,null,"time",null,{"$f":"IF($C12=\"\",\"\", IF(DE12=1,0,IF(DC12<>0,500,CX12*$AE12/$AH12+CY12/$AH12*5+CZ12/$AH12*25+DA12*50+DB12*50)))","v":249.44444444444446},null,{"$f":"IF(C12<>\"\",C12,\"\")","v":112},3,null,null,4,1,null,null,null,{"$f":"IF($C12=\"\",\"\", IF(DP12=1,0,IF(DN12<>0,500,DI12*$AE12/$AH12+DJ12/$AH12*5+DK12/$AH12*25+DL12*50+DM12*50)))","v":255},null,{"$f":"IF(C12<>\"\",C12,\"\")","v":112},4,1,1,null,null,null,null,null,{"$f":"IF($C12=\"\",\"\", IF(EA12=1,0,IF(DY12<>0,500,DT12*$AE12/$AH12+DU12/$AH12*5+DV12/$AH12*25+DW12*50+DX12*50)))","v":23.333333333333332},null,{"$f":"IF(C12<>\"\",C12,\"\")","v":112},2,null,null,1,1,null,"stuck",null,{"$f":"IF($C12=\"\",\"\", IF(EL12=1,0,IF(EJ12<>0,500,EE12*$AE12/$AH12+EF12/$AH12*5+EG12/$AH12*25+EH12*50+EI12*50)))","v":103.33333333333334},null,{"$f":"IF(C12<>\"\",C12,\"\")","v":112},8,1,null,1,1,null,null,null,{"$f":"IF($C12=\"\",\"\", IF(EW12=1,0,IF(EU12<>0,500,EP12*$AE12/$AH12+EQ12/$AH12*5+ER12/$AH12*25+ES12*50+ET12*50)))","v":116.11111111111111},null,{"$f":"IF(C12<>\"\",C12,\"\")","v":112},1,null,null,null,null,null,null,null,{"$f":"IF($C12=\"\",\"\", IF(FH12=1,0,IF(FF12<>0,500,FA12*$AE12/$AH12+FB12/$AH12*5+FC12/$AH12*25+FD12*50+FE12*50)))","v":1.6666666666666665},null,{"$f":"IF(C12<>\"\",C12,\"\")","v":112},1,null,null,null,null,null,null,null,{"$f":"IF($C12=\"\",\"\", IF(FS12=1,0,IF(FQ12<>0,500,FL12*$AE12/$AH12+FM12/$AH12*5+FN12/$AH12*25+FO12*50+FP12*50)))","v":1.6666666666666665},null,{"$f":"IF(C12<>\"\",C12,\"\")","v":112},1,null,1,null,null,null,null,null,{"$f":"IF($C12=\"\",\"\", IF(GD12=1,0,IF(GB12<>0,500,FW12*$AE12/$AH12+FX12/$AH12*5+FY12/$AH12*25+FZ12*50+GA12*50)))","v":15.555555555555555},null,{"$f":"IF(C12<>\"\",C12,\"\")","v":112},3,null,null,null,null,null,null,null,{"$f":"IF($C12=\"\",\"\", IF(GO12=1,0,IF(GM12<>0,500,GH12*$AE12/$AH12+GI12/$AH12*5+GJ12/$AH12*25+GK12*50+GL12*50)))","v":5},null,{"$f":"IF(C12<>\"\",C12,\"\")","v":112},8,null,2,null,null,null,null,null,{"$f":"IF($C12=\"\",\"\", IF(GZ12=1,0,IF(GX12<>0,500,GS12*$AE12/$AH12+GT12/$AH12*5+GU12/$AH12*25+GV12*50+GW12*50)))","v":41.111111111111114},null,{"$f":"IF(C12<>\"\",C12,\"\")","v":112},3,null,null,4,1,null,null,null,{"$f":"IF($C12=\"\",\"\", IF(HK12=1,0,IF(HI12<>0,500,HD12*$AE12/$AH12+HE12/$AH12*5+HF12/$AH12*25+HG12*50+HH12*50)))","v":255},null,{"$f":"IF(C12<>\"\",C12,\"\")","v":112},null,null,null,null,null,null,null,null,{"$f":"IF($C12=\"\",\"\", IF(HV12=1,0,IF(HT12<>0,500,HO12*$AE12/$AH12+HP12/$AH12*5+HQ12/$AH12*25+HR12*50+HS12*50)))","v":0},null,{"$f":"IF(C12<>\"\",C12,\"\")","v":112},null,null,null,null,null,null,null,null,{"$f":"IF($C12=\"\",\"\", IF(IG12=1,0,IF(IE12<>0,500,HZ12*$AE12/$AH12+IA12/$AH12*5+IB12/$AH12*25+IC12*50+ID12*50)))","v":0}]
[null,{"$f":"IF(C13=0,\"\",ROW(C13)-4)","v":""},null,null,null,null,null,{"$f":"IF(C13=0,\"\",IF(OR(BB13=1,BC13<>0),BC13,\"-\"))","v":""},{"$f":"IF(C13=0,\"\",IF(OR(BM13=1,BN13<>0),BN13,\"-\"))","v":""},{"$f":"IF(C13=0,\"\",IF(OR(BX13=1,BY13<>0),BY13,\" -\"))","v":""},{"$f":"IF(C13=0,\"\",IF(OR(CJ13<>0,CI13=1),CJ13,\" -\"))","v":""},{"$f":"IF(C13=0,\"\",IF(OR(CU13<>0,CT13=1),CU13,\" -\"))","v":""},{"$f":"IF(C13=0,\"\",IF(OR(DF13<>0,DE13=1),DF13,\" -\"))","v":""},{"$f":"IF(C13=0,\"\",IF(OR(DQ13<>0,DP13=1),DQ13,\" -\"))","v":""},{"$f":"IF(C13=0,\"\",IF(OR(EB13<>0,EA13=1),EB13,\" -\"))","v":""},{"$f":"IF(C13=0,\"\",IF(OR(EM13<>0,EL13=1),EM13,\" -\"))","v":""},{"$f":"IF(C13=0,\"\",IF(OR(EX13<>0,EW13=1),EX13,\" -\"))","v":""},{"$f":"IF(C13=0,\"\",IF(OR(FI13<>0,FH13=1),FI13,\" -\"))","v":""},{"$f":"IF(C13=0,\"\",IF(OR(FT13<>0,FS13=1),FT13,\" -\"))","v":""},{"$f":"IF(C13=0,\"\",IF(OR(GE13<>0,GD13=1),GE13,\" -\"))","v":""},{"$f":"IF(C13=0,\"\",IF(OR(GP13<>0,GO13=1),GP13,\" -\"))","v":""},{"$f":"IF(C13=0,\"\",IF(OR(HA13<>0,GZ13=1),HA13,\" -\"))","v":""},{"$f":"IF(C13=0,\"\",IF(OR(HL13<>0,HK13=1),HL13,\" -\"))","v":""},{"$f":"IF(C13=0,\"\",IF(AJ13<>0,AJ13,\" -\"))","v":""},{"$f":"IF(C13=0,\"\",IF(OR(HW13<>0,HV13=1),HW13,\" -\"))","v":""},{"$f":"IF(C13=0,\"\",IF(OR(IH13<>0,IG13=1),IH13,\" -\"))","v":""},{"$f":"IF(C13=0,\"\",IF(AL13=1,\"DNF\",IF(AL13=2,\"DSQ\",IF(AM13<>1,\"~ \"&ROUND(SUM(H13:X13),3),ROUND(SUM(H13:X13),3)))))","v":""},null,null,null,{"$f":"IF(AD13<>\"\",3,\"\")","v":""},null,null,{"$f":"IF(AD13<>\"\",(AF13/1000*AG13/1000)/2,\"\")","v":""},null,null,null,null,null,null,null,{"$f":"IF(C13=0,99999,IF(AL13>0,9999,SUM(H13:X13)-AN13))","v":99999},{"$f":"IF(C13=0,99999,IF(AL13=1,9999,SUM(Y13:Z13)))","v":99999},null,null,{"$f":"IF(C13<>\"\",C13,\"\")","v":""},null,null,null,null,null,null,null,null,{"$f":"IF($C13=\"\",\"\", IF(BB13=1,0,IF(AZ13<>0,500,AU13*$AE13/$AH13+AV13/$AH13*5+AW13/$AH13*25+AX13*50+AY13*50)))","v":""},null,{"$f":"IF(C13<>\"\",C13,\"\")","v":""},null,null,null,null,null,null,null,null,{"$f":"IF($C13=\"\",\"\", IF(BM13=1,0,IF(BK13<>0,500,BF13*$AE13/$AH13+BG13/$AH13*5+BH13/$AH13*25+BI13*50+BJ13*50)))","v":""},null,{"$f":"IF(C13<>\"\",C13,\"\")","v":""},null,null,null,null,null,null,null,null,{"$f":"IF($C13=\"\",\"\", IF(BX13=1,0,IF(BV13<>0,500,BQ13*$AE13/$AH13+BR13/$AH13*5+BS13/$AH13*25+BT13*50+BU13*50)))","v":""},null,{"$f":"IF(C13<>\"\",C13,\"\")","v":""},null,null,null,null,null,null,null,null,{"$f":"IF($C13=\"\",\"\", IF(CI13=1,0,IF(CG13<>0,500,CB13*$AE13/$AH13+CC13/$AH13*5+CD13/$AH13*25+CE13*50+CF13*50)))","v":""},null,{"$f":"IF(C13<>\"\",C13,\"\")","v":""},null,null,null,null,null,null,null,null,{"$f":"IF($C13=\"\",\"\", IF(CT13=1,0,IF(CR13<>0,500,CM13*$AE13/$AH13+CN13/$AH13*5+CO13/$AH13*25+CP13*50+CQ13*50)))","v":""},null,{"$f":"IF(C13<>\"\",C13,\"\")","v":""},null,null,null,null,null,null,null,null,{"$f":"IF($C13=\"\",\"\", IF(DE13=1,0,IF(DC13<>0,500,CX13*$AE13/$AH13+CY13/$AH13*5+CZ13/$AH13*25+DA13*50+DB13*50)))","v":""},null,{"$f":"IF(C13<>\"\",C13,\"\")","v":""},null,null,null,null,null,null,null,null,{"$f":"IF($C13=\"\",\"\", IF(DP13=1,0,IF(DN13<>0,500,DI13*$AE13/$AH13+DJ13/$AH13*5+DK13/$AH13*25+DL13*50+DM13*50)))","v":""},null,{"$f":"IF(C13<>\"\",C13,\"\")","v":""},null,null,null,null,null,null,null,null,{"$f":"IF($C13=\"\",\"\", IF(EA13=1,0,IF(DY13<>0,500,DT13*$AE13/$AH13+DU13/$AH13*5+DV13/$AH13*25+DW13*50+DX13*50)))","v":""},null,{"$f":"IF(C13<>\"\",C13,\"\")","v":""},null,null,null,null,null,null,null,null,{"$f":"IF($C13=\"\",\"\", IF(EL13=1,0,IF(EJ13<>0,500,EE13*$AE13/$AH13+EF13/$AH13*5+EG13/$AH13*25+EH13*50+EI13*50)))","v":""},null,{"$f":"IF(C13<>\"\",C13,\"\")","v":""},null,null,null,null,null,null,null,null,{"$f":"IF($C13=\"\",\"\", IF(EW13=1,0,IF(EU13<>0,500,EP13*$AE13/$AH13+EQ13/$AH13*5+ER13/$AH13*25+ES13*50+ET13*50)))","v":""},null,{"$f":"IF(C13<>\"\",C13,\"\")","v":""},null,null,null,null,null,null,null,null,{"$f":"IF($C13=\"\",\"\", IF(FH13=1,0,IF(FF13<>0,500,FA13*$AE13/$AH13+FB13/$AH13*5+FC13/$AH13*25+FD13*50+FE13*50)))","v":""},null,{"$f":"IF(C13<>\"\",C13,\"\")","v":""},null,null,null,null,null,null,null,null,{"$f":"IF($C13=\"\",\"\", IF(FS13=1,0,IF(FQ13<>0,500,FL13*$AE13/$AH13+FM13/$AH13*5+FN13/$AH13*25+FO13*50+FP13*50)))","v":""},null,{"$f":"IF(C13<>\"\",C13,\"\")","v":""},null,null,null,null,null,null,null,null,{"$f":"IF($C13=\"\",\"\", IF(GD13=1,0,IF(GB13<>0,500,FW13*$AE13/$AH13+FX13/$AH13*5+FY13/$AH13*25+FZ13*50+GA13*50)))","v":""},null,{"$f":"IF(C13<>\"\",C13,\"\")","v":""},null,null,null,null,null,null,null,null,{"$f":"IF($C13=\"\",\"\", IF(GO13=1,0,IF(GM13<>0,500,GH13*$AE13/$AH13+GI13/$AH13*5+GJ13/$AH13*25+GK13*50+GL13*50)))","v":""},null,{"$f":"IF(C13<>\"\",C13,\"\")","v":""},null,null,null,null,null,null,null,null,{"$f":"IF($C13=\"\",\"\", IF(GZ13=1,0,IF(GX13<>0,500,GS13*$AE13/$AH13+GT13/$AH13*5+GU13/$AH13*25+GV13*50+GW13*50)))","v":""},null,{"$f":"IF(C13<>\"\",C13,\"\")","v":""},null,null,null,null,null,null,null,null,{"$f":"IF($C13=\"\",\"\", IF(HK13=1,0,IF(HI13<>0,500,HD13*$AE13/$AH13+HE13/$AH13*5+HF13/$AH13*25+HG13*50+HH13*50)))","v":""},null,{"$f":"IF(C13<>\"\",C13,\"\")","v":""},null,null,null,null,null,null,null,null,{"$f":"IF($C13=\"\",\"\", IF(HV13=1,0,IF(HT13<>0,500,HO13*$AE13/$AH13+HP13/$AH13*5+HQ13/$AH13*25+HR13*50+HS13*50)))","v":""},null,{"$f":"IF(C13<>\"\",C13,\"\")","v":""},null,null,null,null,null,null,null,null,{"$f":"IF($C13=\"\",\"\", IF(IG13=1,0,IF(IE13<>0,500,HZ13*$AE13/$AH13+IA13/$AH13*5+IB13/$AH13*25+IC13*50+ID13*50)))","v":""}]
[null,{"$f":"IF(C14=0,\"\",ROW(C14)-4)","v":""},null,null,null,null,null,{"$f":"IF(C14=0,\"\",IF(OR(BB14=1,BC14<>0),BC14,\"-\"))","v":""},{"$f":"IF(C14=0,\"\",IF(OR(BM14=1,BN14<>0),BN14,\"-\"))","v":""},{"$f":"IF(C14=0,\"\",IF(OR(BX14=1,BY14<>0),BY14,\" -\"))","v":""},{"$f":"IF(C14=0,\"\",IF(OR(CJ14<>0,CI14=1),CJ14,\" -\"))","v":""},{"$f":"IF(C14=0,\"\",IF(OR(CU14<>0,CT14=1),CU14,\" -\"))","v":""},{"$f":"IF(C14=0,\"\",IF(OR(DF14<>0,DE14=1),DF14,\" -\"))","v":""},{"$f":"IF(C14=0,\"\",IF(OR(DQ14<>0,DP14=1),DQ14,\" -\"))","v":""},{"$f":"IF(C14=0,\"\",IF(OR(EB14<>0,EA14=1),EB14,\" -\"))","v":""},{"$f":"IF(C14=0,\"\",IF(OR(EM14<>0,EL14=1),EM14,\" -\"))","v":""},{"$f":"IF(C14=0,\"\",IF(OR(EX14<>0,EW14=1),EX14,\" -\"))","v":""},{"$f":"IF(C14=0,\"\",IF(OR(FI14<>0,FH14=1),FI14,\" -\"))","v":""},{"$f":"IF(C14=0,\"\",IF(OR(FT14<>0,FS14=1),FT14,\" -\"))","v":""},{"$f":"IF(C14=0,\"\",IF(OR(GE14<>0,GD14=1),GE14,\" -\"))","v":""},{"$f":"IF(C14=0,\"\",IF(OR(GP14<>0,GO14=1),GP14,\" -\"))","v":""},{"$f":"IF(C14=0,\"\",IF(OR(HA14<>0,GZ14=1),HA14,\" -\"))","v":""},{"$f":"IF(C14=0,\"\",IF(OR(HL14<>0,HK14=1),HL14,\" -\"))","v":""},{"$f":"IF(C14=0,\"\",IF(AJ14<>0,AJ14,\" -\"))","v":""},{"$f":"IF(C14=0,\"\",IF(OR(HW14<>0,HV14=1),HW14,\" -\"))","v":""},{"$f":"IF(C14=0,\"\",IF(OR(IH14<>0,IG14=1),IH14,\" -\"))","v":""},{"$f":"IF(C14=0,\"\",IF(AL14=1,\"DNF\",IF(AL14=2,\"DSQ\",IF(AM14<>1,\"~ \"&ROUND(SUM(H14:X14),3),ROUND(SUM(H14:X14),3)))))","v":""},null,null,null,{"$f":"IF(AD14<>\"\",3,\"\")","v":""},null,null,{"$f":"IF(AD14<>\"\",(AF14/1000*AG14/1000)/2,\"\")","v":""},null,null,null,null,null,null,null,{"$f":"IF(C14=0,99999,IF(AL14>0,9999,SUM(H14:X14)-AN14))","v":99999},{"$f":"IF(C14=0,99999,IF(AL14=1,9999,SUM(Y14:Z14)))","v":99999},null,null,{"$f":"IF(C14<>\"\",C14,\"\")","v":""},null,null,null,null,null,null,null,null,{"$f":"IF($C14=\"\",\"\", IF(BB14=1,0,IF(AZ14<>0,500,AU14*$AE14/$AH14+AV14/$AH14*5+AW14/$AH14*25+AX14*50+AY14*50)))","v":""},null,{"$f":"IF(C14<>\"\",C14,\"\")","v":""},null,null,null,null,null,null,null,null,{"$f":"IF($C14=\"\",\"\", IF(BM14=1,0,IF(BK14<>0,500,BF14*$AE14/$AH14+BG14/$AH14*5+BH14/$AH14*25+BI14*50+BJ14*50)))","v":""},null,{"$f":"IF(C14<>\"\",C14,\"\")","v":""},null,null,null,null,null,null,null,null,{"$f":"IF($C14=\"\",\"\", IF(BX14=1,0,IF(BV14<>0,500,BQ14*$AE14/$AH14+BR14/$AH14*5+BS14/$AH14*25+BT14*50+BU14*50)))","v":""},null,{"$f":"IF(C14<>\"\",C14,\"\")","v":""},null,null,null,null,null,null,null,null,{"$f":"IF($C14=\"\",\"\", IF(CI14=1,0,IF(CG14<>0,500,CB14*$AE14/$AH14+CC14/$AH14*5+CD14/$AH14*25+CE14*50+CF14*50)))","v":""},null,{"$f":"IF(C14<>\"\",C14,\"\")","v":""},null,null,null,null,null,null,null,null,{"$f":"IF($C14=\"\",\"\", IF(CT14=1,0,IF(CR14<>0,500,CM14*$AE14/$AH14+CN14/$AH14*5+CO14/$AH14*25+CP14*50+CQ14*50)))","v":""},null,{"$f":"IF(C14<>\"\",C14,\"\")","v":""},null,null,null,null,null,null,null,null,{"$f":"IF($C14=\"\",\"\", IF(DE14=1,0,IF(DC14<>0,500,CX14*$AE14/$AH14+CY14/$AH14*5+CZ14/$AH14*25+DA14*50+DB14*50)))","v":""},null,{"$f":"IF(C14<>\"\",C14,\"\")","v":""},null,null,null,null,null,null,null,null,{"$f":"IF($C14=\"\",\"\", IF(DP14=1,0,IF(DN14<>0,500,DI14*$AE14/$AH14+DJ14/$AH14*5+DK14/$AH14*25+DL14*50+DM14*50)))","v":""},null,{"$f":"IF(C14<>\"\",C14,\"\")","v":""},null,null,null,null,null,null,null,null,{"$f":"IF($C14=\"\",\"\", IF(EA14=1,0,IF(DY14<>0,500,DT14*$AE14/$AH14+DU14/$AH14*5+DV14/$AH14*25+DW14*50+DX14*50)))","v":""},null,{"$f":"IF(C14<>\"\",C14,\"\")","v":""},null,null,null,null,null,null,null,null,{"$f":"IF($C14=\"\",\"\", IF(EL14=1,0,IF(EJ14<>0,500,EE14*$AE14/$AH14+EF14/$AH14*5+EG14/$AH14*25+EH14*50+EI14*50)))","v":""},null,{"$f":"IF(C14<>\"\",C14,\"\")","v":""},null,null,null,null,null,null,null,null,{"$f":"IF($C14=\"\",\"\", IF(EW14=1,0,IF(EU14<>0,500,EP14*$AE14/$AH14+EQ14/$AH14*5+ER14/$AH14*25+ES14*50+ET14*50)))","v":""},null,{"$f":"IF(C14<>\"\",C14,\"\")","v":""},null,null,null,null,null,null,null,null,{"$f":"IF($C14=\"\",\"\", IF(FH14=1,0,IF(FF14<>0,500,FA14*$AE14/$AH14+FB14/$AH14*5+FC14/$AH14*25+FD14*50+FE14*50)))","v":""},null,{"$f":"IF(C14<>\"\",C14,\"\")","v":""},null,null,null,null,null,null,null,null,{"$f":"IF($C14=\"\",\"\", IF(FS14=1,0,IF(FQ14<>0,500,FL14*$AE14/$AH14+FM14/$AH14*5+FN14/$AH14*25+FO14*50+FP14*50)))","v":""},null,{"$f":"IF(C14<>\"\",C14,\"\")","v":""},null,null,null,null,null,null,null,null,{"$f":"IF($C14=\"\",\"\", IF(GD14=1,0,IF(GB14<>0,500,FW14*$AE14/$AH14+FX14/$AH14*5+FY14/$AH14*25+FZ14*50+GA14*50)))","v":""},null,{"$f":"IF(C14<>\"\",C14,\"\")","v":""},null,null,null,null,null,null,null,null,{"$f":"IF($C14=\"\",\"\", IF(GO14=1,0,IF(GM14<>0,500,GH14*$AE14/$AH14+GI14/$AH14*5+GJ14/$AH14*25+GK14*50+GL14*50)))","v":""},null,{"$f":"IF(C14<>\"\",C14,\"\")","v":""},null,null,null,null,null,null,null,null,{"$f":"IF($C14=\"\",\"\", IF(GZ14=1,0,IF(GX14<>0,500,GS14*$AE14/$AH14+GT14/$AH14*5+GU14/$AH14*25+GV14*50+GW14*50)))","v":""},null,{"$f":"IF(C14<>\"\",C14,\"\")","v":""},null,null,null,null,null,null,null,null,{"$f":"IF($C14=\"\",\"\", IF(HK14=1,0,IF(HI14<>0,500,HD14*$AE14/$AH14+HE14/$AH14*5+HF14/$AH14*25+HG14*50+HH14*50)))","v":""},null,{"$f":"IF(C14<>\"\",C14,\"\")","v":""},null,null,null,null,null,null,null,null,{"$f":"IF($C14=\"\",\"\", IF(HV14=1,0,IF(HT14<>0,500,HO14*$AE14/$AH14+HP14/$AH14*5+HQ14/$AH14*25+HR14*50+HS14*50)))","v":""},null,{"$f":"IF(C14<>\"\",C14,\"\")","v":""},null,null,null,null,null,null,null,null,{"$f":"IF($C14=\"\",\"\", IF(IG14=1,0,IF(IE14<>0,500,HZ14*$AE14/$AH14+IA14/$AH14*5+IB14/$AH14*25+IC14*50+ID14*50)))","v":""}]
[null,{"$f":"IF(C15=0,\"\",ROW(C15)-4)","v":""},null,null,null,null,null,{"$f":"IF(C15=0,\"\",IF(OR(BB15=1,BC15<>0),BC15,\"-\"))","v":""},{"$f":"IF(C15=0,\"\",IF(OR(BM15=1,BN15<>0),BN15,\"-\"))","v":""},{"$f":"IF(C15=0,\"\",IF(OR(BX15=1,BY15<>0),BY15,\" -\"))","v":""},{"$f":"IF(C15=0,\"\",IF(OR(CJ15<>0,CI15=1),CJ15,\" -\"))","v":""},{"$f":"IF(C15=0,\"\",IF(OR(CU15<>0,CT15=1),CU15,\" -\"))","v":""},{"$f":"IF(C15=0,\"\",IF(OR(DF15<>0,DE15=1),DF15,\" -\"))","v":""},{"$f":"IF(C15=0,\"\",IF(OR(DQ15<>0,DP15=1),DQ15,\" -\"))","v":""},{"$f":"IF(C15=0,\"\",IF(OR(EB15<>0,EA15=1),EB15,\" -\"))","v":""},{"$f":"IF(C15=0,\"\",IF(OR(EM15<>0,EL15=1),EM15,\" -\"))","v":""},{"$f":"IF(C15=0,\"\",IF(OR(EX15<>0,EW15=1),EX15,\" -\"))","v":""},{"$f":"IF(C15=0,\"\",IF(OR(FI15<>0,FH15=1),FI15,\" -\"))","v":""},{"$f":"IF(C15=0,\"\",IF(OR(FT15<>0,FS15=1),FT15,\" -\"))","v":""},{"$f":"IF(C15=0,\"\",IF(OR(GE15<>0,GD15=1),GE15,\" -\"))","v":""},{"$f":"IF(C15=0,\"\",IF(OR(GP15<>0,GO15=1),GP15,\" -\"))","v":""},{"$f":"IF(C15=0,\"\",IF(OR(HA15<>0,GZ15=1),HA15,\" -\"))","v":""},{"$f":"IF(C15=0,\"\",IF(OR(HL15<>0,HK15=1),HL15,\" -\"))","v":""},{"$f":"IF(C15=0,\"\",IF(AJ15<>0,AJ15,\" -\"))","v":""},{"$f":"IF(C15=0,\"\",IF(OR(HW15<>0,HV15=1),HW15,\" -\"))","v":""},{"$f":"IF(C15=0,\"\",IF(OR(IH15<>0,IG15=1),IH15,\" -\"))","v":""},{"$f":"IF(C15=0,\"\",IF(AL15=1,\"DNF\",IF(AL15=2,\"DSQ\",IF(AM15<>1,\"~ \"&ROUND(SUM(H15:X15),3),ROUND(SUM(H15:X15),3)))))","v":""},null,null,{"$f":"IF(C15<>\"\",C15,\"\")","v":""},{"$f":"IF(AD15<>\"\",3,\"\")","v":""},null,null,{"$f":"IF(AD15<>\"\",(AF15/1000*AG15/1000)/2,\"\")","v":""},null,null,null,null,null,null,null,{"$f":"IF(C15=0,99999,IF(AL15>0,9999,SUM(H15:X15)-AN15))","v":99999},{"$f":"IF(C15=0,99999,IF(AL15=1,9999,SUM(Y15:Z15)))","v":99999},null,null,{"$f":"IF(C15<>\"\",C15,\"\")","v":""},null,null,null,null,null,null,null,null,{"$f":"IF($C15=\"\",\"\", IF(BB15=1,0,IF(AZ15<>0,500,AU15*$AE15/$AH15+AV15/$AH15*5+AW15/$AH15*25+AX15*50+AY15*50)))","v":""},null,{"$f":"IF(C15<>\"\",C15,\"\")","v":""},null,null,null,null,null,null,null,null,{"$f":"IF($C15=\"\",\"\", IF(BM15=1,0,IF(BK15<>0,500,BF15*$AE15/$AH15+BG15/$AH15*5+BH15/$AH15*25+BI15*50+BJ15*50)))","v":""},null,{"$f":"IF(C15<>\"\",C15,\"\")","v":""},null,null,null,null,null,null,null,null,{"$f":"IF($C15=\"\",\"\", IF(BX15=1,0,IF(BV15<>0,500,BQ15*$AE15/$AH15+BR15/$AH15*5+BS15/$AH15*25+BT15*50+BU15*50)))","v":""},null,{"$f":"IF(C15<>\"\",C15,\"\")","v":""},null,null,null,null,null,null,null,null,{"$f":"IF($C15=\"\",\"\", IF(CI15=1,0,IF(CG15<>0,500,CB15*$AE15/$AH15+CC15/$AH15*5+CD15/$AH15*25+CE15*50+CF15*50)))","v":""},null,{"$f":"IF(C15<>\"\",C15,\"\")","v":""},null,null,null,null,null,null,null,null,{"$f":"IF($C15=\"\",\"\", IF(CT15=1,0,IF(CR15<>0,500,CM15*$AE15/$AH15+CN15/$AH15*5+CO15/$AH15*25+CP15*50+CQ15*50)))","v":""},null,{"$f":"IF(C15<>\"\",C15,\"\")","v":""},null,null,null,null,null,null,null,null,{"$f":"IF($C15=\"\",\"\", IF(DE15=1,0,IF(DC15<>0,500,CX15*$AE15/$AH15+CY15/$AH15*5+CZ15/$AH15*25+DA15*50+DB15*50)))","v":""},null,{"$f":"IF(C15<>\"\",C15,\"\")","v":""},null,null,null,null,null,null,null,null,{"$f":"IF($C15=\"\",\"\", IF(DP15=1,0,IF(DN15<>0,500,DI15*$AE15/$AH15+DJ15/$AH15*5+DK15/$AH15*25+DL15*50+DM15*50)))","v":""},null,{"$f":"IF(C15<>\"\",C15,\"\")","v":""},null,null,null,null,null,null,null,null,{"$f":"IF($C15=\"\",\"\", IF(EA15=1,0,IF(DY15<>0,500,DT15*$AE15/$AH15+DU15/$AH15*5+DV15/$AH15*25+DW15*50+DX15*50)))","v":""},null,{"$f":"IF(C15<>\"\",C15,\"\")","v":""},null,null,null,null,null,null,null,null,{"$f":"IF($C15=\"\",\"\", IF(EL15=1,0,IF(EJ15<>0,500,EE15*$AE15/$AH15+EF15/$AH15*5+EG15/$AH15*25+EH15*50+EI15*50)))","v":""},null,{"$f":"IF(C15<>\"\",C15,\"\")","v":""},null,null,null,null,null,null,null,null,{"$f":"IF($C15=\"\",\"\", IF(EW15=1,0,IF(EU15<>0,500,EP15*$AE15/$AH15+EQ15/$AH15*5+ER15/$AH15*25+ES15*50+ET15*50)))","v":""},null,{"$f":"IF(C15<>\"\",C15,\"\")","v":""},null,null,null,null,null,null,null,null,{"$f":"IF($C15=\"\",\"\", IF(FH15=1,0,IF(FF15<>0,500,FA15*$AE15/$AH15+FB15/$AH15*5+FC15/$AH15*25+FD15*50+FE15*50)))","v":""},null,{"$f":"IF(C15<>\"\",C15,\"\")","v":""},null,null,null,null,null,null,null,null,{"$f":"IF($C15=\"\",\"\", IF(FS15=1,0,IF(FQ15<>0,500,FL15*$AE15/$AH15+FM15/$AH15*5+FN15/$AH15*25+FO15*50+FP15*50)))","v":""},null,{"$f":"IF(C15<>\"\",C15,\"\")","v":""},null,null,null,null,null,null,null,null,{"$f":"IF($C15=\"\",\"\", IF(GD15=1,0,IF(GB15<>0,500,FW15*$AE15/$AH15+FX15/$AH15*5+FY15/$AH15*25+FZ15*50+GA15*50)))","v":""},null,{"$f":"IF(C15<>\"\",C15,\"\")","v":""},null,null,null,null,null,null,null,null,{"$f":"IF($C15=\"\",\"\", IF(GO15=1,0,IF(GM15<>0,500,GH15*$AE15/$AH15+GI15/$AH15*5+GJ15/$AH15*25+GK15*50+GL15*50)))","v":""},null,{"$f":"IF(C15<>\"\",C15,\"\")","v":""},null,null,null,null,null,null,null,null,{"$f":"IF($C15=\"\",\"\", IF(GZ15=1,0,IF(GX15<>0,500,GS15*$AE15/$AH15+GT15/$AH15*5+GU15/$AH15*25+GV15*50+GW15*50)))","v":""},null,{"$f":"IF(C15<>\"\",C15,\"\")","v":""},null,null,null,null,null,null,null,null,{"$f":"IF($C15=\"\",\"\", IF(HK15=1,0,IF(HI15<>0,500,HD15*$AE15/$AH15+HE15/$AH15*5+HF15/$AH15*25+HG15*50+HH15*50)))","v":""},null,{"$f":"IF(C15<>\"\",C15,\"\")","v":""},null,null,null,null,null,null,null,null,{"$f":"IF($C15=\"\",\"\", IF(HV15=1,0,IF(HT15<>0,500,HO15*$AE15/$AH15+HP15/$AH15*5+HQ15/$AH15*25+HR15*50+HS15*50)))","v":""},null,{"$f":"IF(C15<>\"\",C15,\"\")","v":""},null,null,null,null,null,null,null,null,{"$f":"IF($C15=\"\",\"\", IF(IG15=1,0,IF(IE15<>0,500,HZ15*$AE15/$AH15+IA15/$AH15*5+IB15/$AH15*25+IC15*50+ID15*50)))","v":""}]
[null,{"$f":"IF(C16=0,\"\",ROW(C16)-4)","v":""},null,null,null,null,null,{"$f":"IF(C16=0,\"\",IF(OR(BB16=1,BC16<>0),BC16,\"-\"))","v":""},{"$f":"IF(C16=0,\"\",IF(OR(BM16=1,BN16<>0),BN16,\"-\"))","v":""},{"$f":"IF(C16=0,\"\",IF(OR(BX16=1,BY16<>0),BY16,\" -\"))","v":""},{"$f":"IF(C16=0,\"\",IF(OR(CJ16<>0,CI16=1),CJ16,\" -\"))","v":""},{"$f":"IF(C16=0,\"\",IF(OR(CU16<>0,CT16=1),CU16,\" -\"))","v":""},{"$f":"IF(C16=0,\"\",IF(OR(DF16<>0,DE16=1),DF16,\" -\"))","v":""},{"$f":"IF(C16=0,\"\",IF(OR(DQ16<>0,DP16=1),DQ16,\" -\"))","v":""},{"$f":"IF(C16=0,\"\",IF(OR(EB16<>0,EA16=1),EB16,\" -\"))","v":""},{"$f":"IF(C16=0,\"\",IF(OR(EM16<>0,EL16=1),EM16,\" -\"))","v":""},{"$f":"IF(C16=0,\"\",IF(OR(EX16<>0,EW16=1),EX16,\" -\"))","v":""},{"$f":"IF(C16=0,\"\",IF(OR(FI16<>0,FH16=1),FI16,\" -\"))","v":""},{"$f":"IF(C16=0,\"\",IF(OR(FT16<>0,FS16=1),FT16,\" -\"))","v":""},{"$f":"IF(C16=0,\"\",IF(OR(GE16<>0,GD16=1),GE16,\" -\"))","v":""},{"$f":"IF(C16=0,\"\",IF(OR(GP16<>0,GO16=1),GP16,\" -\"))","v":""},{"$f":"IF(C16=0,\"\",IF(OR(HA16<>0,GZ16=1),HA16,\" -\"))","v":""},{"$f":"IF(C16=0,\"\",IF(OR(HL16<>0,HK16=1),HL16,\" -\"))","v":""},{"$f":"IF(C16=0,\"\",IF(AJ16<>0,AJ16,\" -\"))","v":""},{"$f":"IF(C16=0,\"\",IF(OR(HW16<>0,HV16=1),HW16,\" -\"))","v":""},{"$f":"IF(C16=0,\"\",IF(OR(IH16<>0,IG16=1),IH16,\" -\"))","v":""},{"$f":"IF(C16=0,\"\",IF(AL16=1,\"DNF\",IF(AL16=2,\"DSQ\",IF(AM16<>1,\"~ \"&ROUND(SUM(H16:X16),3),ROUND(SUM(H16:X16),3)))))","v":""},null,null,{"$f":"IF(C16<>\"\",C16,\"\")","v":""},{"$f":"IF(AD16<>\"\",3,\"\")","v":""},null,null,{"$f":"IF(AD16<>\"\",(AF16/1000*AG16/1000)/2,\"\")","v":""},null,null,null,null,null,null,null,{"$f":"IF(C16=0,99999,IF(AL16>0,9999,SUM(H16:X16)-AN16))","v":99999},{"$f":"IF(C16=0,99999,IF(AL16=1,9999,SUM(Y16:Z16)))","v":99999},null,null,{"$f":"IF(C16<>\"\",C16,\"\")","v":""},null,null,null,null,null,null,null,null,{"$f":"IF($C16=\"\",\"\", IF(BB16=1,0,IF(AZ16<>0,500,AU16*$AE16/$AH16+AV16/$AH16*5+AW16/$AH16*25+AX16*50+AY16*50)))","v":""},null,{"$f":"IF(C16<>\"\",C16,\"\")","v":""},null,null,null,null,null,null,null,null,{"$f":"IF($C16=\"\",\"\", IF(BM16=1,0,IF(BK16<>0,500,BF16*$AE16/$AH16+BG16/$AH16*5+BH16/$AH16*25+BI16*50+BJ16*50)))","v":""},null,{"$f":"IF(C16<>\"\",C16,\"\")","v":""},null,null,null,null,null,null,null,null,{"$f":"IF($C16=\"\",\"\", IF(BX16=1,0,IF(BV16<>0,500,BQ16*$AE16/$AH16+BR16/$AH16*5+BS16/$AH16*25+BT16*50+BU16*50)))","v":""},null,{"$f":"IF(C16<>\"\",C16,\"\")","v":""},null,null,null,null,null,null,null,null,{"$f":"IF($C16=\"\",\"\", IF(CI16=1,0,IF(CG16<>0,500,CB16*$AE16/$AH16+CC16/$AH16*5+CD16/$AH16*25+CE16*50+CF16*50)))","v":""},null,{"$f":"IF(C16<>\"\",C16,\"\")","v":""},null,null,null,null,null,null,null,null,{"$f":"IF($C16=\"\",\"\", IF(CT16=1,0,IF(CR16<>0,500,CM16*$AE16/$AH16+CN16/$AH16*5+CO16/$AH16*25+CP16*50+CQ16*50)))","v":""},null,{"$f":"IF(C16<>\"\",C16,\"\")","v":""},null,null,null,null,null,null,null,null,{"$f":"IF($C16=\"\",\"\", IF(DE16=1,0,IF(DC16<>0,500,CX16*$AE16/$AH16+CY16/$AH16*5+CZ16/$AH16*25+DA16*50+DB16*50)))","v":""},null,{"$f":"IF(C16<>\"\",C16,\"\")","v":""},null,null,null,null,null,null,null,null,{"$f":"IF($C16=\"\",\"\", IF(DP16=1,0,IF(DN16<>0,500,DI16*$AE16/$AH16+DJ16/$AH16*5+DK16/$AH16*25+DL16*50+DM16*50)))","v":""},null,{"$f":"IF(C16<>\"\",C16,\"\")","v":""},null,null,null,null,null,null,null,null,{"$f":"IF($C16=\"\",\"\", IF(EA16=1,0,IF(DY16<>0,500,DT16*$AE16/$AH16+DU16/$AH16*5+DV16/$AH16*25+DW16*50+DX16*50)))","v":""},null,{"$f":"IF(C16<>\"\",C16,\"\")","v":""},null,null,null,null,null,null,null,null,{"$f":"IF($C16=\"\",\"\", IF(EL16=1,0,IF(EJ16<>0,500,EE16*$AE16/$AH16+EF16/$AH16*5+EG16/$AH16*25+EH16*50+EI16*50)))","v":""},null,{"$f":"IF(C16<>\"\",C16,\"\")","v":""},null,null,null,null,null,null,null,null,{"$f":"IF($C16=\"\",\"\", IF(EW16=1,0,IF(EU16<>0,500,EP16*$AE16/$AH16+EQ16/$AH16*5+ER16/$AH16*25+ES16*50+ET16*50)))","v":""},null,{"$f":"IF(C16<>\"\",C16,\"\")","v":""},null,null,null,null,null,null,null,null,{"$f":"IF($C16=\"\",\"\", IF(FH16=1,0,IF(FF16<>0,500,FA16*$AE16/$AH16+FB16/$AH16*5+FC16/$AH16*25+FD16*50+FE16*50)))","v":""},null,{"$f":"IF(C16<>\"\",C16,\"\")","v":""},null,null,null,null,null,null,null,null,{"$f":"IF($C16=\"\",\"\", IF(FS16=1,0,IF(FQ16<>0,500,FL16*$AE16/$AH16+FM16/$AH16*5+FN16/$AH16*25+FO16*50+FP16*50)))","v":""},null,{"$f":"IF(C16<>\"\",C16,\"\")","v":""},null,null,null,null,null,null,null,null,{"$f":"IF($C16=\"\",\"\", IF(GD16=1,0,IF(GB16<>0,500,FW16*$AE16/$AH16+FX16/$AH16*5+FY16/$AH16*25+FZ16*50+GA16*50)))","v":""},null,{"$f":"IF(C16<>\"\",C16,\"\")","v":""},null,null,null,null,null,null,null,null,{"$f":"IF($C16=\"\",\"\", IF(GO16=1,0,IF(GM16<>0,500,GH16*$AE16/$AH16+GI16/$AH16*5+GJ16/$AH16*25+GK16*50+GL16*50)))","v":""},null,{"$f":"IF(C16<>\"\",C16,\"\")","v":""},null,null,null,null,null,null,null,null,{"$f":"IF($C16=\"\",\"\", IF(GZ16=1,0,IF(GX16<>0,500,GS16*$AE16/$AH16+GT16/$AH16*5+GU16/$AH16*25+GV16*50+GW16*50)))","v":""},null,{"$f":"IF(C16<>\"\",C16,\"\")","v":""},null,null,null,null,null,null,null,null,{"$f":"IF($C16=\"\",\"\", IF(HK16=1,0,IF(HI16<>0,500,HD16*$AE16/$AH16+HE16/$AH16*5+HF16/$AH16*25+HG16*50+HH16*50)))","v":""},null,{"$f":"IF(C16<>\"\",C16,\"\")","v":""},null,null,null,null,null,null,null,null,{"$f":"IF($C16=\"\",\"\", IF(HV16=1,0,IF(HT16<>0,500,HO16*$AE16/$AH16+HP16/$AH16*5+HQ16/$AH16*25+HR16*50+HS16*50)))","v":""},null,{"$f":"IF(C16<>\"\",C16,\"\")","v":""},null,null,null,null,null,null,null,null,{"$f":"IF($C16=\"\",\"\", IF(IG16=1,0,IF(IE16<>0,500,HZ16*$AE16/$AH16+IA16/$AH16*5+IB16/$AH16*25+IC16*50+ID16*50)))","v":""}]
[null,{"$f":"IF(C17=0,\"\",ROW(C17)-4)","v":""},null,null,null,null,null,{"$f":"IF(C17=0,\"\",IF(OR(BB17=1,BC17<>0),BC17,\"-\"))","v":""},{"$f":"IF(C17=0,\"\",IF(OR(BM17=1,BN17<>0),BN17,\"-\"))","v":""},{"$f":"IF(C17=0,\"\",IF(OR(BX17=1,BY17<>0),BY17,\" -\"))","v":""},{"$f":"IF(C17=0,\"\",IF(OR(CJ17<>0,CI17=1),CJ17,\" -\"))","v":""},{"$f":"IF(C17=0,\"\",IF(OR(CU17<>0,CT17=1),CU17,\" -\"))","v":""},{"$f":"IF(C17=0,\"\",IF(OR(DF17<>0,DE17=1),DF17,\" -\"))","v":""},{"$f":"IF(C17=0,\"\",IF(OR(DQ17<>0,DP17=1),DQ17,\" -\"))","v":""},{"$f":"IF(C17=0,\"\",IF(OR(EB17<>0,EA17=1),EB17,\" -\"))","v":""},{"$f":"IF(C17=0,\"\",IF(OR(EM17<>0,EL17=1),EM17,\" -\"))","v":""},{"$f":"IF(C17=0,\"\",IF(OR(EX17<>0,EW17=1),EX17,\" -\"))","v":""},{"$f":"IF(C17=0,\"\",IF(OR(FI17<>0,FH17=1),FI17,\" -\"))","v":""},{"$f":"IF(C17=0,\"\",IF(OR(FT17<>0,FS17=1),FT17,\" -\"))","v":""},{"$f":"IF(C17=0,\"\",IF(OR(GE17<>0,GD17=1),GE17,\" -\"))","v":""},{"$f":"IF(C17=0,\"\",IF(OR(GP17<>0,GO17=1),GP17,\" -\"))","v":""},{"$f":"IF(C17=0,\"\",IF(OR(HA17<>0,GZ17=1),HA17,\" -\"))","v":""},{"$f":"IF(C17=0,\"\",IF(OR(HL17<>0,HK17=1),HL17,\" -\"))","v":""},{"$f":"IF(C17=0,\"\",IF(AJ17<>0,AJ17,\" -\"))","v":""},{"$f":"IF(C17=0,\"\",IF(OR(HW17<>0,HV17=1),HW17,\" -\"))","v":""},{"$f":"IF(C17=0,\"\",IF(OR(IH17<>0,IG17=1),IH17,\" -\"))","v":""},{"$f":"IF(C17=0,\"\",IF(AL17=1,\"DNF\",IF(AL17=2,\"DSQ\",IF(AM17<>1,\"~ \"&ROUND(SUM(H17:X17),3),ROUND(SUM(H17:X17),3)))))","v":""},null,null,{"$f":"IF(C17<>\"\",C17,\"\")","v":""},{"$f":"IF(AD17<>\"\",3,\"\")","v":""},null,null,{"$f":"IF(AD17<>\"\",(AF17/1000*AG17/1000)/2,\"\")","v":""},null,null,null,null,null,null,null,{"$f":"IF(C17=0,99999,IF(AL17>0,9999,SUM(H17:X17)-AN17))","v":99999},{"$f":"IF(C17=0,99999,IF(AL17=1,9999,SUM(Y17:Z17)))","v":99999},null,null,{"$f":"IF(C17<>\"\",C17,\"\")","v":""},null,null,null,null,null,null,null,null,{"$f":"IF($C17=\"\",\"\", IF(BB17=1,0,IF(AZ17<>0,500,AU17*$AE17/$AH17+AV17/$AH17*5+AW17/$AH17*25+AX17*50+AY17*50)))","v":""},null,{"$f":"IF(C17<>\"\",C17,\"\")","v":""},null,null,null,null,null,null,null,null,{"$f":"IF($C17=\"\",\"\", IF(BM17=1,0,IF(BK17<>0,500,BF17*$AE17/$AH17+BG17/$AH17*5+BH17/$AH17*25+BI17*50+BJ17*50)))","v":""},null,{"$f":"IF(C17<>\"\",C17,\"\")","v":""},null,null,null,null,null,null,null,null,{"$f":"IF($C17=\"\",\"\", IF(BX17=1,0,IF(BV17<>0,500,BQ17*$AE17/$AH17+BR17/$AH17*5+BS17/$AH17*25+BT17*50+BU17*50)))","v":""},null,{"$f":"IF(C17<>\"\",C17,\"\")","v":""},null,null,null,null,null,null,null,null,{"$f":"IF($C17=\"\",\"\", IF(CI17=1,0,IF(CG17<>0,500,CB17*$AE17/$AH17+CC17/$AH17*5+CD17/$AH17*25+CE17*50+CF17*50)))","v":""},null,{"$f":"IF(C17<>\"\",C17,\"\")","v":""},null,null,null,null,null,null,null,null,{"$f":"IF($C17=\"\",\"\", IF(CT17=1,0,IF(CR17<>0,500,CM17*$AE17/$AH17+CN17/$AH17*5+CO17/$AH17*25+CP17*50+CQ17*50)))","v":""},null,{"$f":"IF(C17<>\"\",C17,\"\")","v":""},null,null,null,null,null,null,null,null,{"$f":"IF($C17=\"\",\"\", IF(DE17=1,0,IF(DC17<>0,500,CX17*$AE17/$AH17+CY17/$AH17*5+CZ17/$AH17*25+DA17*50+DB17*50)))","v":""},null,{"$f":"IF(C17<>\"\",C17,\"\")","v":""},null,null,null,null,null,null,null,null,{"$f":"IF($C17=\"\",\"\", IF(DP17=1,0,IF(DN17<>0,500,DI17*$AE17/$AH17+DJ17/$AH17*5+DK17/$AH17*25+DL17*50+DM17*50)))","v":""},null,{"$f":"IF(C17<>\"\",C17,\"\")","v":""},null,null,null,null,null,null,null,null,{"$f":"IF($C17=\"\",\"\", IF(EA17=1,0,IF(DY17<>0,500,DT17*$AE17/$AH17+DU17/$AH17*5+DV17/$AH17*25+DW17*50+DX17*50)))","v":""},null,{"$f":"IF(C17<>\"\",C17,\"\")","v":""},null,null,null,null,null,null,null,null,{"$f":"IF($C17=\"\",\"\", IF(EL17=1,0,IF(EJ17<>0,500,EE17*$AE17/$AH17+EF17/$AH17*5+EG17/$AH17*25+EH17*50+EI17*50)))","v":""},null,{"$f":"IF(C17<>\"\",C17,\"\")","v":""},null,null,null,null,null,null,null,null,{"$f":"IF($C17=\"\",\"\", IF(EW17=1,0,IF(EU17<>0,500,EP17*$AE17/$AH17+EQ17/$AH17*5+ER17/$AH17*25+ES17*50+ET17*50)))","v":""},null,{"$f":"IF(C17<>\"\",C17,\"\")","v":""},null,null,null,null,null,null,null,null,{"$f":"IF($C17=\"\",\"\", IF(FH17=1,0,IF(FF17<>0,500,FA17*$AE17/$AH17+FB17/$AH17*5+FC17/$AH17*25+FD17*50+FE17*50)))","v":""},null,{"$f":"IF(C17<>\"\",C17,\"\")","v":""},null,null,null,null,null,null,null,null,{"$f":"IF($C17=\"\",\"\", IF(FS17=1,0,IF(FQ17<>0,500,FL17*$AE17/$AH17+FM17/$AH17*5+FN17/$AH17*25+FO17*50+FP17*50)))","v":""},null,{"$f":"IF(C17<>\"\",C17,\"\")","v":""},null,null,null,null,null,null,null,null,{"$f":"IF($C17=\"\",\"\", IF(GD17=1,0,IF(GB17<>0,500,FW17*$AE17/$AH17+FX17/$AH17*5+FY17/$AH17*25+FZ17*50+GA17*50)))","v":""},null,{"$f":"IF(C17<>\"\",C17,\"\")","v":""},null,null,null,null,null,null,null,null,{"$f":"IF($C17=\"\",\"\", IF(GO17=1,0,IF(GM17<>0,500,GH17*$AE17/$AH17+GI17/$AH17*5+GJ17/$AH17*25+GK17*50+GL17*50)))","v":""},null,{"$f":"IF(C17<>\"\",C17,\"\")","v":""},null,null,null,null,null,null,null,null,{"$f":"IF($C17=\"\",\"\", IF(GZ17=1,0,IF(GX17<>0,500,GS17*$AE17/$AH17+GT17/$AH17*5+GU17/$AH17*25+GV17*50+GW17*50)))","v":""},null,{"$f":"IF(C17<>\"\",C17,\"\")","v":""},null,null,null,null,null,null,null,null,{"$f":"IF($C17=\"\",\"\", IF(HK17=1,0,IF(HI17<>0,500,HD17*$AE17/$AH17+HE17/$AH17*5+HF17/$AH17*25+HG17*50+HH17*50)))","v":""},null,{"$f":"IF(C17<>\"\",C17,\"\")","v":""},null,null,null,null,null,null,null,null,{"$f":"IF($C17=\"\",\"\", IF(HV17=1,0,IF(HT17<>0,500,HO17*$AE17/$AH17+HP17/$AH17*5+HQ17/$AH17*25+HR17*50+HS17*50)))","v":""},null,{"$f":"IF(C17<>\"\",C17,\"\")","v":""},null,null,null,null,null,null,null,null,{"$f":"IF($C17=\"\",\"\", IF(IG17=1,0,IF(IE17<>0,500,HZ17*$AE17/$AH17+IA17/$AH17*5+IB17/$AH17*25+IC17*50+ID17*50)))","v":""}]
[null,{"$f":"IF(C18=0,\"\",ROW(C18)-4)","v":""},null,null,null,null,null,{"$f":"IF(C18=0,\"\",IF(OR(BB18=1,BC18<>0),BC18,\"-\"))","v":""},{"$f":"IF(C18=0,\"\",IF(OR(BM18=1,BN18<>0),BN18,\"-\"))","v":""},{"$f":"IF(C18=0,\"\",IF(OR(BX18=1,BY18<>0),BY18,\" -\"))","v":""},{"$f":"IF(C18=0,\"\",IF(OR(CJ18<>0,CI18=1),CJ18,\" -\"))","v":""},{"$f":"IF(C18=0,\"\",IF(OR(CU18<>0,CT18=1),CU18,\" -\"))","v":""},{"$f":"IF(C18=0,\"\",IF(OR(DF18<>0,DE18=1),DF18,\" -\"))","v":""},{"$f":"IF(C18=0,\"\",IF(OR(DQ18<>0,DP18=1),DQ18,\" -\"))","v":""},{"$f":"IF(C18=0,\"\",IF(OR(EB18<>0,EA18=1),EB18,\" -\"))","v":""},{"$f":"IF(C18=0,\"\",IF(OR(EM18<>0,EL18=1),EM18,\" -\"))","v":""},{"$f":"IF(C18=0,\"\",IF(OR(EX18<>0,EW18=1),EX18,\" -\"))","v":""},{"$f":"IF(C18=0,\"\",IF(OR(FI18<>0,FH18=1),FI18,\" -\"))","v":""},{"$f":"IF(C18=0,\"\",IF(OR(FT18<>0,FS18=1),FT18,\" -\"))","v":""},{"$f":"IF(C18=0,\"\",IF(OR(GE18<>0,GD18=1),GE18,\" -\"))","v":""},{"$f":"IF(C18=0,\"\",IF(OR(GP18<>0,GO18=1),GP18,\" -\"))","v":""},{"$f":"IF(C18=0,\"\",IF(OR(HA18<>0,GZ18=1),HA18,\" -\"))","v":""},{"$f":"IF(C18=0,\"\",IF(OR(HL18<>0,HK18=1),HL18,\" -\"))","v":""},{"$f":"IF(C18=0,\"\",IF(AJ18<>0,AJ18,\" -\"))","v":""},{"$f":"IF(C18=0,\"\",IF(OR(HW18<>0,HV18=1),HW18,\" -\"))","v":""},{"$f":"IF(C18=0,\"\",IF(OR(IH18<>0,IG18=1),IH18,\" -\"))","v":""},{"$f":"IF(C18=0,\"\",IF(AL18=1,\"DNF\",IF(AL18=2,\"DSQ\",IF(AM18<>1,\"~ \"&ROUND(SUM(H18:X18),3),ROUND(SUM(H18:X18),3)))))","v":""},null,null,{"$f":"IF(C18<>\"\",C18,\"\")","v":""},{"$f":"IF(AD18<>\"\",3,\"\")","v":""},null,null,{"$f":"IF(AD18<>\"\",(AF18/1000*AG18/1000)/2,\"\")","v":""},null,null,null,null,null,null,null,{"$f":"IF(C18=0,99999,IF(AL18>0,9999,SUM(H18:X18)-AN18))","v":99999},{"$f":"IF(C18=0,99999,IF(AL18=1,9999,SUM(Y18:Z18)))","v":99999},null,null,{"$f":"IF(C18<>\"\",C18,\"\")","v":""},null,null,null,null,null,null,null,null,{"$f":"IF($C18=\"\",\"\", IF(BB18=1,0,IF(AZ18<>0,500,AU18*$AE18/$AH18+AV18/$AH18*5+AW18/$AH18*25+AX18*50+AY18*50)))","v":""},null,{"$f":"IF(C18<>\"\",C18,\"\")","v":""},null,null,null,null,null,null,null,null,{"$f":"IF($C18=\"\",\"\", IF(BM18=1,0,IF(BK18<>0,500,BF18*$AE18/$AH18+BG18/$AH18*5+BH18/$AH18*25+BI18*50+BJ18*50)))","v":""},null,{"$f":"IF(C18<>\"\",C18,\"\")","v":""},null,null,null,null,null,null,null,null,{"$f":"IF($C18=\"\",\"\", IF(BX18=1,0,IF(BV18<>0,500,BQ18*$AE18/$AH18+BR18/$AH18*5+BS18/$AH18*25+BT18*50+BU18*50)))","v":""},null,{"$f":"IF(C18<>\"\",C18,\"\")","v":""},null,null,null,null,null,null,null,null,{"$f":"IF($C18=\"\",\"\", IF(CI18=1,0,IF(CG18<>0,500,CB18*$AE18/$AH18+CC18/$AH18*5+CD18/$AH18*25+CE18*50+CF18*50)))","v":""},null,{"$f":"IF(C18<>\"\",C18,\"\")","v":""},null,null,null,null,null,null,null,null,{"$f":"IF($C18=\"\",\"\", IF(CT18=1,0,IF(CR18<>0,500,CM18*$AE18/$AH18+CN18/$AH18*5+CO18/$AH18*25+CP18*50+CQ18*50)))","v":""},null,{"$f":"IF(C18<>\"\",C18,\"\")","v":""},null,null,null,null,null,null,null,null,{"$f":"IF($C18=\"\",\"\", IF(DE18=1,0,IF(DC18<>0,500,CX18*$AE18/$AH18+CY18/$AH18*5+CZ18/$AH18*25+DA18*50+DB18*50)))","v":""},null,{"$f":"IF(C18<>\"\",C18,\"\")","v":""},null,null,null,null,null,null,null,null,{"$f":"IF($C18=\"\",\"\", IF(DP18=1,0,IF(DN18<>0,500,DI18*$AE18/$AH18+DJ18/$AH18*5+DK18/$AH18*25+DL18*50+DM18*50)))","v":""},null,{"$f":"IF(C18<>\"\",C18,\"\")","v":""},null,null,null,null,null,null,null,null,{"$f":"IF($C18=\"\",\"\", IF(EA18=1,0,IF(DY18<>0,500,DT18*$AE18/$AH18+DU18/$AH18*5+DV18/$AH18*25+DW18*50+DX18*50)))","v":""},null,{"$f":"IF(C18<>\"\",C18,\"\")","v":""},null,null,null,null,null,null,null,null,{"$f":"IF($C18=\"\",\"\", IF(EL18=1,0,IF(EJ18<>0,500,EE18*$AE18/$AH18+EF18/$AH18*5+EG18/$AH18*25+EH18*50+EI18*50)))","v":""},null,{"$f":"IF(C18<>\"\",C18,\"\")","v":""},null,null,null,null,null,null,null,null,{"$f":"IF($C18=\"\",\"\", IF(EW18=1,0,IF(EU18<>0,500,EP18*$AE18/$AH18+EQ18/$AH18*5+ER18/$AH18*25+ES18*50+ET18*50)))","v":""},null,{"$f":"IF(C18<>\"\",C18,\"\")","v":""},null,null,null,null,null,null,null,null,{"$f":"IF($C18=\"\",\"\", IF(FH18=1,0,IF(FF18<>0,500,FA18*$AE18/$AH18+FB18/$AH18*5+FC18/$AH18*25+FD18*50+FE18*50)))","v":""},null,{"$f":"IF(C18<>\"\",C18,\"\")","v":""},null,null,null,null,null,null,null,null,{"$f":"IF($C18=\"\",\"\", IF(FS18=1,0,IF(FQ18<>0,500,FL18*$AE18/$AH18+FM18/$AH18*5+FN18/$AH18*25+FO18*50+FP18*50)))","v":""},null,{"$f":"IF(C18<>\"\",C18,\"\")","v":""},null,null,null,null,null,null,null,null,{"$f":"IF($C18=\"\",\"\", IF(GD18=1,0,IF(GB18<>0,500,FW18*$AE18/$AH18+FX18/$AH18*5+FY18/$AH18*25+FZ18*50+GA18*50)))","v":""},null,{"$f":"IF(C18<>\"\",C18,\"\")","v":""},null,null,null,null,null,null,null,null,{"$f":"IF($C18=\"\",\"\", IF(GO18=1,0,IF(GM18<>0,500,GH18*$AE18/$AH18+GI18/$AH18*5+GJ18/$AH18*25+GK18*50+GL18*50)))","v":""},null,{"$f":"IF(C18<>\"\",C18,\"\")","v":""},null,null,null,null,null,null,null,null,{"$f":"IF($C18=\"\",\"\", IF(GZ18=1,0,IF(GX18<>0,500,GS18*$AE18/$AH18+GT18/$AH18*5+GU18/$AH18*25+GV18*50+GW18*50)))","v":""},null,{"$f":"IF(C18<>\"\",C18,\"\")","v":""},null,null,null,null,null,null,null,null,{"$f":"IF($C18=\"\",\"\", IF(HK18=1,0,IF(HI18<>0,500,HD18*$AE18/$AH18+HE18/$AH18*5+HF18/$AH18*25+HG18*50+HH18*50)))","v":""},null,{"$f":"IF(C18<>\"\",C18,\"\")","v":""},null,null,null,null,null,null,null,null,{"$f":"IF($C18=\"\",\"\", IF(HV18=1,0,IF(HT18<>0,500,HO18*$AE18/$AH18+HP18/$AH18*5+HQ18/$AH18*25+HR18*50+HS18*50)))","v":""},null,{"$f":"IF(C18<>\"\",C18,\"\")","v":""},null,null,null,null,null,null,null,null,{"$f":"IF($C18=\"\",\"\", IF(IG18=1,0,IF(IE18<>0,500,HZ18*$AE18/$AH18+IA18/$AH18*5+IB18/$AH18*25+IC18*50+ID18*50)))","v":""}]
[null,{"$f":"IF(C19=0,\"\",ROW(C19)-4)","v":""},null,null,null,null,null,{"$f":"IF(C19=0,\"\",IF(OR(BB19=1,BC19<>0),BC19,\"-\"))","v":""},{"$f":"IF(C19=0,\"\",IF(OR(BM19=1,BN19<>0),BN19,\"-\"))","v":""},{"$f":"IF(C19=0,\"\",IF(OR(BX19=1,BY19<>0),BY19,\" -\"))","v":""},{"$f":"IF(C19=0,\"\",IF(OR(CJ19<>0,CI19=1),CJ19,\" -\"))","v":""},{"$f":"IF(C19=0,\"\",IF(OR(CU19<>0,CT19=1),CU19,\" -\"))","v":""},{"$f":"IF(C19=0,\"\",IF(OR(DF19<>0,DE19=1),DF19,\" -\"))","v":""},{"$f":"IF(C19=0,\"\",IF(OR(DQ19<>0,DP19=1),DQ19,\" -\"))","v":""},{"$f":"IF(C19=0,\"\",IF(OR(EB19<>0,EA19=1),EB19,\" -\"))","v":""},{"$f":"IF(C19=0,\"\",IF(OR(EM19<>0,EL19=1),EM19,\" -\"))","v":""},{"$f":"IF(C19=0,\"\",IF(OR(EX19<>0,EW19=1),EX19,\" -\"))","v":""},{"$f":"IF(C19=0,\"\",IF(OR(FI19<>0,FH19=1),FI19,\" -\"))","v":""},{"$f":"IF(C19=0,\"\",IF(OR(FT19<>0,FS19=1),FT19,\" -\"))","v":""},{"$f":"IF(C19=0,\"\",IF(OR(GE19<>0,GD19=1),GE19,\" -\"))","v":""},{"$f":"IF(C19=0,\"\",IF(OR(GP19<>0,GO19=1),GP19,\" -\"))","v":""},{"$f":"IF(C19=0,\"\",IF(OR(HA19<>0,GZ19=1),HA19,\" -\"))","v":""},{"$f":"IF(C19=0,\"\",IF(OR(HL19<>0,HK19=1),HL19,\" -\"))","v":""},{"$f":"IF(C19=0,\"\",IF(AJ19<>0,AJ19,\" -\"))","v":""},{"$f":"IF(C19=0,\"\",IF(OR(HW19<>0,HV19=1),HW19,\" -\"))","v":""},{"$f":"IF(C19=0,\"\",IF(OR(IH19<>0,IG19=1),IH19,\" -\"))","v":""},{"$f":"IF(C19=0,\"\",IF(AL19=1,\"DNF\",IF(AL19=2,\"DSQ\",IF(AM19<>1,\"~ \"&ROUND(SUM(H19:X19),3),ROUND(SUM(H19:X19),3)))))","v":""},null,null,{"$f":"IF(C19<>\"\",C19,\"\")","v":""},{"$f":"IF(AD19<>\"\",3,\"\")","v":""},null,null,{"$f":"IF(AD19<>\"\",(AF19/1000*AG19/1000)/2,\"\")","v":""},null,null,null,null,null,null,null,{"$f":"IF(C19=0,99999,IF(AL19>0,9999,SUM(H19:X19)-AN19))","v":99999},{"$f":"IF(C19=0,99999,IF(AL19=1,9999,SUM(Y19:Z19)))","v":99999},null,null,{"$f":"IF(C19<>\"\",C19,\"\")","v":""},null,null,null,null,null,null,null,null,{"$f":"IF($C19=\"\",\"\", IF(BB19=1,0,IF(AZ19<>0,500,AU19*$AE19/$AH19+AV19/$AH19*5+AW19/$AH19*25+AX19*50+AY19*50)))","v":""},null,{"$f":"IF(C19<>\"\",C19,\"\")","v":""},null,null,null,null,null,null,null,null,{"$f":"IF($C19=\"\",\"\", IF(BM19=1,0,IF(BK19<>0,500,BF19*$AE19/$AH19+BG19/$AH19*5+BH19/$AH19*25+BI19*50+BJ19*50)))","v":""},null,{"$f":"IF(C19<>\"\",C19,\"\")","v":""},null,null,null,null,null,null,null,null,{"$f":"IF($C19=\"\",\"\", IF(BX19=1,0,IF(BV19<>0,500,BQ19*$AE19/$AH19+BR19/$AH19*5+BS19/$AH19*25+BT19*50+BU19*50)))","v":""},null,{"$f":"IF(C19<>\"\",C19,\"\")","v":""},null,null,null,null,null,null,null,null,{"$f":"IF($C19=\"\",\"\", IF(CI19=1,0,IF(CG19<>0,500,CB19*$AE19/$AH19+CC19/$AH19*5+CD19/$AH19*25+CE19*50+CF19*50)))","v":""},null,{"$f":"IF(C19<>\"\",C19,\"\")","v":""},null,null,null,null,null,null,null,null,{"$f":"IF($C19=\"\",\"\", IF(CT19=1,0,IF(CR19<>0,500,CM19*$AE19/$AH19+CN19/$AH19*5+CO19/$AH19*25+CP19*50+CQ19*50)))","v":""},null,{"$f":"IF(C19<>\"\",C19,\"\")","v":""},null,null,null,null,null,null,null,null,{"$f":"IF($C19=\"\",\"\", IF(DE19=1,0,IF(DC19<>0,500,CX19*$AE19/$AH19+CY19/$AH19*5+CZ19/$AH19*25+DA19*50+DB19*50)))","v":""},null,{"$f":"IF(C19<>\"\",C19,\"\")","v":""},null,null,null,null,null,null,null,null,{"$f":"IF($C19=\"\",\"\", IF(DP19=1,0,IF(DN19<>0,500,DI19*$AE19/$AH19+DJ19/$AH19*5+DK19/$AH19*25+DL19*50+DM19*50)))","v":""},null,{"$f":"IF(C19<>\"\",C19,\"\")","v":""},null,null,null,null,null,null,null,null,{"$f":"IF($C19=\"\",\"\", IF(EA19=1,0,IF(DY19<>0,500,DT19*$AE19/$AH19+DU19/$AH19*5+DV19/$AH19*25+DW19*50+DX19*50)))","v":""},null,{"$f":"IF(C19<>\"\",C19,\"\")","v":""},null,null,null,null,null,null,null,null,{"$f":"IF($C19=\"\",\"\", IF(EL19=1,0,IF(EJ19<>0,500,EE19*$AE19/$AH19+EF19/$AH19*5+EG19/$AH19*25+EH19*50+EI19*50)))","v":""},null,{"$f":"IF(C19<>\"\",C19,\"\")","v":""},null,null,null,null,null,null,null,null,{"$f":"IF($C19=\"\",\"\", IF(EW19=1,0,IF(EU19<>0,500,EP19*$AE19/$AH19+EQ19/$AH19*5+ER19/$AH19*25+ES19*50+ET19*50)))","v":""},null,{"$f":"IF(C19<>\"\",C19,\"\")","v":""},null,null,null,null,null,null,null,null,{"$f":"IF($C19=\"\",\"\", IF(FH19=1,0,IF(FF19<>0,500,FA19*$AE19/$AH19+FB19/$AH19*5+FC19/$AH19*25+FD19*50+FE19*50)))","v":""},null,{"$f":"IF(C19<>\"\",C19,\"\")","v":""},null,null,null,null,null,null,null,null,{"$f":"IF($C19=\"\",\"\", IF(FS19=1,0,IF(FQ19<>0,500,FL19*$AE19/$AH19+FM19/$AH19*5+FN19/$AH19*25+FO19*50+FP19*50)))","v":""},null,{"$f":"IF(C19<>\"\",C19,\"\")","v":""},null,null,null,null,null,null,null,null,{"$f":"IF($C19=\"\",\"\", IF(GD19=1,0,IF(GB19<>0,500,FW19*$AE19/$AH19+FX19/$AH19*5+FY19/$AH19*25+FZ19*50+GA19*50)))","v":""},null,{"$f":"IF(C19<>\"\",C19,\"\")","v":""},null,null,null,null,null,null,null,null,{"$f":"IF($C19=\"\",\"\", IF(GO19=1,0,IF(GM19<>0,500,GH19*$AE19/$AH19+GI19/$AH19*5+GJ19/$AH19*25+GK19*50+GL19*50)))","v":""},null,{"$f":"IF(C19<>\"\",C19,\"\")","v":""},null,null,null,null,null,null,null,null,{"$f":"IF($C19=\"\",\"\", IF(GZ19=1,0,IF(GX19<>0,500,GS19*$AE19/$AH19+GT19/$AH19*5+GU19/$AH19*25+GV19*50+GW19*50)))","v":""},null,{"$f":"IF(C19<>\"\",C19,\"\")","v":""},null,null,null,null,null,null,null,null,{"$f":"IF($C19=\"\",\"\", IF(HK19=1,0,IF(HI19<>0,500,HD19*$AE19/$AH19+HE19/$AH19*5+HF19/$AH19*25+HG19*50+HH19*50)))","v":""},null,{"$f":"IF(C19<>\"\",C19,\"\")","v":""},null,null,null,null,null,null,null,null,{"$f":"IF($C19=\"\",\"\", IF(HV19=1,0,IF(HT19<>0,500,HO19*$AE19/$AH19+HP19/$AH19*5+HQ19/$AH19*25+HR19*50+HS19*50)))","v":""},null,{"$f":"IF(C19<>\"\",C19,\"\")","v":""},null,null,null,null,null,null,null,null,{"$f":"IF($C19=\"\",\"\", IF(IG19=1,0,IF(IE19<>0,500,HZ19*$AE19/$AH19+IA19/$AH19*5+IB19/$AH19*25+IC19*50+ID19*50)))","v":""}]
[null,{"$f":"IF(C20=0,\"\",ROW(C20)-4)","v":""},null,null,null,null,null,{"$f":"IF(C20=0,\"\",IF(OR(BB20=1,BC20<>0),BC20,\"-\"))","v":""},{"$f":"IF(C20=0,\"\",IF(OR(BM20=1,BN20<>0),BN20,\"-\"))","v":""},{"$f":"IF(C20=0,\"\",IF(OR(BX20=1,BY20<>0),BY20,\" -\"))","v":""},{"$f":"IF(C20=0,\"\",IF(OR(CJ20<>0,CI20=1),CJ20,\" -\"))","v":""},{"$f":"IF(C20=0,\"\",IF(OR(CU20<>0,CT20=1),CU20,\" -\"))","v":""},{"$f":"IF(C20=0,\"\",IF(OR(DF20<>0,DE20=1),DF20,\" -\"))","v":""},{"$f":"IF(C20=0,\"\",IF(OR(DQ20<>0,DP20=1),DQ20,\" -\"))","v":""},{"$f":"IF(C20=0,\"\",IF(OR(EB20<>0,EA20=1),EB20,\" -\"))","v":""},{"$f":"IF(C20=0,\"\",IF(OR(EM20<>0,EL20=1),EM20,\" -\"))","v":""},{"$f":"IF(C20=0,\"\",IF(OR(EX20<>0,EW20=1),EX20,\" -\"))","v":""},{"$f":"IF(C20=0,\"\",IF(OR(FI20<>0,FH20=1),FI20,\" -\"))","v":""},{"$f":"IF(C20=0,\"\",IF(OR(FT20<>0,FS20=1),FT20,\" -\"))","v":""},{"$f":"IF(C20=0,\"\",IF(OR(GE20<>0,GD20=1),GE20,\" -\"))","v":""},{"$f":"IF(C20=0,\"\",IF(OR(GP20<>0,GO20=1),GP20,\" -\"))","v":""},{"$f":"IF(C20=0,\"\",IF(OR(HA20<>0,GZ20=1),HA20,\" -\"))","v":""},{"$f":"IF(C20=0,\"\",IF(OR(HL20<>0,HK20=1),HL20,\" -\"))","v":""},{"$f":"IF(C20=0,\"\",IF(AJ20<>0,AJ20,\" -\"))","v":""},{"$f":"IF(C20=0,\"\",IF(OR(HW20<>0,HV20=1),HW20,\" -\"))","v":""},{"$f":"IF(C20=0,\"\",IF(OR(IH20<>0,IG20=1),IH20,\" -\"))","v":""},{"$f":"IF(C20=0,\"\",IF(AL20=1,\"DNF\",IF(AL20=2,\"DSQ\",IF(AM20<>1,\"~ \"&ROUND(SUM(H20:X20),3),ROUND(SUM(H20:X20),3)))))","v":""},null,null,{"$f":"IF(C20<>\"\",C20,\"\")","v":""},{"$f":"IF(AD20<>\"\",3,\"\")","v":""},null,null,{"$f":"IF(AD20<>\"\",(AF20/1000*AG20/1000)/2,\"\")","v":""},null,null,null,null,null,null,null,{"$f":"IF(C20=0,99999,IF(AL20>0,9999,SUM(H20:X20)-AN20))","v":99999},{"$f":"IF(C20=0,99999,IF(AL20=1,9999,SUM(Y20:Z20)))","v":99999},null,null,{"$f":"IF(C20<>\"\",C20,\"\")","v":""},null,null,null,null,null,null,null,null,{"$f":"IF($C20=\"\",\"\", IF(BB20=1,0,IF(AZ20<>0,500,AU20*$AE20/$AH20+AV20/$AH20*5+AW20/$AH20*25+AX20*50+AY20*50)))","v":""},null,{"$f":"IF(C20<>\"\",C20,\"\")","v":""},null,null,null,null,null,null,null,null,{"$f":"IF($C20=\"\",\"\", IF(BM20=1,0,IF(BK20<>0,500,BF20*$AE20/$AH20+BG20/$AH20*5+BH20/$AH20*25+BI20*50+BJ20*50)))","v":""},null,{"$f":"IF(C20<>\"\",C20,\"\")","v":""},null,null,null,null,null,null,null,null,{"$f":"IF($C20=\"\",\"\", IF(BX20=1,0,IF(BV20<>0,500,BQ20*$AE20/$AH20+BR20/$AH20*5+BS20/$AH20*25+BT20*50+BU20*50)))","v":""},null,{"$f":"IF(C20<>\"\",C20,\"\")","v":""},null,null,null,null,null,null,null,null,{"$f":"IF($C20=\"\",\"\", IF(CI20=1,0,IF(CG20<>0,500,CB20*$AE20/$AH20+CC20/$AH20*5+CD20/$AH20*25+CE20*50+CF20*50)))","v":""},null,{"$f":"IF(C20<>\"\",C20,\"\")","v":""},null,null,null,null,null,null,null,null,{"$f":"IF($C20=\"\",\"\", IF(CT20=1,0,IF(CR20<>0,500,CM20*$AE20/$AH20+CN20/$AH20*5+CO20/$AH20*25+CP20*50+CQ20*50)))","v":""},null,{"$f":"IF(C20<>\"\",C20,\"\")","v":""},null,null,null,null,null,null,null,null,{"$f":"IF($C20=\"\",\"\", IF(DE20=1,0,IF(DC20<>0,500,CX20*$AE20/$AH20+CY20/$AH20*5+CZ20/$AH20*25+DA20*50+DB20*50)))","v":""},null,{"$f":"IF(C20<>\"\",C20,\"\")","v":""},null,null,null,null,null,null,null,null,{"$f":"IF($C20=\"\",\"\", IF(DP20=1,0,IF(DN20<>0,500,DI20*$AE20/$AH20+DJ20/$AH20*5+DK20/$AH20*25+DL20*50+DM20*50)))","v":""},null,{"$f":"IF(C20<>\"\",C20,\"\")","v":""},null,null,null,null,null,null,null,null,{"$f":"IF($C20=\"\",\"\", IF(EA20=1,0,IF(DY20<>0,500,DT20*$AE20/$AH20+DU20/$AH20*5+DV20/$AH20*25+DW20*50+DX20*50)))","v":""},null,{"$f":"IF(C20<>\"\",C20,\"\")","v":""},null,null,null,null,null,null,null,null,{"$f":"IF($C20=\"\",\"\", IF(EL20=1,0,IF(EJ20<>0,500,EE20*$AE20/$AH20+EF20/$AH20*5+EG20/$AH20*25+EH20*50+EI20*50)))","v":""},null,{"$f":"IF(C20<>\"\",C20,\"\")","v":""},null,null,null,null,null,null,null,null,{"$f":"IF($C20=\"\",\"\", IF(EW20=1,0,IF(EU20<>0,500,EP20*$AE20/$AH20+EQ20/$AH20*5+ER20/$AH20*25+ES20*50+ET20*50)))","v":""},null,{"$f":"IF(C20<>\"\",C20,\"\")","v":""},null,null,null,null,null,null,null,null,{"$f":"IF($C20=\"\",\"\", IF(FH20=1,0,IF(FF20<>0,500,FA20*$AE20/$AH20+FB20/$AH20*5+FC20/$AH20*25+FD20*50+FE20*50)))","v":""},null,{"$f":"IF(C20<>\"\",C20,\"\")","v":""},null,null,null,null,null,null,null,null,{"$f":"IF($C20=\"\",\"\", IF(FS20=1,0,IF(FQ20<>0,500,FL20*$AE20/$AH20+FM20/$AH20*5+FN20/$AH20*25+FO20*50+FP20*50)))","v":""},null,{"$f":"IF(C20<>\"\",C20,\"\")","v":""},null,null,null,null,null,null,null,null,{"$f":"IF($C20=\"\",\"\", IF(GD20=1,0,IF(GB20<>0,500,FW20*$AE20/$AH20+FX20/$AH20*5+FY20/$AH20*25+FZ20*50+GA20*50)))","v":""},null,{"$f":"IF(C20<>\"\",C20,\"\")","v":""},null,null,null,null,null,null,null,null,{"$f":"IF($C20=\"\",\"\", IF(GO20=1,0,IF(GM20<>0,500,GH20*$AE20/$AH20+GI20/$AH20*5+GJ20/$AH20*25+GK20*50+GL20*50)))","v":""},null,{"$f":"IF(C20<>\"\",C20,\"\")","v":""},null,null,null,null,null,null,null,null,{"$f":"IF($C20=\"\",\"\", IF(GZ20=1,0,IF(GX20<>0,500,GS20*$AE20/$AH20+GT20/$AH20*5+GU20/$AH20*25+GV20*50+GW20*50)))","v":""},null,{"$f":"IF(C20<>\"\",C20,\"\")","v":""},null,null,null,null,null,null,null,null,{"$f":"IF($C20=\"\",\"\", IF(HK20=1,0,IF(HI20<>0,500,HD20*$AE20/$AH20+HE20/$AH20*5+HF20/$AH20*25+HG20*50+HH20*50)))","v":""},null,{"$f":"IF(C20<>\"\",C20,\"\")","v":""},null,null,null,null,null,null,null,null,{"$f":"IF($C20=\"\",\"\", IF(HV20=1,0,IF(HT20<>0,500,HO20*$AE20/$AH20+HP20/$AH20*5+HQ20/$AH20*25+HR20*50+HS20*50)))","v":""},null,{"$f":"IF(C20<>\"\",C20,\"\")","v":""},null,null,null,null,null,null,null,null,{"$f":"IF($C20=\"\",\"\", IF(IG20=1,0,IF(IE20<>0,500,HZ20*$AE20/$AH20+IA20/$AH20*5+IB20/$AH20*25+IC20*50+ID20*50)))","v":""}]
[null,{"$f":"IF(C21=0,\"\",ROW(C21)-4)","v":""},null,null,null,null,null,{"$f":"IF(C21=0,\"\",IF(OR(BB21=1,BC21<>0),BC21,\"-\"))","v":""},{"$f":"IF(C21=0,\"\",IF(OR(BM21=1,BN21<>0),BN21,\"-\"))","v":""},{"$f":"IF(C21=0,\"\",IF(OR(BX21=1,BY21<>0),BY21,\" -\"))","v":""},{"$f":"IF(C21=0,\"\",IF(OR(CJ21<>0,CI21=1),CJ21,\" -\"))","v":""},{"$f":"IF(C21=0,\"\",IF(OR(CU21<>0,CT21=1),CU21,\" -\"))","v":""},{"$f":"IF(C21=0,\"\",IF(OR(DF21<>0,DE21=1),DF21,\" -\"))","v":""},{"$f":"IF(C21=0,\"\",IF(OR(DQ21<>0,DP21=1),DQ21,\" -\"))","v":""},{"$f":"IF(C21=0,\"\",IF(OR(EB21<>0,EA21=1),EB21,\" -\"))","v":""},{"$f":"IF(C21=0,\"\",IF(OR(EM21<>0,EL21=1),EM21,\" -\"))","v":""},{"$f":"IF(C21=0,\"\",IF(OR(EX21<>0,EW21=1),EX21,\" -\"))","v":""},{"$f":"IF(C21=0,\"\",IF(OR(FI21<>0,FH21=1),FI21,\" -\"))","v":""},{"$f":"IF(C21=0,\"\",IF(OR(FT21<>0,FS21=1),FT21,\" -\"))","v":""},{"$f":"IF(C21=0,\"\",IF(OR(GE21<>0,GD21=1),GE21,\" -\"))","v":""},{"$f":"IF(C21=0,\"\",IF(OR(GP21<>0,GO21=1),GP21,\" -\"))","v":""},{"$f":"IF(C21=0,\"\",IF(OR(HA21<>0,GZ21=1),HA21,\" -\"))","v":""},{"$f":"IF(C21=0,\"\",IF(OR(HL21<>0,HK21=1),HL21,\" -\"))","v":""},{"$f":"IF(C21=0,\"\",IF(AJ21<>0,AJ21,\" -\"))","v":""},{"$f":"IF(C21=0,\"\",IF(OR(HW21<>0,HV21=1),HW21,\" -\"))","v":""},{"$f":"IF(C21=0,\"\",IF(OR(IH21<>0,IG21=1),IH21,\" -\"))","v":""},{"$f":"IF(C21=0,\"\",IF(AL21=1,\"DNF\",IF(AL21=2,\"DSQ\",IF(AM21<>1,\"~ \"&ROUND(SUM(H21:X21),3),ROUND(SUM(H21:X21),3)))))","v":""},null,null,{"$f":"IF(C21<>\"\",C21,\"\")","v":""},{"$f":"IF(AD21<>\"\",3,\"\")","v":""},null,null,{"$f":"IF(AD21<>\"\",(AF21/1000*AG21/1000)/2,\"\")","v":""},null,null,null,null,null,null,null,{"$f":"IF(C21=0,99999,IF(AL21>0,9999,SUM(H21:X21)-AN21))","v":99999},{"$f":"IF(C21=0,99999,IF(AL21=1,9999,SUM(Y21:Z21)))","v":99999},null,null,{"$f":"IF(C21<>\"\",C21,\"\")","v":""},null,null,null,null,null,null,null,null,{"$f":"IF($C21=\"\",\"\", IF(BB21=1,0,IF(AZ21<>0,500,AU21*$AE21/$AH21+AV21/$AH21*5+AW21/$AH21*25+AX21*50+AY21*50)))","v":""},null,{"$f":"IF(C21<>\"\",C21,\"\")","v":""},null,null,null,null,null,null,null,null,{"$f":"IF($C21=\"\",\"\", IF(BM21=1,0,IF(BK21<>0,500,BF21*$AE21/$AH21+BG21/$AH21*5+BH21/$AH21*25+BI21*50+BJ21*50)))","v":""},null,{"$f":"IF(C21<>\"\",C21,\"\")","v":""},null,null,null,null,null,null,null,null,{"$f":"IF($C21=\"\",\"\", IF(BX21=1,0,IF(BV21<>0,500,BQ21*$AE21/$AH21+BR21/$AH21*5+BS21/$AH21*25+BT21*50+BU21*50)))","v":""},null,{"$f":"IF(C21<>\"\",C21,\"\")","v":""},null,null,null,null,null,null,null,null,{"$f":"IF($C21=\"\",\"\", IF(CI21=1,0,IF(CG21<>0,500,CB21*$AE21/$AH21+CC21/$AH21*5+CD21/$AH21*25+CE21*50+CF21*50)))","v":""},null,{"$f":"IF(C21<>\"\",C21,\"\")","v":""},null,null,null,null,null,null,null,null,{"$f":"IF($C21=\"\",\"\", IF(CT21=1,0,IF(CR21<>0,500,CM21*$AE21/$AH21+CN21/$AH21*5+CO21/$AH21*25+CP21*50+CQ21*50)))","v":""},null,{"$f":"IF(C21<>\"\",C21,\"\")","v":""},null,null,null,null,null,null,null,null,{"$f":"IF($C21=\"\",\"\", IF(DE21=1,0,IF(DC21<>0,500,CX21*$AE21/$AH21+CY21/$AH21*5+CZ21/$AH21*25+DA21*50+DB21*50)))","v":""},null,{"$f":"IF(C21<>\"\",C21,\"\")","v":""},null,null,null,null,null,null,null,null,{"$f":"IF($C21=\"\",\"\", IF(DP21=1,0,IF(DN21<>0,500,DI21*$AE21/$AH21+DJ21/$AH21*5+DK21/$AH21*25+DL21*50+DM21*50)))","v":""},null,{"$f":"IF(C21<>\"\",C21,\"\")","v":""},null,null,null,null,null,null,null,null,{"$f":"IF($C21=\"\",\"\", IF(EA21=1,0,IF(DY21<>0,500,DT21*$AE21/$AH21+DU21/$AH21*5+DV21/$AH21*25+DW21*50+DX21*50)))","v":""},null,{"$f":"IF(C21<>\"\",C21,\"\")","v":""},null,null,null,null,null,null,null,null,{"$f":"IF($C21=\"\",\"\", IF(EL21=1,0,IF(EJ21<>0,500,EE21*$AE21/$AH21+EF21/$AH21*5+EG21/$AH21*25+EH21*50+EI21*50)))","v":""},null,{"$f":"IF(C21<>\"\",C21,\"\")","v":""},null,null,null,null,null,null,null,null,{"$f":"IF($C21=\"\",\"\", IF(EW21=1,0,IF(EU21<>0,500,EP21*$AE21/$AH21+EQ21/$AH21*5+ER21/$AH21*25+ES21*50+ET21*50)))","v":""},null,{"$f":"IF(C21<>\"\",C21,\"\")","v":""},null,null,null,null,null,null,null,null,{"$f":"IF($C21=\"\",\"\", IF(FH21=1,0,IF(FF21<>0,500,FA21*$AE21/$AH21+FB21/$AH21*5+FC21/$AH21*25+FD21*50+FE21*50)))","v":""},null,{"$f":"IF(C21<>\"\",C21,\"\")","v":""},null,null,null,null,null,null,null,null,{"$f":"IF($C21=\"\",\"\", IF(FS21=1,0,IF(FQ21<>0,500,FL21*$AE21/$AH21+FM21/$AH21*5+FN21/$AH21*25+FO21*50+FP21*50)))","v":""},null,{"$f":"IF(C21<>\"\",C21,\"\")","v":""},null,null,null,null,null,null,null,null,{"$f":"IF($C21=\"\",\"\", IF(GD21=1,0,IF(GB21<>0,500,FW21*$AE21/$AH21+FX21/$AH21*5+FY21/$AH21*25+FZ21*50+GA21*50)))","v":""},null,{"$f":"IF(C21<>\"\",C21,\"\")","v":""},null,null,null,null,null,null,null,null,{"$f":"IF($C21=\"\",\"\", IF(GO21=1,0,IF(GM21<>0,500,GH21*$AE21/$AH21+GI21/$AH21*5+GJ21/$AH21*25+GK21*50+GL21*50)))","v":""},null,{"$f":"IF(C21<>\"\",C21,\"\")","v":""},null,null,null,null,null,null,null,null,{"$f":"IF($C21=\"\",\"\", IF(GZ21=1,0,IF(GX21<>0,500,GS21*$AE21/$AH21+GT21/$AH21*5+GU21/$AH21*25+GV21*50+GW21*50)))","v":""},null,{"$f":"IF(C21<>\"\",C21,\"\")","v":""},null,null,null,null,null,null,null,null,{"$f":"IF($C21=\"\",\"\", IF(HK21=1,0,IF(HI21<>0,500,HD21*$AE21/$AH21+HE21/$AH21*5+HF21/$AH21*25+HG21*50+HH21*50)))","v":""},null,{"$f":"IF(C21<>\"\",C21,\"\")","v":""},null,null,null,null,null,null,null,null,{"$f":"IF($C21=\"\",\"\", IF(HV21=1,0,IF(HT21<>0,500,HO21*$AE21/$AH21+HP21/$AH21*5+HQ21/$AH21*25+HR21*50+HS21*50)))","v":""},null,{"$f":"IF(C21<>\"\",C21,\"\")","v":""},null,null,null,null,null,null,null,null,{"$f":"IF($C21=\"\",\"\", IF(IG21=1,0,IF(IE21<>0,500,HZ21*$AE21/$AH21+IA21/$AH21*5+IB21/$AH21*25+IC21*50+ID21*50)))","v":""}]
[null,{"$f":"IF(C22=0,\"\",ROW(C22)-4)","v":""},null,null,null,null,null,{"$f":"IF(C22=0,\"\",IF(OR(BB22=1,BC22<>0),BC22,\"-\"))","v":""},{"$f":"IF(C22=0,\"\",IF(OR(BM22=1,BN22<>0),BN22,\"-\"))","v":""},{"$f":"IF(C22=0,\"\",IF(OR(BX22=1,BY22<>0),BY22,\" -\"))","v":""},{"$f":"IF(C22=0,\"\",IF(OR(CJ22<>0,CI22=1),CJ22,\" -\"))","v":""},{"$f":"IF(C22=0,\"\",IF(OR(CU22<>0,CT22=1),CU22,\" -\"))","v":""},{"$f":"IF(C22=0,\"\",IF(OR(DF22<>0,DE22=1),DF22,\" -\"))","v":""},{"$f":"IF(C22=0,\"\",IF(OR(DQ22<>0,DP22=1),DQ22,\" -\"))","v":""},{"$f":"IF(C22=0,\"\",IF(OR(EB22<>0,EA22=1),EB22,\" -\"))","v":""},{"$f":"IF(C22=0,\"\",IF(OR(EM22<>0,EL22=1),EM22,\" -\"))","v":""},{"$f":"IF(C22=0,\"\",IF(OR(EX22<>0,EW22=1),EX22,\" -\"))","v":""},{"$f":"IF(C22=0,\"\",IF(OR(FI22<>0,FH22=1),FI22,\" -\"))","v":""},{"$f":"IF(C22=0,\"\",IF(OR(FT22<>0,FS22=1),FT22,\" -\"))","v":""},{"$f":"IF(C22=0,\"\",IF(OR(GE22<>0,GD22=1),GE22,\" -\"))","v":""},{"$f":"IF(C22=0,\"\",IF(OR(GP22<>0,GO22=1),GP22,\" -\"))","v":""},{"$f":"IF(C22=0,\"\",IF(OR(HA22<>0,GZ22=1),HA22,\" -\"))","v":""},{"$f":"IF(C22=0,\"\",IF(OR(HL22<>0,HK22=1),HL22,\" -\"))","v":""},{"$f":"IF(C22=0,\"\",IF(AJ22<>0,AJ22,\" -\"))","v":""},{"$f":"IF(C22=0,\"\",IF(OR(HW22<>0,HV22=1),HW22,\" -\"))","v":""},{"$f":"IF(C22=0,\"\",IF(OR(IH22<>0,IG22=1),IH22,\" -\"))","v":""},{"$f":"IF(C22=0,\"\",IF(AL22=1,\"DNF\",IF(AL22=2,\"DSQ\",IF(AM22<>1,\"~ \"&ROUND(SUM(H22:X22),3),ROUND(SUM(H22:X22),3)))))","v":""},null,null,{"$f":"IF(C22<>\"\",C22,\"\")","v":""},{"$f":"IF(AD22<>\"\",3,\"\")","v":""},null,null,{"$f":"IF(AD22<>\"\",(AF22/1000*AG22/1000)/2,\"\")","v":""},null,null,null,null,null,null,null,{"$f":"IF(C22=0,99999,IF(AL22>0,9999,SUM(H22:X22)-AN22))","v":99999},{"$f":"IF(C22=0,99999,IF(AL22=1,9999,SUM(Y22:Z22)))","v":99999},null,null,{"$f":"IF(C22<>\"\",C22,\"\")","v":""},null,null,null,null,null,null,null,null,{"$f":"IF($C22=\"\",\"\", IF(BB22=1,0,IF(AZ22<>0,500,AU22*$AE22/$AH22+AV22/$AH22*5+AW22/$AH22*25+AX22*50+AY22*50)))","v":""},null,{"$f":"IF(C22<>\"\",C22,\"\")","v":""},null,null,null,null,null,null,null,null,{"$f":"IF($C22=\"\",\"\", IF(BM22=1,0,IF(BK22<>0,500,BF22*$AE22/$AH22+BG22/$AH22*5+BH22/$AH22*25+BI22*50+BJ22*50)))","v":""},null,{"$f":"IF(C22<>\"\",C22,\"\")","v":""},null,null,null,null,null,null,null,null,{"$f":"IF($C22=\"\",\"\", IF(BX22=1,0,IF(BV22<>0,500,BQ22*$AE22/$AH22+BR22/$AH22*5+BS22/$AH22*25+BT22*50+BU22*50)))","v":""},null,{"$f":"IF(C22<>\"\",C22,\"\")","v":""},null,null,null,null,null,null,null,null,{"$f":"IF($C22=\"\",\"\", IF(CI22=1,0,IF(CG22<>0,500,CB22*$AE22/$AH22+CC22/$AH22*5+CD22/$AH22*25+CE22*50+CF22*50)))","v":""},null,{"$f":"IF(C22<>\"\",C22,\"\")","v":""},null,null,null,null,null,null,null,null,{"$f":"IF($C22=\"\",\"\", IF(CT22=1,0,IF(CR22<>0,500,CM22*$AE22/$AH22+CN22/$AH22*5+CO22/$AH22*25+CP22*50+CQ22*50)))","v":""},null,{"$f":"IF(C22<>\"\",C22,\"\")","v":""},null,null,null,null,null,null,null,null,{"$f":"IF($C22=\"\",\"\", IF(DE22=1,0,IF(DC22<>0,500,CX22*$AE22/$AH22+CY22/$AH22*5+CZ22/$AH22*25+DA22*50+DB22*50)))","v":""},null,{"$f":"IF(C22<>\"\",C22,\"\")","v":""},null,null,null,null,null,null,null,null,{"$f":"IF($C22=\"\",\"\", IF(DP22=1,0,IF(DN22<>0,500,DI22*$AE22/$AH22+DJ22/$AH22*5+DK22/$AH22*25+DL22*50+DM22*50)))","v":""},null,{"$f":"IF(C22<>\"\",C22,\"\")","v":""},null,null,null,null,null,null,null,null,{"$f":"IF($C22=\"\",\"\", IF(EA22=1,0,IF(DY22<>0,500,DT22*$AE22/$AH22+DU22/$AH22*5+DV22/$AH22*25+DW22*50+DX22*50)))","v":""},null,{"$f":"IF(C22<>\"\",C22,\"\")","v":""},null,null,null,null,null,null,null,null,{"$f":"IF($C22=\"\",\"\", IF(EL22=1,0,IF(EJ22<>0,500,EE22*$AE22/$AH22+EF22/$AH22*5+EG22/$AH22*25+EH22*50+EI22*50)))","v":""},null,{"$f":"IF(C22<>\"\",C22,\"\")","v":""},null,null,null,null,null,null,null,null,{"$f":"IF($C22=\"\",\"\", IF(EW22=1,0,IF(EU22<>0,500,EP22*$AE22/$AH22+EQ22/$AH22*5+ER22/$AH22*25+ES22*50+ET22*50)))","v":""},null,{"$f":"IF(C22<>\"\",C22,\"\")","v":""},null,null,null,null,null,null,null,null,{"$f":"IF($C22=\"\",\"\", IF(FH22=1,0,IF(FF22<>0,500,FA22*$AE22/$AH22+FB22/$AH22*5+FC22/$AH22*25+FD22*50+FE22*50)))","v":""},null,{"$f":"IF(C22<>\"\",C22,\"\")","v":""},null,null,null,null,null,null,null,null,{"$f":"IF($C22=\"\",\"\", IF(FS22=1,0,IF(FQ22<>0,500,FL22*$AE22/$AH22+FM22/$AH22*5+FN22/$AH22*25+FO22*50+FP22*50)))","v":""},null,{"$f":"IF(C22<>\"\",C22,\"\")","v":""},null,null,null,null,null,null,null,null,{"$f":"IF($C22=\"\",\"\", IF(GD22=1,0,IF(GB22<>0,500,FW22*$AE22/$AH22+FX22/$AH22*5+FY22/$AH22*25+FZ22*50+GA22*50)))","v":""},null,{"$f":"IF(C22<>\"\",C22,\"\")","v":""},null,null,null,null,null,null,null,null,{"$f":"IF($C22=\"\",\"\", IF(GO22=1,0,IF(GM22<>0,500,GH22*$AE22/$AH22+GI22/$AH22*5+GJ22/$AH22*25+GK22*50+GL22*50)))","v":""},null,{"$f":"IF(C22<>\"\",C22,\"\")","v":""},null,null,null,null,null,null,null,null,{"$f":"IF($C22=\"\",\"\", IF(GZ22=1,0,IF(GX22<>0,500,GS22*$AE22/$AH22+GT22/$AH22*5+GU22/$AH22*25+GV22*50+GW22*50)))","v":""},null,{"$f":"IF(C22<>\"\",C22,\"\")","v":""},null,null,null,null,null,null,null,null,{"$f":"IF($C22=\"\",\"\", IF(HK22=1,0,IF(HI22<>0,500,HD22*$AE22/$AH22+HE22/$AH22*5+HF22/$AH22*25+HG22*50+HH22*50)))","v":""},null,{"$f":"IF(C22<>\"\",C22,\"\")","v":""},null,null,null,null,null,null,null,null,{"$f":"IF($C22=\"\",\"\", IF(HV22=1,0,IF(HT22<>0,500,HO22*$AE22/$AH22+HP22/$AH22*5+HQ22/$AH22*25+HR22*50+HS22*50)))","v":""},null,{"$f":"IF(C22<>\"\",C22,\"\")","v":""},null,null,null,null,null,null,null,null,{"$f":"IF($C22=\"\",\"\", IF(IG22=1,0,IF(IE22<>0,500,HZ22*$AE22/$AH22+IA22/$AH22*5+IB22/$AH22*25+IC22*50+ID22*50)))","v":""}]
[null,{"$f":"IF(C23=0,\"\",ROW(C23)-4)","v":""},null,null,null,null,null,{"$f":"IF(C23=0,\"\",IF(OR(BB23=1,BC23<>0),BC23,\"-\"))","v":""},{"$f":"IF(C23=0,\"\",IF(OR(BM23=1,BN23<>0),BN23,\"-\"))","v":""},{"$f":"IF(C23=0,\"\",IF(OR(BX23=1,BY23<>0),BY23,\" -\"))","v":""},{"$f":"IF(C23=0,\"\",IF(OR(CJ23<>0,CI23=1),CJ23,\" -\"))","v":""},{"$f":"IF(C23=0,\"\",IF(OR(CU23<>0,CT23=1),CU23,\" -\"))","v":""},{"$f":"IF(C23=0,\"\",IF(OR(DF23<>0,DE23=1),DF23,\" -\"))","v":""},{"$f":"IF(C23=0,\"\",IF(OR(DQ23<>0,DP23=1),DQ23,\" -\"))","v":""},{"$f":"IF(C23=0,\"\",IF(OR(EB23<>0,EA23=1),EB23,\" -\"))","v":""},{"$f":"IF(C23=0,\"\",IF(OR(EM23<>0,EL23=1),EM23,\" -\"))","v":""},{"$f":"IF(C23=0,\"\",IF(OR(EX23<>0,EW23=1),EX23,\" -\"))","v":""},{"$f":"IF(C23=0,\"\",IF(OR(FI23<>0,FH23=1),FI23,\" -\"))","v":""},{"$f":"IF(C23=0,\"\",IF(OR(FT23<>0,FS23=1),FT23,\" -\"))","v":""},{"$f":"IF(C23=0,\"\",IF(OR(GE23<>0,GD23=1),GE23,\" -\"))","v":""},{"$f":"IF(C23=0,\"\",IF(OR(GP23<>0,GO23=1),GP23,\" -\"))","v":""},{"$f":"IF(C23=0,\"\",IF(OR(HA23<>0,GZ23=1),HA23,\" -\"))","v":""},{"$f":"IF(C23=0,\"\",IF(OR(HL23<>0,HK23=1),HL23,\" -\"))","v":""},{"$f":"IF(C23=0,\"\",IF(AJ23<>0,AJ23,\" -\"))","v":""},{"$f":"IF(C23=0,\"\",IF(OR(HW23<>0,HV23=1),HW23,\" -\"))","v":""},{"$f":"IF(C23=0,\"\",IF(OR(IH23<>0,IG23=1),IH23,\" -\"))","v":""},{"$f":"IF(C23=0,\"\",IF(AL23=1,\"DNF\",IF(AL23=2,\"DSQ\",IF(AM23<>1,\"~ \"&ROUND(SUM(H23:X23),3),ROUND(SUM(H23:X23),3)))))","v":""},null,null,{"$f":"IF(C23<>\"\",C23,\"\")","v":""},{"$f":"IF(AD23<>\"\",3,\"\")","v":""},null,null,{"$f":"IF(AD23<>\"\",(AF23/1000*AG23/1000)/2,\"\")","v":""},null,null,null,null,null,null,null,{"$f":"IF(C23=0,99999,IF(AL23>0,9999,SUM(H23:X23)-AN23))","v":99999},{"$f":"IF(C23=0,99999,IF(AL23=1,9999,SUM(Y23:Z23)))","v":99999},null,null,{"$f":"IF(C23<>\"\",C23,\"\")","v":""},null,null,null,null,null,null,null,null,{"$f":"IF($C23=\"\",\"\", IF(BB23=1,0,IF(AZ23<>0,500,AU23*$AE23/$AH23+AV23/$AH23*5+AW23/$AH23*25+AX23*50+AY23*50)))","v":""},null,{"$f":"IF(C23<>\"\",C23,\"\")","v":""},null,null,null,null,null,null,null,null,{"$f":"IF($C23=\"\",\"\", IF(BM23=1,0,IF(BK23<>0,500,BF23*$AE23/$AH23+BG23/$AH23*5+BH23/$AH23*25+BI23*50+BJ23*50)))","v":""},null,{"$f":"IF(C23<>\"\",C23,\"\")","v":""},null,null,null,null,null,null,null,null,{"$f":"IF($C23=\"\",\"\", IF(BX23=1,0,IF(BV23<>0,500,BQ23*$AE23/$AH23+BR23/$AH23*5+BS23/$AH23*25+BT23*50+BU23*50)))","v":""},null,{"$f":"IF(C23<>\"\",C23,\"\")","v":""},null,null,null,null,null,null,null,null,{"$f":"IF($C23=\"\",\"\", IF(CI23=1,0,IF(CG23<>0,500,CB23*$AE23/$AH23+CC23/$AH23*5+CD23/$AH23*25+CE23*50+CF23*50)))","v":""},null,{"$f":"IF(C23<>\"\",C23,\"\")","v":""},null,null,null,null,null,null,null,null,{"$f":"IF($C23=\"\",\"\", IF(CT23=1,0,IF(CR23<>0,500,CM23*$AE23/$AH23+CN23/$AH23*5+CO23/$AH23*25+CP23*50+CQ23*50)))","v":""},null,{"$f":"IF(C23<>\"\",C23,\"\")","v":""},null,null,null,null,null,null,null,null,{"$f":"IF($C23=\"\",\"\", IF(DE23=1,0,IF(DC23<>0,500,CX23*$AE23/$AH23+CY23/$AH23*5+CZ23/$AH23*25+DA23*50+DB23*50)))","v":""},null,{"$f":"IF(C23<>\"\",C23,\"\")","v":""},null,null,null,null,null,null,null,null,{"$f":"IF($C23=\"\",\"\", IF(DP23=1,0,IF(DN23<>0,500,DI23*$AE23/$AH23+DJ23/$AH23*5+DK23/$AH23*25+DL23*50+DM23*50)))","v":""},null,{"$f":"IF(C23<>\"\",C23,\"\")","v":""},null,null,null,null,null,null,null,null,{"$f":"IF($C23=\"\",\"\", IF(EA23=1,0,IF(DY23<>0,500,DT23*$AE23/$AH23+DU23/$AH23*5+DV23/$AH23*25+DW23*50+DX23*50)))","v":""},null,{"$f":"IF(C23<>\"\",C23,\"\")","v":""},null,null,null,null,null,null,null,null,{"$f":"IF($C23=\"\",\"\", IF(EL23=1,0,IF(EJ23<>0,500,EE23*$AE23/$AH23+EF23/$AH23*5+EG23/$AH23*25+EH23*50+EI23*50)))","v":""},null,{"$f":"IF(C23<>\"\",C23,\"\")","v":""},null,null,null,null,null,null,null,null,{"$f":"IF($C23=\"\",\"\", IF(EW23=1,0,IF(EU23<>0,500,EP23*$AE23/$AH23+EQ23/$AH23*5+ER23/$AH23*25+ES23*50+ET23*50)))","v":""},null,{"$f":"IF(C23<>\"\",C23,\"\")","v":""},null,null,null,null,null,null,null,null,{"$f":"IF($C23=\"\",\"\", IF(FH23=1,0,IF(FF23<>0,500,FA23*$AE23/$AH23+FB23/$AH23*5+FC23/$AH23*25+FD23*50+FE23*50)))","v":""},null,{"$f":"IF(C23<>\"\",C23,\"\")","v":""},null,null,null,null,null,null,null,null,{"$f":"IF($C23=\"\",\"\", IF(FS23=1,0,IF(FQ23<>0,500,FL23*$AE23/$AH23+FM23/$AH23*5+FN23/$AH23*25+FO23*50+FP23*50)))","v":""},null,{"$f":"IF(C23<>\"\",C23,\"\")","v":""},null,null,null,null,null,null,null,null,{"$f":"IF($C23=\"\",\"\", IF(GD23=1,0,IF(GB23<>0,500,FW23*$AE23/$AH23+FX23/$AH23*5+FY23/$AH23*25+FZ23*50+GA23*50)))","v":""},null,{"$f":"IF(C23<>\"\",C23,\"\")","v":""},null,null,null,null,null,null,null,null,{"$f":"IF($C23=\"\",\"\", IF(GO23=1,0,IF(GM23<>0,500,GH23*$AE23/$AH23+GI23/$AH23*5+GJ23/$AH23*25+GK23*50+GL23*50)))","v":""},null,{"$f":"IF(C23<>\"\",C23,\"\")","v":""},null,null,null,null,null,null,null,null,{"$f":"IF($C23=\"\",\"\", IF(GZ23=1,0,IF(GX23<>0,500,GS23*$AE23/$AH23+GT23/$AH23*5+GU23/$AH23*25+GV23*50+GW23*50)))","v":""},null,{"$f":"IF(C23<>\"\",C23,\"\")","v":""},null,null,null,null,null,null,null,null,{"$f":"IF($C23=\"\",\"\", IF(HK23=1,0,IF(HI23<>0,500,HD23*$AE23/$AH23+HE23/$AH23*5+HF23/$AH23*25+HG23*50+HH23*50)))","v":""},null,{"$f":"IF(C23<>\"\",C23,\"\")","v":""},null,null,null,null,null,null,null,null,{"$f":"IF($C23=\"\",\"\", IF(HV23=1,0,IF(HT23<>0,500,HO23*$AE23/$AH23+HP23/$AH23*5+HQ23/$AH23*25+HR23*50+HS23*50)))","v":""},null,{"$f":"IF(C23<>\"\",C23,\"\")","v":""},null,null,null,null,null,null,null,null,{"$f":"IF($C23=\"\",\"\", IF(IG23=1,0,IF(IE23<>0,500,HZ23*$AE23/$AH23+IA23/$AH23*5+IB23/$AH23*25+IC23*50+ID23*50)))","v":""}]
[null,{"$f":"IF(C24=0,\"\",ROW(C24)-4)","v":""},null,null,null,null,null,{"$f":"IF(C24=0,\"\",IF(OR(BB24=1,BC24<>0),BC24,\"-\"))","v":""},{"$f":"IF(C24=0,\"\",IF(OR(BM24=1,BN24<>0),BN24,\"-\"))","v":""},{"$f":"IF(C24=0,\"\",IF(OR(BX24=1,BY24<>0),BY24,\" -\"))","v":""},{"$f":"IF(C24=0,\"\",IF(OR(CJ24<>0,CI24=1),CJ24,\" -\"))","v":""},{"$f":"IF(C24=0,\"\",IF(OR(CU24<>0,CT24=1),CU24,\" -\"))","v":""},{"$f":"IF(C24=0,\"\",IF(OR(DF24<>0,DE24=1),DF24,\" -\"))","v":""},{"$f":"IF(C24=0,\"\",IF(OR(DQ24<>0,DP24=1),DQ24,\" -\"))","v":""},{"$f":"IF(C24=0,\"\",IF(OR(EB24<>0,EA24=1),EB24,\" -\"))","v":""},{"$f":"IF(C24=0,\"\",IF(OR(EM24<>0,EL24=1),EM24,\" -\"))","v":""},{"$f":"IF(C24=0,\"\",IF(OR(EX24<>0,EW24=1),EX24,\" -\"))","v":""},{"$f":"IF(C24=0,\"\",IF(OR(FI24<>0,FH24=1),FI24,\" -\"))","v":""},{"$f":"IF(C24=0,\"\",IF(OR(FT24<>0,FS24=1),FT24,\" -\"))","v":""},{"$f":"IF(C24=0,\"\",IF(OR(GE24<>0,GD24=1),GE24,\" -\"))","v":""},{"$f":"IF(C24=0,\"\",IF(OR(GP24<>0,GO24=1),GP24,\" -\"))","v":""},{"$f":"IF(C24=0,\"\",IF(OR(HA24<>0,GZ24=1),HA24,\" -\"))","v":""},{"$f":"IF(C24=0,\"\",IF(OR(HL24<>0,HK24=1),HL24,\" -\"))","v":""},{"$f":"IF(C24=0,\"\",IF(AJ24<>0,AJ24,\" -\"))","v":""},{"$f":"IF(C24=0,\"\",IF(OR(HW24<>0,HV24=1),HW24,\" -\"))","v":""},{"$f":"IF(C24=0,\"\",IF(OR(IH24<>0,IG24=1),IH24,\" -\"))","v":""},{"$f":"IF(C24=0,\"\",IF(AL24=1,\"DNF\",IF(AL24=2,\"DSQ\",IF(AM24<>1,\"~ \"&ROUND(SUM(H24:X24),3),ROUND(SUM(H24:X24),3)))))","v":""},null,null,{"$f":"IF(C24<>\"\",C24,\"\")","v":""},{"$f":"IF(AD24<>\"\",3,\"\")","v":""},null,null,{"$f":"IF(AD24<>\"\",(AF24/1000*AG24/1000)/2,\"\")","v":""},null,null,null,null,null,null,null,{"$f":"IF(C24=0,99999,IF(AL24>0,9999,SUM(H24:X24)-AN24))","v":99999},{"$f":"IF(C24=0,99999,IF(AL24=1,9999,SUM(Y24:Z24)))","v":99999},null,null,{"$f":"IF(C24<>\"\",C24,\"\")","v":""},null,null,null,null,null,null,null,null,{"$f":"IF($C24=\"\",\"\", IF(BB24=1,0,IF(AZ24<>0,500,AU24*$AE24/$AH24+AV24/$AH24*5+AW24/$AH24*25+AX24*50+AY24*50)))","v":""},null,{"$f":"IF(C24<>\"\",C24,\"\")","v":""},null,null,null,null,null,null,null,null,{"$f":"IF($C24=\"\",\"\", IF(BM24=1,0,IF(BK24<>0,500,BF24*$AE24/$AH24+BG24/$AH24*5+BH24/$AH24*25+BI24*50+BJ24*50)))","v":""},null,{"$f":"IF(C24<>\"\",C24,\"\")","v":""},null,null,null,null,null,null,null,null,{"$f":"IF($C24=\"\",\"\", IF(BX24=1,0,IF(BV24<>0,500,BQ24*$AE24/$AH24+BR24/$AH24*5+BS24/$AH24*25+BT24*50+BU24*50)))","v":""},null,{"$f":"IF(C24<>\"\",C24,\"\")","v":""},null,null,null,null,null,null,null,null,{"$f":"IF($C24=\"\",\"\", IF(CI24=1,0,IF(CG24<>0,500,CB24*$AE24/$AH24+CC24/$AH24*5+CD24/$AH24*25+CE24*50+CF24*50)))","v":""},null,{"$f":"IF(C24<>\"\",C24,\"\")","v":""},null,null,null,null,null,null,null,null,{"$f":"IF($C24=\"\",\"\", IF(CT24=1,0,IF(CR24<>0,500,CM24*$AE24/$AH24+CN24/$AH24*5+CO24/$AH24*25+CP24*50+CQ24*50)))","v":""},null,{"$f":"IF(C24<>\"\",C24,\"\")","v":""},null,null,null,null,null,null,null,null,{"$f":"IF($C24=\"\",\"\", IF(DE24=1,0,IF(DC24<>0,500,CX24*$AE24/$AH24+CY24/$AH24*5+CZ24/$AH24*25+DA24*50+DB24*50)))","v":""},null,{"$f":"IF(C24<>\"\",C24,\"\")","v":""},null,null,null,null,null,null,null,null,{"$f":"IF($C24=\"\",\"\", IF(DP24=1,0,IF(DN24<>0,500,DI24*$AE24/$AH24+DJ24/$AH24*5+DK24/$AH24*25+DL24*50+DM24*50)))","v":""},null,{"$f":"IF(C24<>\"\",C24,\"\")","v":""},null,null,null,null,null,null,null,null,{"$f":"IF($C24=\"\",\"\", IF(EA24=1,0,IF(DY24<>0,500,DT24*$AE24/$AH24+DU24/$AH24*5+DV24/$AH24*25+DW24*50+DX24*50)))","v":""},null,{"$f":"IF(C24<>\"\",C24,\"\")","v":""},null,null,null,null,null,null,null,null,{"$f":"IF($C24=\"\",\"\", IF(EL24=1,0,IF(EJ24<>0,500,EE24*$AE24/$AH24+EF24/$AH24*5+EG24/$AH24*25+EH24*50+EI24*50)))","v":""},null,{"$f":"IF(C24<>\"\",C24,\"\")","v":""},null,null,null,null,null,null,null,null,{"$f":"IF($C24=\"\",\"\", IF(EW24=1,0,IF(EU24<>0,500,EP24*$AE24/$AH24+EQ24/$AH24*5+ER24/$AH24*25+ES24*50+ET24*50)))","v":""},null,{"$f":"IF(C24<>\"\",C24,\"\")","v":""},null,null,null,null,null,null,null,null,{"$f":"IF($C24=\"\",\"\", IF(FH24=1,0,IF(FF24<>0,500,FA24*$AE24/$AH24+FB24/$AH24*5+FC24/$AH24*25+FD24*50+FE24*50)))","v":""},null,{"$f":"IF(C24<>\"\",C24,\"\")","v":""},null,null,null,null,null,null,null,null,{"$f":"IF($C24=\"\",\"\", IF(FS24=1,0,IF(FQ24<>0,500,FL24*$AE24/$AH24+FM24/$AH24*5+FN24/$AH24*25+FO24*50+FP24*50)))","v":""},null,{"$f":"IF(C24<>\"\",C24,\"\")","v":""},null,null,null,null,null,null,null,null,{"$f":"IF($C24=\"\",\"\", IF(GD24=1,0,IF(GB24<>0,500,FW24*$AE24/$AH24+FX24/$AH24*5+FY24/$AH24*25+FZ24*50+GA24*50)))","v":""},null,{"$f":"IF(C24<>\"\",C24,\"\")","v":""},null,null,null,null,null,null,null,null,{"$f":"IF($C24=\"\",\"\", IF(GO24=1,0,IF(GM24<>0,500,GH24*$AE24/$AH24+GI24/$AH24*5+GJ24/$AH24*25+GK24*50+GL24*50)))","v":""},null,{"$f":"IF(C24<>\"\",C24,\"\")","v":""},null,null,null,null,null,null,null,null,{"$f":"IF($C24=\"\",\"\", IF(GZ24=1,0,IF(GX24<>0,500,GS24*$AE24/$AH24+GT24/$AH24*5+GU24/$AH24*25+GV24*50+GW24*50)))","v":""},null,{"$f":"IF(C24<>\"\",C24,\"\")","v":""},null,null,null,null,null,null,null,null,{"$f":"IF($C24=\"\",\"\", IF(HK24=1,0,IF(HI24<>0,500,HD24*$AE24/$AH24+HE24/$AH24*5+HF24/$AH24*25+HG24*50+HH24*50)))","v":""},null,{"$f":"IF(C24<>\"\",C24,\"\")","v":""},null,null,null,null,null,null,null,null,{"$f":"IF($C24=\"\",\"\", IF(HV24=1,0,IF(HT24<>0,500,HO24*$AE24/$AH24+HP24/$AH24*5+HQ24/$AH24*25+HR24*50+HS24*50)))","v":""},null,{"$f":"IF(C24<>\"\",C24,\"\")","v":""},null,null,null,null,null,null,null,null,{"$f":"IF($C24=\"\",\"\", IF(IG24=1,0,IF(IE24<>0,500,HZ24*$AE24/$AH24+IA24/$AH24*5+IB24/$AH24*25+IC24*50+ID24*50)))","v":""}]
[null,{"$f":"IF(C25=0,\"\",ROW(C25)-4)","v":""},null,null,null,null,null,{"$f":"IF(C25=0,\"\",IF(OR(BB25=1,BC25<>0),BC25,\"-\"))","v":""},{"$f":"IF(C25=0,\"\",IF(OR(BM25=1,BN25<>0),BN25,\"-\"))","v":""},{"$f":"IF(C25=0,\"\",IF(OR(BX25=1,BY25<>0),BY25,\" -\"))","v":""},{"$f":"IF(C25=0,\"\",IF(OR(CJ25<>0,CI25=1),CJ25,\" -\"))","v":""},{"$f":"IF(C25=0,\"\",IF(OR(CU25<>0,CT25=1),CU25,\" -\"))","v":""},{"$f":"IF(C25=0,\"\",IF(OR(DF25<>0,DE25=1),DF25,\" -\"))","v":""},{"$f":"IF(C25=0,\"\",IF(OR(DQ25<>0,DP25=1),DQ25,\" -\"))","v":""},{"$f":"IF(C25=0,\"\",IF(OR(EB25<>0,EA25=1),EB25,\" -\"))","v":""},{"$f":"IF(C25=0,\"\",IF(OR(EM25<>0,EL25=1),EM25,\" -\"))","v":""},{"$f":"IF(C25=0,\"\",IF(OR(EX25<>0,EW25=1),EX25,\" -\"))","v":""},{"$f":"IF(C25=0,\"\",IF(OR(FI25<>0,FH25=1),FI25,\" -\"))","v":""},{"$f":"IF(C25=0,\"\",IF(OR(FT25<>0,FS25=1),FT25,\" -\"))","v":""},{"$f":"IF(C25=0,\"\",IF(OR(GE25<>0,GD25=1),GE25,\" -\"))","v":""},{"$f":"IF(C25=0,\"\",IF(OR(GP25<>0,GO25=1),GP25,\" -\"))","v":""},{"$f":"IF(C25=0,\"\",IF(OR(HA25<>0,GZ25=1),HA25,\" -\"))","v":""},{"$f":"IF(C25=0,\"\",IF(OR(HL25<>0,HK25=1),HL25,\" -\"))","v":""},{"$f":"IF(C25=0,\"\",IF(AJ25<>0,AJ25,\" -\"))","v":""},{"$f":"IF(C25=0,\"\",IF(OR(HW25<>0,HV25=1),HW25,\" -\"))","v":""},{"$f":"IF(C25=0,\"\",IF(OR(IH25<>0,IG25=1),IH25,\" -\"))","v":""},{"$f":"IF(C25=0,\"\",IF(AL25=1,\"DNF\",IF(AL25=2,\"DSQ\",IF(AM25<>1,\"~ \"&ROUND(SUM(H25:X25),3),ROUND(SUM(H25:X25),3)))))","v":""},null,null,{"$f":"IF(C25<>\"\",C25,\"\")","v":""},{"$f":"IF(AD25<>\"\",3,\"\")","v":""},null,null,{"$f":"IF(AD25<>\"\",(AF25/1000*AG25/1000)/2,\"\")","v":""},null,null,null,null,null,null,null,{"$f":"IF(C25=0,99999,IF(AL25>0,9999,SUM(H25:X25)-AN25))","v":99999},{"$f":"IF(C25=0,99999,IF(AL25=1,9999,SUM(Y25:Z25)))","v":99999},null,null,{"$f":"IF(C25<>\"\",C25,\"\")","v":""},null,null,null,null,null,null,null,null,{"$f":"IF($C25=\"\",\"\", IF(BB25=1,0,IF(AZ25<>0,500,AU25*$AE25/$AH25+AV25/$AH25*5+AW25/$AH25*25+AX25*50+AY25*50)))","v":""},null,{"$f":"IF(C25<>\"\",C25,\"\")","v":""},null,null,null,null,null,null,null,null,{"$f":"IF($C25=\"\",\"\", IF(BM25=1,0,IF(BK25<>0,500,BF25*$AE25/$AH25+BG25/$AH25*5+BH25/$AH25*25+BI25*50+BJ25*50)))","v":""},null,{"$f":"IF(C25<>\"\",C25,\"\")","v":""},null,null,null,null,null,null,null,null,{"$f":"IF($C25=\"\",\"\", IF(BX25=1,0,IF(BV25<>0,500,BQ25*$AE25/$AH25+BR25/$AH25*5+BS25/$AH25*25+BT25*50+BU25*50)))","v":""},null,{"$f":"IF(C25<>\"\",C25,\"\")","v":""},null,null,null,null,null,null,null,null,{"$f":"IF($C25=\"\",\"\", IF(CI25=1,0,IF(CG25<>0,500,CB25*$AE25/$AH25+CC25/$AH25*5+CD25/$AH25*25+CE25*50+CF25*50)))","v":""},null,{"$f":"IF(C25<>\"\",C25,\"\")","v":""},null,null,null,null,null,null,null,null,{"$f":"IF($C25=\"\",\"\", IF(CT25=1,0,IF(CR25<>0,500,CM25*$AE25/$AH25+CN25/$AH25*5+CO25/$AH25*25+CP25*50+CQ25*50)))","v":""},null,{"$f":"IF(C25<>\"\",C25,\"\")","v":""},null,null,null,null,null,null,null,null,{"$f":"IF($C25=\"\",\"\", IF(DE25=1,0,IF(DC25<>0,500,CX25*$AE25/$AH25+CY25/$AH25*5+CZ25/$AH25*25+DA25*50+DB25*50)))","v":""},null,{"$f":"IF(C25<>\"\",C25,\"\")","v":""},null,null,null,null,null,null,null,null,{"$f":"IF($C25=\"\",\"\", IF(DP25=1,0,IF(DN25<>0,500,DI25*$AE25/$AH25+DJ25/$AH25*5+DK25/$AH25*25+DL25*50+DM25*50)))","v":""},null,{"$f":"IF(C25<>\"\",C25,\"\")","v":""},null,null,null,null,null,null,null,null,{"$f":"IF($C25=\"\",\"\", IF(EA25=1,0,IF(DY25<>0,500,DT25*$AE25/$AH25+DU25/$AH25*5+DV25/$AH25*25+DW25*50+DX25*50)))","v":""},null,{"$f":"IF(C25<>\"\",C25,\"\")","v":""},null,null,null,null,null,null,null,null,{"$f":"IF($C25=\"\",\"\", IF(EL25=1,0,IF(EJ25<>0,500,EE25*$AE25/$AH25+EF25/$AH25*5+EG25/$AH25*25+EH25*50+EI25*50)))","v":""},null,{"$f":"IF(C25<>\"\",C25,\"\")","v":""},null,null,null,null,null,null,null,null,{"$f":"IF($C25=\"\",\"\", IF(EW25=1,0,IF(EU25<>0,500,EP25*$AE25/$AH25+EQ25/$AH25*5+ER25/$AH25*25+ES25*50+ET25*50)))","v":""},null,{"$f":"IF(C25<>\"\",C25,\"\")","v":""},null,null,null,null,null,null,null,null,{"$f":"IF($C25=\"\",\"\", IF(FH25=1,0,IF(FF25<>0,500,FA25*$AE25/$AH25+FB25/$AH25*5+FC25/$AH25*25+FD25*50+FE25*50)))","v":""},null,{"$f":"IF(C25<>\"\",C25,\"\")","v":""},null,null,null,null,null,null,null,null,{"$f":"IF($C25=\"\",\"\", IF(FS25=1,0,IF(FQ25<>0,500,FL25*$AE25/$AH25+FM25/$AH25*5+FN25/$AH25*25+FO25*50+FP25*50)))","v":""},null,{"$f":"IF(C25<>\"\",C25,\"\")","v":""},null,null,null,null,null,null,null,null,{"$f":"IF($C25=\"\",\"\", IF(GD25=1,0,IF(GB25<>0,500,FW25*$AE25/$AH25+FX25/$AH25*5+FY25/$AH25*25+FZ25*50+GA25*50)))","v":""},null,{"$f":"IF(C25<>\"\",C25,\"\")","v":""},null,null,null,null,null,null,null,null,{"$f":"IF($C25=\"\",\"\", IF(GO25=1,0,IF(GM25<>0,500,GH25*$AE25/$AH25+GI25/$AH25*5+GJ25/$AH25*25+GK25*50+GL25*50)))","v":""},null,{"$f":"IF(C25<>\"\",C25,\"\")","v":""},null,null,null,null,null,null,null,null,{"$f":"IF($C25=\"\",\"\", IF(GZ25=1,0,IF(GX25<>0,500,GS25*$AE25/$AH25+GT25/$AH25*5+GU25/$AH25*25+GV25*50+GW25*50)))","v":""},null,{"$f":"IF(C25<>\"\",C25,\"\")","v":""},null,null,null,null,null,null,null,null,{"$f":"IF($C25=\"\",\"\", IF(HK25=1,0,IF(HI25<>0,500,HD25*$AE25/$AH25+HE25/$AH25*5+HF25/$AH25*25+HG25*50+HH25*50)))","v":""},null,{"$f":"IF(C25<>\"\",C25,\"\")","v":""},null,null,null,null,null,null,null,null,{"$f":"IF($C25=\"\",\"\", IF(HV25=1,0,IF(HT25<>0,500,HO25*$AE25/$AH25+HP25/$AH25*5+HQ25/$AH25*25+HR25*50+HS25*50)))","v":""},null,{"$f":"IF(C25<>\"\",C25,\"\")","v":""},null,null,null,null,null,null,null,null,{"$f":"IF($C25=\"\",\"\", IF(IG25=1,0,IF(IE25<>0,500,HZ25*$AE25/$AH25+IA25/$AH25*5+IB25/$AH25*25+IC25*50+ID25*50)))","v":""}]
[null,{"$f":"IF(C26=0,\"\",ROW(C26)-4)","v":""},null,null,null,null,null,{"$f":"IF(C26=0,\"\",IF(OR(BB26=1,BC26<>0),BC26,\"-\"))","v":""},{"$f":"IF(C26=0,\"\",IF(OR(BM26=1,BN26<>0),BN26,\"-\"))","v":""},{"$f":"IF(C26=0,\"\",IF(OR(BX26=1,BY26<>0),BY26,\" -\"))","v":""},{"$f":"IF(C26=0,\"\",IF(OR(CJ26<>0,CI26=1),CJ26,\" -\"))","v":""},{"$f":"IF(C26=0,\"\",IF(OR(CU26<>0,CT26=1),CU26,\" -\"))","v":""},{"$f":"IF(C26=0,\"\",IF(OR(DF26<>0,DE26=1),DF26,\" -\"))","v":""},{"$f":"IF(C26=0,\"\",IF(OR(DQ26<>0,DP26=1),DQ26,\" -\"))","v":""},{"$f":"IF(C26=0,\"\",IF(OR(EB26<>0,EA26=1),EB26,\" -\"))","v":""},{"$f":"IF(C26=0,\"\",IF(OR(EM26<>0,EL26=1),EM26,\" -\"))","v":""},{"$f":"IF(C26=0,\"\",IF(OR(EX26<>0,EW26=1),EX26,\" -\"))","v":""},{"$f":"IF(C26=0,\"\",IF(OR(FI26<>0,FH26=1),FI26,\" -\"))","v":""},{"$f":"IF(C26=0,\"\",IF(OR(FT26<>0,FS26=1),FT26,\" -\"))","v":""},{"$f":"IF(C26=0,\"\",IF(OR(GE26<>0,GD26=1),GE26,\" -\"))","v":""},{"$f":"IF(C26=0,\"\",IF(OR(GP26<>0,GO26=1),GP26,\" -\"))","v":""},{"$f":"IF(C26=0,\"\",IF(OR(HA26<>0,GZ26=1),HA26,\" -\"))","v":""},{"$f":"IF(C26=0,\"\",IF(OR(HL26<>0,HK26=1),HL26,\" -\"))","v":""},{"$f":"IF(C26=0,\"\",IF(AJ26<>0,AJ26,\" -\"))","v":""},{"$f":"IF(C26=0,\"\",IF(OR(HW26<>0,HV26=1),HW26,\" -\"))","v":""},{"$f":"IF(C26=0,\"\",IF(OR(IH26<>0,IG26=1),IH26,\" -\"))","v":""},{"$f":"IF(C26=0,\"\",IF(AL26=1,\"DNF\",IF(AL26=2,\"DSQ\",IF(AM26<>1,\"~ \"&ROUND(SUM(H26:X26),3),ROUND(SUM(H26:X26),3)))))","v":""},null,null,{"$f":"IF(C26<>\"\",C26,\"\")","v":""},{"$f":"IF(AD26<>\"\",3,\"\")","v":""},null,null,{"$f":"IF(AD26<>\"\",(AF26/1000*AG26/1000)/2,\"\")","v":""},null,null,null,null,null,null,null,{"$f":"IF(C26=0,99999,IF(AL26>0,9999,SUM(H26:X26)-AN26))","v":99999},{"$f":"IF(C26=0,99999,IF(AL26=1,9999,SUM(Y26:Z26)))","v":99999},null,null,{"$f":"IF(C26<>\"\",C26,\"\")","v":""},null,null,null,null,null,null,null,null,{"$f":"IF($C26=\"\",\"\", IF(BB26=1,0,IF(AZ26<>0,500,AU26*$AE26/$AH26+AV26/$AH26*5+AW26/$AH26*25+AX26*50+AY26*50)))","v":""},null,{"$f":"IF(C26<>\"\",C26,\"\")","v":""},null,null,null,null,null,null,null,null,{"$f":"IF($C26=\"\",\"\", IF(BM26=1,0,IF(BK26<>0,500,BF26*$AE26/$AH26+BG26/$AH26*5+BH26/$AH26*25+BI26*50+BJ26*50)))","v":""},null,{"$f":"IF(C26<>\"\",C26,\"\")","v":""},null,null,null,null,null,null,null,null,{"$f":"IF($C26=\"\",\"\", IF(BX26=1,0,IF(BV26<>0,500,BQ26*$AE26/$AH26+BR26/$AH26*5+BS26/$AH26*25+BT26*50+BU26*50)))","v":""},null,{"$f":"IF(C26<>\"\",C26,\"\")","v":""},null,null,null,null,null,null,null,null,{"$f":"IF($C26=\"\",\"\", IF(CI26=1,0,IF(CG26<>0,500,CB26*$AE26/$AH26+CC26/$AH26*5+CD26/$AH26*25+CE26*50+CF26*50)))","v":""},null,{"$f":"IF(C26<>\"\",C26,\"\")","v":""},null,null,null,null,null,null,null,null,{"$f":"IF($C26=\"\",\"\", IF(CT26=1,0,IF(CR26<>0,500,CM26*$AE26/$AH26+CN26/$AH26*5+CO26/$AH26*25+CP26*50+CQ26*50)))","v":""},null,{"$f":"IF(C26<>\"\",C26,\"\")","v":""},null,null,null,null,null,null,null,null,{"$f":"IF($C26=\"\",\"\", IF(DE26=1,0,IF(DC26<>0,500,CX26*$AE26/$AH26+CY26/$AH26*5+CZ26/$AH26*25+DA26*50+DB26*50)))","v":""},null,{"$f":"IF(C26<>\"\",C26,\"\")","v":""},null,null,null,null,null,null,null,null,{"$f":"IF($C26=\"\",\"\", IF(DP26=1,0,IF(DN26<>0,500,DI26*$AE26/$AH26+DJ26/$AH26*5+DK26/$AH26*25+DL26*50+DM26*50)))","v":""},null,{"$f":"IF(C26<>\"\",C26,\"\")","v":""},null,null,null,null,null,null,null,null,{"$f":"IF($C26=\"\",\"\", IF(EA26=1,0,IF(DY26<>0,500,DT26*$AE26/$AH26+DU26/$AH26*5+DV26/$AH26*25+DW26*50+DX26*50)))","v":""},null,{"$f":"IF(C26<>\"\",C26,\"\")","v":""},null,null,null,null,null,null,null,null,{"$f":"IF($C26=\"\",\"\", IF(EL26=1,0,IF(EJ26<>0,500,EE26*$AE26/$AH26+EF26/$AH26*5+EG26/$AH26*25+EH26*50+EI26*50)))","v":""},null,{"$f":"IF(C26<>\"\",C26,\"\")","v":""},null,null,null,null,null,null,null,null,{"$f":"IF($C26=\"\",\"\", IF(EW26=1,0,IF(EU26<>0,500,EP26*$AE26/$AH26+EQ26/$AH26*5+ER26/$AH26*25+ES26*50+ET26*50)))","v":""},null,{"$f":"IF(C26<>\"\",C26,\"\")","v":""},null,null,null,null,null,null,null,null,{"$f":"IF($C26=\"\",\"\", IF(FH26=1,0,IF(FF26<>0,500,FA26*$AE26/$AH26+FB26/$AH26*5+FC26/$AH26*25+FD26*50+FE26*50)))","v":""},null,{"$f":"IF(C26<>\"\",C26,\"\")","v":""},null,null,null,null,null,null,null,null,{"$f":"IF($C26=\"\",\"\", IF(FS26=1,0,IF(FQ26<>0,500,FL26*$AE26/$AH26+FM26/$AH26*5+FN26/$AH26*25+FO26*50+FP26*50)))","v":""},null,{"$f":"IF(C26<>\"\",C26,\"\")","v":""},null,null,null,null,null,null,null,null,{"$f":"IF($C26=\"\",\"\", IF(GD26=1,0,IF(GB26<>0,500,FW26*$AE26/$AH26+FX26/$AH26*5+FY26/$AH26*25+FZ26*50+GA26*50)))","v":""},null,{"$f":"IF(C26<>\"\",C26,\"\")","v":""},null,null,null,null,null,null,null,null,{"$f":"IF($C26=\"\",\"\", IF(GO26=1,0,IF(GM26<>0,500,GH26*$AE26/$AH26+GI26/$AH26*5+GJ26/$AH26*25+GK26*50+GL26*50)))","v":""},null,{"$f":"IF(C26<>\"\",C26,\"\")","v":""},null,null,null,null,null,null,null,null,{"$f":"IF($C26=\"\",\"\", IF(GZ26=1,0,IF(GX26<>0,500,GS26*$AE26/$AH26+GT26/$AH26*5+GU26/$AH26*25+GV26*50+GW26*50)))","v":""},null,{"$f":"IF(C26<>\"\",C26,\"\")","v":""},null,null,null,null,null,null,null,null,{"$f":"IF($C26=\"\",\"\", IF(HK26=1,0,IF(HI26<>0,500,HD26*$AE26/$AH26+HE26/$AH26*5+HF26/$AH26*25+HG26*50+HH26*50)))","v":""},null,{"$f":"IF(C26<>\"\",C26,\"\")","v":""},null,null,null,null,null,null,null,null,{"$f":"IF($C26=\"\",\"\", IF(HV26=1,0,IF(HT26<>0,500,HO26*$AE26/$AH26+HP26/$AH26*5+HQ26/$AH26*25+HR26*50+HS26*50)))","v":""},null,{"$f":"IF(C26<>\"\",C26,\"\")","v":""},null,null,null,null,null,null,null,null,{"$f":"IF($C26=\"\",\"\", IF(IG26=1,0,IF(IE26<>0,500,HZ26*$AE26/$AH26+IA26/$AH26*5+IB26/$AH26*25+IC26*50+ID26*50)))","v":""}]
[null,{"$f":"IF(C27=0,\"\",ROW(C27)-4)","v":""},null,null,null,null,null,{"$f":"IF(C27=0,\"\",IF(OR(BB27=1,BC27<>0),BC27,\"-\"))","v":""},{"$f":"IF(C27=0,\"\",IF(OR(BM27=1,BN27<>0),BN27,\"-\"))","v":""},{"$f":"IF(C27=0,\"\",IF(OR(BX27=1,BY27<>0),BY27,\" -\"))","v":""},{"$f":"IF(C27=0,\"\",IF(OR(CJ27<>0,CI27=1),CJ27,\" -\"))","v":""},{"$f":"IF(C27=0,\"\",IF(OR(CU27<>0,CT27=1),CU27,\" -\"))","v":""},{"$f":"IF(C27=0,\"\",IF(OR(DF27<>0,DE27=1),DF27,\" -\"))","v":""},{"$f":"IF(C27=0,\"\",IF(OR(DQ27<>0,DP27=1),DQ27,\" -\"))","v":""},{"$f":"IF(C27=0,\"\",IF(OR(EB27<>0,EA27=1),EB27,\" -\"))","v":""},{"$f":"IF(C27=0,\"\",IF(OR(EM27<>0,EL27=1),EM27,\" -\"))","v":""},{"$f":"IF(C27=0,\"\",IF(OR(EX27<>0,EW27=1),EX27,\" -\"))","v":""},{"$f":"IF(C27=0,\"\",IF(OR(FI27<>0,FH27=1),FI27,\" -\"))","v":""},{"$f":"IF(C27=0,\"\",IF(OR(FT27<>0,FS27=1),FT27,\" -\"))","v":""},{"$f":"IF(C27=0,\"\",IF(OR(GE27<>0,GD27=1),GE27,\" -\"))","v":""},{"$f":"IF(C27=0,\"\",IF(OR(GP27<>0,GO27=1),GP27,\" -\"))","v":""},{"$f":"IF(C27=0,\"\",IF(OR(HA27<>0,GZ27=1),HA27,\" -\"))","v":""},{"$f":"IF(C27=0,\"\",IF(OR(HL27<>0,HK27=1),HL27,\" -\"))","v":""},{"$f":"IF(C27=0,\"\",IF(AJ27<>0,AJ27,\" -\"))","v":""},{"$f":"IF(C27=0,\"\",IF(OR(HW27<>0,HV27=1),HW27,\" -\"))","v":""},{"$f":"IF(C27=0,\"\",IF(OR(IH27<>0,IG27=1),IH27,\" -\"))","v":""},{"$f":"IF(C27=0,\"\",IF(AL27=1,\"DNF\",IF(AL27=2,\"DSQ\",IF(AM27<>1,\"~ \"&ROUND(SUM(H27:X27),3),ROUND(SUM(H27:X27),3)))))","v":""},null,null,{"$f":"IF(C27<>\"\",C27,\"\")","v":""},{"$f":"IF(AD27<>\"\",3,\"\")","v":""},null,null,{"$f":"IF(AD27<>\"\",(AF27/1000*AG27/1000)/2,\"\")","v":""},null,null,null,null,null,null,null,{"$f":"IF(C27=0,99999,IF(AL27>0,9999,SUM(H27:X27)-AN27))","v":99999},{"$f":"IF(C27=0,99999,IF(AL27=1,9999,SUM(Y27:Z27)))","v":99999},null,null,{"$f":"IF(C27<>\"\",C27,\"\")","v":""},null,null,null,null,null,null,null,null,{"$f":"IF($C27=\"\",\"\", IF(BB27=1,0,IF(AZ27<>0,500,AU27*$AE27/$AH27+AV27/$AH27*5+AW27/$AH27*25+AX27*50+AY27*50)))","v":""},null,{"$f":"IF(C27<>\"\",C27,\"\")","v":""},null,null,null,null,null,null,null,null,{"$f":"IF($C27=\"\",\"\", IF(BM27=1,0,IF(BK27<>0,500,BF27*$AE27/$AH27+BG27/$AH27*5+BH27/$AH27*25+BI27*50+BJ27*50)))","v":""},null,{"$f":"IF(C27<>\"\",C27,\"\")","v":""},null,null,null,null,null,null,null,null,{"$f":"IF($C27=\"\",\"\", IF(BX27=1,0,IF(BV27<>0,500,BQ27*$AE27/$AH27+BR27/$AH27*5+BS27/$AH27*25+BT27*50+BU27*50)))","v":""},null,{"$f":"IF(C27<>\"\",C27,\"\")","v":""},null,null,null,null,null,null,null,null,{"$f":"IF($C27=\"\",\"\", IF(CI27=1,0,IF(CG27<>0,500,CB27*$AE27/$AH27+CC27/$AH27*5+CD27/$AH27*25+CE27*50+CF27*50)))","v":""},null,{"$f":"IF(C27<>\"\",C27,\"\")","v":""},null,null,null,null,null,null,null,null,{"$f":"IF($C27=\"\",\"\", IF(CT27=1,0,IF(CR27<>0,500,CM27*$AE27/$AH27+CN27/$AH27*5+CO27/$AH27*25+CP27*50+CQ27*50)))","v":""},null,{"$f":"IF(C27<>\"\",C27,\"\")","v":""},null,null,null,null,null,null,null,null,{"$f":"IF($C27=\"\",\"\", IF(DE27=1,0,IF(DC27<>0,500,CX27*$AE27/$AH27+CY27/$AH27*5+CZ27/$AH27*25+DA27*50+DB27*50)))","v":""},null,{"$f":"IF(C27<>\"\",C27,\"\")","v":""},null,null,null,null,null,null,null,null,{"$f":"IF($C27=\"\",\"\", IF(DP27=1,0,IF(DN27<>0,500,DI27*$AE27/$AH27+DJ27/$AH27*5+DK27/$AH27*25+DL27*50+DM27*50)))","v":""},null,{"$f":"IF(C27<>\"\",C27,\"\")","v":""},null,null,null,null,null,null,null,null,{"$f":"IF($C27=\"\",\"\", IF(EA27=1,0,IF(DY27<>0,500,DT27*$AE27/$AH27+DU27/$AH27*5+DV27/$AH27*25+DW27*50+DX27*50)))","v":""},null,{"$f":"IF(C27<>\"\",C27,\"\")","v":""},null,null,null,null,null,null,null,null,{"$f":"IF($C27=\"\",\"\", IF(EL27=1,0,IF(EJ27<>0,500,EE27*$AE27/$AH27+EF27/$AH27*5+EG27/$AH27*25+EH27*50+EI27*50)))","v":""},null,{"$f":"IF(C27<>\"\",C27,\"\")","v":""},null,null,null,null,null,null,null,null,{"$f":"IF($C27=\"\",\"\", IF(EW27=1,0,IF(EU27<>0,500,EP27*$AE27/$AH27+EQ27/$AH27*5+ER27/$AH27*25+ES27*50+ET27*50)))","v":""},null,{"$f":"IF(C27<>\"\",C27,\"\")","v":""},null,null,null,null,null,null,null,null,{"$f":"IF($C27=\"\",\"\", IF(FH27=1,0,IF(FF27<>0,500,FA27*$AE27/$AH27+FB27/$AH27*5+FC27/$AH27*25+FD27*50+FE27*50)))","v":""},null,{"$f":"IF(C27<>\"\",C27,\"\")","v":""},null,null,null,null,null,null,null,null,{"$f":"IF($C27=\"\",\"\", IF(FS27=1,0,IF(FQ27<>0,500,FL27*$AE27/$AH27+FM27/$AH27*5+FN27/$AH27*25+FO27*50+FP27*50)))","v":""},null,{"$f":"IF(C27<>\"\",C27,\"\")","v":""},null,null,null,null,null,null,null,null,{"$f":"IF($C27=\"\",\"\", IF(GD27=1,0,IF(GB27<>0,500,FW27*$AE27/$AH27+FX27/$AH27*5+FY27/$AH27*25+FZ27*50+GA27*50)))","v":""},null,{"$f":"IF(C27<>\"\",C27,\"\")","v":""},null,null,null,null,null,null,null,null,{"$f":"IF($C27=\"\",\"\", IF(GO27=1,0,IF(GM27<>0,500,GH27*$AE27/$AH27+GI27/$AH27*5+GJ27/$AH27*25+GK27*50+GL27*50)))","v":""},null,{"$f":"IF(C27<>\"\",C27,\"\")","v":""},null,null,null,null,null,null,null,null,{"$f":"IF($C27=\"\",\"\", IF(GZ27=1,0,IF(GX27<>0,500,GS27*$AE27/$AH27+GT27/$AH27*5+GU27/$AH27*25+GV27*50+GW27*50)))","v":""},null,{"$f":"IF(C27<>\"\",C27,\"\")","v":""},null,null,null,null,null,null,null,null,{"$f":"IF($C27=\"\",\"\", IF(HK27=1,0,IF(HI27<>0,500,HD27*$AE27/$AH27+HE27/$AH27*5+HF27/$AH27*25+HG27*50+HH27*50)))","v":""},null,{"$f":"IF(C27<>\"\",C27,\"\")","v":""},null,null,null,null,null,null,null,null,{"$f":"IF($C27=\"\",\"\", IF(HV27=1,0,IF(HT27<>0,500,HO27*$AE27/$AH27+HP27/$AH27*5+HQ27/$AH27*25+HR27*50+HS27*50)))","v":""},null,{"$f":"IF(C27<>\"\",C27,\"\")","v":""},null,null,null,null,null,null,null,null,{"$f":"IF($C27=\"\",\"\", IF(IG27=1,0,IF(IE27<>0,500,HZ27*$AE27/$AH27+IA27/$AH27*5+IB27/$AH27*25+IC27*50+ID27*50)))","v":""}]
[null,{"$f":"IF(C28=0,\"\",ROW(C28)-4)","v":""},null,null,null,null,null,{"$f":"IF(C28=0,\"\",IF(OR(BB28=1,BC28<>0),BC28,\"-\"))","v":""},{"$f":"IF(C28=0,\"\",IF(OR(BM28=1,BN28<>0),BN28,\"-\"))","v":""},{"$f":"IF(C28=0,\"\",IF(OR(BX28=1,BY28<>0),BY28,\" -\"))","v":""},{"$f":"IF(C28=0,\"\",IF(OR(CJ28<>0,CI28=1),CJ28,\" -\"))","v":""},{"$f":"IF(C28=0,\"\",IF(OR(CU28<>0,CT28=1),CU28,\" -\"))","v":""},{"$f":"IF(C28=0,\"\",IF(OR(DF28<>0,DE28=1),DF28,\" -\"))","v":""},{"$f":"IF(C28=0,\"\",IF(OR(DQ28<>0,DP28=1),DQ28,\" -\"))","v":""},{"$f":"IF(C28=0,\"\",IF(OR(EB28<>0,EA28=1),EB28,\" -\"))","v":""},{"$f":"IF(C28=0,\"\",IF(OR(EM28<>0,EL28=1),EM28,\" -\"))","v":""},{"$f":"IF(C28=0,\"\",IF(OR(EX28<>0,EW28=1),EX28,\" -\"))","v":""},{"$f":"IF(C28=0,\"\",IF(OR(FI28<>0,FH28=1),FI28,\" -\"))","v":""},{"$f":"IF(C28=0,\"\",IF(OR(FT28<>0,FS28=1),FT28,\" -\"))","v":""},{"$f":"IF(C28=0,\"\",IF(OR(GE28<>0,GD28=1),GE28,\" -\"))","v":""},{"$f":"IF(C28=0,\"\",IF(OR(GP28<>0,GO28=1),GP28,\" -\"))","v":""},{"$f":"IF(C28=0,\"\",IF(OR(HA28<>0,GZ28=1),HA28,\" -\"))","v":""},{"$f":"IF(C28=0,\"\",IF(OR(HL28<>0,HK28=1),HL28,\" -\"))","v":""},{"$f":"IF(C28=0,\"\",IF(AJ28<>0,AJ28,\" -\"))","v":""},{"$f":"IF(C28=0,\"\",IF(OR(HW28<>0,HV28=1),HW28,\" -\"))","v":""},{"$f":"IF(C28=0,\"\",IF(OR(IH28<>0,IG28=1),IH28,\" -\"))","v":""},{"$f":"IF(C28=0,\"\",IF(AL28=1,\"DNF\",IF(AL28=2,\"DSQ\",IF(AM28<>1,\"~ \"&ROUND(SUM(H28:X28),3),ROUND(SUM(H28:X28),3)))))","v":""},null,null,{"$f":"IF(C28<>\"\",C28,\"\")","v":""},{"$f":"IF(AD28<>\"\",3,\"\")","v":""},null,null,{"$f":"IF(AD28<>\"\",(AF28/1000*AG28/1000)/2,\"\")","v":""},null,null,null,null,null,null,null,{"$f":"IF(C28=0,99999,IF(AL28>0,9999,SUM(H28:X28)-AN28))","v":99999},{"$f":"IF(C28=0,99999,IF(AL28=1,9999,SUM(Y28:Z28)))","v":99999},null,null,{"$f":"IF(C28<>\"\",C28,\"\")","v":""},null,null,null,null,null,null,null,null,{"$f":"IF($C28=\"\",\"\", IF(BB28=1,0,IF(AZ28<>0,500,AU28*$AE28/$AH28+AV28/$AH28*5+AW28/$AH28*25+AX28*50+AY28*50)))","v":""},null,{"$f":"IF(C28<>\"\",C28,\"\")","v":""},null,null,null,null,null,null,null,null,{"$f":"IF($C28=\"\",\"\", IF(BM28=1,0,IF(BK28<>0,500,BF28*$AE28/$AH28+BG28/$AH28*5+BH28/$AH28*25+BI28*50+BJ28*50)))","v":""},null,{"$f":"IF(C28<>\"\",C28,\"\")","v":""},null,null,null,null,null,null,null,null,{"$f":"IF($C28=\"\",\"\", IF(BX28=1,0,IF(BV28<>0,500,BQ28*$AE28/$AH28+BR28/$AH28*5+BS28/$AH28*25+BT28*50+BU28*50)))","v":""},null,{"$f":"IF(C28<>\"\",C28,\"\")","v":""},null,null,null,null,null,null,null,null,{"$f":"IF($C28=\"\",\"\", IF(CI28=1,0,IF(CG28<>0,500,CB28*$AE28/$AH28+CC28/$AH28*5+CD28/$AH28*25+CE28*50+CF28*50)))","v":""},null,{"$f":"IF(C28<>\"\",C28,\"\")","v":""},null,null,null,null,null,null,null,null,{"$f":"IF($C28=\"\",\"\", IF(CT28=1,0,IF(CR28<>0,500,CM28*$AE28/$AH28+CN28/$AH28*5+CO28/$AH28*25+CP28*50+CQ28*50)))","v":""},null,{"$f":"IF(C28<>\"\",C28,\"\")","v":""},null,null,null,null,null,null,null,null,{"$f":"IF($C28=\"\",\"\", IF(DE28=1,0,IF(DC28<>0,500,CX28*$AE28/$AH28+CY28/$AH28*5+CZ28/$AH28*25+DA28*50+DB28*50)))","v":""},null,{"$f":"IF(C28<>\"\",C28,\"\")","v":""},null,null,null,null,null,null,null,null,{"$f":"IF($C28=\"\",\"\", IF(DP28=1,0,IF(DN28<>0,500,DI28*$AE28/$AH28+DJ28/$AH28*5+DK28/$AH28*25+DL28*50+DM28*50)))","v":""},null,{"$f":"IF(C28<>\"\",C28,\"\")","v":""},null,null,null,null,null,null,null,null,{"$f":"IF($C28=\"\",\"\", IF(EA28=1,0,IF(DY28<>0,500,DT28*$AE28/$AH28+DU28/$AH28*5+DV28/$AH28*25+DW28*50+DX28*50)))","v":""},null,{"$f":"IF(C28<>\"\",C28,\"\")","v":""},null,null,null,null,null,null,null,null,{"$f":"IF($C28=\"\",\"\", IF(EL28=1,0,IF(EJ28<>0,500,EE28*$AE28/$AH28+EF28/$AH28*5+EG28/$AH28*25+EH28*50+EI28*50)))","v":""},null,{"$f":"IF(C28<>\"\",C28,\"\")","v":""},null,null,null,null,null,null,null,null,{"$f":"IF($C28=\"\",\"\", IF(EW28=1,0,IF(EU28<>0,500,EP28*$AE28/$AH28+EQ28/$AH28*5+ER28/$AH28*25+ES28*50+ET28*50)))","v":""},null,{"$f":"IF(C28<>\"\",C28,\"\")","v":""},null,null,null,null,null,null,null,null,{"$f":"IF($C28=\"\",\"\", IF(FH28=1,0,IF(FF28<>0,500,FA28*$AE28/$AH28+FB28/$AH28*5+FC28/$AH28*25+FD28*50+FE28*50)))","v":""},null,{"$f":"IF(C28<>\"\",C28,\"\")","v":""},null,null,null,null,null,null,null,null,{"$f":"IF($C28=\"\",\"\", IF(FS28=1,0,IF(FQ28<>0,500,FL28*$AE28/$AH28+FM28/$AH28*5+FN28/$AH28*25+FO28*50+FP28*50)))","v":""},null,{"$f":"IF(C28<>\"\",C28,\"\")","v":""},null,null,null,null,null,null,null,null,{"$f":"IF($C28=\"\",\"\", IF(GD28=1,0,IF(GB28<>0,500,FW28*$AE28/$AH28+FX28/$AH28*5+FY28/$AH28*25+FZ28*50+GA28*50)))","v":""},null,{"$f":"IF(C28<>\"\",C28,\"\")","v":""},null,null,null,null,null,null,null,null,{"$f":"IF($C28=\"\",\"\", IF(GO28=1,0,IF(GM28<>0,500,GH28*$AE28/$AH28+GI28/$AH28*5+GJ28/$AH28*25+GK28*50+GL28*50)))","v":""},null,{"$f":"IF(C28<>\"\",C28,\"\")","v":""},null,null,null,null,null,null,null,null,{"$f":"IF($C28=\"\",\"\", IF(GZ28=1,0,IF(GX28<>0,500,GS28*$AE28/$AH28+GT28/$AH28*5+GU28/$AH28*25+GV28*50+GW28*50)))","v":""},null,{"$f":"IF(C28<>\"\",C28,\"\")","v":""},null,null,null,null,null,null,null,null,{"$f":"IF($C28=\"\",\"\", IF(HK28=1,0,IF(HI28<>0,500,HD28*$AE28/$AH28+HE28/$AH28*5+HF28/$AH28*25+HG28*50+HH28*50)))","v":""},null,{"$f":"IF(C28<>\"\",C28,\"\")","v":""},null,null,null,null,null,null,null,null,{"$f":"IF($C28=\"\",\"\", IF(HV28=1,0,IF(HT28<>0,500,HO28*$AE28/$AH28+HP28/$AH28*5+HQ28/$AH28*25+HR28*50+HS28*50)))","v":""},null,{"$f":"IF(C28<>\"\",C28,\"\")","v":""},null,null,null,null,null,null,null,null,{"$f":"IF($C28=\"\",\"\", IF(IG28=1,0,IF(IE28<>0,500,HZ28*$AE28/$AH28+IA28/$AH28*5+IB28/$AH28*25+IC28*50+ID28*50)))","v":""}]
[null,{"$f":"IF(C29=0,\"\",ROW(C29)-4)","v":""},null,null,null,null,null,{"$f":"IF(C29=0,\"\",IF(OR(BB29=1,BC29<>0),BC29,\"-\"))","v":""},{"$f":"IF(C29=0,\"\",IF(OR(BM29=1,BN29<>0),BN29,\"-\"))","v":""},{"$f":"IF(C29=0,\"\",IF(OR(BX29=1,BY29<>0),BY29,\" -\"))","v":""},{"$f":"IF(C29=0,\"\",IF(OR(CJ29<>0,CI29=1),CJ29,\" -\"))","v":""},{"$f":"IF(C29=0,\"\",IF(OR(CU29<>0,CT29=1),CU29,\" -\"))","v":""},{"$f":"IF(C29=0,\"\",IF(OR(DF29<>0,DE29=1),DF29,\" -\"))","v":""},{"$f":"IF(C29=0,\"\",IF(OR(DQ29<>0,DP29=1),DQ29,\" -\"))","v":""},{"$f":"IF(C29=0,\"\",IF(OR(EB29<>0,EA29=1),EB29,\" -\"))","v":""},{"$f":"IF(C29=0,\"\",IF(OR(EM29<>0,EL29=1),EM29,\" -\"))","v":""},{"$f":"IF(C29=0,\"\",IF(OR(EX29<>0,EW29=1),EX29,\" -\"))","v":""},{"$f":"IF(C29=0,\"\",IF(OR(FI29<>0,FH29=1),FI29,\" -\"))","v":""},{"$f":"IF(C29=0,\"\",IF(OR(FT29<>0,FS29=1),FT29,\" -\"))","v":""},{"$f":"IF(C29=0,\"\",IF(OR(GE29<>0,GD29=1),GE29,\" -\"))","v":""},{"$f":"IF(C29=0,\"\",IF(OR(GP29<>0,GO29=1),GP29,\" -\"))","v":""},{"$f":"IF(C29=0,\"\",IF(OR(HA29<>0,GZ29=1),HA29,\" -\"))","v":""},{"$f":"IF(C29=0,\"\",IF(OR(HL29<>0,HK29=1),HL29,\" -\"))","v":""},{"$f":"IF(C29=0,\"\",IF(AJ29<>0,AJ29,\" -\"))","v":""},{"$f":"IF(C29=0,\"\",IF(OR(HW29<>0,HV29=1),HW29,\" -\"))","v":""},{"$f":"IF(C29=0,\"\",IF(OR(IH29<>0,IG29=1),IH29,\" -\"))","v":""},{"$f":"IF(C29=0,\"\",IF(AL29=1,\"DNF\",IF(AL29=2,\"DSQ\",IF(AM29<>1,\"~ \"&ROUND(SUM(H29:X29),3),ROUND(SUM(H29:X29),3)))))","v":""},null,null,{"$f":"IF(C29<>\"\",C29,\"\")","v":""},{"$f":"IF(AD29<>\"\",3,\"\")","v":""},null,null,{"$f":"IF(AD29<>\"\",(AF29/1000*AG29/1000)/2,\"\")","v":""},null,null,null,null,null,null,null,{"$f":"IF(C29=0,99999,IF(AL29>0,9999,SUM(H29:X29)-AN29))","v":99999},{"$f":"IF(C29=0,99999,IF(AL29=1,9999,SUM(Y29:Z29)))","v":99999},null,null,{"$f":"IF(C29<>\"\",C29,\"\")","v":""},null,null,null,null,null,null,null,null,{"$f":"IF($C29=\"\",\"\", IF(BB29=1,0,IF(AZ29<>0,500,AU29*$AE29/$AH29+AV29/$AH29*5+AW29/$AH29*25+AX29*50+AY29*50)))","v":""},null,{"$f":"IF(C29<>\"\",C29,\"\")","v":""},null,null,null,null,null,null,null,null,{"$f":"IF($C29=\"\",\"\", IF(BM29=1,0,IF(BK29<>0,500,BF29*$AE29/$AH29+BG29/$AH29*5+BH29/$AH29*25+BI29*50+BJ29*50)))","v":""},null,{"$f":"IF(C29<>\"\",C29,\"\")","v":""},null,null,null,null,null,null,null,null,{"$f":"IF($C29=\"\",\"\", IF(BX29=1,0,IF(BV29<>0,500,BQ29*$AE29/$AH29+BR29/$AH29*5+BS29/$AH29*25+BT29*50+BU29*50)))","v":""},null,{"$f":"IF(C29<>\"\",C29,\"\")","v":""},null,null,null,null,null,null,null,null,{"$f":"IF($C29=\"\",\"\", IF(CI29=1,0,IF(CG29<>0,500,CB29*$AE29/$AH29+CC29/$AH29*5+CD29/$AH29*25+CE29*50+CF29*50)))","v":""},null,{"$f":"IF(C29<>\"\",C29,\"\")","v":""},null,null,null,null,null,null,null,null,{"$f":"IF($C29=\"\",\"\", IF(CT29=1,0,IF(CR29<>0,500,CM29*$AE29/$AH29+CN29/$AH29*5+CO29/$AH29*25+CP29*50+CQ29*50)))","v":""},null,{"$f":"IF(C29<>\"\",C29,\"\")","v":""},null,null,null,null,null,null,null,null,{"$f":"IF($C29=\"\",\"\", IF(DE29=1,0,IF(DC29<>0,500,CX29*$AE29/$AH29+CY29/$AH29*5+CZ29/$AH29*25+DA29*50+DB29*50)))","v":""},null,{"$f":"IF(C29<>\"\",C29,\"\")","v":""},null,null,null,null,null,null,null,null,{"$f":"IF($C29=\"\",\"\", IF(DP29=1,0,IF(DN29<>0,500,DI29*$AE29/$AH29+DJ29/$AH29*5+DK29/$AH29*25+DL29*50+DM29*50)))","v":""},null,{"$f":"IF(C29<>\"\",C29,\"\")","v":""},null,null,null,null,null,null,null,null,{"$f":"IF($C29=\"\",\"\", IF(EA29=1,0,IF(DY29<>0,500,DT29*$AE29/$AH29+DU29/$AH29*5+DV29/$AH29*25+DW29*50+DX29*50)))","v":""},null,{"$f":"IF(C29<>\"\",C29,\"\")","v":""},null,null,null,null,null,null,null,null,{"$f":"IF($C29=\"\",\"\", IF(EL29=1,0,IF(EJ29<>0,500,EE29*$AE29/$AH29+EF29/$AH29*5+EG29/$AH29*25+EH29*50+EI29*50)))","v":""},null,{"$f":"IF(C29<>\"\",C29,\"\")","v":""},null,null,null,null,null,null,null,null,{"$f":"IF($C29=\"\",\"\", IF(EW29=1,0,IF(EU29<>0,500,EP29*$AE29/$AH29+EQ29/$AH29*5+ER29/$AH29*25+ES29*50+ET29*50)))","v":""},null,{"$f":"IF(C29<>\"\",C29,\"\")","v":""},null,null,null,null,null,null,null,null,{"$f":"IF($C29=\"\",\"\", IF(FH29=1,0,IF(FF29<>0,500,FA29*$AE29/$AH29+FB29/$AH29*5+FC29/$AH29*25+FD29*50+FE29*50)))","v":""},null,{"$f":"IF(C29<>\"\",C29,\"\")","v":""},null,null,null,null,null,null,null,null,{"$f":"IF($C29=\"\",\"\", IF(FS29=1,0,IF(FQ29<>0,500,FL29*$AE29/$AH29+FM29/$AH29*5+FN29/$AH29*25+FO29*50+FP29*50)))","v":""},null,{"$f":"IF(C29<>\"\",C29,\"\")","v":""},null,null,null,null,null,null,null,null,{"$f":"IF($C29=\"\",\"\", IF(GD29=1,0,IF(GB29<>0,500,FW29*$AE29/$AH29+FX29/$AH29*5+FY29/$AH29*25+FZ29*50+GA29*50)))","v":""},null,{"$f":"IF(C29<>\"\",C29,\"\")","v":""},null,null,null,null,null,null,null,null,{"$f":"IF($C29=\"\",\"\", IF(GO29=1,0,IF(GM29<>0,500,GH29*$AE29/$AH29+GI29/$AH29*5+GJ29/$AH29*25+GK29*50+GL29*50)))","v":""},null,{"$f":"IF(C29<>\"\",C29,\"\")","v":""},null,null,null,null,null,null,null,null,{"$f":"IF($C29=\"\",\"\", IF(GZ29=1,0,IF(GX29<>0,500,GS29*$AE29/$AH29+GT29/$AH29*5+GU29/$AH29*25+GV29*50+GW29*50)))","v":""},null,{"$f":"IF(C29<>\"\",C29,\"\")","v":""},null,null,null,null,null,null,null,null,{"$f":"IF($C29=\"\",\"\", IF(HK29=1,0,IF(HI29<>0,500,HD29*$AE29/$AH29+HE29/$AH29*5+HF29/$AH29*25+HG29*50+HH29*50)))","v":""},null,{"$f":"IF(C29<>\"\",C29,\"\")","v":""},null,null,null,null,null,null,null,null,{"$f":"IF($C29=\"\",\"\", IF(HV29=1,0,IF(HT29<>0,500,HO29*$AE29/$AH29+HP29/$AH29*5+HQ29/$AH29*25+HR29*50+HS29*50)))","v":""},null,{"$f":"IF(C29<>\"\",C29,\"\")","v":""},null,null,null,null,null,null,null,null,{"$f":"IF($C29=\"\",\"\", IF(IG29=1,0,IF(IE29<>0,500,HZ29*$AE29/$AH29+IA29/$AH29*5+IB29/$AH29*25+IC29*50+ID29*50)))","v":""}]
[null,{"$f":"IF(C30=0,\"\",ROW(C30)-4)","v":""},null,null,null,null,null,{"$f":"IF(C30=0,\"\",IF(OR(BB30=1,BC30<>0),BC30,\"-\"))","v":""},{"$f":"IF(C30=0,\"\",IF(OR(BM30=1,BN30<>0),BN30,\"-\"))","v":""},{"$f":"IF(C30=0,\"\",IF(OR(BX30=1,BY30<>0),BY30,\" -\"))","v":""},{"$f":"IF(C30=0,\"\",IF(OR(CJ30<>0,CI30=1),CJ30,\" -\"))","v":""},{"$f":"IF(C30=0,\"\",IF(OR(CU30<>0,CT30=1),CU30,\" -\"))","v":""},{"$f":"IF(C30=0,\"\",IF(OR(DF30<>0,DE30=1),DF30,\" -\"))","v":""},{"$f":"IF(C30=0,\"\",IF(OR(DQ30<>0,DP30=1),DQ30,\" -\"))","v":""},{"$f":"IF(C30=0,\"\",IF(OR(EB30<>0,EA30=1),EB30,\" -\"))","v":""},{"$f":"IF(C30=0,\"\",IF(OR(EM30<>0,EL30=1),EM30,\" -\"))","v":""},{"$f":"IF(C30=0,\"\",IF(OR(EX30<>0,EW30=1),EX30,\" -\"))","v":""},{"$f":"IF(C30=0,\"\",IF(OR(FI30<>0,FH30=1),FI30,\" -\"))","v":""},{"$f":"IF(C30=0,\"\",IF(OR(FT30<>0,FS30=1),FT30,\" -\"))","v":""},{"$f":"IF(C30=0,\"\",IF(OR(GE30<>0,GD30=1),GE30,\" -\"))","v":""},{"$f":"IF(C30=0,\"\",IF(OR(GP30<>0,GO30=1),GP30,\" -\"))","v":""},{"$f":"IF(C30=0,\"\",IF(OR(HA30<>0,GZ30=1),HA30,\" -\"))","v":""},{"$f":"IF(C30=0,\"\",IF(OR(HL30<>0,HK30=1),HL30,\" -\"))","v":""},{"$f":"IF(C30=0,\"\",IF(AJ30<>0,AJ30,\" -\"))","v":""},{"$f":"IF(C30=0,\"\",IF(OR(HW30<>0,HV30=1),HW30,\" -\"))","v":""},{"$f":"IF(C30=0,\"\",IF(OR(IH30<>0,IG30=1),IH30,\" -\"))","v":""},{"$f":"IF(C30=0,\"\",IF(AL30=1,\"DNF\",IF(AL30=2,\"DSQ\",IF(AM30<>1,\"~ \"&ROUND(SUM(H30:X30),3),ROUND(SUM(H30:X30),3)))))","v":""},null,null,{"$f":"IF(C30<>\"\",C30,\"\")","v":""},{"$f":"IF(AD30<>\"\",3,\"\")","v":""},null,null,{"$f":"IF(AD30<>\"\",(AF30/1000*AG30/1000)/2,\"\")","v":""},null,null,null,null,null,null,null,{"$f":"IF(C30=0,99999,IF(AL30>0,9999,SUM(H30:X30)-AN30))","v":99999},{"$f":"IF(C30=0,99999,IF(AL30=1,9999,SUM(Y30:Z30)))","v":99999},null,null,{"$f":"IF(C30<>\"\",C30,\"\")","v":""},null,null,null,null,null,null,null,null,{"$f":"IF($C30=\"\",\"\", IF(BB30=1,0,IF(AZ30<>0,500,AU30*$AE30/$AH30+AV30/$AH30*5+AW30/$AH30*25+AX30*50+AY30*50)))","v":""},null,{"$f":"IF(C30<>\"\",C30,\"\")","v":""},null,null,null,null,null,null,null,null,{"$f":"IF($C30=\"\",\"\", IF(BM30=1,0,IF(BK30<>0,500,BF30*$AE30/$AH30+BG30/$AH30*5+BH30/$AH30*25+BI30*50+BJ30*50)))","v":""},null,{"$f":"IF(C30<>\"\",C30,\"\")","v":""},null,null,null,null,null,null,null,null,{"$f":"IF($C30=\"\",\"\", IF(BX30=1,0,IF(BV30<>0,500,BQ30*$AE30/$AH30+BR30/$AH30*5+BS30/$AH30*25+BT30*50+BU30*50)))","v":""},null,{"$f":"IF(C30<>\"\",C30,\"\")","v":""},null,null,null,null,null,null,null,null,{"$f":"IF($C30=\"\",\"\", IF(CI30=1,0,IF(CG30<>0,500,CB30*$AE30/$AH30+CC30/$AH30*5+CD30/$AH30*25+CE30*50+CF30*50)))","v":""},null,{"$f":"IF(C30<>\"\",C30,\"\")","v":""},null,null,null,null,null,null,null,null,{"$f":"IF($C30=\"\",\"\", IF(CT30=1,0,IF(CR30<>0,500,CM30*$AE30/$AH30+CN30/$AH30*5+CO30/$AH30*25+CP30*50+CQ30*50)))","v":""},null,{"$f":"IF(C30<>\"\",C30,\"\")","v":""},null,null,null,null,null,null,null,null,{"$f":"IF($C30=\"\",\"\", IF(DE30=1,0,IF(DC30<>0,500,CX30*$AE30/$AH30+CY30/$AH30*5+CZ30/$AH30*25+DA30*50+DB30*50)))","v":""},null,{"$f":"IF(C30<>\"\",C30,\"\")","v":""},null,null,null,null,null,null,null,null,{"$f":"IF($C30=\"\",\"\", IF(DP30=1,0,IF(DN30<>0,500,DI30*$AE30/$AH30+DJ30/$AH30*5+DK30/$AH30*25+DL30*50+DM30*50)))","v":""},null,{"$f":"IF(C30<>\"\",C30,\"\")","v":""},null,null,null,null,null,null,null,null,{"$f":"IF($C30=\"\",\"\", IF(EA30=1,0,IF(DY30<>0,500,DT30*$AE30/$AH30+DU30/$AH30*5+DV30/$AH30*25+DW30*50+DX30*50)))","v":""},null,{"$f":"IF(C30<>\"\",C30,\"\")","v":""},null,null,null,null,null,null,null,null,{"$f":"IF($C30=\"\",\"\", IF(EL30=1,0,IF(EJ30<>0,500,EE30*$AE30/$AH30+EF30/$AH30*5+EG30/$AH30*25+EH30*50+EI30*50)))","v":""},null,{"$f":"IF(C30<>\"\",C30,\"\")","v":""},null,null,null,null,null,null,null,null,{"$f":"IF($C30=\"\",\"\", IF(EW30=1,0,IF(EU30<>0,500,EP30*$AE30/$AH30+EQ30/$AH30*5+ER30/$AH30*25+ES30*50+ET30*50)))","v":""},null,{"$f":"IF(C30<>\"\",C30,\"\")","v":""},null,null,null,null,null,null,null,null,{"$f":"IF($C30=\"\",\"\", IF(FH30=1,0,IF(FF30<>0,500,FA30*$AE30/$AH30+FB30/$AH30*5+FC30/$AH30*25+FD30*50+FE30*50)))","v":""},null,{"$f":"IF(C30<>\"\",C30,\"\")","v":""},null,null,null,null,null,null,null,null,{"$f":"IF($C30=\"\",\"\", IF(FS30=1,0,IF(FQ30<>0,500,FL30*$AE30/$AH30+FM30/$AH30*5+FN30/$AH30*25+FO30*50+FP30*50)))","v":""},null,{"$f":"IF(C30<>\"\",C30,\"\")","v":""},null,null,null,null,null,null,null,null,{"$f":"IF($C30=\"\",\"\", IF(GD30=1,0,IF(GB30<>0,500,FW30*$AE30/$AH30+FX30/$AH30*5+FY30/$AH30*25+FZ30*50+GA30*50)))","v":""},null,{"$f":"IF(C30<>\"\",C30,\"\")","v":""},null,null,null,null,null,null,null,null,{"$f":"IF($C30=\"\",\"\", IF(GO30=1,0,IF(GM30<>0,500,GH30*$AE30/$AH30+GI30/$AH30*5+GJ30/$AH30*25+GK30*50+GL30*50)))","v":""},null,{"$f":"IF(C30<>\"\",C30,\"\")","v":""},null,null,null,null,null,null,null,null,{"$f":"IF($C30=\"\",\"\", IF(GZ30=1,0,IF(GX30<>0,500,GS30*$AE30/$AH30+GT30/$AH30*5+GU30/$AH30*25+GV30*50+GW30*50)))","v":""},null,{"$f":"IF(C30<>\"\",C30,\"\")","v":""},null,null,null,null,null,null,null,null,{"$f":"IF($C30=\"\",\"\", IF(HK30=1,0,IF(HI30<>0,500,HD30*$AE30/$AH30+HE30/$AH30*5+HF30/$AH30*25+HG30*50+HH30*50)))","v":""},null,{"$f":"IF(C30<>\"\",C30,\"\")","v":""},null,null,null,null,null,null,null,null,{"$f":"IF($C30=\"\",\"\", IF(HV30=1,0,IF(HT30<>0,500,HO30*$AE30/$AH30+HP30/$AH30*5+HQ30/$AH30*25+HR30*50+HS30*50)))","v":""},null,{"$f":"IF(C30<>\"\",C30,\"\")","v":""},null,null,null,null,null,null,null,null,{"$f":"IF($C30=\"\",\"\", IF(IG30=1,0,IF(IE30<>0,500,HZ30*$AE30/$AH30+IA30/$AH30*5+IB30/$AH30*25+IC30*50+ID30*50)))","v":""}]
[null,{"$f":"IF(C31=0,\"\",ROW(C31)-4)","v":""},null,null,null,null,null,{"$f":"IF(C31=0,\"\",IF(OR(BB31=1,BC31<>0),BC31,\"-\"))","v":""},{"$f":"IF(C31=0,\"\",IF(OR(BM31=1,BN31<>0),BN31,\"-\"))","v":""},{"$f":"IF(C31=0,\"\",IF(OR(BX31=1,BY31<>0),BY31,\" -\"))","v":""},{"$f":"IF(C31=0,\"\",IF(OR(CJ31<>0,CI31=1),CJ31,\" -\"))","v":""},{"$f":"IF(C31=0,\"\",IF(OR(CU31<>0,CT31=1),CU31,\" -\"))","v":""},{"$f":"IF(C31=0,\"\",IF(OR(DF31<>0,DE31=1),DF31,\" -\"))","v":""},{"$f":"IF(C31=0,\"\",IF(OR(DQ31<>0,DP31=1),DQ31,\" -\"))","v":""},{"$f":"IF(C31=0,\"\",IF(OR(EB31<>0,EA31=1),EB31,\" -\"))","v":""},{"$f":"IF(C31=0,\"\",IF(OR(EM31<>0,EL31=1),EM31,\" -\"))","v":""},{"$f":"IF(C31=0,\"\",IF(OR(EX31<>0,EW31=1),EX31,\" -\"))","v":""},{"$f":"IF(C31=0,\"\",IF(OR(FI31<>0,FH31=1),FI31,\" -\"))","v":""},{"$f":"IF(C31=0,\"\",IF(OR(FT31<>0,FS31=1),FT31,\" -\"))","v":""},{"$f":"IF(C31=0,\"\",IF(OR(GE31<>0,GD31=1),GE31,\" -\"))","v":""},{"$f":"IF(C31=0,\"\",IF(OR(GP31<>0,GO31=1),GP31,\" -\"))","v":""},{"$f":"IF(C31=0,\"\",IF(OR(HA31<>0,GZ31=1),HA31,\" -\"))","v":""},{"$f":"IF(C31=0,\"\",IF(OR(HL31<>0,HK31=1),HL31,\" -\"))","v":""},{"$f":"IF(C31=0,\"\",IF(AJ31<>0,AJ31,\" -\"))","v":""},{"$f":"IF(C31=0,\"\",IF(OR(HW31<>0,HV31=1),HW31,\" -\"))","v":""},{"$f":"IF(C31=0,\"\",IF(OR(IH31<>0,IG31=1),IH31,\" -\"))","v":""},{"$f":"IF(C31=0,\"\",IF(AL31=1,\"DNF\",IF(AL31=2,\"DSQ\",IF(AM31<>1,\"~ \"&ROUND(SUM(H31:X31),3),ROUND(SUM(H31:X31),3)))))","v":""},null,null,{"$f":"IF(C31<>\"\",C31,\"\")","v":""},{"$f":"IF(AD31<>\"\",3,\"\")","v":""},null,null,{"$f":"IF(AD31<>\"\",(AF31/1000*AG31/1000)/2,\"\")","v":""},null,null,null,null,null,null,null,{"$f":"IF(C31=0,99999,IF(AL31>0,9999,SUM(H31:X31)-AN31))","v":99999},{"$f":"IF(C31=0,99999,IF(AL31=1,9999,SUM(Y31:Z31)))","v":99999},null,null,{"$f":"IF(C31<>\"\",C31,\"\")","v":""},null,null,null,null,null,null,null,null,{"$f":"IF($C31=\"\",\"\", IF(BB31=1,0,IF(AZ31<>0,500,AU31*$AE31/$AH31+AV31/$AH31*5+AW31/$AH31*25+AX31*50+AY31*50)))","v":""},null,{"$f":"IF(C31<>\"\",C31,\"\")","v":""},null,null,null,null,null,null,null,null,{"$f":"IF($C31=\"\",\"\", IF(BM31=1,0,IF(BK31<>0,500,BF31*$AE31/$AH31+BG31/$AH31*5+BH31/$AH31*25+BI31*50+BJ31*50)))","v":""},null,{"$f":"IF(C31<>\"\",C31,\"\")","v":""},null,null,null,null,null,null,null,null,{"$f":"IF($C31=\"\",\"\", IF(BX31=1,0,IF(BV31<>0,500,BQ31*$AE31/$AH31+BR31/$AH31*5+BS31/$AH31*25+BT31*50+BU31*50)))","v":""},null,{"$f":"IF(C31<>\"\",C31,\"\")","v":""},null,null,null,null,null,null,null,null,{"$f":"IF($C31=\"\",\"\", IF(CI31=1,0,IF(CG31<>0,500,CB31*$AE31/$AH31+CC31/$AH31*5+CD31/$AH31*25+CE31*50+CF31*50)))","v":""},null,{"$f":"IF(C31<>\"\",C31,\"\")","v":""},null,null,null,null,null,null,null,null,{"$f":"IF($C31=\"\",\"\", IF(CT31=1,0,IF(CR31<>0,500,CM31*$AE31/$AH31+CN31/$AH31*5+CO31/$AH31*25+CP31*50+CQ31*50)))","v":""},null,{"$f":"IF(C31<>\"\",C31,\"\")","v":""},null,null,null,null,null,null,null,null,{"$f":"IF($C31=\"\",\"\", IF(DE31=1,0,IF(DC31<>0,500,CX31*$AE31/$AH31+CY31/$AH31*5+CZ31/$AH31*25+DA31*50+DB31*50)))","v":""},null,{"$f":"IF(C31<>\"\",C31,\"\")","v":""},null,null,null,null,null,null,null,null,{"$f":"IF($C31=\"\",\"\", IF(DP31=1,0,IF(DN31<>0,500,DI31*$AE31/$AH31+DJ31/$AH31*5+DK31/$AH31*25+DL31*50+DM31*50)))","v":""},null,{"$f":"IF(C31<>\"\",C31,\"\")","v":""},null,null,null,null,null,null,null,null,{"$f":"IF($C31=\"\",\"\", IF(EA31=1,0,IF(DY31<>0,500,DT31*$AE31/$AH31+DU31/$AH31*5+DV31/$AH31*25+DW31*50+DX31*50)))","v":""},null,{"$f":"IF(C31<>\"\",C31,\"\")","v":""},null,null,null,null,null,null,null,null,{"$f":"IF($C31=\"\",\"\", IF(EL31=1,0,IF(EJ31<>0,500,EE31*$AE31/$AH31+EF31/$AH31*5+EG31/$AH31*25+EH31*50+EI31*50)))","v":""},null,{"$f":"IF(C31<>\"\",C31,\"\")","v":""},null,null,null,null,null,null,null,null,{"$f":"IF($C31=\"\",\"\", IF(EW31=1,0,IF(EU31<>0,500,EP31*$AE31/$AH31+EQ31/$AH31*5+ER31/$AH31*25+ES31*50+ET31*50)))","v":""},null,{"$f":"IF(C31<>\"\",C31,\"\")","v":""},null,null,null,null,null,null,null,null,{"$f":"IF($C31=\"\",\"\", IF(FH31=1,0,IF(FF31<>0,500,FA31*$AE31/$AH31+FB31/$AH31*5+FC31/$AH31*25+FD31*50+FE31*50)))","v":""},null,{"$f":"IF(C31<>\"\",C31,\"\")","v":""},null,null,null,null,null,null,null,null,{"$f":"IF($C31=\"\",\"\", IF(FS31=1,0,IF(FQ31<>0,500,FL31*$AE31/$AH31+FM31/$AH31*5+FN31/$AH31*25+FO31*50+FP31*50)))","v":""},null,{"$f":"IF(C31<>\"\",C31,\"\")","v":""},null,null,null,null,null,null,null,null,{"$f":"IF($C31=\"\",\"\", IF(GD31=1,0,IF(GB31<>0,500,FW31*$AE31/$AH31+FX31/$AH31*5+FY31/$AH31*25+FZ31*50+GA31*50)))","v":""},null,{"$f":"IF(C31<>\"\",C31,\"\")","v":""},null,null,null,null,null,null,null,null,{"$f":"IF($C31=\"\",\"\", IF(GO31=1,0,IF(GM31<>0,500,GH31*$AE31/$AH31+GI31/$AH31*5+GJ31/$AH31*25+GK31*50+GL31*50)))","v":""},null,{"$f":"IF(C31<>\"\",C31,\"\")","v":""},null,null,null,null,null,null,null,null,{"$f":"IF($C31=\"\",\"\", IF(GZ31=1,0,IF(GX31<>0,500,GS31*$AE31/$AH31+GT31/$AH31*5+GU31/$AH31*25+GV31*50+GW31*50)))","v":""},null,{"$f":"IF(C31<>\"\",C31,\"\")","v":""},null,null,null,null,null,null,null,null,{"$f":"IF($C31=\"\",\"\", IF(HK31=1,0,IF(HI31<>0,500,HD31*$AE31/$AH31+HE31/$AH31*5+HF31/$AH31*25+HG31*50+HH31*50)))","v":""},null,{"$f":"IF(C31<>\"\",C31,\"\")","v":""},null,null,null,null,null,null,null,null,{"$f":"IF($C31=\"\",\"\", IF(HV31=1,0,IF(HT31<>0,500,HO31*$AE31/$AH31+HP31/$AH31*5+HQ31/$AH31*25+HR31*50+HS31*50)))","v":""},null,{"$f":"IF(C31<>\"\",C31,\"\")","v":""},null,null,null,null,null,null,null,null,{"$f":"IF($C31=\"\",\"\", IF(IG31=1,0,IF(IE31<>0,500,HZ31*$AE31/$AH31+IA31/$AH31*5+IB31/$AH31*25+IC31*50+ID31*50)))","v":""}]
[null,{"$f":"IF(C32=0,\"\",ROW(C32)-4)","v":""},null,null,null,null,null,{"$f":"IF(C32=0,\"\",IF(OR(BB32=1,BC32<>0),BC32,\"-\"))","v":""},{"$f":"IF(C32=0,\"\",IF(OR(BM32=1,BN32<>0),BN32,\"-\"))","v":""},{"$f":"IF(C32=0,\"\",IF(OR(BX32=1,BY32<>0),BY32,\" -\"))","v":""},{"$f":"IF(C32=0,\"\",IF(OR(CJ32<>0,CI32=1),CJ32,\" -\"))","v":""},{"$f":"IF(C32=0,\"\",IF(OR(CU32<>0,CT32=1),CU32,\" -\"))","v":""},{"$f":"IF(C32=0,\"\",IF(OR(DF32<>0,DE32=1),DF32,\" -\"))","v":""},{"$f":"IF(C32=0,\"\",IF(OR(DQ32<>0,DP32=1),DQ32,\" -\"))","v":""},{"$f":"IF(C32=0,\"\",IF(OR(EB32<>0,EA32=1),EB32,\" -\"))","v":""},{"$f":"IF(C32=0,\"\",IF(OR(EM32<>0,EL32=1),EM32,\" -\"))","v":""},{"$f":"IF(C32=0,\"\",IF(OR(EX32<>0,EW32=1),EX32,\" -\"))","v":""},{"$f":"IF(C32=0,\"\",IF(OR(FI32<>0,FH32=1),FI32,\" -\"))","v":""},{"$f":"IF(C32=0,\"\",IF(OR(FT32<>0,FS32=1),FT32,\" -\"))","v":""},{"$f":"IF(C32=0,\"\",IF(OR(GE32<>0,GD32=1),GE32,\" -\"))","v":""},{"$f":"IF(C32=0,\"\",IF(OR(GP32<>0,GO32=1),GP32,\" -\"))","v":""},{"$f":"IF(C32=0,\"\",IF(OR(HA32<>0,GZ32=1),HA32,\" -\"))","v":""},{"$f":"IF(C32=0,\"\",IF(OR(HL32<>0,HK32=1),HL32,\" -\"))","v":""},{"$f":"IF(C32=0,\"\",IF(AJ32<>0,AJ32,\" -\"))","v":""},{"$f":"IF(C32=0,\"\",IF(OR(HW32<>0,HV32=1),HW32,\" -\"))","v":""},{"$f":"IF(C32=0,\"\",IF(OR(IH32<>0,IG32=1),IH32,\" -\"))","v":""},{"$f":"IF(C32=0,\"\",IF(AL32=1,\"DNF\",IF(AL32=2,\"DSQ\",IF(AM32<>1,\"~ \"&ROUND(SUM(H32:X32),3),ROUND(SUM(H32:X32),3)))))","v":""},null,null,{"$f":"IF(C32<>\"\",C32,\"\")","v":""},{"$f":"IF(AD32<>\"\",3,\"\")","v":""},null,null,{"$f":"IF(AD32<>\"\",(AF32/1000*AG32/1000)/2,\"\")","v":""},null,null,null,null,null,null,null,{"$f":"IF(C32=0,99999,IF(AL32>0,9999,SUM(H32:X32)-AN32))","v":99999},{"$f":"IF(C32=0,99999,IF(AL32=1,9999,SUM(Y32:Z32)))","v":99999},null,null,{"$f":"IF(C32<>\"\",C32,\"\")","v":""},null,null,null,null,null,null,null,null,{"$f":"IF($C32=\"\",\"\", IF(BB32=1,0,IF(AZ32<>0,500,AU32*$AE32/$AH32+AV32/$AH32*5+AW32/$AH32*25+AX32*50+AY32*50)))","v":""},null,{"$f":"IF(C32<>\"\",C32,\"\")","v":""},null,null,null,null,null,null,null,null,{"$f":"IF($C32=\"\",\"\", IF(BM32=1,0,IF(BK32<>0,500,BF32*$AE32/$AH32+BG32/$AH32*5+BH32/$AH32*25+BI32*50+BJ32*50)))","v":""},null,{"$f":"IF(C32<>\"\",C32,\"\")","v":""},null,null,null,null,null,null,null,null,{"$f":"IF($C32=\"\",\"\", IF(BX32=1,0,IF(BV32<>0,500,BQ32*$AE32/$AH32+BR32/$AH32*5+BS32/$AH32*25+BT32*50+BU32*50)))","v":""},null,{"$f":"IF(C32<>\"\",C32,\"\")","v":""},null,null,null,null,null,null,null,null,{"$f":"IF($C32=\"\",\"\", IF(CI32=1,0,IF(CG32<>0,500,CB32*$AE32/$AH32+CC32/$AH32*5+CD32/$AH32*25+CE32*50+CF32*50)))","v":""},null,{"$f":"IF(C32<>\"\",C32,\"\")","v":""},null,null,null,null,null,null,null,null,{"$f":"IF($C32=\"\",\"\", IF(CT32=1,0,IF(CR32<>0,500,CM32*$AE32/$AH32+CN32/$AH32*5+CO32/$AH32*25+CP32*50+CQ32*50)))","v":""},null,{"$f":"IF(C32<>\"\",C32,\"\")","v":""},null,null,null,null,null,null,null,null,{"$f":"IF($C32=\"\",\"\", IF(DE32=1,0,IF(DC32<>0,500,CX32*$AE32/$AH32+CY32/$AH32*5+CZ32/$AH32*25+DA32*50+DB32*50)))","v":""},null,{"$f":"IF(C32<>\"\",C32,\"\")","v":""},null,null,null,null,null,null,null,null,{"$f":"IF($C32=\"\",\"\", IF(DP32=1,0,IF(DN32<>0,500,DI32*$AE32/$AH32+DJ32/$AH32*5+DK32/$AH32*25+DL32*50+DM32*50)))","v":""},null,{"$f":"IF(C32<>\"\",C32,\"\")","v":""},null,null,null,null,null,null,null,null,{"$f":"IF($C32=\"\",\"\", IF(EA32=1,0,IF(DY32<>0,500,DT32*$AE32/$AH32+DU32/$AH32*5+DV32/$AH32*25+DW32*50+DX32*50)))","v":""},null,{"$f":"IF(C32<>\"\",C32,\"\")","v":""},null,null,null,null,null,null,null,null,{"$f":"IF($C32=\"\",\"\", IF(EL32=1,0,IF(EJ32<>0,500,EE32*$AE32/$AH32+EF32/$AH32*5+EG32/$AH32*25+EH32*50+EI32*50)))","v":""},null,{"$f":"IF(C32<>\"\",C32,\"\")","v":""},null,null,null,null,null,null,null,null,{"$f":"IF($C32=\"\",\"\", IF(EW32=1,0,IF(EU32<>0,500,EP32*$AE32/$AH32+EQ32/$AH32*5+ER32/$AH32*25+ES32*50+ET32*50)))","v":""},null,{"$f":"IF(C32<>\"\",C32,\"\")","v":""},null,null,null,null,null,null,null,null,{"$f":"IF($C32=\"\",\"\", IF(FH32=1,0,IF(FF32<>0,500,FA32*$AE32/$AH32+FB32/$AH32*5+FC32/$AH32*25+FD32*50+FE32*50)))","v":""},null,{"$f":"IF(C32<>\"\",C32,\"\")","v":""},null,null,null,null,null,null,null,null,{"$f":"IF($C32=\"\",\"\", IF(FS32=1,0,IF(FQ32<>0,500,FL32*$AE32/$AH32+FM32/$AH32*5+FN32/$AH32*25+FO32*50+FP32*50)))","v":""},null,{"$f":"IF(C32<>\"\",C32,\"\")","v":""},null,null,null,null,null,null,null,null,{"$f":"IF($C32=\"\",\"\", IF(GD32=1,0,IF(GB32<>0,500,FW32*$AE32/$AH32+FX32/$AH32*5+FY32/$AH32*25+FZ32*50+GA32*50)))","v":""},null,{"$f":"IF(C32<>\"\",C32,\"\")","v":""},null,null,null,null,null,null,null,null,{"$f":"IF($C32=\"\",\"\", IF(GO32=1,0,IF(GM32<>0,500,GH32*$AE32/$AH32+GI32/$AH32*5+GJ32/$AH32*25+GK32*50+GL32*50)))","v":""},null,{"$f":"IF(C32<>\"\",C32,\"\")","v":""},null,null,null,null,null,null,null,null,{"$f":"IF($C32=\"\",\"\", IF(GZ32=1,0,IF(GX32<>0,500,GS32*$AE32/$AH32+GT32/$AH32*5+GU32/$AH32*25+GV32*50+GW32*50)))","v":""},null,{"$f":"IF(C32<>\"\",C32,\"\")","v":""},null,null,null,null,null,null,null,null,{"$f":"IF($C32=\"\",\"\", IF(HK32=1,0,IF(HI32<>0,500,HD32*$AE32/$AH32+HE32/$AH32*5+HF32/$AH32*25+HG32*50+HH32*50)))","v":""},null,{"$f":"IF(C32<>\"\",C32,\"\")","v":""},null,null,null,null,null,null,null,null,{"$f":"IF($C32=\"\",\"\", IF(HV32=1,0,IF(HT32<>0,500,HO32*$AE32/$AH32+HP32/$AH32*5+HQ32/$AH32*25+HR32*50+HS32*50)))","v":""},null,{"$f":"IF(C32<>\"\",C32,\"\")","v":""},null,null,null,null,null,null,null,null,{"$f":"IF($C32=\"\",\"\", IF(IG32=1,0,IF(IE32<>0,500,HZ32*$AE32/$AH32+IA32/$AH32*5+IB32/$AH32*25+IC32*50+ID32*50)))","v":""}]
[null,{"$f":"IF(C33=0,\"\",ROW(C33)-4)","v":""},null,null,null,null,null,{"$f":"IF(C33=0,\"\",IF(OR(BB33=1,BC33<>0),BC33,\"-\"))","v":""},{"$f":"IF(C33=0,\"\",IF(OR(BM33=1,BN33<>0),BN33,\"-\"))","v":""},{"$f":"IF(C33=0,\"\",IF(OR(BX33=1,BY33<>0),BY33,\" -\"))","v":""},{"$f":"IF(C33=0,\"\",IF(OR(CJ33<>0,CI33=1),CJ33,\" -\"))","v":""},{"$f":"IF(C33=0,\"\",IF(OR(CU33<>0,CT33=1),CU33,\" -\"))","v":""},{"$f":"IF(C33=0,\"\",IF(OR(DF33<>0,DE33=1),DF33,\" -\"))","v":""},{"$f":"IF(C33=0,\"\",IF(OR(DQ33<>0,DP33=1),DQ33,\" -\"))","v":""},{"$f":"IF(C33=0,\"\",IF(OR(EB33<>0,EA33=1),EB33,\" -\"))","v":""},{"$f":"IF(C33=0,\"\",IF(OR(EM33<>0,EL33=1),EM33,\" -\"))","v":""},{"$f":"IF(C33=0,\"\",IF(OR(EX33<>0,EW33=1),EX33,\" -\"))","v":""},{"$f":"IF(C33=0,\"\",IF(OR(FI33<>0,FH33=1),FI33,\" -\"))","v":""},{"$f":"IF(C33=0,\"\",IF(OR(FT33<>0,FS33=1),FT33,\" -\"))","v":""},{"$f":"IF(C33=0,\"\",IF(OR(GE33<>0,GD33=1),GE33,\" -\"))","v":""},{"$f":"IF(C33=0,\"\",IF(OR(GP33<>0,GO33=1),GP33,\" -\"))","v":""},{"$f":"IF(C33=0,\"\",IF(OR(HA33<>0,GZ33=1),HA33,\" -\"))","v":""},{"$f":"IF(C33=0,\"\",IF(OR(HL33<>0,HK33=1),HL33,\" -\"))","v":""},{"$f":"IF(C33=0,\"\",IF(AJ33<>0,AJ33,\" -\"))","v":""},{"$f":"IF(C33=0,\"\",IF(OR(HW33<>0,HV33=1),HW33,\" -\"))","v":""},{"$f":"IF(C33=0,\"\",IF(OR(IH33<>0,IG33=1),IH33,\" -\"))","v":""},{"$f":"IF(C33=0,\"\",IF(AL33=1,\"DNF\",IF(AL33=2,\"DSQ\",IF(AM33<>1,\"~ \"&ROUND(SUM(H33:X33),3),ROUND(SUM(H33:X33),3)))))","v":""},null,null,{"$f":"IF(C33<>\"\",C33,\"\")","v":""},{"$f":"IF(AD33<>\"\",3,\"\")","v":""},null,null,{"$f":"IF(AD33<>\"\",(AF33/1000*AG33/1000)/2,\"\")","v":""},null,null,null,null,null,null,null,{"$f":"IF(C33=0,99999,IF(AL33>0,9999,SUM(H33:X33)-AN33))","v":99999},{"$f":"IF(C33=0,99999,IF(AL33=1,9999,SUM(Y33:Z33)))","v":99999},null,null,{"$f":"IF(C33<>\"\",C33,\"\")","v":""},null,null,null,null,null,null,null,null,{"$f":"IF($C33=\"\",\"\", IF(BB33=1,0,IF(AZ33<>0,500,AU33*$AE33/$AH33+AV33/$AH33*5+AW33/$AH33*25+AX33*50+AY33*50)))","v":""},null,{"$f":"IF(C33<>\"\",C33,\"\")","v":""},null,null,null,null,null,null,null,null,{"$f":"IF($C33=\"\",\"\", IF(BM33=1,0,IF(BK33<>0,500,BF33*$AE33/$AH33+BG33/$AH33*5+BH33/$AH33*25+BI33*50+BJ33*50)))","v":""},null,{"$f":"IF(C33<>\"\",C33,\"\")","v":""},null,null,null,null,null,null,null,null,{"$f":"IF($C33=\"\",\"\", IF(BX33=1,0,IF(BV33<>0,500,BQ33*$AE33/$AH33+BR33/$AH33*5+BS33/$AH33*25+BT33*50+BU33*50)))","v":""},null,{"$f":"IF(C33<>\"\",C33,\"\")","v":""},null,null,null,null,null,null,null,null,{"$f":"IF($C33=\"\",\"\", IF(CI33=1,0,IF(CG33<>0,500,CB33*$AE33/$AH33+CC33/$AH33*5+CD33/$AH33*25+CE33*50+CF33*50)))","v":""},null,{"$f":"IF(C33<>\"\",C33,\"\")","v":""},null,null,null,null,null,null,null,null,{"$f":"IF($C33=\"\",\"\", IF(CT33=1,0,IF(CR33<>0,500,CM33*$AE33/$AH33+CN33/$AH33*5+CO33/$AH33*25+CP33*50+CQ33*50)))","v":""},null,{"$f":"IF(C33<>\"\",C33,\"\")","v":""},null,null,null,null,null,null,null,null,{"$f":"IF($C33=\"\",\"\", IF(DE33=1,0,IF(DC33<>0,500,CX33*$AE33/$AH33+CY33/$AH33*5+CZ33/$AH33*25+DA33*50+DB33*50)))","v":""},null,{"$f":"IF(C33<>\"\",C33,\"\")","v":""},null,null,null,null,null,null,null,null,{"$f":"IF($C33=\"\",\"\", IF(DP33=1,0,IF(DN33<>0,500,DI33*$AE33/$AH33+DJ33/$AH33*5+DK33/$AH33*25+DL33*50+DM33*50)))","v":""},null,{"$f":"IF(C33<>\"\",C33,\"\")","v":""},null,null,null,null,null,null,null,null,{"$f":"IF($C33=\"\",\"\", IF(EA33=1,0,IF(DY33<>0,500,DT33*$AE33/$AH33+DU33/$AH33*5+DV33/$AH33*25+DW33*50+DX33*50)))","v":""},null,{"$f":"IF(C33<>\"\",C33,\"\")","v":""},null,null,null,null,null,null,null,null,{"$f":"IF($C33=\"\",\"\", IF(EL33=1,0,IF(EJ33<>0,500,EE33*$AE33/$AH33+EF33/$AH33*5+EG33/$AH33*25+EH33*50+EI33*50)))","v":""},null,{"$f":"IF(C33<>\"\",C33,\"\")","v":""},null,null,null,null,null,null,null,null,{"$f":"IF($C33=\"\",\"\", IF(EW33=1,0,IF(EU33<>0,500,EP33*$AE33/$AH33+EQ33/$AH33*5+ER33/$AH33*25+ES33*50+ET33*50)))","v":""},null,{"$f":"IF(C33<>\"\",C33,\"\")","v":""},null,null,null,null,null,null,null,null,{"$f":"IF($C33=\"\",\"\", IF(FH33=1,0,IF(FF33<>0,500,FA33*$AE33/$AH33+FB33/$AH33*5+FC33/$AH33*25+FD33*50+FE33*50)))","v":""},null,{"$f":"IF(C33<>\"\",C33,\"\")","v":""},null,null,null,null,null,null,null,null,{"$f":"IF($C33=\"\",\"\", IF(FS33=1,0,IF(FQ33<>0,500,FL33*$AE33/$AH33+FM33/$AH33*5+FN33/$AH33*25+FO33*50+FP33*50)))","v":""},null,{"$f":"IF(C33<>\"\",C33,\"\")","v":""},null,null,null,null,null,null,null,null,{"$f":"IF($C33=\"\",\"\", IF(GD33=1,0,IF(GB33<>0,500,FW33*$AE33/$AH33+FX33/$AH33*5+FY33/$AH33*25+FZ33*50+GA33*50)))","v":""},null,{"$f":"IF(C33<>\"\",C33,\"\")","v":""},null,null,null,null,null,null,null,null,{"$f":"IF($C33=\"\",\"\", IF(GO33=1,0,IF(GM33<>0,500,GH33*$AE33/$AH33+GI33/$AH33*5+GJ33/$AH33*25+GK33*50+GL33*50)))","v":""},null,{"$f":"IF(C33<>\"\",C33,\"\")","v":""},null,null,null,null,null,null,null,null,{"$f":"IF($C33=\"\",\"\", IF(GZ33=1,0,IF(GX33<>0,500,GS33*$AE33/$AH33+GT33/$AH33*5+GU33/$AH33*25+GV33*50+GW33*50)))","v":""},null,{"$f":"IF(C33<>\"\",C33,\"\")","v":""},null,null,null,null,null,null,null,null,{"$f":"IF($C33=\"\",\"\", IF(HK33=1,0,IF(HI33<>0,500,HD33*$AE33/$AH33+HE33/$AH33*5+HF33/$AH33*25+HG33*50+HH33*50)))","v":""},null,{"$f":"IF(C33<>\"\",C33,\"\")","v":""},null,null,null,null,null,null,null,null,{"$f":"IF($C33=\"\",\"\", IF(HV33=1,0,IF(HT33<>0,500,HO33*$AE33/$AH33+HP33/$AH33*5+HQ33/$AH33*25+HR33*50+HS33*50)))","v":""},null,{"$f":"IF(C33<>\"\",C33,\"\")","v":""},null,null,null,null,null,null,null,null,{"$f":"IF($C33=\"\",\"\", IF(IG33=1,0,IF(IE33<>0,500,HZ33*$AE33/$AH33+IA33/$AH33*5+IB33/$AH33*25+IC33*50+ID33*50)))","v":""}]
[null,{"$f":"IF(C34=0,\"\",ROW(C34)-4)","v":""},null,null,null,null,null,{"$f":"IF(C34=0,\"\",IF(OR(BB34=1,BC34<>0),BC34,\"-\"))","v":""},{"$f":"IF(C34=0,\"\",IF(OR(BM34=1,BN34<>0),BN34,\"-\"))","v":""},{"$f":"IF(C34=0,\"\",IF(OR(BX34=1,BY34<>0),BY34,\" -\"))","v":""},{"$f":"IF(C34=0,\"\",IF(OR(CJ34<>0,CI34=1),CJ34,\" -\"))","v":""},{"$f":"IF(C34=0,\"\",IF(OR(CU34<>0,CT34=1),CU34,\" -\"))","v":""},{"$f":"IF(C34=0,\"\",IF(OR(DF34<>0,DE34=1),DF34,\" -\"))","v":""},{"$f":"IF(C34=0,\"\",IF(OR(DQ34<>0,DP34=1),DQ34,\" -\"))","v":""},{"$f":"IF(C34=0,\"\",IF(OR(EB34<>0,EA34=1),EB34,\" -\"))","v":""},{"$f":"IF(C34=0,\"\",IF(OR(EM34<>0,EL34=1),EM34,\" -\"))","v":""},{"$f":"IF(C34=0,\"\",IF(OR(EX34<>0,EW34=1),EX34,\" -\"))","v":""},{"$f":"IF(C34=0,\"\",IF(OR(FI34<>0,FH34=1),FI34,\" -\"))","v":""},{"$f":"IF(C34=0,\"\",IF(OR(FT34<>0,FS34=1),FT34,\" -\"))","v":""},{"$f":"IF(C34=0,\"\",IF(OR(GE34<>0,GD34=1),GE34,\" -\"))","v":""},{"$f":"IF(C34=0,\"\",IF(OR(GP34<>0,GO34=1),GP34,\" -\"))","v":""},{"$f":"IF(C34=0,\"\",IF(OR(HA34<>0,GZ34=1),HA34,\" -\"))","v":""},{"$f":"IF(C34=0,\"\",IF(OR(HL34<>0,HK34=1),HL34,\" -\"))","v":""},{"$f":"IF(C34=0,\"\",IF(AJ34<>0,AJ34,\" -\"))","v":""},{"$f":"IF(C34=0,\"\",IF(OR(HW34<>0,HV34=1),HW34,\" -\"))","v":""},{"$f":"IF(C34=0,\"\",IF(OR(IH34<>0,IG34=1),IH34,\" -\"))","v":""},{"$f":"IF(C34=0,\"\",IF(AL34=1,\"DNF\",IF(AL34=2,\"DSQ\",IF(AM34<>1,\"~ \"&ROUND(SUM(H34:X34),3),ROUND(SUM(H34:X34),3)))))","v":""},null,null,{"$f":"IF(C34<>\"\",C34,\"\")","v":""},{"$f":"IF(AD34<>\"\",3,\"\")","v":""},null,null,{"$f":"IF(AD34<>\"\",(AF34/1000*AG34/1000)/2,\"\")","v":""},null,null,null,null,null,null,null,{"$f":"IF(C34=0,99999,IF(AL34>0,9999,SUM(H34:X34)-AN34))","v":99999},{"$f":"IF(C34=0,99999,IF(AL34=1,9999,SUM(Y34:Z34)))","v":99999},null,null,{"$f":"IF(C34<>\"\",C34,\"\")","v":""},null,null,null,null,null,null,null,null,{"$f":"IF($C34=\"\",\"\", IF(BB34=1,0,IF(AZ34<>0,500,AU34*$AE34/$AH34+AV34/$AH34*5+AW34/$AH34*25+AX34*50+AY34*50)))","v":""},null,{"$f":"IF(C34<>\"\",C34,\"\")","v":""},null,null,null,null,null,null,null,null,{"$f":"IF($C34=\"\",\"\", IF(BM34=1,0,IF(BK34<>0,500,BF34*$AE34/$AH34+BG34/$AH34*5+BH34/$AH34*25+BI34*50+BJ34*50)))","v":""},null,{"$f":"IF(C34<>\"\",C34,\"\")","v":""},null,null,null,null,null,null,null,null,{"$f":"IF($C34=\"\",\"\", IF(BX34=1,0,IF(BV34<>0,500,BQ34*$AE34/$AH34+BR34/$AH34*5+BS34/$AH34*25+BT34*50+BU34*50)))","v":""},null,{"$f":"IF(C34<>\"\",C34,\"\")","v":""},null,null,null,null,null,null,null,null,{"$f":"IF($C34=\"\",\"\", IF(CI34=1,0,IF(CG34<>0,500,CB34*$AE34/$AH34+CC34/$AH34*5+CD34/$AH34*25+CE34*50+CF34*50)))","v":""},null,{"$f":"IF(C34<>\"\",C34,\"\")","v":""},null,null,null,null,null,null,null,null,{"$f":"IF($C34=\"\",\"\", IF(CT34=1,0,IF(CR34<>0,500,CM34*$AE34/$AH34+CN34/$AH34*5+CO34/$AH34*25+CP34*50+CQ34*50)))","v":""},null,{"$f":"IF(C34<>\"\",C34,\"\")","v":""},null,null,null,null,null,null,null,null,{"$f":"IF($C34=\"\",\"\", IF(DE34=1,0,IF(DC34<>0,500,CX34*$AE34/$AH34+CY34/$AH34*5+CZ34/$AH34*25+DA34*50+DB34*50)))","v":""},null,{"$f":"IF(C34<>\"\",C34,\"\")","v":""},null,null,null,null,null,null,null,null,{"$f":"IF($C34=\"\",\"\", IF(DP34=1,0,IF(DN34<>0,500,DI34*$AE34/$AH34+DJ34/$AH34*5+DK34/$AH34*25+DL34*50+DM34*50)))","v":""},null,{"$f":"IF(C34<>\"\",C34,\"\")","v":""},null,null,null,null,null,null,null,null,{"$f":"IF($C34=\"\",\"\", IF(EA34=1,0,IF(DY34<>0,500,DT34*$AE34/$AH34+DU34/$AH34*5+DV34/$AH34*25+DW34*50+DX34*50)))","v":""},null,{"$f":"IF(C34<>\"\",C34,\"\")","v":""},null,null,null,null,null,null,null,null,{"$f":"IF($C34=\"\",\"\", IF(EL34=1,0,IF(EJ34<>0,500,EE34*$AE34/$AH34+EF34/$AH34*5+EG34/$AH34*25+EH34*50+EI34*50)))","v":""},null,{"$f":"IF(C34<>\"\",C34,\"\")","v":""},null,null,null,null,null,null,null,null,{"$f":"IF($C34=\"\",\"\", IF(EW34=1,0,IF(EU34<>0,500,EP34*$AE34/$AH34+EQ34/$AH34*5+ER34/$AH34*25+ES34*50+ET34*50)))","v":""},null,{"$f":"IF(C34<>\"\",C34,\"\")","v":""},null,null,null,null,null,null,null,null,{"$f":"IF($C34=\"\",\"\", IF(FH34=1,0,IF(FF34<>0,500,FA34*$AE34/$AH34+FB34/$AH34*5+FC34/$AH34*25+FD34*50+FE34*50)))","v":""},null,{"$f":"IF(C34<>\"\",C34,\"\")","v":""},null,null,null,null,null,null,null,null,{"$f":"IF($C34=\"\",\"\", IF(FS34=1,0,IF(FQ34<>0,500,FL34*$AE34/$AH34+FM34/$AH34*5+FN34/$AH34*25+FO34*50+FP34*50)))","v":""},null,{"$f":"IF(C34<>\"\",C34,\"\")","v":""},null,null,null,null,null,null,null,null,{"$f":"IF($C34=\"\",\"\", IF(GD34=1,0,IF(GB34<>0,500,FW34*$AE34/$AH34+FX34/$AH34*5+FY34/$AH34*25+FZ34*50+GA34*50)))","v":""},null,{"$f":"IF(C34<>\"\",C34,\"\")","v":""},null,null,null,null,null,null,null,null,{"$f":"IF($C34=\"\",\"\", IF(GO34=1,0,IF(GM34<>0,500,GH34*$AE34/$AH34+GI34/$AH34*5+GJ34/$AH34*25+GK34*50+GL34*50)))","v":""},null,{"$f":"IF(C34<>\"\",C34,\"\")","v":""},null,null,null,null,null,null,null,null,{"$f":"IF($C34=\"\",\"\", IF(GZ34=1,0,IF(GX34<>0,500,GS34*$AE34/$AH34+GT34/$AH34*5+GU34/$AH34*25+GV34*50+GW34*50)))","v":""},null,{"$f":"IF(C34<>\"\",C34,\"\")","v":""},null,null,null,null,null,null,null,null,{"$f":"IF($C34=\"\",\"\", IF(HK34=1,0,IF(HI34<>0,500,HD34*$AE34/$AH34+HE34/$AH34*5+HF34/$AH34*25+HG34*50+HH34*50)))","v":""},null,{"$f":"IF(C34<>\"\",C34,\"\")","v":""},null,null,null,null,null,null,null,null,{"$f":"IF($C34=\"\",\"\", IF(HV34=1,0,IF(HT34<>0,500,HO34*$AE34/$AH34+HP34/$AH34*5+HQ34/$AH34*25+HR34*50+HS34*50)))","v":""},null,{"$f":"IF(C34<>\"\",C34,\"\")","v":""},null,null,null,null,null,null,null,null,{"$f":"IF($C34=\"\",\"\", IF(IG34=1,0,IF(IE34<>0,500,HZ34*$AE34/$AH34+IA34/$AH34*5+IB34/$AH34*25+IC34*50+ID34*50)))","v":""}]
[null,{"$f":"IF(C35=0,\"\",ROW(C35)-4)","v":""},null,null,null,null,null,{"$f":"IF(C35=0,\"\",IF(OR(BB35=1,BC35<>0),BC35,\"-\"))","v":""},{"$f":"IF(C35=0,\"\",IF(OR(BM35=1,BN35<>0),BN35,\"-\"))","v":""},{"$f":"IF(C35=0,\"\",IF(OR(BX35=1,BY35<>0),BY35,\" -\"))","v":""},{"$f":"IF(C35=0,\"\",IF(OR(CJ35<>0,CI35=1),CJ35,\" -\"))","v":""},{"$f":"IF(C35=0,\"\",IF(OR(CU35<>0,CT35=1),CU35,\" -\"))","v":""},{"$f":"IF(C35=0,\"\",IF(OR(DF35<>0,DE35=1),DF35,\" -\"))","v":""},{"$f":"IF(C35=0,\"\",IF(OR(DQ35<>0,DP35=1),DQ35,\" -\"))","v":""},{"$f":"IF(C35=0,\"\",IF(OR(EB35<>0,EA35=1),EB35,\" -\"))","v":""},{"$f":"IF(C35=0,\"\",IF(OR(EM35<>0,EL35=1),EM35,\" -\"))","v":""},{"$f":"IF(C35=0,\"\",IF(OR(EX35<>0,EW35=1),EX35,\" -\"))","v":""},{"$f":"IF(C35=0,\"\",IF(OR(FI35<>0,FH35=1),FI35,\" -\"))","v":""},{"$f":"IF(C35=0,\"\",IF(OR(FT35<>0,FS35=1),FT35,\" -\"))","v":""},{"$f":"IF(C35=0,\"\",IF(OR(GE35<>0,GD35=1),GE35,\" -\"))","v":""},{"$f":"IF(C35=0,\"\",IF(OR(GP35<>0,GO35=1),GP35,\" -\"))","v":""},{"$f":"IF(C35=0,\"\",IF(OR(HA35<>0,GZ35=1),HA35,\" -\"))","v":""},{"$f":"IF(C35=0,\"\",IF(OR(HL35<>0,HK35=1),HL35,\" -\"))","v":""},{"$f":"IF(C35=0,\"\",IF(AJ35<>0,AJ35,\" -\"))","v":""},{"$f":"IF(C35=0,\"\",IF(OR(HW35<>0,HV35=1),HW35,\" -\"))","v":""},{"$f":"IF(C35=0,\"\",IF(OR(IH35<>0,IG35=1),IH35,\" -\"))","v":""},{"$f":"IF(C35=0,\"\",IF(AL35=1,\"DNF\",IF(AL35=2,\"DSQ\",IF(AM35<>1,\"~ \"&ROUND(SUM(H35:X35),3),ROUND(SUM(H35:X35),3)))))","v":""},null,null,{"$f":"IF(C35<>\"\",C35,\"\")","v":""},{"$f":"IF(AD35<>\"\",3,\"\")","v":""},null,null,{"$f":"IF(AD35<>\"\",(AF35/1000*AG35/1000)/2,\"\")","v":""},null,null,null,null,null,null,null,{"$f":"IF(C35=0,99999,IF(AL35>0,9999,SUM(H35:X35)-AN35))","v":99999},{"$f":"IF(C35=0,99999,IF(AL35=1,9999,SUM(Y35:Z35)))","v":99999},null,null,{"$f":"IF(C35<>\"\",C35,\"\")","v":""},null,null,null,null,null,null,null,null,{"$f":"IF($C35=\"\",\"\", IF(BB35=1,0,IF(AZ35<>0,500,AU35*$AE35/$AH35+AV35/$AH35*5+AW35/$AH35*25+AX35*50+AY35*50)))","v":""},null,{"$f":"IF(C35<>\"\",C35,\"\")","v":""},null,null,null,null,null,null,null,null,{"$f":"IF($C35=\"\",\"\", IF(BM35=1,0,IF(BK35<>0,500,BF35*$AE35/$AH35+BG35/$AH35*5+BH35/$AH35*25+BI35*50+BJ35*50)))","v":""},null,{"$f":"IF(C35<>\"\",C35,\"\")","v":""},null,null,null,null,null,null,null,null,{"$f":"IF($C35=\"\",\"\", IF(BX35=1,0,IF(BV35<>0,500,BQ35*$AE35/$AH35+BR35/$AH35*5+BS35/$AH35*25+BT35*50+BU35*50)))","v":""},null,{"$f":"IF(C35<>\"\",C35,\"\")","v":""},null,null,null,null,null,null,null,null,{"$f":"IF($C35=\"\",\"\", IF(CI35=1,0,IF(CG35<>0,500,CB35*$AE35/$AH35+CC35/$AH35*5+CD35/$AH35*25+CE35*50+CF35*50)))","v":""},null,{"$f":"IF(C35<>\"\",C35,\"\")","v":""},null,null,null,null,null,null,null,null,{"$f":"IF($C35=\"\",\"\", IF(CT35=1,0,IF(CR35<>0,500,CM35*$AE35/$AH35+CN35/$AH35*5+CO35/$AH35*25+CP35*50+CQ35*50)))","v":""},null,{"$f":"IF(C35<>\"\",C35,\"\")","v":""},null,null,null,null,null,null,null,null,{"$f":"IF($C35=\"\",\"\", IF(DE35=1,0,IF(DC35<>0,500,CX35*$AE35/$AH35+CY35/$AH35*5+CZ35/$AH35*25+DA35*50+DB35*50)))","v":""},null,{"$f":"IF(C35<>\"\",C35,\"\")","v":""},null,null,null,null,null,null,null,null,{"$f":"IF($C35=\"\",\"\", IF(DP35=1,0,IF(DN35<>0,500,DI35*$AE35/$AH35+DJ35/$AH35*5+DK35/$AH35*25+DL35*50+DM35*50)))","v":""},null,{"$f":"IF(C35<>\"\",C35,\"\")","v":""},null,null,null,null,null,null,null,null,{"$f":"IF($C35=\"\",\"\", IF(EA35=1,0,IF(DY35<>0,500,DT35*$AE35/$AH35+DU35/$AH35*5+DV35/$AH35*25+DW35*50+DX35*50)))","v":""},null,{"$f":"IF(C35<>\"\",C35,\"\")","v":""},null,null,null,null,null,null,null,null,{"$f":"IF($C35=\"\",\"\", IF(EL35=1,0,IF(EJ35<>0,500,EE35*$AE35/$AH35+EF35/$AH35*5+EG35/$AH35*25+EH35*50+EI35*50)))","v":""},null,{"$f":"IF(C35<>\"\",C35,\"\")","v":""},null,null,null,null,null,null,null,null,{"$f":"IF($C35=\"\",\"\", IF(EW35=1,0,IF(EU35<>0,500,EP35*$AE35/$AH35+EQ35/$AH35*5+ER35/$AH35*25+ES35*50+ET35*50)))","v":""},null,{"$f":"IF(C35<>\"\",C35,\"\")","v":""},null,null,null,null,null,null,null,null,{"$f":"IF($C35=\"\",\"\", IF(FH35=1,0,IF(FF35<>0,500,FA35*$AE35/$AH35+FB35/$AH35*5+FC35/$AH35*25+FD35*50+FE35*50)))","v":""},null,{"$f":"IF(C35<>\"\",C35,\"\")","v":""},null,null,null,null,null,null,null,null,{"$f":"IF($C35=\"\",\"\", IF(FS35=1,0,IF(FQ35<>0,500,FL35*$AE35/$AH35+FM35/$AH35*5+FN35/$AH35*25+FO35*50+FP35*50)))","v":""},null,{"$f":"IF(C35<>\"\",C35,\"\")","v":""},null,null,null,null,null,null,null,null,{"$f":"IF($C35=\"\",\"\", IF(GD35=1,0,IF(GB35<>0,500,FW35*$AE35/$AH35+FX35/$AH35*5+FY35/$AH35*25+FZ35*50+GA35*50)))","v":""},null,{"$f":"IF(C35<>\"\",C35,\"\")","v":""},null,null,null,null,null,null,null,null,{"$f":"IF($C35=\"\",\"\", IF(GO35=1,0,IF(GM35<>0,500,GH35*$AE35/$AH35+GI35/$AH35*5+GJ35/$AH35*25+GK35*50+GL35*50)))","v":""},null,{"$f":"IF(C35<>\"\",C35,\"\")","v":""},null,null,null,null,null,null,null,null,{"$f":"IF($C35=\"\",\"\", IF(GZ35=1,0,IF(GX35<>0,500,GS35*$AE35/$AH35+GT35/$AH35*5+GU35/$AH35*25+GV35*50+GW35*50)))","v":""},null,{"$f":"IF(C35<>\"\",C35,\"\")","v":""},null,null,null,null,null,null,null,null,{"$f":"IF($C35=\"\",\"\", IF(HK35=1,0,IF(HI35<>0,500,HD35*$AE35/$AH35+HE35/$AH35*5+HF35/$AH35*25+HG35*50+HH35*50)))","v":""},null,{"$f":"IF(C35<>\"\",C35,\"\")","v":""},null,null,null,null,null,null,null,null,{"$f":"IF($C35=\"\",\"\", IF(HV35=1,0,IF(HT35<>0,500,HO35*$AE35/$AH35+HP35/$AH35*5+HQ35/$AH35*25+HR35*50+HS35*50)))","v":""},null,{"$f":"IF(C35<>\"\",C35,\"\")","v":""},null,null,null,null,null,null,null,null,{"$f":"IF($C35=\"\",\"\", IF(IG35=1,0,IF(IE35<>0,500,HZ35*$AE35/$AH35+IA35/$AH35*5+IB35/$AH35*25+IC35*50+ID35*50)))","v":""}]
[null,{"$f":"IF(C36=0,\"\",ROW(C36)-4)","v":""},null,null,null,null,null,{"$f":"IF(C36=0,\"\",IF(OR(BB36=1,BC36<>0),BC36,\"-\"))","v":""},{"$f":"IF(C36=0,\"\",IF(OR(BM36=1,BN36<>0),BN36,\"-\"))","v":""},{"$f":"IF(C36=0,\"\",IF(OR(BX36=1,BY36<>0),BY36,\" -\"))","v":""},{"$f":"IF(C36=0,\"\",IF(OR(CJ36<>0,CI36=1),CJ36,\" -\"))","v":""},{"$f":"IF(C36=0,\"\",IF(OR(CU36<>0,CT36=1),CU36,\" -\"))","v":""},{"$f":"IF(C36=0,\"\",IF(OR(DF36<>0,DE36=1),DF36,\" -\"))","v":""},{"$f":"IF(C36=0,\"\",IF(OR(DQ36<>0,DP36=1),DQ36,\" -\"))","v":""},{"$f":"IF(C36=0,\"\",IF(OR(EB36<>0,EA36=1),EB36,\" -\"))","v":""},{"$f":"IF(C36=0,\"\",IF(OR(EM36<>0,EL36=1),EM36,\" -\"))","v":""},{"$f":"IF(C36=0,\"\",IF(OR(EX36<>0,EW36=1),EX36,\" -\"))","v":""},{"$f":"IF(C36=0,\"\",IF(OR(FI36<>0,FH36=1),FI36,\" -\"))","v":""},{"$f":"IF(C36=0,\"\",IF(OR(FT36<>0,FS36=1),FT36,\" -\"))","v":""},{"$f":"IF(C36=0,\"\",IF(OR(GE36<>0,GD36=1),GE36,\" -\"))","v":""},{"$f":"IF(C36=0,\"\",IF(OR(GP36<>0,GO36=1),GP36,\" -\"))","v":""},{"$f":"IF(C36=0,\"\",IF(OR(HA36<>0,GZ36=1),HA36,\" -\"))","v":""},{"$f":"IF(C36=0,\"\",IF(OR(HL36<>0,HK36=1),HL36,\" -\"))","v":""},{"$f":"IF(C36=0,\"\",IF(AJ36<>0,AJ36,\" -\"))","v":""},{"$f":"IF(C36=0,\"\",IF(OR(HW36<>0,HV36=1),HW36,\" -\"))","v":""},{"$f":"IF(C36=0,\"\",IF(OR(IH36<>0,IG36=1),IH36,\" -\"))","v":""},{"$f":"IF(C36=0,\"\",IF(AL36=1,\"DNF\",IF(AL36=2,\"DSQ\",IF(AM36<>1,\"~ \"&ROUND(SUM(H36:X36),3),ROUND(SUM(H36:X36),3)))))","v":""},null,null,{"$f":"IF(C36<>\"\",C36,\"\")","v":""},{"$f":"IF(AD36<>\"\",3,\"\")","v":""},null,null,{"$f":"IF(AD36<>\"\",(AF36/1000*AG36/1000)/2,\"\")","v":""},null,null,null,null,null,null,null,{"$f":"IF(C36=0,99999,IF(AL36>0,9999,SUM(H36:X36)-AN36))","v":99999},{"$f":"IF(C36=0,99999,IF(AL36=1,9999,SUM(Y36:Z36)))","v":99999},null,null,{"$f":"IF(C36<>\"\",C36,\"\")","v":""},null,null,null,null,null,null,null,null,{"$f":"IF($C36=\"\",\"\", IF(BB36=1,0,IF(AZ36<>0,500,AU36*$AE36/$AH36+AV36/$AH36*5+AW36/$AH36*25+AX36*50+AY36*50)))","v":""},null,{"$f":"IF(C36<>\"\",C36,\"\")","v":""},null,null,null,null,null,null,null,null,{"$f":"IF($C36=\"\",\"\", IF(BM36=1,0,IF(BK36<>0,500,BF36*$AE36/$AH36+BG36/$AH36*5+BH36/$AH36*25+BI36*50+BJ36*50)))","v":""},null,{"$f":"IF(C36<>\"\",C36,\"\")","v":""},null,null,null,null,null,null,null,null,{"$f":"IF($C36=\"\",\"\", IF(BX36=1,0,IF(BV36<>0,500,BQ36*$AE36/$AH36+BR36/$AH36*5+BS36/$AH36*25+BT36*50+BU36*50)))","v":""},null,{"$f":"IF(C36<>\"\",C36,\"\")","v":""},null,null,null,null,null,null,null,null,{"$f":"IF($C36=\"\",\"\", IF(CI36=1,0,IF(CG36<>0,500,CB36*$AE36/$AH36+CC36/$AH36*5+CD36/$AH36*25+CE36*50+CF36*50)))","v":""},null,{"$f":"IF(C36<>\"\",C36,\"\")","v":""},null,null,null,null,null,null,null,null,{"$f":"IF($C36=\"\",\"\", IF(CT36=1,0,IF(CR36<>0,500,CM36*$AE36/$AH36+CN36/$AH36*5+CO36/$AH36*25+CP36*50+CQ36*50)))","v":""},null,{"$f":"IF(C36<>\"\",C36,\"\")","v":""},null,null,null,null,null,null,null,null,{"$f":"IF($C36=\"\",\"\", IF(DE36=1,0,IF(DC36<>0,500,CX36*$AE36/$AH36+CY36/$AH36*5+CZ36/$AH36*25+DA36*50+DB36*50)))","v":""},null,{"$f":"IF(C36<>\"\",C36,\"\")","v":""},null,null,null,null,null,null,null,null,{"$f":"IF($C36=\"\",\"\", IF(DP36=1,0,IF(DN36<>0,500,DI36*$AE36/$AH36+DJ36/$AH36*5+DK36/$AH36*25+DL36*50+DM36*50)))","v":""},null,{"$f":"IF(C36<>\"\",C36,\"\")","v":""},null,null,null,null,null,null,null,null,{"$f":"IF($C36=\"\",\"\", IF(EA36=1,0,IF(DY36<>0,500,DT36*$AE36/$AH36+DU36/$AH36*5+DV36/$AH36*25+DW36*50+DX36*50)))","v":""},null,{"$f":"IF(C36<>\"\",C36,\"\")","v":""},null,null,null,null,null,null,null,null,{"$f":"IF($C36=\"\",\"\", IF(EL36=1,0,IF(EJ36<>0,500,EE36*$AE36/$AH36+EF36/$AH36*5+EG36/$AH36*25+EH36*50+EI36*50)))","v":""},null,{"$f":"IF(C36<>\"\",C36,\"\")","v":""},null,null,null,null,null,null,null,null,{"$f":"IF($C36=\"\",\"\", IF(EW36=1,0,IF(EU36<>0,500,EP36*$AE36/$AH36+EQ36/$AH36*5+ER36/$AH36*25+ES36*50+ET36*50)))","v":""},null,{"$f":"IF(C36<>\"\",C36,\"\")","v":""},null,null,null,null,null,null,null,null,{"$f":"IF($C36=\"\",\"\", IF(FH36=1,0,IF(FF36<>0,500,FA36*$AE36/$AH36+FB36/$AH36*5+FC36/$AH36*25+FD36*50+FE36*50)))","v":""},null,{"$f":"IF(C36<>\"\",C36,\"\")","v":""},null,null,null,null,null,null,null,null,{"$f":"IF($C36=\"\",\"\", IF(FS36=1,0,IF(FQ36<>0,500,FL36*$AE36/$AH36+FM36/$AH36*5+FN36/$AH36*25+FO36*50+FP36*50)))","v":""},null,{"$f":"IF(C36<>\"\",C36,\"\")","v":""},null,null,null,null,null,null,null,null,{"$f":"IF($C36=\"\",\"\", IF(GD36=1,0,IF(GB36<>0,500,FW36*$AE36/$AH36+FX36/$AH36*5+FY36/$AH36*25+FZ36*50+GA36*50)))","v":""},null,{"$f":"IF(C36<>\"\",C36,\"\")","v":""},null,null,null,null,null,null,null,null,{"$f":"IF($C36=\"\",\"\", IF(GO36=1,0,IF(GM36<>0,500,GH36*$AE36/$AH36+GI36/$AH36*5+GJ36/$AH36*25+GK36*50+GL36*50)))","v":""},null,{"$f":"IF(C36<>\"\",C36,\"\")","v":""},null,null,null,null,null,null,null,null,{"$f":"IF($C36=\"\",\"\", IF(GZ36=1,0,IF(GX36<>0,500,GS36*$AE36/$AH36+GT36/$AH36*5+GU36/$AH36*25+GV36*50+GW36*50)))","v":""},null,{"$f":"IF(C36<>\"\",C36,\"\")","v":""},null,null,null,null,null,null,null,null,{"$f":"IF($C36=\"\",\"\", IF(HK36=1,0,IF(HI36<>0,500,HD36*$AE36/$AH36+HE36/$AH36*5+HF36/$AH36*25+HG36*50+HH36*50)))","v":""},null,{"$f":"IF(C36<>\"\",C36,\"\")","v":""},null,null,null,null,null,null,null,null,{"$f":"IF($C36=\"\",\"\", IF(HV36=1,0,IF(HT36<>0,500,HO36*$AE36/$AH36+HP36/$AH36*5+HQ36/$AH36*25+HR36*50+HS36*50)))","v":""},null,{"$f":"IF(C36<>\"\",C36,\"\")","v":""},null,null,null,null,null,null,null,null,{"$f":"IF($C36=\"\",\"\", IF(IG36=1,0,IF(IE36<>0,500,HZ36*$AE36/$AH36+IA36/$AH36*5+IB36/$AH36*25+IC36*50+ID36*50)))","v":""}]
[null,{"$f":"IF(C37=0,\"\",ROW(C37)-4)","v":""},null,null,null,null,null,{"$f":"IF(C37=0,\"\",IF(OR(BB37=1,BC37<>0),BC37,\"-\"))","v":""},{"$f":"IF(C37=0,\"\",IF(OR(BM37=1,BN37<>0),BN37,\"-\"))","v":""},{"$f":"IF(C37=0,\"\",IF(OR(BX37=1,BY37<>0),BY37,\" -\"))","v":""},{"$f":"IF(C37=0,\"\",IF(OR(CJ37<>0,CI37=1),CJ37,\" -\"))","v":""},{"$f":"IF(C37=0,\"\",IF(OR(CU37<>0,CT37=1),CU37,\" -\"))","v":""},{"$f":"IF(C37=0,\"\",IF(OR(DF37<>0,DE37=1),DF37,\" -\"))","v":""},{"$f":"IF(C37=0,\"\",IF(OR(DQ37<>0,DP37=1),DQ37,\" -\"))","v":""},{"$f":"IF(C37=0,\"\",IF(OR(EB37<>0,EA37=1),EB37,\" -\"))","v":""},{"$f":"IF(C37=0,\"\",IF(OR(EM37<>0,EL37=1),EM37,\" -\"))","v":""},{"$f":"IF(C37=0,\"\",IF(OR(EX37<>0,EW37=1),EX37,\" -\"))","v":""},{"$f":"IF(C37=0,\"\",IF(OR(FI37<>0,FH37=1),FI37,\" -\"))","v":""},{"$f":"IF(C37=0,\"\",IF(OR(FT37<>0,FS37=1),FT37,\" -\"))","v":""},{"$f":"IF(C37=0,\"\",IF(OR(GE37<>0,GD37=1),GE37,\" -\"))","v":""},{"$f":"IF(C37=0,\"\",IF(OR(GP37<>0,GO37=1),GP37,\" -\"))","v":""},{"$f":"IF(C37=0,\"\",IF(OR(HA37<>0,GZ37=1),HA37,\" -\"))","v":""},{"$f":"IF(C37=0,\"\",IF(OR(HL37<>0,HK37=1),HL37,\" -\"))","v":""},{"$f":"IF(C37=0,\"\",IF(AJ37<>0,AJ37,\" -\"))","v":""},{"$f":"IF(C37=0,\"\",IF(OR(HW37<>0,HV37=1),HW37,\" -\"))","v":""},{"$f":"IF(C37=0,\"\",IF(OR(IH37<>0,IG37=1),IH37,\" -\"))","v":""},{"$f":"IF(C37=0,\"\",IF(AL37=1,\"DNF\",IF(AL37=2,\"DSQ\",IF(AM37<>1,\"~ \"&ROUND(SUM(H37:X37),3),ROUND(SUM(H37:X37),3)))))","v":""},null,null,{"$f":"IF(C37<>\"\",C37,\"\")","v":""},{"$f":"IF(AD37<>\"\",3,\"\")","v":""},null,null,{"$f":"IF(AD37<>\"\",(AF37/1000*AG37/1000)/2,\"\")","v":""},null,null,null,null,null,null,null,{"$f":"IF(C37=0,99999,IF(AL37>0,9999,SUM(H37:X37)-AN37))","v":99999},{"$f":"IF(C37=0,99999,IF(AL37=1,9999,SUM(Y37:Z37)))","v":99999},null,null,{"$f":"IF(C37<>\"\",C37,\"\")","v":""},null,null,null,null,null,null,null,null,{"$f":"IF($C37=\"\",\"\", IF(BB37=1,0,IF(AZ37<>0,500,AU37*$AE37/$AH37+AV37/$AH37*5+AW37/$AH37*25+AX37*50+AY37*50)))","v":""},null,{"$f":"IF(C37<>\"\",C37,\"\")","v":""},null,null,null,null,null,null,null,null,{"$f":"IF($C37=\"\",\"\", IF(BM37=1,0,IF(BK37<>0,500,BF37*$AE37/$AH37+BG37/$AH37*5+BH37/$AH37*25+BI37*50+BJ37*50)))","v":""},null,{"$f":"IF(C37<>\"\",C37,\"\")","v":""},null,null,null,null,null,null,null,null,{"$f":"IF($C37=\"\",\"\", IF(BX37=1,0,IF(BV37<>0,500,BQ37*$AE37/$AH37+BR37/$AH37*5+BS37/$AH37*25+BT37*50+BU37*50)))","v":""},null,{"$f":"IF(C37<>\"\",C37,\"\")","v":""},null,null,null,null,null,null,null,null,{"$f":"IF($C37=\"\",\"\", IF(CI37=1,0,IF(CG37<>0,500,CB37*$AE37/$AH37+CC37/$AH37*5+CD37/$AH37*25+CE37*50+CF37*50)))","v":""},null,{"$f":"IF(C37<>\"\",C37,\"\")","v":""},null,null,null,null,null,null,null,null,{"$f":"IF($C37=\"\",\"\", IF(CT37=1,0,IF(CR37<>0,500,CM37*$AE37/$AH37+CN37/$AH37*5+CO37/$AH37*25+CP37*50+CQ37*50)))","v":""},null,{"$f":"IF(C37<>\"\",C37,\"\")","v":""},null,null,null,null,null,null,null,null,{"$f":"IF($C37=\"\",\"\", IF(DE37=1,0,IF(DC37<>0,500,CX37*$AE37/$AH37+CY37/$AH37*5+CZ37/$AH37*25+DA37*50+DB37*50)))","v":""},null,{"$f":"IF(C37<>\"\",C37,\"\")","v":""},null,null,null,null,null,null,null,null,{"$f":"IF($C37=\"\",\"\", IF(DP37=1,0,IF(DN37<>0,500,DI37*$AE37/$AH37+DJ37/$AH37*5+DK37/$AH37*25+DL37*50+DM37*50)))","v":""},null,{"$f":"IF(C37<>\"\",C37,\"\")","v":""},null,null,null,null,null,null,null,null,{"$f":"IF($C37=\"\",\"\", IF(EA37=1,0,IF(DY37<>0,500,DT37*$AE37/$AH37+DU37/$AH37*5+DV37/$AH37*25+DW37*50+DX37*50)))","v":""},null,{"$f":"IF(C37<>\"\",C37,\"\")","v":""},null,null,null,null,null,null,null,null,{"$f":"IF($C37=\"\",\"\", IF(EL37=1,0,IF(EJ37<>0,500,EE37*$AE37/$AH37+EF37/$AH37*5+EG37/$AH37*25+EH37*50+EI37*50)))","v":""},null,{"$f":"IF(C37<>\"\",C37,\"\")","v":""},null,null,null,null,null,null,null,null,{"$f":"IF($C37=\"\",\"\", IF(EW37=1,0,IF(EU37<>0,500,EP37*$AE37/$AH37+EQ37/$AH37*5+ER37/$AH37*25+ES37*50+ET37*50)))","v":""},null,{"$f":"IF(C37<>\"\",C37,\"\")","v":""},null,null,null,null,null,null,null,null,{"$f":"IF($C37=\"\",\"\", IF(FH37=1,0,IF(FF37<>0,500,FA37*$AE37/$AH37+FB37/$AH37*5+FC37/$AH37*25+FD37*50+FE37*50)))","v":""},null,{"$f":"IF(C37<>\"\",C37,\"\")","v":""},null,null,null,null,null,null,null,null,{"$f":"IF($C37=\"\",\"\", IF(FS37=1,0,IF(FQ37<>0,500,FL37*$AE37/$AH37+FM37/$AH37*5+FN37/$AH37*25+FO37*50+FP37*50)))","v":""},null,{"$f":"IF(C37<>\"\",C37,\"\")","v":""},null,null,null,null,null,null,null,null,{"$f":"IF($C37=\"\",\"\", IF(GD37=1,0,IF(GB37<>0,500,FW37*$AE37/$AH37+FX37/$AH37*5+FY37/$AH37*25+FZ37*50+GA37*50)))","v":""},null,{"$f":"IF(C37<>\"\",C37,\"\")","v":""},null,null,null,null,null,null,null,null,{"$f":"IF($C37=\"\",\"\", IF(GO37=1,0,IF(GM37<>0,500,GH37*$AE37/$AH37+GI37/$AH37*5+GJ37/$AH37*25+GK37*50+GL37*50)))","v":""},null,{"$f":"IF(C37<>\"\",C37,\"\")","v":""},null,null,null,null,null,null,null,null,{"$f":"IF($C37=\"\",\"\", IF(GZ37=1,0,IF(GX37<>0,500,GS37*$AE37/$AH37+GT37/$AH37*5+GU37/$AH37*25+GV37*50+GW37*50)))","v":""},null,{"$f":"IF(C37<>\"\",C37,\"\")","v":""},null,null,null,null,null,null,null,null,{"$f":"IF($C37=\"\",\"\", IF(HK37=1,0,IF(HI37<>0,500,HD37*$AE37/$AH37+HE37/$AH37*5+HF37/$AH37*25+HG37*50+HH37*50)))","v":""},null,{"$f":"IF(C37<>\"\",C37,\"\")","v":""},null,null,null,null,null,null,null,null,{"$f":"IF($C37=\"\",\"\", IF(HV37=1,0,IF(HT37<>0,500,HO37*$AE37/$AH37+HP37/$AH37*5+HQ37/$AH37*25+HR37*50+HS37*50)))","v":""},null,{"$f":"IF(C37<>\"\",C37,\"\")","v":""},null,null,null,null,null,null,null,null,{"$f":"IF($C37=\"\",\"\", IF(IG37=1,0,IF(IE37<>0,500,HZ37*$AE37/$AH37+IA37/$AH37*5+IB37/$AH37*25+IC37*50+ID37*50)))","v":""}]
[null,{"$f":"IF(C38=0,\"\",ROW(C38)-4)","v":""},null,null,null,null,null,{"$f":"IF(C38=0,\"\",IF(OR(BB38=1,BC38<>0),BC38,\"-\"))","v":""},{"$f":"IF(C38=0,\"\",IF(OR(BM38=1,BN38<>0),BN38,\"-\"))","v":""},{"$f":"IF(C38=0,\"\",IF(OR(BX38=1,BY38<>0),BY38,\" -\"))","v":""},{"$f":"IF(C38=0,\"\",IF(OR(CJ38<>0,CI38=1),CJ38,\" -\"))","v":""},{"$f":"IF(C38=0,\"\",IF(OR(CU38<>0,CT38=1),CU38,\" -\"))","v":""},{"$f":"IF(C38=0,\"\",IF(OR(DF38<>0,DE38=1),DF38,\" -\"))","v":""},{"$f":"IF(C38=0,\"\",IF(OR(DQ38<>0,DP38=1),DQ38,\" -\"))","v":""},{"$f":"IF(C38=0,\"\",IF(OR(EB38<>0,EA38=1),EB38,\" -\"))","v":""},{"$f":"IF(C38=0,\"\",IF(OR(EM38<>0,EL38=1),EM38,\" -\"))","v":""},{"$f":"IF(C38=0,\"\",IF(OR(EX38<>0,EW38=1),EX38,\" -\"))","v":""},{"$f":"IF(C38=0,\"\",IF(OR(FI38<>0,FH38=1),FI38,\" -\"))","v":""},{"$f":"IF(C38=0,\"\",IF(OR(FT38<>0,FS38=1),FT38,\" -\"))","v":""},{"$f":"IF(C38=0,\"\",IF(OR(GE38<>0,GD38=1),GE38,\" -\"))","v":""},{"$f":"IF(C38=0,\"\",IF(OR(GP38<>0,GO38=1),GP38,\" -\"))","v":""},{"$f":"IF(C38=0,\"\",IF(OR(HA38<>0,GZ38=1),HA38,\" -\"))","v":""},{"$f":"IF(C38=0,\"\",IF(OR(HL38<>0,HK38=1),HL38,\" -\"))","v":""},{"$f":"IF(C38=0,\"\",IF(AJ38<>0,AJ38,\" -\"))","v":""},{"$f":"IF(C38=0,\"\",IF(OR(HW38<>0,HV38=1),HW38,\" -\"))","v":""},{"$f":"IF(C38=0,\"\",IF(OR(IH38<>0,IG38=1),IH38,\" -\"))","v":""},{"$f":"IF(C38=0,\"\",IF(AL38=1,\"DNF\",IF(AL38=2,\"DSQ\",IF(AM38<>1,\"~ \"&ROUND(SUM(H38:X38),3),ROUND(SUM(H38:X38),3)))))","v":""},null,null,{"$f":"IF(C38<>\"\",C38,\"\")","v":""},{"$f":"IF(AD38<>\"\",3,\"\")","v":""},null,null,{"$f":"IF(AD38<>\"\",(AF38/1000*AG38/1000)/2,\"\")","v":""},null,null,null,null,null,null,null,{"$f":"IF(C38=0,99999,IF(AL38>0,9999,SUM(H38:X38)-AN38))","v":99999},{"$f":"IF(C38=0,99999,IF(AL38=1,9999,SUM(Y38:Z38)))","v":99999},null,null,{"$f":"IF(C38<>\"\",C38,\"\")","v":""},null,null,null,null,null,null,null,null,{"$f":"IF($C38=\"\",\"\", IF(BB38=1,0,IF(AZ38<>0,500,AU38*$AE38/$AH38+AV38/$AH38*5+AW38/$AH38*25+AX38*50+AY38*50)))","v":""},null,{"$f":"IF(C38<>\"\",C38,\"\")","v":""},null,null,null,null,null,null,null,null,{"$f":"IF($C38=\"\",\"\", IF(BM38=1,0,IF(BK38<>0,500,BF38*$AE38/$AH38+BG38/$AH38*5+BH38/$AH38*25+BI38*50+BJ38*50)))","v":""},null,{"$f":"IF(C38<>\"\",C38,\"\")","v":""},null,null,null,null,null,null,null,null,{"$f":"IF($C38=\"\",\"\", IF(BX38=1,0,IF(BV38<>0,500,BQ38*$AE38/$AH38+BR38/$AH38*5+BS38/$AH38*25+BT38*50+BU38*50)))","v":""},null,{"$f":"IF(C38<>\"\",C38,\"\")","v":""},null,null,null,null,null,null,null,null,{"$f":"IF($C38=\"\",\"\", IF(CI38=1,0,IF(CG38<>0,500,CB38*$AE38/$AH38+CC38/$AH38*5+CD38/$AH38*25+CE38*50+CF38*50)))","v":""},null,{"$f":"IF(C38<>\"\",C38,\"\")","v":""},null,null,null,null,null,null,null,null,{"$f":"IF($C38=\"\",\"\", IF(CT38=1,0,IF(CR38<>0,500,CM38*$AE38/$AH38+CN38/$AH38*5+CO38/$AH38*25+CP38*50+CQ38*50)))","v":""},null,{"$f":"IF(C38<>\"\",C38,\"\")","v":""},null,null,null,null,null,null,null,null,{"$f":"IF($C38=\"\",\"\", IF(DE38=1,0,IF(DC38<>0,500,CX38*$AE38/$AH38+CY38/$AH38*5+CZ38/$AH38*25+DA38*50+DB38*50)))","v":""},null,{"$f":"IF(C38<>\"\",C38,\"\")","v":""},null,null,null,null,null,null,null,null,{"$f":"IF($C38=\"\",\"\", IF(DP38=1,0,IF(DN38<>0,500,DI38*$AE38/$AH38+DJ38/$AH38*5+DK38/$AH38*25+DL38*50+DM38*50)))","v":""},null,{"$f":"IF(C38<>\"\",C38,\"\")","v":""},null,null,null,null,null,null,null,null,{"$f":"IF($C38=\"\",\"\", IF(EA38=1,0,IF(DY38<>0,500,DT38*$AE38/$AH38+DU38/$AH38*5+DV38/$AH38*25+DW38*50+DX38*50)))","v":""},null,{"$f":"IF(C38<>\"\",C38,\"\")","v":""},null,null,null,null,null,null,null,null,{"$f":"IF($C38=\"\",\"\", IF(EL38=1,0,IF(EJ38<>0,500,EE38*$AE38/$AH38+EF38/$AH38*5+EG38/$AH38*25+EH38*50+EI38*50)))","v":""},null,{"$f":"IF(C38<>\"\",C38,\"\")","v":""},null,null,null,null,null,null,null,null,{"$f":"IF($C38=\"\",\"\", IF(EW38=1,0,IF(EU38<>0,500,EP38*$AE38/$AH38+EQ38/$AH38*5+ER38/$AH38*25+ES38*50+ET38*50)))","v":""},null,{"$f":"IF(C38<>\"\",C38,\"\")","v":""},null,null,null,null,null,null,null,null,{"$f":"IF($C38=\"\",\"\", IF(FH38=1,0,IF(FF38<>0,500,FA38*$AE38/$AH38+FB38/$AH38*5+FC38/$AH38*25+FD38*50+FE38*50)))","v":""},null,{"$f":"IF(C38<>\"\",C38,\"\")","v":""},null,null,null,null,null,null,null,null,{"$f":"IF($C38=\"\",\"\", IF(FS38=1,0,IF(FQ38<>0,500,FL38*$AE38/$AH38+FM38/$AH38*5+FN38/$AH38*25+FO38*50+FP38*50)))","v":""},null,{"$f":"IF(C38<>\"\",C38,\"\")","v":""},null,null,null,null,null,null,null,null,{"$f":"IF($C38=\"\",\"\", IF(GD38=1,0,IF(GB38<>0,500,FW38*$AE38/$AH38+FX38/$AH38*5+FY38/$AH38*25+FZ38*50+GA38*50)))","v":""},null,{"$f":"IF(C38<>\"\",C38,\"\")","v":""},null,null,null,null,null,null,null,null,{"$f":"IF($C38=\"\",\"\", IF(GO38=1,0,IF(GM38<>0,500,GH38*$AE38/$AH38+GI38/$AH38*5+GJ38/$AH38*25+GK38*50+GL38*50)))","v":""},null,{"$f":"IF(C38<>\"\",C38,\"\")","v":""},null,null,null,null,null,null,null,null,{"$f":"IF($C38=\"\",\"\", IF(GZ38=1,0,IF(GX38<>0,500,GS38*$AE38/$AH38+GT38/$AH38*5+GU38/$AH38*25+GV38*50+GW38*50)))","v":""},null,{"$f":"IF(C38<>\"\",C38,\"\")","v":""},null,null,null,null,null,null,null,null,{"$f":"IF($C38=\"\",\"\", IF(HK38=1,0,IF(HI38<>0,500,HD38*$AE38/$AH38+HE38/$AH38*5+HF38/$AH38*25+HG38*50+HH38*50)))","v":""},null,{"$f":"IF(C38<>\"\",C38,\"\")","v":""},null,null,null,null,null,null,null,null,{"$f":"IF($C38=\"\",\"\", IF(HV38=1,0,IF(HT38<>0,500,HO38*$AE38/$AH38+HP38/$AH38*5+HQ38/$AH38*25+HR38*50+HS38*50)))","v":""},null,{"$f":"IF(C38<>\"\",C38,\"\")","v":""},null,null,null,null,null,null,null,null,{"$f":"IF($C38=\"\",\"\", IF(IG38=1,0,IF(IE38<>0,500,HZ38*$AE38/$AH38+IA38/$AH38*5+IB38/$AH38*25+IC38*50+ID38*50)))","v":""}]
[null,{"$f":"IF(C39=0,\"\",ROW(C39)-4)","v":""},null,null,null,null,null,{"$f":"IF(C39=0,\"\",IF(OR(BB39=1,BC39<>0),BC39,\"-\"))","v":""},{"$f":"IF(C39=0,\"\",IF(OR(BM39=1,BN39<>0),BN39,\"-\"))","v":""},{"$f":"IF(C39=0,\"\",IF(OR(BX39=1,BY39<>0),BY39,\" -\"))","v":""},{"$f":"IF(C39=0,\"\",IF(OR(CJ39<>0,CI39=1),CJ39,\" -\"))","v":""},{"$f":"IF(C39=0,\"\",IF(OR(CU39<>0,CT39=1),CU39,\" -\"))","v":""},{"$f":"IF(C39=0,\"\",IF(OR(DF39<>0,DE39=1),DF39,\" -\"))","v":""},{"$f":"IF(C39=0,\"\",IF(OR(DQ39<>0,DP39=1),DQ39,\" -\"))","v":""},{"$f":"IF(C39=0,\"\",IF(OR(EB39<>0,EA39=1),EB39,\" -\"))","v":""},{"$f":"IF(C39=0,\"\",IF(OR(EM39<>0,EL39=1),EM39,\" -\"))","v":""},{"$f":"IF(C39=0,\"\",IF(OR(EX39<>0,EW39=1),EX39,\" -\"))","v":""},{"$f":"IF(C39=0,\"\",IF(OR(FI39<>0,FH39=1),FI39,\" -\"))","v":""},{"$f":"IF(C39=0,\"\",IF(OR(FT39<>0,FS39=1),FT39,\" -\"))","v":""},{"$f":"IF(C39=0,\"\",IF(OR(GE39<>0,GD39=1),GE39,\" -\"))","v":""},{"$f":"IF(C39=0,\"\",IF(OR(GP39<>0,GO39=1),GP39,\" -\"))","v":""},{"$f":"IF(C39=0,\"\",IF(OR(HA39<>0,GZ39=1),HA39,\" -\"))","v":""},{"$f":"IF(C39=0,\"\",IF(OR(HL39<>0,HK39=1),HL39,\" -\"))","v":""},{"$f":"IF(C39=0,\"\",IF(AJ39<>0,AJ39,\" -\"))","v":""},{"$f":"IF(C39=0,\"\",IF(OR(HW39<>0,HV39=1),HW39,\" -\"))","v":""},{"$f":"IF(C39=0,\"\",IF(OR(IH39<>0,IG39=1),IH39,\" -\"))","v":""},{"$f":"IF(C39=0,\"\",IF(AL39=1,\"DNF\",IF(AL39=2,\"DSQ\",IF(AM39<>1,\"~ \"&ROUND(SUM(H39:X39),3),ROUND(SUM(H39:X39),3)))))","v":""},null,null,{"$f":"IF(C39<>\"\",C39,\"\")","v":""},{"$f":"IF(AD39<>\"\",3,\"\")","v":""},null,null,{"$f":"IF(AD39<>\"\",(AF39/1000*AG39/1000)/2,\"\")","v":""},null,null,null,null,null,null,null,{"$f":"IF(C39=0,99999,IF(AL39>0,9999,SUM(H39:X39)-AN39))","v":99999},{"$f":"IF(C39=0,99999,IF(AL39=1,9999,SUM(Y39:Z39)))","v":99999},null,null,{"$f":"IF(C39<>\"\",C39,\"\")","v":""},null,null,null,null,null,null,null,null,{"$f":"IF($C39=\"\",\"\", IF(BB39=1,0,IF(AZ39<>0,500,AU39*$AE39/$AH39+AV39/$AH39*5+AW39/$AH39*25+AX39*50+AY39*50)))","v":""},null,{"$f":"IF(C39<>\"\",C39,\"\")","v":""},null,null,null,null,null,null,null,null,{"$f":"IF($C39=\"\",\"\", IF(BM39=1,0,IF(BK39<>0,500,BF39*$AE39/$AH39+BG39/$AH39*5+BH39/$AH39*25+BI39*50+BJ39*50)))","v":""},null,{"$f":"IF(C39<>\"\",C39,\"\")","v":""},null,null,null,null,null,null,null,null,{"$f":"IF($C39=\"\",\"\", IF(BX39=1,0,IF(BV39<>0,500,BQ39*$AE39/$AH39+BR39/$AH39*5+BS39/$AH39*25+BT39*50+BU39*50)))","v":""},null,{"$f":"IF(C39<>\"\",C39,\"\")","v":""},null,null,null,null,null,null,null,null,{"$f":"IF($C39=\"\",\"\", IF(CI39=1,0,IF(CG39<>0,500,CB39*$AE39/$AH39+CC39/$AH39*5+CD39/$AH39*25+CE39*50+CF39*50)))","v":""},null,{"$f":"IF(C39<>\"\",C39,\"\")","v":""},null,null,null,null,null,null,null,null,{"$f":"IF($C39=\"\",\"\", IF(CT39=1,0,IF(CR39<>0,500,CM39*$AE39/$AH39+CN39/$AH39*5+CO39/$AH39*25+CP39*50+CQ39*50)))","v":""},null,{"$f":"IF(C39<>\"\",C39,\"\")","v":""},null,null,null,null,null,null,null,null,{"$f":"IF($C39=\"\",\"\", IF(DE39=1,0,IF(DC39<>0,500,CX39*$AE39/$AH39+CY39/$AH39*5+CZ39/$AH39*25+DA39*50+DB39*50)))","v":""},null,{"$f":"IF(C39<>\"\",C39,\"\")","v":""},null,null,null,null,null,null,null,null,{"$f":"IF($C39=\"\",\"\", IF(DP39=1,0,IF(DN39<>0,500,DI39*$AE39/$AH39+DJ39/$AH39*5+DK39/$AH39*25+DL39*50+DM39*50)))","v":""},null,{"$f":"IF(C39<>\"\",C39,\"\")","v":""},null,null,null,null,null,null,null,null,{"$f":"IF($C39=\"\",\"\", IF(EA39=1,0,IF(DY39<>0,500,DT39*$AE39/$AH39+DU39/$AH39*5+DV39/$AH39*25+DW39*50+DX39*50)))","v":""},null,{"$f":"IF(C39<>\"\",C39,\"\")","v":""},null,null,null,null,null,null,null,null,{"$f":"IF($C39=\"\",\"\", IF(EL39=1,0,IF(EJ39<>0,500,EE39*$AE39/$AH39+EF39/$AH39*5+EG39/$AH39*25+EH39*50+EI39*50)))","v":""},null,{"$f":"IF(C39<>\"\",C39,\"\")","v":""},null,null,null,null,null,null,null,null,{"$f":"IF($C39=\"\",\"\", IF(EW39=1,0,IF(EU39<>0,500,EP39*$AE39/$AH39+EQ39/$AH39*5+ER39/$AH39*25+ES39*50+ET39*50)))","v":""},null,{"$f":"IF(C39<>\"\",C39,\"\")","v":""},null,null,null,null,null,null,null,null,{"$f":"IF($C39=\"\",\"\", IF(FH39=1,0,IF(FF39<>0,500,FA39*$AE39/$AH39+FB39/$AH39*5+FC39/$AH39*25+FD39*50+FE39*50)))","v":""},null,{"$f":"IF(C39<>\"\",C39,\"\")","v":""},null,null,null,null,null,null,null,null,{"$f":"IF($C39=\"\",\"\", IF(FS39=1,0,IF(FQ39<>0,500,FL39*$AE39/$AH39+FM39/$AH39*5+FN39/$AH39*25+FO39*50+FP39*50)))","v":""},null,{"$f":"IF(C39<>\"\",C39,\"\")","v":""},null,null,null,null,null,null,null,null,{"$f":"IF($C39=\"\",\"\", IF(GD39=1,0,IF(GB39<>0,500,FW39*$AE39/$AH39+FX39/$AH39*5+FY39/$AH39*25+FZ39*50+GA39*50)))","v":""},null,{"$f":"IF(C39<>\"\",C39,\"\")","v":""},null,null,null,null,null,null,null,null,{"$f":"IF($C39=\"\",\"\", IF(GO39=1,0,IF(GM39<>0,500,GH39*$AE39/$AH39+GI39/$AH39*5+GJ39/$AH39*25+GK39*50+GL39*50)))","v":""},null,{"$f":"IF(C39<>\"\",C39,\"\")","v":""},null,null,null,null,null,null,null,null,{"$f":"IF($C39=\"\",\"\", IF(GZ39=1,0,IF(GX39<>0,500,GS39*$AE39/$AH39+GT39/$AH39*5+GU39/$AH39*25+GV39*50+GW39*50)))","v":""},null,{"$f":"IF(C39<>\"\",C39,\"\")","v":""},null,null,null,null,null,null,null,null,{"$f":"IF($C39=\"\",\"\", IF(HK39=1,0,IF(HI39<>0,500,HD39*$AE39/$AH39+HE39/$AH39*5+HF39/$AH39*25+HG39*50+HH39*50)))","v":""},null,{"$f":"IF(C39<>\"\",C39,\"\")","v":""},null,null,null,null,null,null,null,null,{"$f":"IF($C39=\"\",\"\", IF(HV39=1,0,IF(HT39<>0,500,HO39*$AE39/$AH39+HP39/$AH39*5+HQ39/$AH39*25+HR39*50+HS39*50)))","v":""},null,{"$f":"IF(C39<>\"\",C39,\"\")","v":""},null,null,null,null,null,null,null,null,{"$f":"IF($C39=\"\",\"\", IF(IG39=1,0,IF(IE39<>0,500,HZ39*$AE39/$AH39+IA39/$AH39*5+IB39/$AH39*25+IC39*50+ID39*50)))","v":""}]
[]
[]
[]
[null,null,null,null,null," "]

{"sheet":"Standard","index":2,"n_rows":43,"n_cols":242,"rows_kept":43,"cut":false,"hidden":false,"merged":[[0,21,0,26]]}
[null,{"$f":"Settings!C2","v":"Eurotrial Finland 2025 : 18-20.7.2025 - Results"},null,null,null,null,null,null,null,null,null,null,null,null,null,null,null,null,null,null,null,{"$f":"NOW()","v":"2025-07-20T20:32:14.320"},null,null,null,null,null,null,null,{"$f":"B1","v":"Eurotrial Finland 2025 : 18-20.7.2025 - Results"},null,null,null,null,null,null,null,null,null,null,null,null,null,null,null,{"$f":"B1","v":"Eurotrial Finland 2025 : 18-20.7.2025 - Results"},null,null,null,null,null,null,null,null,null,null,{"$f":"B1","v":"Eurotrial Finland 2025 : 18-20.7.2025 - Results"},null,null,null,null,null,null,null,null,null,null,{"$f":"B1","v":"Eurotrial Finland 2025 : 18-20.7.2025 - Results"},null,null,null,null,null,null,null,null,null,null,{"$f":"B1","v":"Eurotrial Finland 2025 : 18-20.7.2025 - Results"},null,null,null,null,null,null,null,null,null,null,{"$f":"B1","v":"Eurotrial Finland 2025 : 18-20.7.2025 - Results"},null,null,null,null,null,null,null,null,null,null,{"$f":"B1","v":"Eurotrial Finland 2025 : 18-20.7.2025 - Results"},null,null,null,null,null,null,null,null,null,null,{"$f":"B1","v":"Eurotrial Finland 2025 : 18-20.7.2025 - Results"},null,null,null,null,null,null,null,null,null,null,{"$f":"B1","v":"Eurotrial Finland 2025 : 18-20.7.2025 - Results"},null,null,null,null,null,null,null,null,null,null,{"$f":"B1","v":"Eurotrial Finland 2025 : 18-20.7.2025 - Results"},null,null,null,null,null,null,null,null,null,null,{"$f":"B1","v":"Eurotrial Finland 2025 : 18-20.7.2025 - Results"},null,null,null,null,null,null,null,null,null,null,{"$f":"B1","v":"Eurotrial Finland 2025 : 18-20.7.2025 - Results"},null,null,null,null,null,null,null,null,null,null,{"$f":"B1","v":"Eurotrial Finland 2025 : 18-20.7.2025 - Results"},null,null,null,null,null,null,null,null,null,null,{"$f":"B1","v":"Eurotrial Finland 2025 : 18-20.7.2025 - Results"},null,null,null,null,null,null,null,null,null,null,{"$f":"B1","v":"Eurotrial Finland 2025 : 18-20.7.2025 - Results"},null,null,null,null,null,null,null,null,null,null,{"$f":"B1","v":"Eurotrial Finland 2025 : 18-20.7.2025 - Results"},null,null,null,null,null,null,null,null,null,null,{"$f":"B1","v":"Eurotrial Finland 2025 : 18-20.7.2025 - Results"},null,null,null,null,null,null,null,null,null,null,{"$f":"B1","v":"Eurotrial Finland 2025 : 18-20.7.2025 - Results"},null,null,null,null,null,null,null,null,null,null,{"$f":"B1","v":"Eurotrial Finland 2025 : 18-20.7.2025 - Results"}]
[null,"Class: Standard",null,null,null,null,null,null,null,null,null,null,null,null,null,null,null,null,null,null,null,null,null,null,null,null,null,null,null,{"$f":"B2","v":"Class: Standard"},null,null,null,null,null,null,null,null,null,null,null,null,null,null,null,{"$f":"B2","v":"Class: Standard"},null,null,null,null,null,null,null,null,{"$f":"AT3","v":"Section L1"},null,{"$f":"B2","v":"Class: Standard"},null,null,null,null,null,null,null,null,{"$f":"BE3","v":"Section L2"},null,{"$f":"B2","v":"Class: Standard"},null,null,null,null,null,null,null,null,{"$f":"BP3","v":"Section L3"},null,{"$f":"B2","v":"Class: Standard"},null,null,null,null,null,null,null,null,{"$f":"CA3","v":"Section L4"},null,{"$f":"B2","v":"Class: Standard"},null,null,null,null,null,null,null,null,{"$f":"CL3","v":"Section L5"},null,{"$f":"B2","v":"Class: Standard"},null,null,null,null,null,null,null,null,{"$f":"CW3","v":"Section L6"},null,{"$f":"B2","v":"Class: Standard"},null,null,null,null,null,null,null,null,{"$f":"DH3","v":"Section L7"},null,{"$f":"B2","v":"Class: Standard"},null,null,null,null,null,null,null,null,{"$f":"DS3","v":"Section L9"},null,{"$f":"B2","v":"Class: Standard"},null,null,null,null,null,null,null,null,{"$f":"ED3","v":"Section S1"},null,{"$f":"B2","v":"Class: Standard"},null,null,null,null,null,null,null,null,{"$f":"EO3","v":"Section S2"},null,{"$f":"B2","v":"Class: Standard"},null,null,null,null,null,null,null,null,{"$f":"EZ3","v":"Section S3"},null,{"$f":"B2","v":"Class: Standard"},null,null,null,null,null,null,null,null,{"$f":"FK3","v":"Section S4"},null,{"$f":"B2","v":"Class: Standard"},null,null,null,null,null,null,null,null,{"$f":"FV3","v":"Section S5"},null,{"$f":"B2","v":"Class: Standard"},null,null,null,null,null,null,null,null,{"$f":"GG3","v":"Section S6"},null,{"$f":"B2","v":"Class: Standard"},null,null,null,null,null,null,null,null,{"$f":"GR3","v":"Section S7"},null,{"$f":"B2","v":"Class: Standard"},null,null,null,null,null,null,null,null,{"$f":"HC3","v":"Section S9"},null,{"$f":"B2","v":"Class: Standard"},null,null,null,null,null,null,null,null,{"$f":"HN3","v":"Run-off section 1"},null,{"$f":"B2","v":"Class: Standard"},null,null,null,null,null,null,null,null,{"$f":"HY3","v":"Run-off section 2"}]
[null,null,null,null,null,null,null,null,null,null,null,null,null,null,null,null,null,null,null,null,null,null,null,null,null,null,null,null,null,null,null,null,null,null,null,null,null,null,null,null,null,"Helper columns for ordering",null,null,null,"Section L1",null,{"$f":"AT3","v":"Section L1"},null,{"$f":"AT3","v":"Section L1"},null,{"$f":"AT3","v":"Section L1"},null,{"$f":"AT3","v":"Section L1"},null,null,"Section L2",null,{"$f":"BE3","v":"Section L2"},null,{"$f":"BE3","v":"Section L2"},null,{"$f":"BE3","v":"Section L2"},null,{"$f":"BE3","v":"Section L2"},null,null,"Section L3",null,{"$f":"BP3","v":"Section L3"},null,{"$f":"BP3","v":"Section L3"},null,{"$f":"BP3","v":"Section L3"},null,{"$f":"BP3","v":"Section L3"},null,null,"Section L4",null,{"$f":"CA3","v":"Section L4"},null,{"$f":"CA3","v":"Section L4"},null,{"$f":"CA3","v":"Section L4"},null,{"$f":"CA3","v":"Section L4"},null,null,"Section L5",null,{"$f":"CL3","v":"Section L5"},null,{"$f":"CL3","v":"Section L5"},null,{"$f":"CL3","v":"Section L5"},null,{"$f":"CL3","v":"Section L5"},null,null,"Section L6",null,{"$f":"CW3","v":"Section L6"},null,{"$f":"CW3","v":"Section L6"},null,{"$f":"CW3","v":"Section L6"},null,{"$f":"CW3","v":"Section L6"},null,null,"Section L7",null,{"$f":"DH3","v":"Section L7"},null,{"$f":"DH3","v":"Section L7"},null,{"$f":"DH3","v":"Section L7"},null,{"$f":"DH3","v":"Section L7"},null,null,"Section L9",null,{"$f":"DS3","v":"Section L9"},null,{"$f":"DS3","v":"Section L9"},null,{"$f":"DS3","v":"Section L9"},null,{"$f":"DS3","v":"Section L9"},null,null,"Section S1",null,{"$f":"ED3","v":"Section S1"},null,{"$f":"ED3","v":"Section S1"},null,{"$f":"ED3","v":"Section S1"},null,{"$f":"ED3","v":"Section S1"},null,null,"Section S2",null,{"$f":"EO3","v":"Section S2"},null,{"$f":"EO3","v":"Section S2"},null,{"$f":"EO3","v":"Section S2"},null,{"$f":"EO3","v":"Section S2"},null,null,"Section S3",null,{"$f":"EZ3","v":"Section S3"},null,{"$f":"EZ3","v":"Section S3"},null,{"$f":"EZ3","v":"Section S3"},null,{"$f":"EZ3","v":"Section S3"},null,null,"Section S4",null,{"$f":"FK3","v":"Section S4"},null,{"$f":"FK3","v":"Section S4"},null,{"$f":"FK3","v":"Section S4"},null,{"$f":"FK3","v":"Section S4"},null,null,"Section S5",null,{"$f":"FV3","v":"Section S5"},null,{"$f":"FV3","v":"Section S5"},null,{"$f":"FV3","v":"Section S5"},null,{"$f":"FV3","v":"Section S5"},null,null,"Section S6",null,{"$f":"GG3","v":"Section S6"},null,{"$f":"GG3","v":"Section S6"},null,{"$f":"GG3","v":"Section S6"},null,{"$f":"GG3","v":"Section S6"},null,null,"Section S7",null,{"$f":"GR3","v":"Section S7"},null,{"$f":"GR3","v":"Section S7"},null,{"$f":"GR3","v":"Section S7"},null,{"$f":"GR3","v":"Section S7"},null,null,"Section S9",null,{"$f":"HC3","v":"Section S9"},null,{"$f":"HC3","v":"Section S9"},null,{"$f":"HC3","v":"Section S9"},null,{"$f":"HC3","v":"Section S9"},null,null,"Run-off section 1",null,"Run-off section 1",null,"Run-off section 1",null,"Run-off section 1",null,"Run-off section 1",null,null,"Run-off section 2",null,"Run-off section 2",null,"Run-off section 2",null,"Run-off section 2",null,"Run-off section 2"]
[null,"Pos.","Race #"," Team","Car","Driver","Co-Driver","L1","L2","L3","L4","L5","L6","L7","L9","S1","S2","S3","S4","S5","S6","S7","S9","Extra penalty","Run-off 1","Run-off 2","Total",null,null,"Race #","Car base reverse points","Car width (mm)","Car wheelbase (mm)","\"Magic Number\" ","Traditional reverse points","Extra penalty","Extra penalty reason","DNF = 1 DSQ = 2","Ended race (1 if ok)","Order change (1 = go higher)",null,"Result points, do not change","Run-off points do not change",null,null,"Race #","Reverse","Touching / Driving under (5)","Broken post / stick (25)","Not Passed Gate (50)","Section not completed (50)","Not driven section (500)","Comment","Clean (1 = ok)","Total",null,"Race #","Reverse","Touching / Driving under (5)","Broken post / stick (25)","Not Passed Gate (50)","Section not completed (50)","Not driven section (500)","Comment","Clean (1 = ok)","Total",null,"Race #","Reverse","Touching / Driving under (5)","Broken post / stick (25)","Not Passed Gate (50)","Section not completed (50)","Not driven section (500)","Comment","Clean (1 = ok)","Total",null,"Race #","Reverse","Touching / Driving under (5)","Broken post / stick (25)","Not Passed Gate (50)","Section not completed (50)","Not driven section (500)","Comment","Clean (1 = ok)","Total",null,"Race #","Reverse","Touching / Driving under (5)","Broken post / stick (25)","Not Passed Gate (50)","Section not completed (50)","Not driven section (500)","Comment","Clean (1 = ok)","Total",null,"Race #","Reverse","Touching / Driving under (5)","Broken post / stick (25)","Not Passed Gate (50)","Section not completed (50)","Not driven section (500)","Comment","Clean (1 = ok)","Total",null,"Race #","Reverse","Touching / Driving under (5)","Broken post / stick (25)","Not Passed Gate (50)","Section not completed (50)","Not driven section (500)","Comment","Clean (1 = ok)","Total",null,"Race #","Reverse","Touching / Driving under (5)","Broken post / stick (25)","Not Passed Gate (50)","Section not completed (50)","Not driven section (500)","Comment","Clean (1 = ok)","Total",null,"Race #","Reverse","Touching / Driving under (5)","Broken post / stick (25)","Not Passed Gate (50)","Section not completed (50)","Not driven section (500)","Comment","Clean (1 = ok)","Total",null,"Race #","Reverse","Touching / Driving under (5)","Broken post / stick (25)","Not Passed Gate (50)","Section not completed (50)","Not driven section (500)","Comment","Clean (1 = ok)","Total",null,"Race #","Reverse","Touching / Driving under (5)","Broken post / stick (25)","Not Passed Gate (50)","Section not completed (50)","Not driven section (500)","Comment","Clean (1 = ok)","Total",null,"Race #","Reverse","Touching / Driving under (5)","Broken post / stick (25)","Not Passed Gate (50)","Section not completed (50)","Not driven section (500)","Comment","Clean (1 = ok)","Total",null,"Race #","Reverse","Touching / Driving under (5)","Broken post / stick (25)","Not Passed Gate (50)","Section not completed (50)","Not driven section (500)","Comment","Clean (1 = ok)","Total",null,"Race #","Reverse","Touching / Driving under (5)","Broken post / stick (25)","Not Passed Gate (50)","Section not completed (50)","Not driven section (500)","Comment","Clean (1 = ok)","Total",null,"Race #","Reverse","Touching / Driving under (5)","Broken post / stick (25)","Not Passed Gate (50)","Section not completed (50)","Not driven section (500)","Comment","Clean (1 = ok)","Total",null,"Race #","Reverse","Touching / Driving under (5)","Broken post / stick (25)","Not Passed Gate (50)","Section not completed (50)","Not driven section (500)","Comment","Clean (1 = ok)","Total",null,"Race #","Reverse","Touching / Driving under (5)","Broken post / stick (25)","Not Passed Gate (50)","Section not completed (50)","Not driven section (500)","Comment","Clean (1 = ok)","Total",null,"Race #","Reverse","Touching / Driving under (5)","Broken post / stick (25)","Not Passed Gate (50)","Section not completed (50)","Not driven section (500)","Comment","Clean (1 = ok)","Total"]
[null,{"$f":"IF(C5=0,\"\",ROW(C5)-4)","v":1},211,"Finland","Pajero KR","Hannu Kuivaniemi","Katri Tervala",{"$f":"IF(C5=0,\"\",IF(OR(BB5=1,BC5<>0),BC5,\"-\"))","v":2.3214783173925153},{"$f":"IF(C5=0,\"\",IF(OR(BM5=1,BN5<>0),BN5,\"-\"))","v":1.392886990435509},{"$f":"IF(C5=0,\"\",IF(OR(BX5=1,BY5<>0),BY5,\" -\"))","v":3.7143653078280243},{"$f":"IF(C5=0,\"\",IF(OR(CJ5<>0,CI5=1),CJ5,\" -\"))","v":1.392886990435509},{"$f":"IF(C5=0,\"\",IF(OR(CU5<>0,CT5=1),CU5,\" -\"))","v":1.392886990435509},{"$f":"IF(C5=0,\"\",IF(OR(DF5<>0,DE5=1),DF5,\" -\"))","v":2.785773980871018},{"$f":"IF(C5=0,\"\",IF(OR(DQ5<>0,DP5=1),DQ5,\" -\"))","v":1.392886990435509},{"$f":"IF(C5=0,\"\",IF(OR(EB5<>0,EA5=1),EB5,\" -\"))","v":5.1072522982635338},{"$f":"IF(C5=0,\"\",IF(OR(EM5<>0,EL5=1),EM5,\" -\"))","v":0},{"$f":"IF(C5=0,\"\",IF(OR(EX5<>0,EW5=1),EX5,\" -\"))","v":0},{"$f":"IF(C5=0,\"\",IF(OR(FI5<>0,FH5=1),FI5,\" -\"))","v":0},{"$f":"IF(C5=0,\"\",IF(OR(FT5<>0,FS5=1),FT5,\" -\"))","v":2.785773980871018},{"$f":"IF(C5=0,\"\",IF(OR(GE5<>0,GD5=1),GE5,\" -\"))","v":11.607391586962576},{"$f":"IF(C5=0,\"\",IF(OR(GP5<>0,GO5=1),GP5,\" -\"))","v":1.392886990435509},{"$f":"IF(C5=0,\"\",IF(OR(HA5<>0,GZ5=1),HA5,\" -\"))","v":54.178660971306527},{"$f":"IF(C5=0,\"\",IF(OR(HL5<>0,HK5=1),HL5,\" -\"))","v":0},{"$f":"IF(C5=0,\"\",IF(AJ5<>0,AJ5,\" -\"))","v":" -"},{"$f":"IF(C5=0,\"\",IF(OR(HW5<>0,HV5=1),HW5,\" -\"))","v":" -"},{"$f":"IF(C5=0,\"\",IF(OR(IH5<>0,IG5=1),IH5,\" -\"))","v":" -"},{"$f":"IF(C5=0,\"\",IF(AL5=1,\"DNF\",IF(AL5=2,\"DSQ\",IF(AM5<>1,\"~ \"&ROUND(SUM(H5:X5),3),ROUND(SUM(H5:X5),3)))))","v":89.465000000000003},null,null,{"$f":"IF(C5<>\"\",C5,\"\")","v":211},{"$f":"IF(AD5<>\"\",3,\"\")","v":3},1780,2420,{"$f":"IF(AD5<>\"\",(AF5/1000*AG5/1000)/2,\"\")","v":2.1538000000000004},3,null,null,null,1,null,null,{"$f":"IF(C5=0,99999,IF(AL5>0,9999,SUM(H5:X5)-AN5))","v":89.465131395672756},{"$f":"IF(C5=0,99999,IF(AL5=1,9999,SUM(Y5:Z5)))","v":0},null,null,{"$f":"IF(C5<>\"\",C5,\"\")","v":211},null,1,null,null,null,null,null,null,{"$f":"IF($C5=\"\",\"\", IF(BB5=1,0,IF(AZ5<>0,500,AU5*$AE5/$AH5+AV5/$AH5*5+AW5/$AH5*25+AX5*50+AY5*50)))","v":2.3214783173925153},null,{"$f":"IF(C5<>\"\",C5,\"\")","v":211},1,null,null,null,null,null,null,null,{"$f":"IF($C5=\"\",\"\", IF(BM5=1,0,IF(BK5<>0,500,BF5*$AE5/$AH5+BG5/$AH5*5+BH5/$AH5*25+BI5*50+BJ5*50)))","v":1.392886990435509},null,{"$f":"IF(C5<>\"\",C5,\"\")","v":211},1,1,null,null,null,null,null,null,{"$f":"IF($C5=\"\",\"\", IF(BX5=1,0,IF(BV5<>0,500,BQ5*$AE5/$AH5+BR5/$AH5*5+BS5/$AH5*25+BT5*50+BU5*50)))","v":3.7143653078280243},null,{"$f":"IF(C5<>\"\",C5,\"\")","v":211},1,null,null,null,null,null,null,null,{"$f":"IF($C5=\"\",\"\", IF(CI5=1,0,IF(CG5<>0,500,CB5*$AE5/$AH5+CC5/$AH5*5+CD5/$AH5*25+CE5*50+CF5*50)))","v":1.392886990435509},null,{"$f":"IF(C5<>\"\",C5,\"\")","v":211},1,null,null,null,null,null,null,null,{"$f":"IF($C5=\"\",\"\", IF(CT5=1,0,IF(CR5<>0,500,CM5*$AE5/$AH5+CN5/$AH5*5+CO5/$AH5*25+CP5*50+CQ5*50)))","v":1.392886990435509},null,{"$f":"IF(C5<>\"\",C5,\"\")","v":211},2,null,null,null,null,null,null,null,{"$f":"IF($C5=\"\",\"\", IF(DE5=1,0,IF(DC5<>0,500,CX5*$AE5/$AH5+CY5/$AH5*5+CZ5/$AH5*25+DA5*50+DB5*50)))","v":2.785773980871018},null,{"$f":"IF(C5<>\"\",C5,\"\")","v":211},1,null,null,null,null,null,null,null,{"$f":"IF($C5=\"\",\"\", IF(DP5=1,0,IF(DN5<>0,500,DI5*$AE5/$AH5+DJ5/$AH5*5+DK5/$AH5*25+DL5*50+DM5*50)))","v":1.392886990435509},null,{"$f":"IF(C5<>\"\",C5,\"\")","v":211},2,1,null,null,null,null,null,null,{"$f":"IF($C5=\"\",\"\", IF(EA5=1,0,IF(DY5<>0,500,DT5*$AE5/$AH5+DU5/$AH5*5+DV5/$AH5*25+DW5*50+DX5*50)))","v":5.1072522982635338},null,{"$f":"IF(C5<>\"\",C5,\"\")","v":211},null,null,null,null,null,null,null,1,{"$f":"IF($C5=\"\",\"\", IF(EL5=1,0,IF(EJ5<>0,500,EE5*$AE5/$AH5+EF5/$AH5*5+EG5/$AH5*25+EH5*50+EI5*50)))","v":0},null,{"$f":"IF(C5<>\"\",C5,\"\")","v":211},null,null,null,null,null,null,null,1,{"$f":"IF($C5=\"\",\"\", IF(EW5=1,0,IF(EU5<>0,500,EP5*$AE5/$AH5+EQ5/$AH5*5+ER5/$AH5*25+ES5*50+ET5*50)))","v":0},null,{"$f":"IF(C5<>\"\",C5,\"\")","v":211},null,null,null,null,null,null,null,1,{"$f":"IF($C5=\"\",\"\", IF(FH5=1,0,IF(FF5<>0,500,FA5*$AE5/$AH5+FB5/$AH5*5+FC5/$AH5*25+FD5*50+FE5*50)))","v":0},null,{"$f":"IF(C5<>\"\",C5,\"\")","v":211},2,null,null,null,null,null,null,null,{"$f":"IF($C5=\"\",\"\", IF(FS5=1,0,IF(FQ5<>0,500,FL5*$AE5/$AH5+FM5/$AH5*5+FN5/$AH5*25+FO5*50+FP5*50)))","v":2.785773980871018},null,{"$f":"IF(C5<>\"\",C5,\"\")","v":211},null,null,1,null,null,null,null,null,{"$f":"IF($C5=\"\",\"\", IF(GD5=1,0,IF(GB5<>0,500,FW5*$AE5/$AH5+FX5/$AH5*5+FY5/$AH5*25+FZ5*50+GA5*50)))","v":11.607391586962576},null,{"$f":"IF(C5<>\"\",C5,\"\")","v":211},1,null,null,null,null,null,null,null,{"$f":"IF($C5=\"\",\"\", IF(GO5=1,0,IF(GM5<>0,500,GH5*$AE5/$AH5+GI5/$AH5*5+GJ5/$AH5*25+GK5*50+GL5*50)))","v":1.392886990435509},null,{"$f":"IF(C5<>\"\",C5,\"\")","v":211},3,null,null,null,1,null,"reversed to allready driven port",null,{"$f":"IF($C5=\"\",\"\", IF(GZ5=1,0,IF(GX5<>0,500,GS5*$AE5/$AH5+GT5/$AH5*5+GU5/$AH5*25+GV5*50+GW5*50)))","v":54.178660971306527},null,{"$f":"IF(C5<>\"\",C5,\"\")","v":211},null,null,null,null,null,null,null,1,{"$f":"IF($C5=\"\",\"\", IF(HK5=1,0,IF(HI5<>0,500,HD5*$AE5/$AH5+HE5/$AH5*5+HF5/$AH5*25+HG5*50+HH5*50)))","v":0},null,{"$f":"IF(C5<>\"\",C5,\"\")","v":211},null,null,null,null,null,null,null,null,{"$f":"IF($C5=\"\",\"\", IF(HV5=1,0,IF(HT5<>0,500,HO5*$AE5/$AH5+HP5/$AH5*5+HQ5/$AH5*25+HR5*50+HS5*50)))","v":0},null,{"$f":"IF(C5<>\"\",C5,\"\")","v":211},null,null,null,null,null,null,null,null,{"$f":"IF($C5=\"\",\"\", IF(IG5=1,0,IF(IE5<>0,500,HZ5*$AE5/$AH5+IA5/$AH5*5+IB5/$AH5*25+IC5*50+ID5*50)))","v":0}]
[null,{"$f":"IF(C6=0,\"\",ROW(C6)-4)","v":2},220,"Sweden","Mersu","Jani Huhtala","Visa Huhtala",{"$f":"IF(C6=0,\"\",IF(OR(BB6=1,BC6<>0),BC6,\"-\"))","v":13.257575757575756},{"$f":"IF(C6=0,\"\",IF(OR(BM6=1,BN6<>0),BN6,\"-\"))","v":8.0492424242424239},{"$f":"IF(C6=0,\"\",IF(OR(BX6=1,BY6<>0),BY6,\" -\"))","v":1.4204545454545454},{"$f":"IF(C6=0,\"\",IF(OR(CJ6<>0,CI6=1),CJ6,\" -\"))","v":1.4204545454545454},{"$f":"IF(C6=0,\"\",IF(OR(CU6<>0,CT6=1),CU6,\" -\"))","v":11.363636363636363},{"$f":"IF(C6=0,\"\",IF(OR(DF6<>0,DE6=1),DF6,\" -\"))","v":10.890151515151514},{"$f":"IF(C6=0,\"\",IF(OR(DQ6<>0,DP6=1),DQ6,\" -\"))","v":13.257575757575756},{"$f":"IF(C6=0,\"\",IF(OR(EB6<>0,EA6=1),EB6,\" -\"))","v":2.8409090909090908},{"$f":"IF(C6=0,\"\",IF(OR(EM6<>0,EL6=1),EM6,\" -\"))","v":0},{"$f":"IF(C6=0,\"\",IF(OR(EX6<>0,EW6=1),EX6,\" -\"))","v":0},{"$f":"IF(C6=0,\"\",IF(OR(FI6<>0,FH6=1),FI6,\" -\"))","v":4.2613636363636358},{"$f":"IF(C6=0,\"\",IF(OR(FT6<>0,FS6=1),FT6,\" -\"))","v":8.9962121212121211},{"$f":"IF(C6=0,\"\",IF(OR(GE6<>0,GD6=1),GE6,\" -\"))","v":3.7878787878787876},{"$f":"IF(C6=0,\"\",IF(OR(GP6<>0,GO6=1),GP6,\" -\"))","v":4.2613636363636358},{"$f":"IF(C6=0,\"\",IF(OR(HA6<>0,GZ6=1),HA6,\" -\"))","v":1.4204545454545454},{"$f":"IF(C6=0,\"\",IF(OR(HL6<>0,HK6=1),HL6,\" -\"))","v":8.0492424242424239},{"$f":"IF(C6=0,\"\",IF(AJ6<>0,AJ6,\" -\"))","v":" -"},{"$f":"IF(C6=0,\"\",IF(OR(HW6<>0,HV6=1),HW6,\" -\"))","v":" -"},{"$f":"IF(C6=0,\"\",IF(OR(IH6<>0,IG6=1),IH6,\" -\"))","v":" -"},{"$f":"IF(C6=0,\"\",IF(AL6=1,\"DNF\",IF(AL6=2,\"DSQ\",IF(AM6<>1,\"~ \"&ROUND(SUM(H6:X6),3),ROUND(SUM(H6:X6),3)))))","v":93.277000000000001},null,null,{"$f":"IF(C6<>\"\",C6,\"\")","v":220},{"$f":"IF(AD6<>\"\",3,\"\")","v":3},1760,2400,{"$f":"IF(AD6<>\"\",(AF6/1000*AG6/1000)/2,\"\")","v":2.1120000000000001},3,null,null,null,1,null,null,{"$f":"IF(C6=0,99999,IF(AL6>0,9999,SUM(H6:X6)-AN6))","v":93.276515151515156},{"$f":"IF(C6=0,99999,IF(AL6=1,9999,SUM(Y6:Z6)))","v":0},null,null,{"$f":"IF(C6<>\"\",C6,\"\")","v":220},1,null,1,null,null,null,null,null,{"$f":"IF($C6=\"\",\"\", IF(BB6=1,0,IF(AZ6<>0,500,AU6*$AE6/$AH6+AV6/$AH6*5+AW6/$AH6*25+AX6*50+AY6*50)))","v":13.257575757575756},null,{"$f":"IF(C6<>\"\",C6,\"\")","v":220},4,1,null,null,null,null,null,null,{"$f":"IF($C6=\"\",\"\", IF(BM6=1,0,IF(BK6<>0,500,BF6*$AE6/$AH6+BG6/$AH6*5+BH6/$AH6*25+BI6*50+BJ6*50)))","v":8.0492424242424239},null,{"$f":"IF(C6<>\"\",C6,\"\")","v":220},1,null,null,null,null,null,null,null,{"$f":"IF($C6=\"\",\"\", IF(BX6=1,0,IF(BV6<>0,500,BQ6*$AE6/$AH6+BR6/$AH6*5+BS6/$AH6*25+BT6*50+BU6*50)))","v":1.4204545454545454},null,{"$f":"IF(C6<>\"\",C6,\"\")","v":220},1,null,null,null,null,null,null,null,{"$f":"IF($C6=\"\",\"\", IF(CI6=1,0,IF(CG6<>0,500,CB6*$AE6/$AH6+CC6/$AH6*5+CD6/$AH6*25+CE6*50+CF6*50)))","v":1.4204545454545454},null,{"$f":"IF(C6<>\"\",C6,\"\")","v":220},8,null,null,null,null,null,null,null,{"$f":"IF($C6=\"\",\"\", IF(CT6=1,0,IF(CR6<>0,500,CM6*$AE6/$AH6+CN6/$AH6*5+CO6/$AH6*25+CP6*50+CQ6*50)))","v":11.363636363636363},null,{"$f":"IF(C6<>\"\",C6,\"\")","v":220},6,1,null,null,null,null,null,null,{"$f":"IF($C6=\"\",\"\", IF(DE6=1,0,IF(DC6<>0,500,CX6*$AE6/$AH6+CY6/$AH6*5+CZ6/$AH6*25+DA6*50+DB6*50)))","v":10.890151515151514},null,{"$f":"IF(C6<>\"\",C6,\"\")","v":220},1,null,1,null,null,null,null,null,{"$f":"IF($C6=\"\",\"\", IF(DP6=1,0,IF(DN6<>0,500,DI6*$AE6/$AH6+DJ6/$AH6*5+DK6/$AH6*25+DL6*50+DM6*50)))","v":13.257575757575756},null,{"$f":"IF(C6<>\"\",C6,\"\")","v":220},2,null,null,null,null,null,null,null,{"$f":"IF($C6=\"\",\"\", IF(EA6=1,0,IF(DY6<>0,500,DT6*$AE6/$AH6+DU6/$AH6*5+DV6/$AH6*25+DW6*50+DX6*50)))","v":2.8409090909090908},null,{"$f":"IF(C6<>\"\",C6,\"\")","v":220},null,null,null,null,null,null,null,1,{"$f":"IF($C6=\"\",\"\", IF(EL6=1,0,IF(EJ6<>0,500,EE6*$AE6/$AH6+EF6/$AH6*5+EG6/$AH6*25+EH6*50+EI6*50)))","v":0},null,{"$f":"IF(C6<>\"\",C6,\"\")","v":220},null,null,null,null,null,null,null,1,{"$f":"IF($C6=\"\",\"\", IF(EW6=1,0,IF(EU6<>0,500,EP6*$AE6/$AH6+EQ6/$AH6*5+ER6/$AH6*25+ES6*50+ET6*50)))","v":0},null,{"$f":"IF(C6<>\"\",C6,\"\")","v":220},3,null,null,null,null,null,null,null,{"$f":"IF($C6=\"\",\"\", IF(FH6=1,0,IF(FF6<>0,500,FA6*$AE6/$AH6+FB6/$AH6*5+FC6/$AH6*25+FD6*50+FE6*50)))","v":4.2613636363636358},null,{"$f":"IF(C6<>\"\",C6,\"\")","v":220},3,2,null,null,null,null,null,null,{"$f":"IF($C6=\"\",\"\", IF(FS6=1,0,IF(FQ6<>0,500,FL6*$AE6/$AH6+FM6/$AH6*5+FN6/$AH6*25+FO6*50+FP6*50)))","v":8.9962121212121211},null,{"$f":"IF(C6<>\"\",C6,\"\")","v":220},1,1,null,null,null,null,null,null,{"$f":"IF($C6=\"\",\"\", IF(GD6=1,0,IF(GB6<>0,500,FW6*$AE6/$AH6+FX6/$AH6*5+FY6/$AH6*25+FZ6*50+GA6*50)))","v":3.7878787878787876},null,{"$f":"IF(C6<>\"\",C6,\"\")","v":220},3,null,null,null,null,null,null,null,{"$f":"IF($C6=\"\",\"\", IF(GO6=1,0,IF(GM6<>0,500,GH6*$AE6/$AH6+GI6/$AH6*5+GJ6/$AH6*25+GK6*50+GL6*50)))","v":4.2613636363636358},null,{"$f":"IF(C6<>\"\",C6,\"\")","v":220},1,null,null,null,null,null,null,null,{"$f":"IF($C6=\"\",\"\", IF(GZ6=1,0,IF(GX6<>0,500,GS6*$AE6/$AH6+GT6/$AH6*5+GU6/$AH6*25+GV6*50+GW6*50)))","v":1.4204545454545454},null,{"$f":"IF(C6<>\"\",C6,\"\")","v":220},4,1,null,null,null,null,null,null,{"$f":"IF($C6=\"\",\"\", IF(HK6=1,0,IF(HI6<>0,500,HD6*$AE6/$AH6+HE6/$AH6*5+HF6/$AH6*25+HG6*50+HH6*50)))","v":8.0492424242424239},null,{"$f":"IF(C6<>\"\",C6,\"\")","v":220},null,null,null,null,null,null,null,null,{"$f":"IF($C6=\"\",\"\", IF(HV6=1,0,IF(HT6<>0,500,HO6*$AE6/$AH6+HP6/$AH6*5+HQ6/$AH6*25+HR6*50+HS6*50)))","v":0},null,{"$f":"IF(C6<>\"\",C6,\"\")","v":220},null,null,null,null,null,null,null,null,{"$f":"IF($C6=\"\",\"\", IF(IG6=1,0,IF(IE6<>0,500,HZ6*$AE6/$AH6+IA6/$AH6*5+IB6/$AH6*25+IC6*50+ID6*50)))","v":0}]
[null,{"$f":"IF(C7=0,\"\",ROW(C7)-4)","v":3},214,"Finland","Suzuki Jimny","Jimi Hämäläinen","Saku Juopperi",{"$f":"IF(C7=0,\"\",IF(OR(BB7=1,BC7<>0),BC7,\"-\"))","v":0},{"$f":"IF(C7=0,\"\",IF(OR(BM7=1,BN7<>0),BN7,\"-\"))","v":6.1111111111111107},{"$f":"IF(C7=0,\"\",IF(OR(BX7=1,BY7<>0),BY7,\" -\"))","v":0},{"$f":"IF(C7=0,\"\",IF(OR(CJ7<>0,CI7=1),CJ7,\" -\"))","v":0},{"$f":"IF(C7=0,\"\",IF(OR(CU7<>0,CT7=1),CU7,\" -\"))","v":5},{"$f":"IF(C7=0,\"\",IF(OR(DF7<>0,DE7=1),DF7,\" -\"))","v":106.66666666666666},{"$f":"IF(C7=0,\"\",IF(OR(DQ7<>0,DP7=1),DQ7,\" -\"))","v":0},{"$f":"IF(C7=0,\"\",IF(OR(EB7<>0,EA7=1),EB7,\" -\"))","v":1.6666666666666665},{"$f":"IF(C7=0,\"\",IF(OR(EM7<>0,EL7=1),EM7,\" -\"))","v":0},{"$f":"IF(C7=0,\"\",IF(OR(EX7<>0,EW7=1),EX7,\" -\"))","v":0},{"$f":"IF(C7=0,\"\",IF(OR(FI7<>0,FH7=1),FI7,\" -\"))","v":0},{"$f":"IF(C7=0,\"\",IF(OR(FT7<>0,FS7=1),FT7,\" -\"))","v":0},{"$f":"IF(C7=0,\"\",IF(OR(GE7<>0,GD7=1),GE7,\" -\"))","v":2.7777777777777777},{"$f":"IF(C7=0,\"\",IF(OR(GP7<>0,GO7=1),GP7,\" -\"))","v":0},{"$f":"IF(C7=0,\"\",IF(OR(HA7<>0,GZ7=1),HA7,\" -\"))","v":8.8888888888888893},{"$f":"IF(C7=0,\"\",IF(OR(HL7<>0,HK7=1),HL7,\" -\"))","v":13.888888888888889},{"$f":"IF(C7=0,\"\",IF(AJ7<>0,AJ7,\" -\"))","v":" -"},{"$f":"IF(C7=0,\"\",IF(OR(HW7<>0,HV7=1),HW7,\" -\"))","v":" -"},{"$f":"IF(C7=0,\"\",IF(OR(IH7<>0,IG7=1),IH7,\" -\"))","v":" -"},{"$f":"IF(C7=0,\"\",IF(AL7=1,\"DNF\",IF(AL7=2,\"DSQ\",IF(AM7<>1,\"~ \"&ROUND(SUM(H7:X7),3),ROUND(SUM(H7:X7),3)))))","v":145},null,null,{"$f":"IF(C7<>\"\",C7,\"\")","v":214},{"$f":"IF(AD7<>\"\",3,\"\")","v":3},1600,2250,{"$f":"IF(AD7<>\"\",(AF7/1000*AG7/1000)/2,\"\")","v":1.8},4,null,null,null,1,null,null,{"$f":"IF(C7=0,99999,IF(AL7>0,9999,SUM(H7:X7)-AN7))","v":145},{"$f":"IF(C7=0,99999,IF(AL7=1,9999,SUM(Y7:Z7)))","v":0},null,null,{"$f":"IF(C7<>\"\",C7,\"\")","v":214},null,null,null,null,null,null,null,1,{"$f":"IF($C7=\"\",\"\", IF(BB7=1,0,IF(AZ7<>0,500,AU7*$AE7/$AH7+AV7/$AH7*5+AW7/$AH7*25+AX7*50+AY7*50)))","v":0},null,{"$f":"IF(C7<>\"\",C7,\"\")","v":214},2,1,null,null,null,null,null,null,{"$f":"IF($C7=\"\",\"\", IF(BM7=1,0,IF(BK7<>0,500,BF7*$AE7/$AH7+BG7/$AH7*5+BH7/$AH7*25+BI7*50+BJ7*50)))","v":6.1111111111111107},null,{"$f":"IF(C7<>\"\",C7,\"\")","v":214},null,null,null,null,null,null,null,1,{"$f":"IF($C7=\"\",\"\", IF(BX7=1,0,IF(BV7<>0,500,BQ7*$AE7/$AH7+BR7/$AH7*5+BS7/$AH7*25+BT7*50+BU7*50)))","v":0},null,{"$f":"IF(C7<>\"\",C7,\"\")","v":214},null,null,null,null,null,null,null,1,{"$f":"IF($C7=\"\",\"\", IF(CI7=1,0,IF(CG7<>0,500,CB7*$AE7/$AH7+CC7/$AH7*5+CD7/$AH7*25+CE7*50+CF7*50)))","v":0},null,{"$f":"IF(C7<>\"\",C7,\"\")","v":214},3,null,null,null,null,null,null,null,{"$f":"IF($C7=\"\",\"\", IF(CT7=1,0,IF(CR7<>0,500,CM7*$AE7/$AH7+CN7/$AH7*5+CO7/$AH7*25+CP7*50+CQ7*50)))","v":5},null,{"$f":"IF(C7<>\"\",C7,\"\")","v":214},4,null,null,1,1,null,"time",null,{"$f":"IF($C7=\"\",\"\", IF(DE7=1,0,IF(DC7<>0,500,CX7*$AE7/$AH7+CY7/$AH7*5+CZ7/$AH7*25+DA7*50+DB7*50)))","v":106.66666666666666},null,{"$f":"IF(C7<>\"\",C7,\"\")","v":214},null,null,null,null,null,null,null,1,{"$f":"IF($C7=\"\",\"\", IF(DP7=1,0,IF(DN7<>0,500,DI7*$AE7/$AH7+DJ7/$AH7*5+DK7/$AH7*25+DL7*50+DM7*50)))","v":0},null,{"$f":"IF(C7<>\"\",C7,\"\")","v":214},1,null,null,null,null,null,null,null,{"$f":"IF($C7=\"\",\"\", IF(EA7=1,0,IF(DY7<>0,500,DT7*$AE7/$AH7+DU7/$AH7*5+DV7/$AH7*25+DW7*50+DX7*50)))","v":1.6666666666666665},null,{"$f":"IF(C7<>\"\",C7,\"\")","v":214},null,null,null,null,null,null,null,1,{"$f":"IF($C7=\"\",\"\", IF(EL7=1,0,IF(EJ7<>0,500,EE7*$AE7/$AH7+EF7/$AH7*5+EG7/$AH7*25+EH7*50+EI7*50)))","v":0},null,{"$f":"IF(C7<>\"\",C7,\"\")","v":214},null,null,null,null,null,null,null,1,{"$f":"IF($C7=\"\",\"\", IF(EW7=1,0,IF(EU7<>0,500,EP7*$AE7/$AH7+EQ7/$AH7*5+ER7/$AH7*25+ES7*50+ET7*50)))","v":0},null,{"$f":"IF(C7<>\"\",C7,\"\")","v":214},null,null,null,null,null,null,null,1,{"$f":"IF($C7=\"\",\"\", IF(FH7=1,0,IF(FF7<>0,500,FA7*$AE7/$AH7+FB7/$AH7*5+FC7/$AH7*25+FD7*50+FE7*50)))","v":0},null,{"$f":"IF(C7<>\"\",C7,\"\")","v":214},null,null,null,null,null,null,null,1,{"$f":"IF($C7=\"\",\"\", IF(FS7=1,0,IF(FQ7<>0,500,FL7*$AE7/$AH7+FM7/$AH7*5+FN7/$AH7*25+FO7*50+FP7*50)))","v":0},null,{"$f":"IF(C7<>\"\",C7,\"\")","v":214},null,1,null,null,null,null,null,null,{"$f":"IF($C7=\"\",\"\", IF(GD7=1,0,IF(GB7<>0,500,FW7*$AE7/$AH7+FX7/$AH7*5+FY7/$AH7*25+FZ7*50+GA7*50)))","v":2.7777777777777777},null,{"$f":"IF(C7<>\"\",C7,\"\")","v":214},null,null,null,null,null,null,null,1,{"$f":"IF($C7=\"\",\"\", IF(GO7=1,0,IF(GM7<>0,500,GH7*$AE7/$AH7+GI7/$AH7*5+GJ7/$AH7*25+GK7*50+GL7*50)))","v":0},null,{"$f":"IF(C7<>\"\",C7,\"\")","v":214},2,2,null,null,null,null,null,null,{"$f":"IF($C7=\"\",\"\", IF(GZ7=1,0,IF(GX7<>0,500,GS7*$AE7/$AH7+GT7/$AH7*5+GU7/$AH7*25+GV7*50+GW7*50)))","v":8.8888888888888893},null,{"$f":"IF(C7<>\"\",C7,\"\")","v":214},null,null,1,null,null,null,null,null,{"$f":"IF($C7=\"\",\"\", IF(HK7=1,0,IF(HI7<>0,500,HD7*$AE7/$AH7+HE7/$AH7*5+HF7/$AH7*25+HG7*50+HH7*50)))","v":13.888888888888889},null,{"$f":"IF(C7<>\"\",C7,\"\")","v":214},null,null,null,null,null,null,null,null,{"$f":"IF($C7=\"\",\"\", IF(HV7=1,0,IF(HT7<>0,500,HO7*$AE7/$AH7+HP7/$AH7*5+HQ7/$AH7*25+HR7*50+HS7*50)))","v":0},null,{"$f":"IF(C7<>\"\",C7,\"\")","v":214},null,null,null,null,null,null,null,null,{"$f":"IF($C7=\"\",\"\", IF(IG7=1,0,IF(IE7<>0,500,HZ7*$AE7/$AH7+IA7/$AH7*5+IB7/$AH7*25+IC7*50+ID7*50)))","v":0}]
[null,{"$f":"IF(C8=0,\"\",ROW(C8)-4)","v":4},206,"Finland","Jeep Cherokee","Veeti Orvasto","Joel Asp",{"$f":"IF(C8=0,\"\",IF(OR(BB8=1,BC8<>0),BC8,\"-\"))","v":2.2799817601459189},{"$f":"IF(C8=0,\"\",IF(OR(BM8=1,BN8<>0),BN8,\"-\"))","v":5.4719562243502047},{"$f":"IF(C8=0,\"\",IF(OR(BX8=1,BY8<>0),BY8,\" -\"))","v":11.399908800729595},{"$f":"IF(C8=0,\"\",IF(OR(CJ8<>0,CI8=1),CJ8,\" -\"))","v":2.7359781121751023},{"$f":"IF(C8=0,\"\",IF(OR(CU8<>0,CT8=1),CU8,\" -\"))","v":5.4719562243502047},{"$f":"IF(C8=0,\"\",IF(OR(DF8<>0,DE8=1),DF8,\" -\"))","v":5.4719562243502047},{"$f":"IF(C8=0,\"\",IF(OR(DQ8<>0,DP8=1),DQ8,\" -\"))","v":2.7359781121751023},{"$f":"IF(C8=0,\"\",IF(OR(EB8<>0,EA8=1),EB8,\" -\"))","v":114.1358869129047},{"$f":"IF(C8=0,\"\",IF(OR(EM8<>0,EL8=1),EM8,\" -\"))","v":0},{"$f":"IF(C8=0,\"\",IF(OR(EX8<>0,EW8=1),EX8,\" -\"))","v":0},{"$f":"IF(C8=0,\"\",IF(OR(FI8<>0,FH8=1),FI8,\" -\"))","v":1.3679890560875512},{"$f":"IF(C8=0,\"\",IF(OR(FT8<>0,FS8=1),FT8,\" -\"))","v":3.6479708162334701},{"$f":"IF(C8=0,\"\",IF(OR(GE8<>0,GD8=1),GE8,\" -\"))","v":0},{"$f":"IF(C8=0,\"\",IF(OR(GP8<>0,GO8=1),GP8,\" -\"))","v":0},{"$f":"IF(C8=0,\"\",IF(OR(HA8<>0,GZ8=1),HA8,\" -\"))","v":3.6479708162334701},{"$f":"IF(C8=0,\"\",IF(OR(HL8<>0,HK8=1),HL8,\" -\"))","v":0},{"$f":"IF(C8=0,\"\",IF(AJ8<>0,AJ8,\" -\"))","v":" -"},{"$f":"IF(C8=0,\"\",IF(OR(HW8<>0,HV8=1),HW8,\" -\"))","v":" -"},{"$f":"IF(C8=0,\"\",IF(OR(IH8<>0,IG8=1),IH8,\" -\"))","v":" -"},{"$f":"IF(C8=0,\"\",IF(AL8=1,\"DNF\",IF(AL8=2,\"DSQ\",IF(AM8<>1,\"~ \"&ROUND(SUM(H8:X8),3),ROUND(SUM(H8:X8),3)))))","v":158.36799999999999},null,null,{"$f":"IF(C8<>\"\",C8,\"\")","v":206},{"$f":"IF(AD8<>\"\",3,\"\")","v":3},1720,2550,{"$f":"IF(AD8<>\"\",(AF8/1000*AG8/1000)/2,\"\")","v":2.1930000000000001},2,null,null,null,1,null,null,{"$f":"IF(C8=0,99999,IF(AL8>0,9999,SUM(H8:X8)-AN8))","v":158.36753305973554},{"$f":"IF(C8=0,99999,IF(AL8=1,9999,SUM(Y8:Z8)))","v":0},null,null,{"$f":"IF(C8<>\"\",C8,\"\")","v":206},null,1,null,null,null,null,null,null,{"$f":"IF($C8=\"\",\"\", IF(BB8=1,0,IF(AZ8<>0,500,AU8*$AE8/$AH8+AV8/$AH8*5+AW8/$AH8*25+AX8*50+AY8*50)))","v":2.2799817601459189},null,{"$f":"IF(C8<>\"\",C8,\"\")","v":206},4,null,null,null,null,null,null,null,{"$f":"IF($C8=\"\",\"\", IF(BM8=1,0,IF(BK8<>0,500,BF8*$AE8/$AH8+BG8/$AH8*5+BH8/$AH8*25+BI8*50+BJ8*50)))","v":5.4719562243502047},null,{"$f":"IF(C8<>\"\",C8,\"\")","v":206},null,null,1,null,null,null,null,null,{"$f":"IF($C8=\"\",\"\", IF(BX8=1,0,IF(BV8<>0,500,BQ8*$AE8/$AH8+BR8/$AH8*5+BS8/$AH8*25+BT8*50+BU8*50)))","v":11.399908800729595},null,{"$f":"IF(C8<>\"\",C8,\"\")","v":206},2,null,null,null,null,null,null,null,{"$f":"IF($C8=\"\",\"\", IF(CI8=1,0,IF(CG8<>0,500,CB8*$AE8/$AH8+CC8/$AH8*5+CD8/$AH8*25+CE8*50+CF8*50)))","v":2.7359781121751023},null,{"$f":"IF(C8<>\"\",C8,\"\")","v":206},4,null,null,null,null,null,null,null,{"$f":"IF($C8=\"\",\"\", IF(CT8=1,0,IF(CR8<>0,500,CM8*$AE8/$AH8+CN8/$AH8*5+CO8/$AH8*25+CP8*50+CQ8*50)))","v":5.4719562243502047},null,{"$f":"IF(C8<>\"\",C8,\"\")","v":206},4,null,null,null,null,null,null,null,{"$f":"IF($C8=\"\",\"\", IF(DE8=1,0,IF(DC8<>0,500,CX8*$AE8/$AH8+CY8/$AH8*5+CZ8/$AH8*25+DA8*50+DB8*50)))","v":5.4719562243502047},null,{"$f":"IF(C8<>\"\",C8,\"\")","v":206},2,null,null,null,null,null,null,null,{"$f":"IF($C8=\"\",\"\", IF(DP8=1,0,IF(DN8<>0,500,DI8*$AE8/$AH8+DJ8/$AH8*5+DK8/$AH8*25+DL8*50+DM8*50)))","v":2.7359781121751023},null,{"$f":"IF(C8<>\"\",C8,\"\")","v":206},7,2,null,1,1,null,null,null,{"$f":"IF($C8=\"\",\"\", IF(EA8=1,0,IF(DY8<>0,500,DT8*$AE8/$AH8+DU8/$AH8*5+DV8/$AH8*25+DW8*50+DX8*50)))","v":114.1358869129047},null,{"$f":"IF(C8<>\"\",C8,\"\")","v":206},null,null,null,null,null,null,null,1,{"$f":"IF($C8=\"\",\"\", IF(EL8=1,0,IF(EJ8<>0,500,EE8*$AE8/$AH8+EF8/$AH8*5+EG8/$AH8*25+EH8*50+EI8*50)))","v":0},null,{"$f":"IF(C8<>\"\",C8,\"\")","v":206},null,null,null,null,null,null,null,1,{"$f":"IF($C8=\"\",\"\", IF(EW8=1,0,IF(EU8<>0,500,EP8*$AE8/$AH8+EQ8/$AH8*5+ER8/$AH8*25+ES8*50+ET8*50)))","v":0},null,{"$f":"IF(C8<>\"\",C8,\"\")","v":206},1,null,null,null,null,null,null,null,{"$f":"IF($C8=\"\",\"\", IF(FH8=1,0,IF(FF8<>0,500,FA8*$AE8/$AH8+FB8/$AH8*5+FC8/$AH8*25+FD8*50+FE8*50)))","v":1.3679890560875512},null,{"$f":"IF(C8<>\"\",C8,\"\")","v":206},1,1,null,null,null,null,null,null,{"$f":"IF($C8=\"\",\"\", IF(FS8=1,0,IF(FQ8<>0,500,FL8*$AE8/$AH8+FM8/$AH8*5+FN8/$AH8*25+FO8*50+FP8*50)))","v":3.6479708162334701},null,{"$f":"IF(C8<>\"\",C8,\"\")","v":206},null,null,null,null,null,null,null,1,{"$f":"IF($C8=\"\",\"\", IF(GD8=1,0,IF(GB8<>0,500,FW8*$AE8/$AH8+FX8/$AH8*5+FY8/$AH8*25+FZ8*50+GA8*50)))","v":0},null,{"$f":"IF(C8<>\"\",C8,\"\")","v":206},null,null,null,null,null,null,null,1,{"$f":"IF($C8=\"\",\"\", IF(GO8=1,0,IF(GM8<>0,500,GH8*$AE8/$AH8+GI8/$AH8*5+GJ8/$AH8*25+GK8*50+GL8*50)))","v":0},null,{"$f":"IF(C8<>\"\",C8,\"\")","v":206},1,1,null,null,null,null,null,null,{"$f":"IF($C8=\"\",\"\", IF(GZ8=1,0,IF(GX8<>0,500,GS8*$AE8/$AH8+GT8/$AH8*5+GU8/$AH8*25+GV8*50+GW8*50)))","v":3.6479708162334701},null,{"$f":"IF(C8<>\"\",C8,\"\")","v":206},null,null,null,null,null,null,null,1,{"$f":"IF($C8=\"\",\"\", IF(HK8=1,0,IF(HI8<>0,500,HD8*$AE8/$AH8+HE8/$AH8*5+HF8/$AH8*25+HG8*50+HH8*50)))","v":0},null,{"$f":"IF(C8<>\"\",C8,\"\")","v":206},null,null,null,null,null,null,null,null,{"$f":"IF($C8=\"\",\"\", IF(HV8=1,0,IF(HT8<>0,500,HO8*$AE8/$AH8+HP8/$AH8*5+HQ8/$AH8*25+HR8*50+HS8*50)))","v":0},null,{"$f":"IF(C8<>\"\",C8,\"\")","v":206},null,null,null,null,null,null,null,null,{"$f":"IF($C8=\"\",\"\", IF(IG8=1,0,IF(IE8<>0,500,HZ8*$AE8/$AH8+IA8/$AH8*5+IB8/$AH8*25+IC8*50+ID8*50)))","v":0}]
[null,{"$f":"IF(C9=0,\"\",ROW(C9)-4)","v":5},203,"Germany","Suzuki Samurai","Max Zehnder","Sarah Wild",{"$f":"IF(C9=0,\"\",IF(OR(BB9=1,BC9<>0),BC9,\"-\"))","v":3.3973161202649909},{"$f":"IF(C9=0,\"\",IF(OR(BM9=1,BN9<>0),BN9,\"-\"))","v":8.1535586886359788},{"$f":"IF(C9=0,\"\",IF(OR(BX9=1,BY9<>0),BY9,\" -\"))","v":22.422286393748941},{"$f":"IF(C9=0,\"\",IF(OR(CJ9<>0,CI9=1),CJ9,\" -\"))","v":0},{"$f":"IF(C9=0,\"\",IF(OR(CU9<>0,CT9=1),CU9,\" -\"))","v":0},{"$f":"IF(C9=0,\"\",IF(OR(DF9<>0,DE9=1),DF9,\" -\"))","v":8.1535586886359788},{"$f":"IF(C9=0,\"\",IF(OR(DQ9<>0,DP9=1),DQ9,\" -\"))","v":2.0383896721589947},{"$f":"IF(C9=0,\"\",IF(OR(EB9<>0,EA9=1),EB9,\" -\"))","v":150},{"$f":"IF(C9=0,\"\",IF(OR(EM9<>0,EL9=1),EM9,\" -\"))","v":0},{"$f":"IF(C9=0,\"\",IF(OR(EX9<>0,EW9=1),EX9,\" -\"))","v":0},{"$f":"IF(C9=0,\"\",IF(OR(FI9<>0,FH9=1),FI9,\" -\"))","v":0},{"$f":"IF(C9=0,\"\",IF(OR(FT9<>0,FS9=1),FT9,\" -\"))","v":2.0383896721589947},{"$f":"IF(C9=0,\"\",IF(OR(GE9<>0,GD9=1),GE9,\" -\"))","v":0},{"$f":"IF(C9=0,\"\",IF(OR(GP9<>0,GO9=1),GP9,\" -\"))","v":2.0383896721589947},{"$f":"IF(C9=0,\"\",IF(OR(HA9<>0,GZ9=1),HA9,\" -\"))","v":2.0383896721589947},{"$f":"IF(C9=0,\"\",IF(OR(HL9<>0,HK9=1),HL9,\" -\"))","v":0},{"$f":"IF(C9=0,\"\",IF(AJ9<>0,AJ9,\" -\"))","v":" -"},{"$f":"IF(C9=0,\"\",IF(OR(HW9<>0,HV9=1),HW9,\" -\"))","v":" -"},{"$f":"IF(C9=0,\"\",IF(OR(IH9<>0,IG9=1),IH9,\" -\"))","v":" -"},{"$f":"IF(C9=0,\"\",IF(AL9=1,\"DNF\",IF(AL9=2,\"DSQ\",IF(AM9<>1,\"~ \"&ROUND(SUM(H9:X9),3),ROUND(SUM(H9:X9),3)))))","v":200.28},null,null,{"$f":"IF(C9<>\"\",C9,\"\")","v":203},{"$f":"IF(AD9<>\"\",3,\"\")","v":3},1450,2030,{"$f":"IF(AD9<>\"\",(AF9/1000*AG9/1000)/2,\"\")","v":1.4717499999999999},5,null,null,null,1,null,null,{"$f":"IF(C9=0,99999,IF(AL9>0,9999,SUM(H9:X9)-AN9))","v":200.28027857992183},{"$f":"IF(C9=0,99999,IF(AL9=1,9999,SUM(Y9:Z9)))","v":0},null,null,{"$f":"IF(C9<>\"\",C9,\"\")","v":203},null,1,null,null,null,null,null,null,{"$f":"IF($C9=\"\",\"\", IF(BB9=1,0,IF(AZ9<>0,500,AU9*$AE9/$AH9+AV9/$AH9*5+AW9/$AH9*25+AX9*50+AY9*50)))","v":3.3973161202649909},null,{"$f":"IF(C9<>\"\",C9,\"\")","v":203},4,null,null,null,null,null,null,null,{"$f":"IF($C9=\"\",\"\", IF(BM9=1,0,IF(BK9<>0,500,BF9*$AE9/$AH9+BG9/$AH9*5+BH9/$AH9*25+BI9*50+BJ9*50)))","v":8.1535586886359788},null,{"$f":"IF(C9<>\"\",C9,\"\")","v":203},1,1,1,null,null,null,null,null,{"$f":"IF($C9=\"\",\"\", IF(BX9=1,0,IF(BV9<>0,500,BQ9*$AE9/$AH9+BR9/$AH9*5+BS9/$AH9*25+BT9*50+BU9*50)))","v":22.422286393748941},null,{"$f":"IF(C9<>\"\",C9,\"\")","v":203},null,null,null,null,null,null,null,1,{"$f":"IF($C9=\"\",\"\", IF(CI9=1,0,IF(CG9<>0,500,CB9*$AE9/$AH9+CC9/$AH9*5+CD9/$AH9*25+CE9*50+CF9*50)))","v":0},null,{"$f":"IF(C9<>\"\",C9,\"\")","v":203},null,null,null,null,null,null,null,1,{"$f":"IF($C9=\"\",\"\", IF(CT9=1,0,IF(CR9<>0,500,CM9*$AE9/$AH9+CN9/$AH9*5+CO9/$AH9*25+CP9*50+CQ9*50)))","v":0},null,{"$f":"IF(C9<>\"\",C9,\"\")","v":203},4,null,null,null,null,null,null,null,{"$f":"IF($C9=\"\",\"\", IF(DE9=1,0,IF(DC9<>0,500,CX9*$AE9/$AH9+CY9/$AH9*5+CZ9/$AH9*25+DA9*50+DB9*50)))","v":8.1535586886359788},null,{"$f":"IF(C9<>\"\",C9,\"\")","v":203},1,null,null,null,null,null,null,null,{"$f":"IF($C9=\"\",\"\", IF(DP9=1,0,IF(DN9<>0,500,DI9*$AE9/$AH9+DJ9/$AH9*5+DK9/$AH9*25+DL9*50+DM9*50)))","v":2.0383896721589947},null,{"$f":"IF(C9<>\"\",C9,\"\")","v":203},null,null,null,2,1,null,"door opened during stage",null,{"$f":"IF($C9=\"\",\"\", IF(EA9=1,0,IF(DY9<>0,500,DT9*$AE9/$AH9+DU9/$AH9*5+DV9/$AH9*25+DW9*50+DX9*50)))","v":150},null,{"$f":"IF(C9<>\"\",C9,\"\")","v":203},null,null,null,null,null,null,null,1,{"$f":"IF($C9=\"\",\"\", IF(EL9=1,0,IF(EJ9<>0,500,EE9*$AE9/$AH9+EF9/$AH9*5+EG9/$AH9*25+EH9*50+EI9*50)))","v":0},null,{"$f":"IF(C9<>\"\",C9,\"\")","v":203},null,null,null,null,null,null,null,1,{"$f":"IF($C9=\"\",\"\", IF(EW9=1,0,IF(EU9<>0,500,EP9*$AE9/$AH9+EQ9/$AH9*5+ER9/$AH9*25+ES9*50+ET9*50)))","v":0},null,{"$f":"IF(C9<>\"\",C9,\"\")","v":203},null,null,null,null,null,null,null,1,{"$f":"IF($C9=\"\",\"\", IF(FH9=1,0,IF(FF9<>0,500,FA9*$AE9/$AH9+FB9/$AH9*5+FC9/$AH9*25+FD9*50+FE9*50)))","v":0},null,{"$f":"IF(C9<>\"\",C9,\"\")","v":203},1,null,null,null,null,null,null,null,{"$f":"IF($C9=\"\",\"\", IF(FS9=1,0,IF(FQ9<>0,500,FL9*$AE9/$AH9+FM9/$AH9*5+FN9/$AH9*25+FO9*50+FP9*50)))","v":2.0383896721589947},null,{"$f":"IF(C9<>\"\",C9,\"\")","v":203},null,null,null,null,null,null,null,1,{"$f":"IF($C9=\"\",\"\", IF(GD9=1,0,IF(GB9<>0,500,FW9*$AE9/$AH9+FX9/$AH9*5+FY9/$AH9*25+FZ9*50+GA9*50)))","v":0},null,{"$f":"IF(C9<>\"\",C9,\"\")","v":203},1,null,null,null,null,null,null,null,{"$f":"IF($C9=\"\",\"\", IF(GO9=1,0,IF(GM9<>0,500,GH9*$AE9/$AH9+GI9/$AH9*5+GJ9/$AH9*25+GK9*50+GL9*50)))","v":2.0383896721589947},null,{"$f":"IF(C9<>\"\",C9,\"\")","v":203},1,null,null,null,null,null,null,null,{"$f":"IF($C9=\"\",\"\", IF(GZ9=1,0,IF(GX9<>0,500,GS9*$AE9/$AH9+GT9/$AH9*5+GU9/$AH9*25+GV9*50+GW9*50)))","v":2.0383896721589947},null,{"$f":"IF(C9<>\"\",C9,\"\")","v":203},null,null,null,null,null,null,null,1,{"$f":"IF($C9=\"\",\"\", IF(HK9=1,0,IF(HI9<>0,500,HD9*$AE9/$AH9+HE9/$AH9*5+HF9/$AH9*25+HG9*50+HH9*50)))","v":0},null,{"$f":"IF(C9<>\"\",C9,\"\")","v":203},null,null,null,null,null,null,null,null,{"$f":"IF($C9=\"\",\"\", IF(HV9=1,0,IF(HT9<>0,500,HO9*$AE9/$AH9+HP9/$AH9*5+HQ9/$AH9*25+HR9*50+HS9*50)))","v":0},null,{"$f":"IF(C9<>\"\",C9,\"\")","v":203},null,null,null,null,null,null,null,null,{"$f":"IF($C9=\"\",\"\", IF(IG9=1,0,IF(IE9<>0,500,HZ9*$AE9/$AH9+IA9/$AH9*5+IB9/$AH9*25+IC9*50+ID9*50)))","v":0}]
[null,{"$f":"IF(C10=0,\"\",ROW(C10)-4)","v":6},210,"Austria","Suzuki Samurai","Christian Wegscheider",null,{"$f":"IF(C10=0,\"\",IF(OR(BB10=1,BC10<>0),BC10,\"-\"))","v":0},{"$f":"IF(C10=0,\"\",IF(OR(BM10=1,BN10<>0),BN10,\"-\"))","v":4.0767793443179894},{"$f":"IF(C10=0,\"\",IF(OR(BX10=1,BY10<>0),BY10,\" -\"))","v":2.0383896721589947},{"$f":"IF(C10=0,\"\",IF(OR(CJ10<>0,CI10=1),CJ10,\" -\"))","v":2.0383896721589947},{"$f":"IF(C10=0,\"\",IF(OR(CU10<>0,CT10=1),CU10,\" -\"))","v":8.1535586886359788},{"$f":"IF(C10=0,\"\",IF(OR(DF10<>0,DE10=1),DF10,\" -\"))","v":116.30711737727196},{"$f":"IF(C10=0,\"\",IF(OR(DQ10<>0,DP10=1),DQ10,\" -\"))","v":5.4357057924239855},{"$f":"IF(C10=0,\"\",IF(OR(EB10<>0,EA10=1),EB10,\" -\"))","v":11.55087480890097},{"$f":"IF(C10=0,\"\",IF(OR(EM10<>0,EL10=1),EM10,\" -\"))","v":0},{"$f":"IF(C10=0,\"\",IF(OR(EX10<>0,EW10=1),EX10,\" -\"))","v":3.3973161202649909},{"$f":"IF(C10=0,\"\",IF(OR(FI10<>0,FH10=1),FI10,\" -\"))","v":2.0383896721589947},{"$f":"IF(C10=0,\"\",IF(OR(FT10<>0,FS10=1),FT10,\" -\"))","v":200},{"$f":"IF(C10=0,\"\",IF(OR(GE10<>0,GD10=1),GE10,\" -\"))","v":0},{"$f":"IF(C10=0,\"\",IF(OR(GP10<>0,GO10=1),GP10,\" -\"))","v":2.0383896721589947},{"$f":"IF(C10=0,\"\",IF(OR(HA10<>0,GZ10=1),HA10,\" -\"))","v":5.4357057924239855},{"$f":"IF(C10=0,\"\",IF(OR(HL10<>0,HK10=1),HL10,\" -\"))","v":0},{"$f":"IF(C10=0,\"\",IF(AJ10<>0,AJ10,\" -\"))","v":" -"},{"$f":"IF(C10=0,\"\",IF(OR(HW10<>0,HV10=1),HW10,\" -\"))","v":" -"},{"$f":"IF(C10=0,\"\",IF(OR(IH10<>0,IG10=1),IH10,\" -\"))","v":" -"},{"$f":"IF(C10=0,\"\",IF(AL10=1,\"DNF\",IF(AL10=2,\"DSQ\",IF(AM10<>1,\"~ \"&ROUND(SUM(H10:X10),3),ROUND(SUM(H10:X10),3)))))","v":362.51100000000002},null,null,{"$f":"IF(C10<>\"\",C10,\"\")","v":210},{"$f":"IF(AD10<>\"\",3,\"\")","v":3},1450,2030,{"$f":"IF(AD10<>\"\",(AF10/1000*AG10/1000)/2,\"\")","v":1.4717499999999999},5,null,null,null,1,null,null,{"$f":"IF(C10=0,99999,IF(AL10>0,9999,SUM(H10:X10)-AN10))","v":362.51061661287582},{"$f":"IF(C10=0,99999,IF(AL10=1,9999,SUM(Y10:Z10)))","v":0},null,null,{"$f":"IF(C10<>\"\",C10,\"\")","v":210},null,null,null,null,null,null,null,1,{"$f":"IF($C10=\"\",\"\", IF(BB10=1,0,IF(AZ10<>0,500,AU10*$AE10/$AH10+AV10/$AH10*5+AW10/$AH10*25+AX10*50+AY10*50)))","v":0},null,{"$f":"IF(C10<>\"\",C10,\"\")","v":210},2,null,null,null,null,null,null,null,{"$f":"IF($C10=\"\",\"\", IF(BM10=1,0,IF(BK10<>0,500,BF10*$AE10/$AH10+BG10/$AH10*5+BH10/$AH10*25+BI10*50+BJ10*50)))","v":4.0767793443179894},null,{"$f":"IF(C10<>\"\",C10,\"\")","v":210},1,null,null,null,null,null,null,null,{"$f":"IF($C10=\"\",\"\", IF(BX10=1,0,IF(BV10<>0,500,BQ10*$AE10/$AH10+BR10/$AH10*5+BS10/$AH10*25+BT10*50+BU10*50)))","v":2.0383896721589947},null,{"$f":"IF(C10<>\"\",C10,\"\")","v":210},1,null,null,null,null,null,null,null,{"$f":"IF($C10=\"\",\"\", IF(CI10=1,0,IF(CG10<>0,500,CB10*$AE10/$AH10+CC10/$AH10*5+CD10/$AH10*25+CE10*50+CF10*50)))","v":2.0383896721589947},null,{"$f":"IF(C10<>\"\",C10,\"\")","v":210},4,null,null,null,null,null,null,null,{"$f":"IF($C10=\"\",\"\", IF(CT10=1,0,IF(CR10<>0,500,CM10*$AE10/$AH10+CN10/$AH10*5+CO10/$AH10*25+CP10*50+CQ10*50)))","v":8.1535586886359788},null,{"$f":"IF(C10<>\"\",C10,\"\")","v":210},8,null,null,1,1,null,"time",null,{"$f":"IF($C10=\"\",\"\", IF(DE10=1,0,IF(DC10<>0,500,CX10*$AE10/$AH10+CY10/$AH10*5+CZ10/$AH10*25+DA10*50+DB10*50)))","v":116.30711737727196},null,{"$f":"IF(C10<>\"\",C10,\"\")","v":210},1,1,null,null,null,null,null,null,{"$f":"IF($C10=\"\",\"\", IF(DP10=1,0,IF(DN10<>0,500,DI10*$AE10/$AH10+DJ10/$AH10*5+DK10/$AH10*25+DL10*50+DM10*50)))","v":5.4357057924239855},null,{"$f":"IF(C10<>\"\",C10,\"\")","v":210},4,1,null,null,null,null,null,null,{"$f":"IF($C10=\"\",\"\", IF(EA10=1,0,IF(DY10<>0,500,DT10*$AE10/$AH10+DU10/$AH10*5+DV10/$AH10*25+DW10*50+DX10*50)))","v":11.55087480890097},null,{"$f":"IF(C10<>\"\",C10,\"\")","v":210},null,null,null,null,null,null,null,1,{"$f":"IF($C10=\"\",\"\", IF(EL10=1,0,IF(EJ10<>0,500,EE10*$AE10/$AH10+EF10/$AH10*5+EG10/$AH10*25+EH10*50+EI10*50)))","v":0},null,{"$f":"IF(C10<>\"\",C10,\"\")","v":210},null,1,null,null,null,null,null,null,{"$f":"IF($C10=\"\",\"\", IF(EW10=1,0,IF(EU10<>0,500,EP10*$AE10/$AH10+EQ10/$AH10*5+ER10/$AH10*25+ES10*50+ET10*50)))","v":3.3973161202649909},null,{"$f":"IF(C10<>\"\",C10,\"\")","v":210},1,null,null,null,null,null,null,null,{"$f":"IF($C10=\"\",\"\", IF(FH10=1,0,IF(FF10<>0,500,FA10*$AE10/$AH10+FB10/$AH10*5+FC10/$AH10*25+FD10*50+FE10*50)))","v":2.0383896721589947},null,{"$f":"IF(C10<>\"\",C10,\"\")","v":210},null,null,null,3,1,null,"wrong direction",null,{"$f":"IF($C10=\"\",\"\", IF(FS10=1,0,IF(FQ10<>0,500,FL10*$AE10/$AH10+FM10/$AH10*5+FN10/$AH10*25+FO10*50+FP10*50)))","v":200},null,{"$f":"IF(C10<>\"\",C10,\"\")","v":210},null,null,null,null,null,null,null,1,{"$f":"IF($C10=\"\",\"\", IF(GD10=1,0,IF(GB10<>0,500,FW10*$AE10/$AH10+FX10/$AH10*5+FY10/$AH10*25+FZ10*50+GA10*50)))","v":0},null,{"$f":"IF(C10<>\"\",C10,\"\")","v":210},1,null,null,null,null,null,null,null,{"$f":"IF($C10=\"\",\"\", IF(GO10=1,0,IF(GM10<>0,500,GH10*$AE10/$AH10+GI10/$AH10*5+GJ10/$AH10*25+GK10*50+GL10*50)))","v":2.0383896721589947},null,{"$f":"IF(C10<>\"\",C10,\"\")","v":210},1,1,null,null,null,null,null,null,{"$f":"IF($C10=\"\",\"\", IF(GZ10=1,0,IF(GX10<>0,500,GS10*$AE10/$AH10+GT10/$AH10*5+GU10/$AH10*25+GV10*50+GW10*50)))","v":5.4357057924239855},null,{"$f":"IF(C10<>\"\",C10,\"\")","v":210},null,null,null,null,null,null,null,1,{"$f":"IF($C10=\"\",\"\", IF(HK10=1,0,IF(HI10<>0,500,HD10*$AE10/$AH10+HE10/$AH10*5+HF10/$AH10*25+HG10*50+HH10*50)))","v":0},null,{"$f":"IF(C10<>\"\",C10,\"\")","v":210},null,null,null,null,null,null,null,null,{"$f":"IF($C10=\"\",\"\", IF(HV10=1,0,IF(HT10<>0,500,HO10*$AE10/$AH10+HP10/$AH10*5+HQ10/$AH10*25+HR10*50+HS10*50)))","v":0},null,{"$f":"IF(C10<>\"\",C10,\"\")","v":210},null,null,null,null,null,null,null,null,{"$f":"IF($C10=\"\",\"\", IF(IG10=1,0,IF(IE10<>0,500,HZ10*$AE10/$AH10+IA10/$AH10*5+IB10/$AH10*25+IC10*50+ID10*50)))","v":0}]
[null,{"$f":"IF(C11=0,\"\",ROW(C11)-4)","v":7},212,"Norway","Suzuki Jimny","Dennis Fast","Karoline Helleren",{"$f":"IF(C11=0,\"\",IF(OR(BB11=1,BC11<>0),BC11,\"-\"))","v":0},{"$f":"IF(C11=0,\"\",IF(OR(BM11=1,BN11<>0),BN11,\"-\"))","v":165.55555555555554},{"$f":"IF(C11=0,\"\",IF(OR(BX11=1,BY11<>0),BY11,\" -\"))","v":10.555555555555555},{"$f":"IF(C11=0,\"\",IF(OR(CJ11<>0,CI11=1),CJ11,\" -\"))","v":2.7777777777777777},{"$f":"IF(C11=0,\"\",IF(OR(CU11<>0,CT11=1),CU11,\" -\"))","v":106.66666666666666},{"$f":"IF(C11=0,\"\",IF(OR(DF11<>0,DE11=1),DF11,\" -\"))","v":26.111111111111111},{"$f":"IF(C11=0,\"\",IF(OR(DQ11<>0,DP11=1),DQ11,\" -\"))","v":1.6666666666666665},{"$f":"IF(C11=0,\"\",IF(OR(EB11<>0,EA11=1),EB11,\" -\"))","v":8.8888888888888893},{"$f":"IF(C11=0,\"\",IF(OR(EM11<>0,EL11=1),EM11,\" -\"))","v":0},{"$f":"IF(C11=0,\"\",IF(OR(EX11<>0,EW11=1),EX11,\" -\"))","v":0},{"$f":"IF(C11=0,\"\",IF(OR(FI11<>0,FH11=1),FI11,\" -\"))","v":17.222222222222221},{"$f":"IF(C11=0,\"\",IF(OR(FT11<>0,FS11=1),FT11,\" -\"))","v":1.6666666666666665},{"$f":"IF(C11=0,\"\",IF(OR(GE11<>0,GD11=1),GE11,\" -\"))","v":18.333333333333336},{"$f":"IF(C11=0,\"\",IF(OR(GP11<>0,GO11=1),GP11,\" -\"))","v":9.4444444444444429},{"$f":"IF(C11=0,\"\",IF(OR(HA11<>0,GZ11=1),HA11,\" -\"))","v":15.555555555555555},{"$f":"IF(C11=0,\"\",IF(OR(HL11<>0,HK11=1),HL11,\" -\"))","v":11.111111111111111},{"$f":"IF(C11=0,\"\",IF(AJ11<>0,AJ11,\" -\"))","v":" -"},{"$f":"IF(C11=0,\"\",IF(OR(HW11<>0,HV11=1),HW11,\" -\"))","v":" -"},{"$f":"IF(C11=0,\"\",IF(OR(IH11<>0,IG11=1),IH11,\" -\"))","v":" -"},{"$f":"IF(C11=0,\"\",IF(AL11=1,\"DNF\",IF(AL11=2,\"DSQ\",IF(AM11<>1,\"~ \"&ROUND(SUM(H11:X11),3),ROUND(SUM(H11:X11),3)))))","v":395.55599999999998},null,null,{"$f":"IF(C11<>\"\",C11,\"\")","v":212},{"$f":"IF(AD11<>\"\",3,\"\")","v":3},1600,2250,{"$f":"IF(AD11<>\"\",(AF11/1000*AG11/1000)/2,\"\")","v":1.8},4,null,null,null,1,null,null,{"$f":"IF(C11=0,99999,IF(AL11>0,9999,SUM(H11:X11)-AN11))","v":395.55555555555554},{"$f":"IF(C11=0,99999,IF(AL11=1,9999,SUM(Y11:Z11)))","v":0},null,null,{"$f":"IF(C11<>\"\",C11,\"\")","v":212},null,null,null,null,null,null,null,1,{"$f":"IF($C11=\"\",\"\", IF(BB11=1,0,IF(AZ11<>0,500,AU11*$AE11/$AH11+AV11/$AH11*5+AW11/$AH11*25+AX11*50+AY11*50)))","v":0},null,{"$f":"IF(C11<>\"\",C11,\"\")","v":212},1,null,1,2,1,null,null,null,{"$f":"IF($C11=\"\",\"\", IF(BM11=1,0,IF(BK11<>0,500,BF11*$AE11/$AH11+BG11/$AH11*5+BH11/$AH11*25+BI11*50+BJ11*50)))","v":165.55555555555554},null,{"$f":"IF(C11<>\"\",C11,\"\")","v":212},3,2,null,null,null,null,null,null,{"$f":"IF($C11=\"\",\"\", IF(BX11=1,0,IF(BV11<>0,500,BQ11*$AE11/$AH11+BR11/$AH11*5+BS11/$AH11*25+BT11*50+BU11*50)))","v":10.555555555555555},null,{"$f":"IF(C11<>\"\",C11,\"\")","v":212},null,1,null,null,null,null,null,null,{"$f":"IF($C11=\"\",\"\", IF(CI11=1,0,IF(CG11<>0,500,CB11*$AE11/$AH11+CC11/$AH11*5+CD11/$AH11*25+CE11*50+CF11*50)))","v":2.7777777777777777},null,{"$f":"IF(C11<>\"\",C11,\"\")","v":212},4,null,null,1,1,null,null,null,{"$f":"IF($C11=\"\",\"\", IF(CT11=1,0,IF(CR11<>0,500,CM11*$AE11/$AH11+CN11/$AH11*5+CO11/$AH11*25+CP11*50+CQ11*50)))","v":106.66666666666666},null,{"$f":"IF(C11<>\"\",C11,\"\")","v":212},4,2,1,null,null,null,null,null,{"$f":"IF($C11=\"\",\"\", IF(DE11=1,0,IF(DC11<>0,500,CX11*$AE11/$AH11+CY11/$AH11*5+CZ11/$AH11*25+DA11*50+DB11*50)))","v":26.111111111111111},null,{"$f":"IF(C11<>\"\",C11,\"\")","v":212},1,null,null,null,null,null,null,null,{"$f":"IF($C11=\"\",\"\", IF(DP11=1,0,IF(DN11<>0,500,DI11*$AE11/$AH11+DJ11/$AH11*5+DK11/$AH11*25+DL11*50+DM11*50)))","v":1.6666666666666665},null,{"$f":"IF(C11<>\"\",C11,\"\")","v":212},2,2,null,null,null,null,null,null,{"$f":"IF($C11=\"\",\"\", IF(EA11=1,0,IF(DY11<>0,500,DT11*$AE11/$AH11+DU11/$AH11*5+DV11/$AH11*25+DW11*50+DX11*50)))","v":8.8888888888888893},null,{"$f":"IF(C11<>\"\",C11,\"\")","v":212},null,null,null,null,null,null,null,1,{"$f":"IF($C11=\"\",\"\", IF(EL11=1,0,IF(EJ11<>0,500,EE11*$AE11/$AH11+EF11/$AH11*5+EG11/$AH11*25+EH11*50+EI11*50)))","v":0},null,{"$f":"IF(C11<>\"\",C11,\"\")","v":212},null,null,null,null,null,null,null,1,{"$f":"IF($C11=\"\",\"\", IF(EW11=1,0,IF(EU11<>0,500,EP11*$AE11/$AH11+EQ11/$AH11*5+ER11/$AH11*25+ES11*50+ET11*50)))","v":0},null,{"$f":"IF(C11<>\"\",C11,\"\")","v":212},2,null,1,null,null,null,null,null,{"$f":"IF($C11=\"\",\"\", IF(FH11=1,0,IF(FF11<>0,500,FA11*$AE11/$AH11+FB11/$AH11*5+FC11/$AH11*25+FD11*50+FE11*50)))","v":17.222222222222221},null,{"$f":"IF(C11<>\"\",C11,\"\")","v":212},1,null,null,null,null,null,null,null,{"$f":"IF($C11=\"\",\"\", IF(FS11=1,0,IF(FQ11<>0,500,FL11*$AE11/$AH11+FM11/$AH11*5+FN11/$AH11*25+FO11*50+FP11*50)))","v":1.6666666666666665},null,{"$f":"IF(C11<>\"\",C11,\"\")","v":212},1,1,1,null,null,null,null,null,{"$f":"IF($C11=\"\",\"\", IF(GD11=1,0,IF(GB11<>0,500,FW11*$AE11/$AH11+FX11/$AH11*5+FY11/$AH11*25+FZ11*50+GA11*50)))","v":18.333333333333336},null,{"$f":"IF(C11<>\"\",C11,\"\")","v":212},4,1,null,null,null,null,null,null,{"$f":"IF($C11=\"\",\"\", IF(GO11=1,0,IF(GM11<>0,500,GH11*$AE11/$AH11+GI11/$AH11*5+GJ11/$AH11*25+GK11*50+GL11*50)))","v":9.4444444444444429},null,{"$f":"IF(C11<>\"\",C11,\"\")","v":212},1,null,1,null,null,null,null,null,{"$f":"IF($C11=\"\",\"\", IF(GZ11=1,0,IF(GX11<>0,500,GS11*$AE11/$AH11+GT11/$AH11*5+GU11/$AH11*25+GV11*50+GW11*50)))","v":15.555555555555555},null,{"$f":"IF(C11<>\"\",C11,\"\")","v":212},5,1,null,null,null,null,"Wau!",null,{"$f":"IF($C11=\"\",\"\", IF(HK11=1,0,IF(HI11<>0,500,HD11*$AE11/$AH11+HE11/$AH11*5+HF11/$AH11*25+HG11*50+HH11*50)))","v":11.111111111111111},null,{"$f":"IF(C11<>\"\",C11,\"\")","v":212},null,null,null,null,null,null,null,null,{"$f":"IF($C11=\"\",\"\", IF(HV11=1,0,IF(HT11<>0,500,HO11*$AE11/$AH11+HP11/$AH11*5+HQ11/$AH11*25+HR11*50+HS11*50)))","v":0},null,{"$f":"IF(C11<>\"\",C11,\"\")","v":212},null,null,null,null,null,null,null,null,{"$f":"IF($C11=\"\",\"\", IF(IG11=1,0,IF(IE11<>0,500,HZ11*$AE11/$AH11+IA11/$AH11*5+IB11/$AH11*25+IC11*50+ID11*50)))","v":0}]
[null,{"$f":"IF(C12=0,\"\",ROW(C12)-4)","v":8},222,"Finland","Suzuki Samurai","Tuure Ruhanen","Elina Rahikainen",{"$f":"IF(C12=0,\"\",IF(OR(BB12=1,BC12<>0),BC12,\"-\"))","v":0},{"$f":"IF(C12=0,\"\",IF(OR(BM12=1,BN12<>0),BN12,\"-\"))","v":2.0383896721589947},{"$f":"IF(C12=0,\"\",IF(OR(BX12=1,BY12<>0),BY12,\" -\"))","v":22.422286393748941},{"$f":"IF(C12=0,\"\",IF(OR(CJ12<>0,CI12=1),CJ12,\" -\"))","v":0},{"$f":"IF(C12=0,\"\",IF(OR(CU12<>0,CT12=1),CU12,\" -\"))","v":18.345507049430953},{"$f":"IF(C12=0,\"\",IF(OR(DF12<>0,DE12=1),DF12,\" -\"))","v":104.076779344318},{"$f":"IF(C12=0,\"\",IF(OR(DQ12<>0,DP12=1),DQ12,\" -\"))","v":2.0383896721589947},{"$f":"IF(C12=0,\"\",IF(OR(EB12<>0,EA12=1),EB12,\" -\"))","v":102.03838967215898},{"$f":"IF(C12=0,\"\",IF(OR(EM12<>0,EL12=1),EM12,\" -\"))","v":0},{"$f":"IF(C12=0,\"\",IF(OR(EX12<>0,EW12=1),EX12,\" -\"))","v":5.4357057924239855},{"$f":"IF(C12=0,\"\",IF(OR(FI12<>0,FH12=1),FI12,\" -\"))","v":2.0383896721589947},{"$f":"IF(C12=0,\"\",IF(OR(FT12<>0,FS12=1),FT12,\" -\"))","v":2.0383896721589947},{"$f":"IF(C12=0,\"\",IF(OR(GE12<>0,GD12=1),GE12,\" -\"))","v":260.87141158484798},{"$f":"IF(C12=0,\"\",IF(OR(GP12<>0,GO12=1),GP12,\" -\"))","v":0},{"$f":"IF(C12=0,\"\",IF(OR(HA12<>0,GZ12=1),HA12,\" -\"))","v":21.063359945642944},{"$f":"IF(C12=0,\"\",IF(OR(HL12<>0,HK12=1),HL12,\" -\"))","v":9.5124851367419758},{"$f":"IF(C12=0,\"\",IF(AJ12<>0,AJ12,\" -\"))","v":" -"},{"$f":"IF(C12=0,\"\",IF(OR(HW12<>0,HV12=1),HW12,\" -\"))","v":" -"},{"$f":"IF(C12=0,\"\",IF(OR(IH12<>0,IG12=1),IH12,\" -\"))","v":" -"},{"$f":"IF(C12=0,\"\",IF(AL12=1,\"DNF\",IF(AL12=2,\"DSQ\",IF(AM12<>1,\"~ \"&ROUND(SUM(H12:X12),3),ROUND(SUM(H12:X12),3)))))","v":551.91899999999998},null,null,{"$f":"IF(C12<>\"\",C12,\"\")","v":222},{"$f":"IF(AD12<>\"\",3,\"\")","v":3},1450,2030,{"$f":"IF(AD12<>\"\",(AF12/1000*AG12/1000)/2,\"\")","v":1.4717499999999999},5,null,null,null,1,null,null,{"$f":"IF(C12=0,99999,IF(AL12>0,9999,SUM(H12:X12)-AN12))","v":551.91948360794959},{"$f":"IF(C12=0,99999,IF(AL12=1,9999,SUM(Y12:Z12)))","v":0},null,null,{"$f":"IF(C12<>\"\",C12,\"\")","v":222},null,null,null,null,null,null,null,1,{"$f":"IF($C12=\"\",\"\", IF(BB12=1,0,IF(AZ12<>0,500,AU12*$AE12/$AH12+AV12/$AH12*5+AW12/$AH12*25+AX12*50+AY12*50)))","v":0},null,{"$f":"IF(C12<>\"\",C12,\"\")","v":222},1,null,null,null,null,null,null,null,{"$f":"IF($C12=\"\",\"\", IF(BM12=1,0,IF(BK12<>0,500,BF12*$AE12/$AH12+BG12/$AH12*5+BH12/$AH12*25+BI12*50+BJ12*50)))","v":2.0383896721589947},null,{"$f":"IF(C12<>\"\",C12,\"\")","v":222},1,1,1,null,null,null,null,null,{"$f":"IF($C12=\"\",\"\", IF(BX12=1,0,IF(BV12<>0,500,BQ12*$AE12/$AH12+BR12/$AH12*5+BS12/$AH12*25+BT12*50+BU12*50)))","v":22.422286393748941},null,{"$f":"IF(C12<>\"\",C12,\"\")","v":222},null,null,null,null,null,null,null,1,{"$f":"IF($C12=\"\",\"\", IF(CI12=1,0,IF(CG12<>0,500,CB12*$AE12/$AH12+CC12/$AH12*5+CD12/$AH12*25+CE12*50+CF12*50)))","v":0},null,{"$f":"IF(C12<>\"\",C12,\"\")","v":222},4,3,null,null,null,null,null,null,{"$f":"IF($C12=\"\",\"\", IF(CT12=1,0,IF(CR12<>0,500,CM12*$AE12/$AH12+CN12/$AH12*5+CO12/$AH12*25+CP12*50+CQ12*50)))","v":18.345507049430953},null,{"$f":"IF(C12<>\"\",C12,\"\")","v":222},2,null,null,1,1,null,null,null,{"$f":"IF($C12=\"\",\"\", IF(DE12=1,0,IF(DC12<>0,500,CX12*$AE12/$AH12+CY12/$AH12*5+CZ12/$AH12*25+DA12*50+DB12*50)))","v":104.076779344318},null,{"$f":"IF(C12<>\"\",C12,\"\")","v":222},1,null,null,null,null,null,null,null,{"$f":"IF($C12=\"\",\"\", IF(DP12=1,0,IF(DN12<>0,500,DI12*$AE12/$AH12+DJ12/$AH12*5+DK12/$AH12*25+DL12*50+DM12*50)))","v":2.0383896721589947},null,{"$f":"IF(C12<>\"\",C12,\"\")","v":222},1,null,null,1,1,null,"stuck",null,{"$f":"IF($C12=\"\",\"\", IF(EA12=1,0,IF(DY12<>0,500,DT12*$AE12/$AH12+DU12/$AH12*5+DV12/$AH12*25+DW12*50+DX12*50)))","v":102.03838967215898},null,{"$f":"IF(C12<>\"\",C12,\"\")","v":222},null,null,null,null,null,null,null,1,{"$f":"IF($C12=\"\",\"\", IF(EL12=1,0,IF(EJ12<>0,500,EE12*$AE12/$AH12+EF12/$AH12*5+EG12/$AH12*25+EH12*50+EI12*50)))","v":0},null,{"$f":"IF(C12<>\"\",C12,\"\")","v":222},1,1,null,null,null,null,null,null,{"$f":"IF($C12=\"\",\"\", IF(EW12=1,0,IF(EU12<>0,500,EP12*$AE12/$AH12+EQ12/$AH12*5+ER12/$AH12*25+ES12*50+ET12*50)))","v":5.4357057924239855},null,{"$f":"IF(C12<>\"\",C12,\"\")","v":222},1,null,null,null,null,null,null,null,{"$f":"IF($C12=\"\",\"\", IF(FH12=1,0,IF(FF12<>0,500,FA12*$AE12/$AH12+FB12/$AH12*5+FC12/$AH12*25+FD12*50+FE12*50)))","v":2.0383896721589947},null,{"$f":"IF(C12<>\"\",C12,\"\")","v":222},1,null,null,null,null,null,null,null,{"$f":"IF($C12=\"\",\"\", IF(FS12=1,0,IF(FQ12<>0,500,FL12*$AE12/$AH12+FM12/$AH12*5+FN12/$AH12*25+FO12*50+FP12*50)))","v":2.0383896721589947},null,{"$f":"IF(C12<>\"\",C12,\"\")","v":222},2,2,null,4,1,null,null,null,{"$f":"IF($C12=\"\",\"\", IF(GD12=1,0,IF(GB12<>0,500,FW12*$AE12/$AH12+FX12/$AH12*5+FY12/$AH12*25+FZ12*50+GA12*50)))","v":260.87141158484798},null,{"$f":"IF(C12<>\"\",C12,\"\")","v":222},null,null,null,null,null,null,null,1,{"$f":"IF($C12=\"\",\"\", IF(GO12=1,0,IF(GM12<>0,500,GH12*$AE12/$AH12+GI12/$AH12*5+GJ12/$AH12*25+GK12*50+GL12*50)))","v":0},null,{"$f":"IF(C12<>\"\",C12,\"\")","v":222},2,null,1,null,null,null,null,null,{"$f":"IF($C12=\"\",\"\", IF(GZ12=1,0,IF(GX12<>0,500,GS12*$AE12/$AH12+GT12/$AH12*5+GU12/$AH12*25+GV12*50+GW12*50)))","v":21.063359945642944},null,{"$f":"IF(C12<>\"\",C12,\"\")","v":222},3,1,null,null,null,null,null,null,{"$f":"IF($C12=\"\",\"\", IF(HK12=1,0,IF(HI12<>0,500,HD12*$AE12/$AH12+HE12/$AH12*5+HF12/$AH12*25+HG12*50+HH12*50)))","v":9.5124851367419758},null,{"$f":"IF(C12<>\"\",C12,\"\")","v":222},null,null,null,null,null,null,null,null,{"$f":"IF($C12=\"\",\"\", IF(HV12=1,0,IF(HT12<>0,500,HO12*$AE12/$AH12+HP12/$AH12*5+HQ12/$AH12*25+HR12*50+HS12*50)))","v":0},null,{"$f":"IF(C12<>\"\",C12,\"\")","v":222},null,null,null,null,null,null,null,null,{"$f":"IF($C12=\"\",\"\", IF(IG12=1,0,IF(IE12<>0,500,HZ12*$AE12/$AH12+IA12/$AH12*5+IB12/$AH12*25+IC12*50+ID12*50)))","v":0}]
[null,{"$f":"IF(C13=0,\"\",ROW(C13)-4)","v":9},217,"Finland","Jeep Cherokee XJ","Toni Laesmaa","Samu Juutilainen",{"$f":"IF(C13=0,\"\",IF(OR(BB13=1,BC13<>0),BC13,\"-\"))","v":2.2799817601459189},{"$f":"IF(C13=0,\"\",IF(OR(BM13=1,BN13<>0),BN13,\"-\"))","v":13.679890560875513},{"$f":"IF(C13=0,\"\",IF(OR(BX13=1,BY13<>0),BY13,\" -\"))","v":17.783857729138166},{"$f":"IF(C13=0,\"\",IF(OR(CJ13<>0,CI13=1),CJ13,\" -\"))","v":1.3679890560875512},{"$f":"IF(C13=0,\"\",IF(OR(CU13<>0,CT13=1),CU13,\" -\"))","v":200},{"$f":"IF(C13=0,\"\",IF(OR(DF13<>0,DE13=1),DF13,\" -\"))","v":5.4719562243502047},{"$f":"IF(C13=0,\"\",IF(OR(DQ13<>0,DP13=1),DQ13,\" -\"))","v":1.3679890560875512},{"$f":"IF(C13=0,\"\",IF(OR(EB13<>0,EA13=1),EB13,\" -\"))","v":259.57592339261282},{"$f":"IF(C13=0,\"\",IF(OR(EM13<>0,EL13=1),EM13,\" -\"))","v":0},{"$f":"IF(C13=0,\"\",IF(OR(EX13<>0,EW13=1),EX13,\" -\"))","v":0},{"$f":"IF(C13=0,\"\",IF(OR(FI13<>0,FH13=1),FI13,\" -\"))","v":1.3679890560875512},{"$f":"IF(C13=0,\"\",IF(OR(FT13<>0,FS13=1),FT13,\" -\"))","v":2.7359781121751023},{"$f":"IF(C13=0,\"\",IF(OR(GE13<>0,GD13=1),GE13,\" -\"))","v":74.167806657546748},{"$f":"IF(C13=0,\"\",IF(OR(GP13<>0,GO13=1),GP13,\" -\"))","v":0},{"$f":"IF(C13=0,\"\",IF(OR(HA13<>0,GZ13=1),HA13,\" -\"))","v":1.3679890560875512},{"$f":"IF(C13=0,\"\",IF(OR(HL13<>0,HK13=1),HL13,\" -\"))","v":2.7359781121751023},{"$f":"IF(C13=0,\"\",IF(AJ13<>0,AJ13,\" -\"))","v":" -"},{"$f":"IF(C13=0,\"\",IF(OR(HW13<>0,HV13=1),HW13,\" -\"))","v":" -"},{"$f":"IF(C13=0,\"\",IF(OR(IH13<>0,IG13=1),IH13,\" -\"))","v":" -"},{"$f":"IF(C13=0,\"\",IF(AL13=1,\"DNF\",IF(AL13=2,\"DSQ\",IF(AM13<>1,\"~ \"&ROUND(SUM(H13:X13),3),ROUND(SUM(H13:X13),3)))))","v":583.90300000000002},null,null,{"$f":"IF(C13<>\"\",C13,\"\")","v":217},{"$f":"IF(AD13<>\"\",3,\"\")","v":3},1720,2550,{"$f":"IF(AD13<>\"\",(AF13/1000*AG13/1000)/2,\"\")","v":2.1930000000000001},2,null,null,null,1,null,null,{"$f":"IF(C13=0,99999,IF(AL13>0,9999,SUM(H13:X13)-AN13))","v":583.90332877336982},{"$f":"IF(C13=0,99999,IF(AL13=1,9999,SUM(Y13:Z13)))","v":0},null,null,{"$f":"IF(C13<>\"\",C13,\"\")","v":217},null,1,null,null,null,null,null,null,{"$f":"IF($C13=\"\",\"\", IF(BB13=1,0,IF(AZ13<>0,500,AU13*$AE13/$AH13+AV13/$AH13*5+AW13/$AH13*25+AX13*50+AY13*50)))","v":2.2799817601459189},null,{"$f":"IF(C13<>\"\",C13,\"\")","v":217},null,1,1,null,null,null,null,null,{"$f":"IF($C13=\"\",\"\", IF(BM13=1,0,IF(BK13<>0,500,BF13*$AE13/$AH13+BG13/$AH13*5+BH13/$AH13*25+BI13*50+BJ13*50)))","v":13.679890560875513},null,{"$f":"IF(C13<>\"\",C13,\"\")","v":217},3,1,1,null,null,null,null,null,{"$f":"IF($C13=\"\",\"\", IF(BX13=1,0,IF(BV13<>0,500,BQ13*$AE13/$AH13+BR13/$AH13*5+BS13/$AH13*25+BT13*50+BU13*50)))","v":17.783857729138166},null,{"$f":"IF(C13<>\"\",C13,\"\")","v":217},1,null,null,null,null,null,null,null,{"$f":"IF($C13=\"\",\"\", IF(CI13=1,0,IF(CG13<>0,500,CB13*$AE13/$AH13+CC13/$AH13*5+CD13/$AH13*25+CE13*50+CF13*50)))","v":1.3679890560875512},null,{"$f":"IF(C13<>\"\",C13,\"\")","v":217},null,null,null,3,1,null,null,null,{"$f":"IF($C13=\"\",\"\", IF(CT13=1,0,IF(CR13<>0,500,CM13*$AE13/$AH13+CN13/$AH13*5+CO13/$AH13*25+CP13*50+CQ13*50)))","v":200},null,{"$f":"IF(C13<>\"\",C13,\"\")","v":217},4,null,null,null,null,null,null,null,{"$f":"IF($C13=\"\",\"\", IF(DE13=1,0,IF(DC13<>0,500,CX13*$AE13/$AH13+CY13/$AH13*5+CZ13/$AH13*25+DA13*50+DB13*50)))","v":5.4719562243502047},null,{"$f":"IF(C13<>\"\",C13,\"\")","v":217},1,null,null,null,null,null,null,null,{"$f":"IF($C13=\"\",\"\", IF(DP13=1,0,IF(DN13<>0,500,DI13*$AE13/$AH13+DJ13/$AH13*5+DK13/$AH13*25+DL13*50+DM13*50)))","v":1.3679890560875512},null,{"$f":"IF(C13<>\"\",C13,\"\")","v":217},7,null,null,4,1,null,"technical failure",null,{"$f":"IF($C13=\"\",\"\", IF(EA13=1,0,IF(DY13<>0,500,DT13*$AE13/$AH13+DU13/$AH13*5+DV13/$AH13*25+DW13*50+DX13*50)))","v":259.57592339261282},null,{"$f":"IF(C13<>\"\",C13,\"\")","v":217},null,null,null,null,null,null,null,1,{"$f":"IF($C13=\"\",\"\", IF(EL13=1,0,IF(EJ13<>0,500,EE13*$AE13/$AH13+EF13/$AH13*5+EG13/$AH13*25+EH13*50+EI13*50)))","v":0},null,{"$f":"IF(C13<>\"\",C13,\"\")","v":217},null,null,null,null,null,null,null,1,{"$f":"IF($C13=\"\",\"\", IF(EW13=1,0,IF(EU13<>0,500,EP13*$AE13/$AH13+EQ13/$AH13*5+ER13/$AH13*25+ES13*50+ET13*50)))","v":0},null,{"$f":"IF(C13<>\"\",C13,\"\")","v":217},1,null,null,null,null,null,null,null,{"$f":"IF($C13=\"\",\"\", IF(FH13=1,0,IF(FF13<>0,500,FA13*$AE13/$AH13+FB13/$AH13*5+FC13/$AH13*25+FD13*50+FE13*50)))","v":1.3679890560875512},null,{"$f":"IF(C13<>\"\",C13,\"\")","v":217},2,null,null,null,null,null,null,null,{"$f":"IF($C13=\"\",\"\", IF(FS13=1,0,IF(FQ13<>0,500,FL13*$AE13/$AH13+FM13/$AH13*5+FN13/$AH13*25+FO13*50+FP13*50)))","v":2.7359781121751023},null,{"$f":"IF(C13<>\"\",C13,\"\")","v":217},1,null,2,null,1,null,null,null,{"$f":"IF($C13=\"\",\"\", IF(GD13=1,0,IF(GB13<>0,500,FW13*$AE13/$AH13+FX13/$AH13*5+FY13/$AH13*25+FZ13*50+GA13*50)))","v":74.167806657546748},null,{"$f":"IF(C13<>\"\",C13,\"\")","v":217},null,null,null,null,null,null,null,1,{"$f":"IF($C13=\"\",\"\", IF(GO13=1,0,IF(GM13<>0,500,GH13*$AE13/$AH13+GI13/$AH13*5+GJ13/$AH13*25+GK13*50+GL13*50)))","v":0},null,{"$f":"IF(C13<>\"\",C13,\"\")","v":217},1,null,null,null,null,null,null,null,{"$f":"IF($C13=\"\",\"\", IF(GZ13=1,0,IF(GX13<>0,500,GS13*$AE13/$AH13+GT13/$AH13*5+GU13/$AH13*25+GV13*50+GW13*50)))","v":1.3679890560875512},null,{"$f":"IF(C13<>\"\",C13,\"\")","v":217},2,null,null,null,null,null,null,null,{"$f":"IF($C13=\"\",\"\", IF(HK13=1,0,IF(HI13<>0,500,HD13*$AE13/$AH13+HE13/$AH13*5+HF13/$AH13*25+HG13*50+HH13*50)))","v":2.7359781121751023},null,{"$f":"IF(C13<>\"\",C13,\"\")","v":217},null,null,null,null,null,null,null,null,{"$f":"IF($C13=\"\",\"\", IF(HV13=1,0,IF(HT13<>0,500,HO13*$AE13/$AH13+HP13/$AH13*5+HQ13/$AH13*25+HR13*50+HS13*50)))","v":0},null,{"$f":"IF(C13<>\"\",C13,\"\")","v":217},null,null,null,null,null,null,null,null,{"$f":"IF($C13=\"\",\"\", IF(IG13=1,0,IF(IE13<>0,500,HZ13*$AE13/$AH13+IA13/$AH13*5+IB13/$AH13*25+IC13*50+ID13*50)))","v":0}]
[null,{"$f":"IF(C14=0,\"\",ROW(C14)-4)","v":10},209,"Switzerland","Jeep TJ 1997","Marcel Voegtlin","Elisa Moosmann",{"$f":"IF(C14=0,\"\",IF(OR(BB14=1,BC14<>0),BC14,\"-\"))","v":13.445378151260503},{"$f":"IF(C14=0,\"\",IF(OR(BM14=1,BN14<>0),BN14,\"-\"))","v":3.8415366146458583},{"$f":"IF(C14=0,\"\",IF(OR(BX14=1,BY14<>0),BY14,\" -\"))","v":105.76230492196879},{"$f":"IF(C14=0,\"\",IF(OR(CJ14<>0,CI14=1),CJ14,\" -\"))","v":14.8859543817527},{"$f":"IF(C14=0,\"\",IF(OR(CU14<>0,CT14=1),CU14,\" -\"))","v":151.44057623049218},{"$f":"IF(C14=0,\"\",IF(OR(DF14<>0,DE14=1),DF14,\" -\"))","v":105.76230492196879},{"$f":"IF(C14=0,\"\",IF(OR(DQ14<>0,DP14=1),DQ14,\" -\"))","v":2.8811524609843939},{"$f":"IF(C14=0,\"\",IF(OR(EB14<>0,EA14=1),EB14,\" -\"))","v":16.326530612244898},{"$f":"IF(C14=0,\"\",IF(OR(EM14<>0,EL14=1),EM14,\" -\"))","v":14.8859543817527},{"$f":"IF(C14=0,\"\",IF(OR(EX14<>0,EW14=1),EX14,\" -\"))","v":4.8019207683073226},{"$f":"IF(C14=0,\"\",IF(OR(FI14<>0,FH14=1),FI14,\" -\"))","v":5.7623049219687879},{"$f":"IF(C14=0,\"\",IF(OR(FT14<>0,FS14=1),FT14,\" -\"))","v":109.60384153661465},{"$f":"IF(C14=0,\"\",IF(OR(GE14<>0,GD14=1),GE14,\" -\"))","v":0},{"$f":"IF(C14=0,\"\",IF(OR(GP14<>0,GO14=1),GP14,\" -\"))","v":107.20288115246098},{"$f":"IF(C14=0,\"\",IF(OR(HA14<>0,GZ14=1),HA14,\" -\"))","v":5.2821128451380552},{"$f":"IF(C14=0,\"\",IF(OR(HL14<>0,HK14=1),HL14,\" -\"))","v":2.8811524609843939},{"$f":"IF(C14=0,\"\",IF(AJ14<>0,AJ14,\" -\"))","v":" -"},{"$f":"IF(C14=0,\"\",IF(OR(HW14<>0,HV14=1),HW14,\" -\"))","v":" -"},{"$f":"IF(C14=0,\"\",IF(OR(IH14<>0,IG14=1),IH14,\" -\"))","v":" -"},{"$f":"IF(C14=0,\"\",IF(AL14=1,\"DNF\",IF(AL14=2,\"DSQ\",IF(AM14<>1,\"~ \"&ROUND(SUM(H14:X14),3),ROUND(SUM(H14:X14),3)))))","v":664.76599999999996},null,null,{"$f":"IF(C14<>\"\",C14,\"\")","v":209},{"$f":"IF(AD14<>\"\",3,\"\")","v":3},1750,2380,{"$f":"IF(AD14<>\"\",(AF14/1000*AG14/1000)/2,\"\")","v":2.0825},3,null,null,null,1,null,null,{"$f":"IF(C14=0,99999,IF(AL14>0,9999,SUM(H14:X14)-AN14))","v":664.76590636254491},{"$f":"IF(C14=0,99999,IF(AL14=1,9999,SUM(Y14:Z14)))","v":0},null,null,{"$f":"IF(C14<>\"\",C14,\"\")","v":209},1,null,1,null,null,null,null,null,{"$f":"IF($C14=\"\",\"\", IF(BB14=1,0,IF(AZ14<>0,500,AU14*$AE14/$AH14+AV14/$AH14*5+AW14/$AH14*25+AX14*50+AY14*50)))","v":13.445378151260503},null,{"$f":"IF(C14<>\"\",C14,\"\")","v":209},1,1,null,null,null,null,null,null,{"$f":"IF($C14=\"\",\"\", IF(BM14=1,0,IF(BK14<>0,500,BF14*$AE14/$AH14+BG14/$AH14*5+BH14/$AH14*25+BI14*50+BJ14*50)))","v":3.8415366146458583},null,{"$f":"IF(C14<>\"\",C14,\"\")","v":209},4,null,null,1,1,null,"got stucked",null,{"$f":"IF($C14=\"\",\"\", IF(BX14=1,0,IF(BV14<>0,500,BQ14*$AE14/$AH14+BR14/$AH14*5+BS14/$AH14*25+BT14*50+BU14*50)))","v":105.76230492196879},null,{"$f":"IF(C14<>\"\",C14,\"\")","v":209},2,null,1,null,null,null,null,null,{"$f":"IF($C14=\"\",\"\", IF(CI14=1,0,IF(CG14<>0,500,CB14*$AE14/$AH14+CC14/$AH14*5+CD14/$AH14*25+CE14*50+CF14*50)))","v":14.8859543817527},null,{"$f":"IF(C14<>\"\",C14,\"\")","v":209},1,null,null,2,1,null,null,null,{"$f":"IF($C14=\"\",\"\", IF(CT14=1,0,IF(CR14<>0,500,CM14*$AE14/$AH14+CN14/$AH14*5+CO14/$AH14*25+CP14*50+CQ14*50)))","v":151.44057623049218},null,{"$f":"IF(C14<>\"\",C14,\"\")","v":209},4,null,null,1,1,null,"time",null,{"$f":"IF($C14=\"\",\"\", IF(DE14=1,0,IF(DC14<>0,500,CX14*$AE14/$AH14+CY14/$AH14*5+CZ14/$AH14*25+DA14*50+DB14*50)))","v":105.76230492196879},null,{"$f":"IF(C14<>\"\",C14,\"\")","v":209},2,null,null,null,null,null,null,null,{"$f":"IF($C14=\"\",\"\", IF(DP14=1,0,IF(DN14<>0,500,DI14*$AE14/$AH14+DJ14/$AH14*5+DK14/$AH14*25+DL14*50+DM14*50)))","v":2.8811524609843939},null,{"$f":"IF(C14<>\"\",C14,\"\")","v":209},3,null,1,null,null,null,null,null,{"$f":"IF($C14=\"\",\"\", IF(EA14=1,0,IF(DY14<>0,500,DT14*$AE14/$AH14+DU14/$AH14*5+DV14/$AH14*25+DW14*50+DX14*50)))","v":16.326530612244898},null,{"$f":"IF(C14<>\"\",C14,\"\")","v":209},2,null,1,null,null,null,null,null,{"$f":"IF($C14=\"\",\"\", IF(EL14=1,0,IF(EJ14<>0,500,EE14*$AE14/$AH14+EF14/$AH14*5+EG14/$AH14*25+EH14*50+EI14*50)))","v":14.8859543817527},null,{"$f":"IF(C14<>\"\",C14,\"\")","v":209},null,2,null,null,null,null,null,null,{"$f":"IF($C14=\"\",\"\", IF(EW14=1,0,IF(EU14<>0,500,EP14*$AE14/$AH14+EQ14/$AH14*5+ER14/$AH14*25+ES14*50+ET14*50)))","v":4.8019207683073226},null,{"$f":"IF(C14<>\"\",C14,\"\")","v":209},4,null,null,null,null,null,null,null,{"$f":"IF($C14=\"\",\"\", IF(FH14=1,0,IF(FF14<>0,500,FA14*$AE14/$AH14+FB14/$AH14*5+FC14/$AH14*25+FD14*50+FE14*50)))","v":5.7623049219687879},null,{"$f":"IF(C14<>\"\",C14,\"\")","v":209},5,1,null,1,1,null,"time",null,{"$f":"IF($C14=\"\",\"\", IF(FS14=1,0,IF(FQ14<>0,500,FL14*$AE14/$AH14+FM14/$AH14*5+FN14/$AH14*25+FO14*50+FP14*50)))","v":109.60384153661465},null,{"$f":"IF(C14<>\"\",C14,\"\")","v":209},null,null,null,null,null,null,null,1,{"$f":"IF($C14=\"\",\"\", IF(GD14=1,0,IF(GB14<>0,500,FW14*$AE14/$AH14+FX14/$AH14*5+FY14/$AH14*25+FZ14*50+GA14*50)))","v":0},null,{"$f":"IF(C14<>\"\",C14,\"\")","v":209},5,null,null,1,1,null,"time",null,{"$f":"IF($C14=\"\",\"\", IF(GO14=1,0,IF(GM14<>0,500,GH14*$AE14/$AH14+GI14/$AH14*5+GJ14/$AH14*25+GK14*50+GL14*50)))","v":107.20288115246098},null,{"$f":"IF(C14<>\"\",C14,\"\")","v":209},2,1,null,null,null,null,null,null,{"$f":"IF($C14=\"\",\"\", IF(GZ14=1,0,IF(GX14<>0,500,GS14*$AE14/$AH14+GT14/$AH14*5+GU14/$AH14*25+GV14*50+GW14*50)))","v":5.2821128451380552},null,{"$f":"IF(C14<>\"\",C14,\"\")","v":209},2,null,null,null,null,null,null,null,{"$f":"IF($C14=\"\",\"\", IF(HK14=1,0,IF(HI14<>0,500,HD14*$AE14/$AH14+HE14/$AH14*5+HF14/$AH14*25+HG14*50+HH14*50)))","v":2.8811524609843939},null,{"$f":"IF(C14<>\"\",C14,\"\")","v":209},null,null,null,null,null,null,null,null,{"$f":"IF($C14=\"\",\"\", IF(HV14=1,0,IF(HT14<>0,500,HO14*$AE14/$AH14+HP14/$AH14*5+HQ14/$AH14*25+HR14*50+HS14*50)))","v":0},null,{"$f":"IF(C14<>\"\",C14,\"\")","v":209},null,null,null,null,null,null,null,null,{"$f":"IF($C14=\"\",\"\", IF(IG14=1,0,IF(IE14<>0,500,HZ14*$AE14/$AH14+IA14/$AH14*5+IB14/$AH14*25+IC14*50+ID14*50)))","v":0}]
[null,{"$f":"IF(C15=0,\"\",ROW(C15)-4)","v":11},213,"Norway","Suzuki SJ410","Jørund Asdal","Ådne Grunnsvoll",{"$f":"IF(C15=0,\"\",IF(OR(BB15=1,BC15<>0),BC15,\"-\"))","v":9.5124851367419758},{"$f":"IF(C15=0,\"\",IF(OR(BM15=1,BN15<>0),BN15,\"-\"))","v":2.0383896721589947},{"$f":"IF(C15=0,\"\",IF(OR(BX15=1,BY15<>0),BY15,\" -\"))","v":124.46067606590793},{"$f":"IF(C15=0,\"\",IF(OR(CJ15<>0,CI15=1),CJ15,\" -\"))","v":5.4357057924239855},{"$f":"IF(C15=0,\"\",IF(OR(CU15<>0,CT15=1),CU15,\" -\"))","v":124.46067606590793},{"$f":"IF(C15=0,\"\",IF(OR(DF15<>0,DE15=1),DF15,\" -\"))","v":127.17852896211993},{"$f":"IF(C15=0,\"\",IF(OR(DQ15<>0,DP15=1),DQ15,\" -\"))","v":11.55087480890097},{"$f":"IF(C15=0,\"\",IF(OR(EB15<>0,EA15=1),EB15,\" -\"))","v":104.076779344318},{"$f":"IF(C15=0,\"\",IF(OR(EM15<>0,EL15=1),EM15,\" -\"))","v":3.3973161202649909},{"$f":"IF(C15=0,\"\",IF(OR(EX15<>0,EW15=1),EX15,\" -\"))","v":4.0767793443179894},{"$f":"IF(C15=0,\"\",IF(OR(FI15<>0,FH15=1),FI15,\" -\"))","v":5.4357057924239855},{"$f":"IF(C15=0,\"\",IF(OR(FT15<>0,FS15=1),FT15,\" -\"))","v":2.0383896721589947},{"$f":"IF(C15=0,\"\",IF(OR(GE15<>0,GD15=1),GE15,\" -\"))","v":0},{"$f":"IF(C15=0,\"\",IF(OR(GP15<>0,GO15=1),GP15,\" -\"))","v":108.15355868863598},{"$f":"IF(C15=0,\"\",IF(OR(HA15<>0,GZ15=1),HA15,\" -\"))","v":19.024970273483952},{"$f":"IF(C15=0,\"\",IF(OR(HL15<>0,HK15=1),HL15,\" -\"))","v":125.14013928996093},{"$f":"IF(C15=0,\"\",IF(AJ15<>0,AJ15,\" -\"))","v":" -"},{"$f":"IF(C15=0,\"\",IF(OR(HW15<>0,HV15=1),HW15,\" -\"))","v":" -"},{"$f":"IF(C15=0,\"\",IF(OR(IH15<>0,IG15=1),IH15,\" -\"))","v":" -"},{"$f":"IF(C15=0,\"\",IF(AL15=1,\"DNF\",IF(AL15=2,\"DSQ\",IF(AM15<>1,\"~ \"&ROUND(SUM(H15:X15),3),ROUND(SUM(H15:X15),3)))))","v":775.98099999999999},null,null,{"$f":"IF(C15<>\"\",C15,\"\")","v":213},{"$f":"IF(AD15<>\"\",3,\"\")","v":3},1450,2030,{"$f":"IF(AD15<>\"\",(AF15/1000*AG15/1000)/2,\"\")","v":1.4717499999999999},5,null,null,null,1,null,null,{"$f":"IF(C15=0,99999,IF(AL15>0,9999,SUM(H15:X15)-AN15))","v":775.98097502972655},{"$f":"IF(C15=0,99999,IF(AL15=1,9999,SUM(Y15:Z15)))","v":0},null,null,{"$f":"IF(C15<>\"\",C15,\"\")","v":213},3,1,null,null,null,null,null,null,{"$f":"IF($C15=\"\",\"\", IF(BB15=1,0,IF(AZ15<>0,500,AU15*$AE15/$AH15+AV15/$AH15*5+AW15/$AH15*25+AX15*50+AY15*50)))","v":9.5124851367419758},null,{"$f":"IF(C15<>\"\",C15,\"\")","v":213},1,null,null,null,null,null,null,null,{"$f":"IF($C15=\"\",\"\", IF(BM15=1,0,IF(BK15<>0,500,BF15*$AE15/$AH15+BG15/$AH15*5+BH15/$AH15*25+BI15*50+BJ15*50)))","v":2.0383896721589947},null,{"$f":"IF(C15<>\"\",C15,\"\")","v":213},2,1,1,1,1,null,"stuck",null,{"$f":"IF($C15=\"\",\"\", IF(BX15=1,0,IF(BV15<>0,500,BQ15*$AE15/$AH15+BR15/$AH15*5+BS15/$AH15*25+BT15*50+BU15*50)))","v":124.46067606590793},null,{"$f":"IF(C15<>\"\",C15,\"\")","v":213},1,1,null,null,null,null,null,null,{"$f":"IF($C15=\"\",\"\", IF(CI15=1,0,IF(CG15<>0,500,CB15*$AE15/$AH15+CC15/$AH15*5+CD15/$AH15*25+CE15*50+CF15*50)))","v":5.4357057924239855},null,{"$f":"IF(C15<>\"\",C15,\"\")","v":213},2,1,1,1,1,null,"time",null,{"$f":"IF($C15=\"\",\"\", IF(CT15=1,0,IF(CR15<>0,500,CM15*$AE15/$AH15+CN15/$AH15*5+CO15/$AH15*25+CP15*50+CQ15*50)))","v":124.46067606590793},null,{"$f":"IF(C15<>\"\",C15,\"\")","v":213},5,null,1,1,1,null,"time",null,{"$f":"IF($C15=\"\",\"\", IF(DE15=1,0,IF(DC15<>0,500,CX15*$AE15/$AH15+CY15/$AH15*5+CZ15/$AH15*25+DA15*50+DB15*50)))","v":127.17852896211993},null,{"$f":"IF(C15<>\"\",C15,\"\")","v":213},4,1,null,null,null,null,null,null,{"$f":"IF($C15=\"\",\"\", IF(DP15=1,0,IF(DN15<>0,500,DI15*$AE15/$AH15+DJ15/$AH15*5+DK15/$AH15*25+DL15*50+DM15*50)))","v":11.55087480890097},null,{"$f":"IF(C15<>\"\",C15,\"\")","v":213},2,null,null,1,1,null,null,null,{"$f":"IF($C15=\"\",\"\", IF(EA15=1,0,IF(DY15<>0,500,DT15*$AE15/$AH15+DU15/$AH15*5+DV15/$AH15*25+DW15*50+DX15*50)))","v":104.076779344318},null,{"$f":"IF(C15<>\"\",C15,\"\")","v":213},null,1,null,null,null,null,null,null,{"$f":"IF($C15=\"\",\"\", IF(EL15=1,0,IF(EJ15<>0,500,EE15*$AE15/$AH15+EF15/$AH15*5+EG15/$AH15*25+EH15*50+EI15*50)))","v":3.3973161202649909},null,{"$f":"IF(C15<>\"\",C15,\"\")","v":213},2,null,null,null,null,null,null,null,{"$f":"IF($C15=\"\",\"\", IF(EW15=1,0,IF(EU15<>0,500,EP15*$AE15/$AH15+EQ15/$AH15*5+ER15/$AH15*25+ES15*50+ET15*50)))","v":4.0767793443179894},null,{"$f":"IF(C15<>\"\",C15,\"\")","v":213},1,1,null,null,null,null,null,null,{"$f":"IF($C15=\"\",\"\", IF(FH15=1,0,IF(FF15<>0,500,FA15*$AE15/$AH15+FB15/$AH15*5+FC15/$AH15*25+FD15*50+FE15*50)))","v":5.4357057924239855},null,{"$f":"IF(C15<>\"\",C15,\"\")","v":213},1,null,null,null,null,null,null,null,{"$f":"IF($C15=\"\",\"\", IF(FS15=1,0,IF(FQ15<>0,500,FL15*$AE15/$AH15+FM15/$AH15*5+FN15/$AH15*25+FO15*50+FP15*50)))","v":2.0383896721589947},null,{"$f":"IF(C15<>\"\",C15,\"\")","v":213},null,null,null,null,null,null,null,1,{"$f":"IF($C15=\"\",\"\", IF(GD15=1,0,IF(GB15<>0,500,FW15*$AE15/$AH15+FX15/$AH15*5+FY15/$AH15*25+FZ15*50+GA15*50)))","v":0},null,{"$f":"IF(C15<>\"\",C15,\"\")","v":213},4,null,null,1,1,null,"time",null,{"$f":"IF($C15=\"\",\"\", IF(GO15=1,0,IF(GM15<>0,500,GH15*$AE15/$AH15+GI15/$AH15*5+GJ15/$AH15*25+GK15*50+GL15*50)))","v":108.15355868863598},null,{"$f":"IF(C15<>\"\",C15,\"\")","v":213},1,null,1,null,null,null,null,null,{"$f":"IF($C15=\"\",\"\", IF(GZ15=1,0,IF(GX15<>0,500,GS15*$AE15/$AH15+GT15/$AH15*5+GU15/$AH15*25+GV15*50+GW15*50)))","v":19.024970273483952},null,{"$f":"IF(C15<>\"\",C15,\"\")","v":213},4,null,1,1,1,null,null,null,{"$f":"IF($C15=\"\",\"\", IF(HK15=1,0,IF(HI15<>0,500,HD15*$AE15/$AH15+HE15/$AH15*5+HF15/$AH15*25+HG15*50+HH15*50)))","v":125.14013928996093},null,{"$f":"IF(C15<>\"\",C15,\"\")","v":213},null,null,null,null,null,null,null,null,{"$f":"IF($C15=\"\",\"\", IF(HV15=1,0,IF(HT15<>0,500,HO15*$AE15/$AH15+HP15/$AH15*5+HQ15/$AH15*25+HR15*50+HS15*50)))","v":0},null,{"$f":"IF(C15<>\"\",C15,\"\")","v":213},null,null,null,null,null,null,null,null,{"$f":"IF($C15=\"\",\"\", IF(IG15=1,0,IF(IE15<>0,500,HZ15*$AE15/$AH15+IA15/$AH15*5+IB15/$AH15*25+IC15*50+ID15*50)))","v":0}]
[null,{"$f":"IF(C16=0,\"\",ROW(C16)-4)","v":12},223,"Norway","Suzuki 413","Mads Zimmermann","Vilde Zimmermann",{"$f":"IF(C16=0,\"\",IF(OR(BB16=1,BC16<>0),BC16,\"-\"))","v":25.819602514013933},{"$f":"IF(C16=0,\"\",IF(OR(BM16=1,BN16<>0),BN16,\"-\"))","v":257.474095464583},{"$f":"IF(C16=0,\"\",IF(OR(BX16=1,BY16<>0),BY16,\" -\"))","v":119.02497027348394},{"$f":"IF(C16=0,\"\",IF(OR(CJ16<>0,CI16=1),CJ16,\" -\"))","v":7.4740954645829802},{"$f":"IF(C16=0,\"\",IF(OR(CU16<>0,CT16=1),CU16,\" -\"))","v":117.66604382537795},{"$f":"IF(C16=0,\"\",IF(OR(DF16<>0,DE16=1),DF16,\" -\"))","v":108.15355868863598},{"$f":"IF(C16=0,\"\",IF(OR(DQ16<>0,DP16=1),DQ16,\" -\"))","v":5.4357057924239855},{"$f":"IF(C16=0,\"\",IF(OR(EB16<>0,EA16=1),EB16,\" -\"))","v":127.17852896211993},{"$f":"IF(C16=0,\"\",IF(OR(EM16<>0,EL16=1),EM16,\" -\"))","v":7.4740954645829802},{"$f":"IF(C16=0,\"\",IF(OR(EX16<>0,EW16=1),EX16,\" -\"))","v":2.0383896721589947},{"$f":"IF(C16=0,\"\",IF(OR(FI16<>0,FH16=1),FI16,\" -\"))","v":2.0383896721589947},{"$f":"IF(C16=0,\"\",IF(OR(FT16<>0,FS16=1),FT16,\" -\"))","v":11.55087480890097},{"$f":"IF(C16=0,\"\",IF(OR(GE16<>0,GD16=1),GE16,\" -\"))","v":4.0767793443179894},{"$f":"IF(C16=0,\"\",IF(OR(GP16<>0,GO16=1),GP16,\" -\"))","v":6.1151690164769841},{"$f":"IF(C16=0,\"\",IF(OR(HA16<>0,GZ16=1),HA16,\" -\"))","v":12.909801257006965},{"$f":"IF(C16=0,\"\",IF(OR(HL16<>0,HK16=1),HL16,\" -\"))","v":105.43570579242399},{"$f":"IF(C16=0,\"\",IF(AJ16<>0,AJ16,\" -\"))","v":" -"},{"$f":"IF(C16=0,\"\",IF(OR(HW16<>0,HV16=1),HW16,\" -\"))","v":" -"},{"$f":"IF(C16=0,\"\",IF(OR(IH16<>0,IG16=1),IH16,\" -\"))","v":" -"},{"$f":"IF(C16=0,\"\",IF(AL16=1,\"DNF\",IF(AL16=2,\"DSQ\",IF(AM16<>1,\"~ \"&ROUND(SUM(H16:X16),3),ROUND(SUM(H16:X16),3)))))","v":919.86599999999999},null,null,{"$f":"IF(C16<>\"\",C16,\"\")","v":223},{"$f":"IF(AD16<>\"\",3,\"\")","v":3},1450,2030,{"$f":"IF(AD16<>\"\",(AF16/1000*AG16/1000)/2,\"\")","v":1.4717499999999999},5,null,null,null,1,null,null,{"$f":"IF(C16=0,99999,IF(AL16>0,9999,SUM(H16:X16)-AN16))","v":919.86580601324965},{"$f":"IF(C16=0,99999,IF(AL16=1,9999,SUM(Y16:Z16)))","v":0},null,null,{"$f":"IF(C16<>\"\",C16,\"\")","v":223},1,2,1,null,null,null,null,null,{"$f":"IF($C16=\"\",\"\", IF(BB16=1,0,IF(AZ16<>0,500,AU16*$AE16/$AH16+AV16/$AH16*5+AW16/$AH16*25+AX16*50+AY16*50)))","v":25.819602514013933},null,{"$f":"IF(C16<>\"\",C16,\"\")","v":223},2,1,null,4,1,null,null,null,{"$f":"IF($C16=\"\",\"\", IF(BM16=1,0,IF(BK16<>0,500,BF16*$AE16/$AH16+BG16/$AH16*5+BH16/$AH16*25+BI16*50+BJ16*50)))","v":257.474095464583},null,{"$f":"IF(C16<>\"\",C16,\"\")","v":223},1,null,1,1,1,null,"stuck",null,{"$f":"IF($C16=\"\",\"\", IF(BX16=1,0,IF(BV16<>0,500,BQ16*$AE16/$AH16+BR16/$AH16*5+BS16/$AH16*25+BT16*50+BU16*50)))","v":119.02497027348394},null,{"$f":"IF(C16<>\"\",C16,\"\")","v":223},2,1,null,null,null,null,null,null,{"$f":"IF($C16=\"\",\"\", IF(CI16=1,0,IF(CG16<>0,500,CB16*$AE16/$AH16+CC16/$AH16*5+CD16/$AH16*25+CE16*50+CF16*50)))","v":7.4740954645829802},null,{"$f":"IF(C16<>\"\",C16,\"\")","v":223},7,1,null,1,1,null,null,null,{"$f":"IF($C16=\"\",\"\", IF(CT16=1,0,IF(CR16<>0,500,CM16*$AE16/$AH16+CN16/$AH16*5+CO16/$AH16*25+CP16*50+CQ16*50)))","v":117.66604382537795},null,{"$f":"IF(C16<>\"\",C16,\"\")","v":223},4,null,null,1,1,null,null,null,{"$f":"IF($C16=\"\",\"\", IF(DE16=1,0,IF(DC16<>0,500,CX16*$AE16/$AH16+CY16/$AH16*5+CZ16/$AH16*25+DA16*50+DB16*50)))","v":108.15355868863598},null,{"$f":"IF(C16<>\"\",C16,\"\")","v":223},1,1,null,null,null,null,null,null,{"$f":"IF($C16=\"\",\"\", IF(DP16=1,0,IF(DN16<>0,500,DI16*$AE16/$AH16+DJ16/$AH16*5+DK16/$AH16*25+DL16*50+DM16*50)))","v":5.4357057924239855},null,{"$f":"IF(C16<>\"\",C16,\"\")","v":223},5,null,1,1,1,null,null,null,{"$f":"IF($C16=\"\",\"\", IF(EA16=1,0,IF(DY16<>0,500,DT16*$AE16/$AH16+DU16/$AH16*5+DV16/$AH16*25+DW16*50+DX16*50)))","v":127.17852896211993},null,{"$f":"IF(C16<>\"\",C16,\"\")","v":223},2,1,null,null,null,null,null,null,{"$f":"IF($C16=\"\",\"\", IF(EL16=1,0,IF(EJ16<>0,500,EE16*$AE16/$AH16+EF16/$AH16*5+EG16/$AH16*25+EH16*50+EI16*50)))","v":7.4740954645829802},null,{"$f":"IF(C16<>\"\",C16,\"\")","v":223},1,null,null,null,null,null,null,null,{"$f":"IF($C16=\"\",\"\", IF(EW16=1,0,IF(EU16<>0,500,EP16*$AE16/$AH16+EQ16/$AH16*5+ER16/$AH16*25+ES16*50+ET16*50)))","v":2.0383896721589947},null,{"$f":"IF(C16<>\"\",C16,\"\")","v":223},1,null,null,null,null,null,null,null,{"$f":"IF($C16=\"\",\"\", IF(FH16=1,0,IF(FF16<>0,500,FA16*$AE16/$AH16+FB16/$AH16*5+FC16/$AH16*25+FD16*50+FE16*50)))","v":2.0383896721589947},null,{"$f":"IF(C16<>\"\",C16,\"\")","v":223},4,1,null,null,null,null,null,null,{"$f":"IF($C16=\"\",\"\", IF(FS16=1,0,IF(FQ16<>0,500,FL16*$AE16/$AH16+FM16/$AH16*5+FN16/$AH16*25+FO16*50+FP16*50)))","v":11.55087480890097},null,{"$f":"IF(C16<>\"\",C16,\"\")","v":223},2,null,null,null,null,null,null,null,{"$f":"IF($C16=\"\",\"\", IF(GD16=1,0,IF(GB16<>0,500,FW16*$AE16/$AH16+FX16/$AH16*5+FY16/$AH16*25+FZ16*50+GA16*50)))","v":4.0767793443179894},null,{"$f":"IF(C16<>\"\",C16,\"\")","v":223},3,null,null,null,null,null,null,null,{"$f":"IF($C16=\"\",\"\", IF(GO16=1,0,IF(GM16<>0,500,GH16*$AE16/$AH16+GI16/$AH16*5+GJ16/$AH16*25+GK16*50+GL16*50)))","v":6.1151690164769841},null,{"$f":"IF(C16<>\"\",C16,\"\")","v":223},3,2,null,null,null,null,null,null,{"$f":"IF($C16=\"\",\"\", IF(GZ16=1,0,IF(GX16<>0,500,GS16*$AE16/$AH16+GT16/$AH16*5+GU16/$AH16*25+GV16*50+GW16*50)))","v":12.909801257006965},null,{"$f":"IF(C16<>\"\",C16,\"\")","v":223},1,1,null,1,1,null,null,null,{"$f":"IF($C16=\"\",\"\", IF(HK16=1,0,IF(HI16<>0,500,HD16*$AE16/$AH16+HE16/$AH16*5+HF16/$AH16*25+HG16*50+HH16*50)))","v":105.43570579242399},null,{"$f":"IF(C16<>\"\",C16,\"\")","v":223},null,null,null,null,null,null,null,null,{"$f":"IF($C16=\"\",\"\", IF(HV16=1,0,IF(HT16<>0,500,HO16*$AE16/$AH16+HP16/$AH16*5+HQ16/$AH16*25+HR16*50+HS16*50)))","v":0},null,{"$f":"IF(C16<>\"\",C16,\"\")","v":223},null,null,null,null,null,null,null,null,{"$f":"IF($C16=\"\",\"\", IF(IG16=1,0,IF(IE16<>0,500,HZ16*$AE16/$AH16+IA16/$AH16*5+IB16/$AH16*25+IC16*50+ID16*50)))","v":0}]
[null,{"$f":"IF(C17=0,\"\",ROW(C17)-4)","v":13},221,"Norway","Suzuki SJ 413","Marius Hansen",null,{"$f":"IF(C17=0,\"\",IF(OR(BB17=1,BC17<>0),BC17,\"-\"))","v":0},{"$f":"IF(C17=0,\"\",IF(OR(BM17=1,BN17<>0),BN17,\"-\"))","v":250},{"$f":"IF(C17=0,\"\",IF(OR(BX17=1,BY17<>0),BY17,\" -\"))","v":154.07677934431797},{"$f":"IF(C17=0,\"\",IF(OR(CJ17<>0,CI17=1),CJ17,\" -\"))","v":7.4740954645829802},{"$f":"IF(C17=0,\"\",IF(OR(CU17<>0,CT17=1),CU17,\" -\"))","v":8.1535586886359788},{"$f":"IF(C17=0,\"\",IF(OR(DF17<>0,DE17=1),DF17,\" -\"))","v":48.241888907762871},{"$f":"IF(C17=0,\"\",IF(OR(DQ17<>0,DP17=1),DQ17,\" -\"))","v":12.230338032953968},{"$f":"IF(C17=0,\"\",IF(OR(EB17<>0,EA17=1),EB17,\" -\"))","v":110.19194836079498},{"$f":"IF(C17=0,\"\",IF(OR(EM17<>0,EL17=1),EM17,\" -\"))","v":250},{"$f":"IF(C17=0,\"\",IF(OR(EX17<>0,EW17=1),EX17,\" -\"))","v":250},{"$f":"IF(C17=0,\"\",IF(OR(FI17<>0,FH17=1),FI17,\" -\"))","v":119.02497027348394},{"$f":"IF(C17=0,\"\",IF(OR(FT17<>0,FS17=1),FT17,\" -\"))","v":4.0767793443179894},{"$f":"IF(C17=0,\"\",IF(OR(GE17<>0,GD17=1),GE17,\" -\"))","v":271.06335994564296},{"$f":"IF(C17=0,\"\",IF(OR(GP17<>0,GO17=1),GP17,\" -\"))","v":21.063359945642944},{"$f":"IF(C17=0,\"\",IF(OR(HA17<>0,GZ17=1),HA17,\" -\"))","v":7.4740954645829802},{"$f":"IF(C17=0,\"\",IF(OR(HL17<>0,HK17=1),HL17,\" -\"))","v":250},{"$f":"IF(C17=0,\"\",IF(AJ17<>0,AJ17,\" -\"))","v":" -"},{"$f":"IF(C17=0,\"\",IF(OR(HW17<>0,HV17=1),HW17,\" -\"))","v":" -"},{"$f":"IF(C17=0,\"\",IF(OR(IH17<>0,IG17=1),IH17,\" -\"))","v":" -"},{"$f":"IF(C17=0,\"\",IF(AL17=1,\"DNF\",IF(AL17=2,\"DSQ\",IF(AM17<>1,\"~ \"&ROUND(SUM(H17:X17),3),ROUND(SUM(H17:X17),3)))))","v":1763.0709999999999},null,null,{"$f":"IF(C17<>\"\",C17,\"\")","v":221},{"$f":"IF(AD17<>\"\",3,\"\")","v":3},1450,2030,{"$f":"IF(AD17<>\"\",(AF17/1000*AG17/1000)/2,\"\")","v":1.4717499999999999},5,null,null,null,1,null,null,{"$f":"IF(C17=0,99999,IF(AL17>0,9999,SUM(H17:X17)-AN17))","v":1763.0711737727197},{"$f":"IF(C17=0,99999,IF(AL17=1,9999,SUM(Y17:Z17)))","v":0},null,null,{"$f":"IF(C17<>\"\",C17,\"\")","v":221},null,null,null,null,null,null,null,1,{"$f":"IF($C17=\"\",\"\", IF(BB17=1,0,IF(AZ17<>0,500,AU17*$AE17/$AH17+AV17/$AH17*5+AW17/$AH17*25+AX17*50+AY17*50)))","v":0},null,{"$f":"IF(C17<>\"\",C17,\"\")","v":221},null,null,null,4,1,null,"Roll over",null,{"$f":"IF($C17=\"\",\"\", IF(BM17=1,0,IF(BK17<>0,500,BF17*$AE17/$AH17+BG17/$AH17*5+BH17/$AH17*25+BI17*50+BJ17*50)))","v":250},null,{"$f":"IF(C17<>\"\",C17,\"\")","v":221},2,null,null,2,1,null,"Front right tire broke stick",null,{"$f":"IF($C17=\"\",\"\", IF(BX17=1,0,IF(BV17<>0,500,BQ17*$AE17/$AH17+BR17/$AH17*5+BS17/$AH17*25+BT17*50+BU17*50)))","v":154.07677934431797},null,{"$f":"IF(C17<>\"\",C17,\"\")","v":221},2,1,null,null,null,null,null,null,{"$f":"IF($C17=\"\",\"\", IF(CI17=1,0,IF(CG17<>0,500,CB17*$AE17/$AH17+CC17/$AH17*5+CD17/$AH17*25+CE17*50+CF17*50)))","v":7.4740954645829802},null,{"$f":"IF(C17<>\"\",C17,\"\")","v":221},4,null,null,null,null,null,null,null,{"$f":"IF($C17=\"\",\"\", IF(CT17=1,0,IF(CR17<>0,500,CM17*$AE17/$AH17+CN17/$AH17*5+CO17/$AH17*25+CP17*50+CQ17*50)))","v":8.1535586886359788},null,{"$f":"IF(C17<>\"\",C17,\"\")","v":221},7,null,2,null,null,null,null,null,{"$f":"IF($C17=\"\",\"\", IF(DE17=1,0,IF(DC17<>0,500,CX17*$AE17/$AH17+CY17/$AH17*5+CZ17/$AH17*25+DA17*50+DB17*50)))","v":48.241888907762871},null,{"$f":"IF(C17<>\"\",C17,\"\")","v":221},6,null,null,null,null,null,null,null,{"$f":"IF($C17=\"\",\"\", IF(DP17=1,0,IF(DN17<>0,500,DI17*$AE17/$AH17+DJ17/$AH17*5+DK17/$AH17*25+DL17*50+DM17*50)))","v":12.230338032953968},null,{"$f":"IF(C17<>\"\",C17,\"\")","v":221},5,null,null,1,1,null,"Stuck",null,{"$f":"IF($C17=\"\",\"\", IF(EA17=1,0,IF(DY17<>0,500,DT17*$AE17/$AH17+DU17/$AH17*5+DV17/$AH17*25+DW17*50+DX17*50)))","v":110.19194836079498},null,{"$f":"IF(C17<>\"\",C17,\"\")","v":221},null,null,null,4,1,null,null,null,{"$f":"IF($C17=\"\",\"\", IF(EL17=1,0,IF(EJ17<>0,500,EE17*$AE17/$AH17+EF17/$AH17*5+EG17/$AH17*25+EH17*50+EI17*50)))","v":250},null,{"$f":"IF(C17<>\"\",C17,\"\")","v":221},null,null,null,4,1,null,null,null,{"$f":"IF($C17=\"\",\"\", IF(EW17=1,0,IF(EU17<>0,500,EP17*$AE17/$AH17+EQ17/$AH17*5+ER17/$AH17*25+ES17*50+ET17*50)))","v":250},null,{"$f":"IF(C17<>\"\",C17,\"\")","v":221},1,null,1,1,1,null,null,null,{"$f":"IF($C17=\"\",\"\", IF(FH17=1,0,IF(FF17<>0,500,FA17*$AE17/$AH17+FB17/$AH17*5+FC17/$AH17*25+FD17*50+FE17*50)))","v":119.02497027348394},null,{"$f":"IF(C17<>\"\",C17,\"\")","v":221},2,null,null,null,null,null,null,null,{"$f":"IF($C17=\"\",\"\", IF(FS17=1,0,IF(FQ17<>0,500,FL17*$AE17/$AH17+FM17/$AH17*5+FN17/$AH17*25+FO17*50+FP17*50)))","v":4.0767793443179894},null,{"$f":"IF(C17<>\"\",C17,\"\")","v":221},2,null,1,4,1,null,null,null,{"$f":"IF($C17=\"\",\"\", IF(GD17=1,0,IF(GB17<>0,500,FW17*$AE17/$AH17+FX17/$AH17*5+FY17/$AH17*25+FZ17*50+GA17*50)))","v":271.06335994564296},null,{"$f":"IF(C17<>\"\",C17,\"\")","v":221},2,null,1,null,null,null,null,null,{"$f":"IF($C17=\"\",\"\", IF(GO17=1,0,IF(GM17<>0,500,GH17*$AE17/$AH17+GI17/$AH17*5+GJ17/$AH17*25+GK17*50+GL17*50)))","v":21.063359945642944},null,{"$f":"IF(C17<>\"\",C17,\"\")","v":221},2,1,null,null,null,null,null,null,{"$f":"IF($C17=\"\",\"\", IF(GZ17=1,0,IF(GX17<>0,500,GS17*$AE17/$AH17+GT17/$AH17*5+GU17/$AH17*25+GV17*50+GW17*50)))","v":7.4740954645829802},null,{"$f":"IF(C17<>\"\",C17,\"\")","v":221},null,null,null,4,1,null,null,null,{"$f":"IF($C17=\"\",\"\", IF(HK17=1,0,IF(HI17<>0,500,HD17*$AE17/$AH17+HE17/$AH17*5+HF17/$AH17*25+HG17*50+HH17*50)))","v":250},null,{"$f":"IF(C17<>\"\",C17,\"\")","v":221},null,null,null,null,null,null,null,null,{"$f":"IF($C17=\"\",\"\", IF(HV17=1,0,IF(HT17<>0,500,HO17*$AE17/$AH17+HP17/$AH17*5+HQ17/$AH17*25+HR17*50+HS17*50)))","v":0},null,{"$f":"IF(C17<>\"\",C17,\"\")","v":221},null,null,null,null,null,null,null,null,{"$f":"IF($C17=\"\",\"\", IF(IG17=1,0,IF(IE17<>0,500,HZ17*$AE17/$AH17+IA17/$AH17*5+IB17/$AH17*25+IC17*50+ID17*50)))","v":0}]
[null,{"$f":"IF(C18=0,\"\",ROW(C18)-4)","v":14},219,"Norway","Suzuki SJ413","Thomas André Paulsen","Rebekka Paulsen",{"$f":"IF(C18=0,\"\",IF(OR(BB18=1,BC18<>0),BC18,\"-\"))","v":7.4740954645829802},{"$f":"IF(C18=0,\"\",IF(OR(BM18=1,BN18<>0),BN18,\"-\"))","v":500},{"$f":"IF(C18=0,\"\",IF(OR(BX18=1,BY18<>0),BY18,\" -\"))","v":500},{"$f":"IF(C18=0,\"\",IF(OR(CJ18<>0,CI18=1),CJ18,\" -\"))","v":90.088330219126902},{"$f":"IF(C18=0,\"\",IF(OR(CU18<>0,CT18=1),CU18,\" -\"))","v":204.076779344318},{"$f":"IF(C18=0,\"\",IF(OR(DF18<>0,DE18=1),DF18,\" -\"))","v":500},{"$f":"IF(C18=0,\"\",IF(OR(DQ18<>0,DP18=1),DQ18,\" -\"))","v":50.959741803974865},{"$f":"IF(C18=0,\"\",IF(OR(EB18<>0,EA18=1),EB18,\" -\"))","v":500},{"$f":"IF(C18=0,\"\",IF(OR(EM18<>0,EL18=1),EM18,\" -\"))","v":157.47409546458297},{"$f":"IF(C18=0,\"\",IF(OR(EX18<>0,EW18=1),EX18,\" -\"))","v":500},{"$f":"IF(C18=0,\"\",IF(OR(FI18<>0,FH18=1),FI18,\" -\"))","v":500},{"$f":"IF(C18=0,\"\",IF(OR(FT18<>0,FS18=1),FT18,\" -\"))","v":23.101749617801939},{"$f":"IF(C18=0,\"\",IF(OR(GE18<>0,GD18=1),GE18,\" -\"))","v":269.02497027348397},{"$f":"IF(C18=0,\"\",IF(OR(GP18<>0,GO18=1),GP18,\" -\"))","v":114.94819092916596},{"$f":"IF(C18=0,\"\",IF(OR(HA18<>0,GZ18=1),HA18,\" -\"))","v":127.17852896211993},{"$f":"IF(C18=0,\"\",IF(OR(HL18<>0,HK18=1),HL18,\" -\"))","v":500},{"$f":"IF(C18=0,\"\",IF(AJ18<>0,AJ18,\" -\"))","v":" -"},{"$f":"IF(C18=0,\"\",IF(OR(HW18<>0,HV18=1),HW18,\" -\"))","v":" -"},{"$f":"IF(C18=0,\"\",IF(OR(IH18<>0,IG18=1),IH18,\" -\"))","v":" -"},{"$f":"IF(C18=0,\"\",IF(AL18=1,\"DNF\",IF(AL18=2,\"DSQ\",IF(AM18<>1,\"~ \"&ROUND(SUM(H18:X18),3),ROUND(SUM(H18:X18),3)))))","v":4544.326},null,null,{"$f":"IF(C18<>\"\",C18,\"\")","v":219},{"$f":"IF(AD18<>\"\",3,\"\")","v":3},1450,2030,{"$f":"IF(AD18<>\"\",(AF18/1000*AG18/1000)/2,\"\")","v":1.4717499999999999},5,null,null,null,1,null,null,{"$f":"IF(C18=0,99999,IF(AL18>0,9999,SUM(H18:X18)-AN18))","v":4544.3264820791574},{"$f":"IF(C18=0,99999,IF(AL18=1,9999,SUM(Y18:Z18)))","v":0},null,null,{"$f":"IF(C18<>\"\",C18,\"\")","v":219},2,1,null,null,null,null,null,null,{"$f":"IF($C18=\"\",\"\", IF(BB18=1,0,IF(AZ18<>0,500,AU18*$AE18/$AH18+AV18/$AH18*5+AW18/$AH18*25+AX18*50+AY18*50)))","v":7.4740954645829802},null,{"$f":"IF(C18<>\"\",C18,\"\")","v":219},null,null,null,null,null,1,null,null,{"$f":"IF($C18=\"\",\"\", IF(BM18=1,0,IF(BK18<>0,500,BF18*$AE18/$AH18+BG18/$AH18*5+BH18/$AH18*25+BI18*50+BJ18*50)))","v":500},null,{"$f":"IF(C18<>\"\",C18,\"\")","v":219},null,null,null,null,null,1,null,null,{"$f":"IF($C18=\"\",\"\", IF(BX18=1,0,IF(BV18<>0,500,BQ18*$AE18/$AH18+BR18/$AH18*5+BS18/$AH18*25+BT18*50+BU18*50)))","v":500},null,{"$f":"IF(C18<>\"\",C18,\"\")","v":219},3,null,2,null,1,null,"time",null,{"$f":"IF($C18=\"\",\"\", IF(CI18=1,0,IF(CG18<>0,500,CB18*$AE18/$AH18+CC18/$AH18*5+CD18/$AH18*25+CE18*50+CF18*50)))","v":90.088330219126902},null,{"$f":"IF(C18<>\"\",C18,\"\")","v":219},2,null,null,3,1,null,null,null,{"$f":"IF($C18=\"\",\"\", IF(CT18=1,0,IF(CR18<>0,500,CM18*$AE18/$AH18+CN18/$AH18*5+CO18/$AH18*25+CP18*50+CQ18*50)))","v":204.076779344318},null,{"$f":"IF(C18<>\"\",C18,\"\")","v":219},null,null,null,null,null,1,null,null,{"$f":"IF($C18=\"\",\"\", IF(DE18=1,0,IF(DC18<>0,500,CX18*$AE18/$AH18+CY18/$AH18*5+CZ18/$AH18*25+DA18*50+DB18*50)))","v":500},null,{"$f":"IF(C18<>\"\",C18,\"\")","v":219},5,2,2,null,null,null,null,null,{"$f":"IF($C18=\"\",\"\", IF(DP18=1,0,IF(DN18<>0,500,DI18*$AE18/$AH18+DJ18/$AH18*5+DK18/$AH18*25+DL18*50+DM18*50)))","v":50.959741803974865},null,{"$f":"IF(C18<>\"\",C18,\"\")","v":219},null,null,null,null,null,1,null,null,{"$f":"IF($C18=\"\",\"\", IF(EA18=1,0,IF(DY18<>0,500,DT18*$AE18/$AH18+DU18/$AH18*5+DV18/$AH18*25+DW18*50+DX18*50)))","v":500},null,{"$f":"IF(C18<>\"\",C18,\"\")","v":219},2,1,null,2,1,null,null,null,{"$f":"IF($C18=\"\",\"\", IF(EL18=1,0,IF(EJ18<>0,500,EE18*$AE18/$AH18+EF18/$AH18*5+EG18/$AH18*25+EH18*50+EI18*50)))","v":157.47409546458297},null,{"$f":"IF(C18<>\"\",C18,\"\")","v":219},null,null,null,null,null,1,null,null,{"$f":"IF($C18=\"\",\"\", IF(EW18=1,0,IF(EU18<>0,500,EP18*$AE18/$AH18+EQ18/$AH18*5+ER18/$AH18*25+ES18*50+ET18*50)))","v":500},null,{"$f":"IF(C18<>\"\",C18,\"\")","v":219},null,null,null,null,null,1,null,null,{"$f":"IF($C18=\"\",\"\", IF(FH18=1,0,IF(FF18<>0,500,FA18*$AE18/$AH18+FB18/$AH18*5+FC18/$AH18*25+FD18*50+FE18*50)))","v":500},null,{"$f":"IF(C18<>\"\",C18,\"\")","v":219},3,null,1,null,null,null,null,null,{"$f":"IF($C18=\"\",\"\", IF(FS18=1,0,IF(FQ18<>0,500,FL18*$AE18/$AH18+FM18/$AH18*5+FN18/$AH18*25+FO18*50+FP18*50)))","v":23.101749617801939},null,{"$f":"IF(C18<>\"\",C18,\"\")","v":219},1,null,1,4,1,null,"roll over",null,{"$f":"IF($C18=\"\",\"\", IF(GD18=1,0,IF(GB18<>0,500,FW18*$AE18/$AH18+FX18/$AH18*5+FY18/$AH18*25+FZ18*50+GA18*50)))","v":269.02497027348397},null,{"$f":"IF(C18<>\"\",C18,\"\")","v":219},4,2,null,1,1,null,null,null,{"$f":"IF($C18=\"\",\"\", IF(GO18=1,0,IF(GM18<>0,500,GH18*$AE18/$AH18+GI18/$AH18*5+GJ18/$AH18*25+GK18*50+GL18*50)))","v":114.94819092916596},null,{"$f":"IF(C18<>\"\",C18,\"\")","v":219},5,null,1,1,1,null,"technical problem",null,{"$f":"IF($C18=\"\",\"\", IF(GZ18=1,0,IF(GX18<>0,500,GS18*$AE18/$AH18+GT18/$AH18*5+GU18/$AH18*25+GV18*50+GW18*50)))","v":127.17852896211993},null,{"$f":"IF(C18<>\"\",C18,\"\")","v":219},null,null,null,null,null,1,null,null,{"$f":"IF($C18=\"\",\"\", IF(HK18=1,0,IF(HI18<>0,500,HD18*$AE18/$AH18+HE18/$AH18*5+HF18/$AH18*25+HG18*50+HH18*50)))","v":500},null,{"$f":"IF(C18<>\"\",C18,\"\")","v":219},null,null,null,null,null,null,null,null,{"$f":"IF($C18=\"\",\"\", IF(HV18=1,0,IF(HT18<>0,500,HO18*$AE18/$AH18+HP18/$AH18*5+HQ18/$AH18*25+HR18*50+HS18*50)))","v":0},null,{"$f":"IF(C18<>\"\",C18,\"\")","v":219},null,null,null,null,null,null,null,null,{"$f":"IF($C18=\"\",\"\", IF(IG18=1,0,IF(IE18<>0,500,HZ18*$AE18/$AH18+IA18/$AH18*5+IB18/$AH18*25+IC18*50+ID18*50)))","v":0}]
[null,{"$f":"IF(C19=0,\"\",ROW(C19)-4)","v":15},207,"Sweden","Suzuki Jimny","Sven Falck","John Rasby",{"$f":"IF(C19=0,\"\",IF(OR(BB19=1,BC19<>0),BC19,\"-\"))","v":2.7777777777777777},{"$f":"IF(C19=0,\"\",IF(OR(BM19=1,BN19<>0),BN19,\"-\"))","v":1.6666666666666665},{"$f":"IF(C19=0,\"\",IF(OR(BX19=1,BY19<>0),BY19,\" -\"))","v":18.888888888888889},{"$f":"IF(C19=0,\"\",IF(OR(CJ19<>0,CI19=1),CJ19,\" -\"))","v":500},{"$f":"IF(C19=0,\"\",IF(OR(CU19<>0,CT19=1),CU19,\" -\"))","v":500},{"$f":"IF(C19=0,\"\",IF(OR(DF19<>0,DE19=1),DF19,\" -\"))","v":500},{"$f":"IF(C19=0,\"\",IF(OR(DQ19<>0,DP19=1),DQ19,\" -\"))","v":116.11111111111111},{"$f":"IF(C19=0,\"\",IF(OR(EB19<>0,EA19=1),EB19,\" -\"))","v":20},{"$f":"IF(C19=0,\"\",IF(OR(EM19<>0,EL19=1),EM19,\" -\"))","v":500},{"$f":"IF(C19=0,\"\",IF(OR(EX19<>0,EW19=1),EX19,\" -\"))","v":500},{"$f":"IF(C19=0,\"\",IF(OR(FI19<>0,FH19=1),FI19,\" -\"))","v":500},{"$f":"IF(C19=0,\"\",IF(OR(FT19<>0,FS19=1),FT19,\" -\"))","v":500},{"$f":"IF(C19=0,\"\",IF(OR(GE19<>0,GD19=1),GE19,\" -\"))","v":500},{"$f":"IF(C19=0,\"\",IF(OR(GP19<>0,GO19=1),GP19,\" -\"))","v":500},{"$f":"IF(C19=0,\"\",IF(OR(HA19<>0,GZ19=1),HA19,\" -\"))","v":500},{"$f":"IF(C19=0,\"\",IF(OR(HL19<>0,HK19=1),HL19,\" -\"))","v":500},{"$f":"IF(C19=0,\"\",IF(AJ19<>0,AJ19,\" -\"))","v":" -"},{"$f":"IF(C19=0,\"\",IF(OR(HW19<>0,HV19=1),HW19,\" -\"))","v":" -"},{"$f":"IF(C19=0,\"\",IF(OR(IH19<>0,IG19=1),IH19,\" -\"))","v":" -"},{"$f":"IF(C19=0,\"\",IF(AL19=1,\"DNF\",IF(AL19=2,\"DSQ\",IF(AM19<>1,\"~ \"&ROUND(SUM(H19:X19),3),ROUND(SUM(H19:X19),3)))))","v":5659.4440000000004},null,null,{"$f":"IF(C19<>\"\",C19,\"\")","v":207},{"$f":"IF(AD19<>\"\",3,\"\")","v":3},1600,2250,{"$f":"IF(AD19<>\"\",(AF19/1000*AG19/1000)/2,\"\")","v":1.8},4,null,null,null,1,null,null,{"$f":"IF(C19=0,99999,IF(AL19>0,9999,SUM(H19:X19)-AN19))","v":5659.4444444444443},{"$f":"IF(C19=0,99999,IF(AL19=1,9999,SUM(Y19:Z19)))","v":0},null,null,{"$f":"IF(C19<>\"\",C19,\"\")","v":207},null,1,null,null,null,null,null,null,{"$f":"IF($C19=\"\",\"\", IF(BB19=1,0,IF(AZ19<>0,500,AU19*$AE19/$AH19+AV19/$AH19*5+AW19/$AH19*25+AX19*50+AY19*50)))","v":2.7777777777777777},null,{"$f":"IF(C19<>\"\",C19,\"\")","v":207},1,null,null,null,null,null,null,null,{"$f":"IF($C19=\"\",\"\", IF(BM19=1,0,IF(BK19<>0,500,BF19*$AE19/$AH19+BG19/$AH19*5+BH19/$AH19*25+BI19*50+BJ19*50)))","v":1.6666666666666665},null,{"$f":"IF(C19<>\"\",C19,\"\")","v":207},3,null,1,null,null,null,null,null,{"$f":"IF($C19=\"\",\"\", IF(BX19=1,0,IF(BV19<>0,500,BQ19*$AE19/$AH19+BR19/$AH19*5+BS19/$AH19*25+BT19*50+BU19*50)))","v":18.888888888888889},null,{"$f":"IF(C19<>\"\",C19,\"\")","v":207},null,null,null,null,null,1,null,null,{"$f":"IF($C19=\"\",\"\", IF(CI19=1,0,IF(CG19<>0,500,CB19*$AE19/$AH19+CC19/$AH19*5+CD19/$AH19*25+CE19*50+CF19*50)))","v":500},null,{"$f":"IF(C19<>\"\",C19,\"\")","v":207},null,null,null,null,null,1,null,null,{"$f":"IF($C19=\"\",\"\", IF(CT19=1,0,IF(CR19<>0,500,CM19*$AE19/$AH19+CN19/$AH19*5+CO19/$AH19*25+CP19*50+CQ19*50)))","v":500},null,{"$f":"IF(C19<>\"\",C19,\"\")","v":207},null,null,null,null,null,1,null,null,{"$f":"IF($C19=\"\",\"\", IF(DE19=1,0,IF(DC19<>0,500,CX19*$AE19/$AH19+CY19/$AH19*5+CZ19/$AH19*25+DA19*50+DB19*50)))","v":500},null,{"$f":"IF(C19<>\"\",C19,\"\")","v":207},8,1,null,1,1,null,"winched + time",null,{"$f":"IF($C19=\"\",\"\", IF(DP19=1,0,IF(DN19<>0,500,DI19*$AE19/$AH19+DJ19/$AH19*5+DK19/$AH19*25+DL19*50+DM19*50)))","v":116.11111111111111},null,{"$f":"IF(C19<>\"\",C19,\"\")","v":207},2,1,1,null,null,null,null,null,{"$f":"IF($C19=\"\",\"\", IF(EA19=1,0,IF(DY19<>0,500,DT19*$AE19/$AH19+DU19/$AH19*5+DV19/$AH19*25+DW19*50+DX19*50)))","v":20},null,{"$f":"IF(C19<>\"\",C19,\"\")","v":207},null,null,null,null,null,1,null,null,{"$f":"IF($C19=\"\",\"\", IF(EL19=1,0,IF(EJ19<>0,500,EE19*$AE19/$AH19+EF19/$AH19*5+EG19/$AH19*25+EH19*50+EI19*50)))","v":500},null,{"$f":"IF(C19<>\"\",C19,\"\")","v":207},null,null,null,null,null,1,null,null,{"$f":"IF($C19=\"\",\"\", IF(EW19=1,0,IF(EU19<>0,500,EP19*$AE19/$AH19+EQ19/$AH19*5+ER19/$AH19*25+ES19*50+ET19*50)))","v":500},null,{"$f":"IF(C19<>\"\",C19,\"\")","v":207},null,null,null,null,null,1,null,null,{"$f":"IF($C19=\"\",\"\", IF(FH19=1,0,IF(FF19<>0,500,FA19*$AE19/$AH19+FB19/$AH19*5+FC19/$AH19*25+FD19*50+FE19*50)))","v":500},null,{"$f":"IF(C19<>\"\",C19,\"\")","v":207},null,null,null,null,null,1,null,null,{"$f":"IF($C19=\"\",\"\", IF(FS19=1,0,IF(FQ19<>0,500,FL19*$AE19/$AH19+FM19/$AH19*5+FN19/$AH19*25+FO19*50+FP19*50)))","v":500},null,{"$f":"IF(C19<>\"\",C19,\"\")","v":207},null,null,null,null,null,1,null,null,{"$f":"IF($C19=\"\",\"\", IF(GD19=1,0,IF(GB19<>0,500,FW19*$AE19/$AH19+FX19/$AH19*5+FY19/$AH19*25+FZ19*50+GA19*50)))","v":500},null,{"$f":"IF(C19<>\"\",C19,\"\")","v":207},null,null,null,null,null,1,null,null,{"$f":"IF($C19=\"\",\"\", IF(GO19=1,0,IF(GM19<>0,500,GH19*$AE19/$AH19+GI19/$AH19*5+GJ19/$AH19*25+GK19*50+GL19*50)))","v":500},null,{"$f":"IF(C19<>\"\",C19,\"\")","v":207},null,null,null,null,null,1,null,null,{"$f":"IF($C19=\"\",\"\", IF(GZ19=1,0,IF(GX19<>0,500,GS19*$AE19/$AH19+GT19/$AH19*5+GU19/$AH19*25+GV19*50+GW19*50)))","v":500},null,{"$f":"IF(C19<>\"\",C19,\"\")","v":207},null,null,null,null,null,1,null,null,{"$f":"IF($C19=\"\",\"\", IF(HK19=1,0,IF(HI19<>0,500,HD19*$AE19/$AH19+HE19/$AH19*5+HF19/$AH19*25+HG19*50+HH19*50)))","v":500},null,{"$f":"IF(C19<>\"\",C19,\"\")","v":207},null,null,null,null,null,null,null,null,{"$f":"IF($C19=\"\",\"\", IF(HV19=1,0,IF(HT19<>0,500,HO19*$AE19/$AH19+HP19/$AH19*5+HQ19/$AH19*25+HR19*50+HS19*50)))","v":0},null,{"$f":"IF(C19<>\"\",C19,\"\")","v":207},null,null,null,null,null,null,null,null,{"$f":"IF($C19=\"\",\"\", IF(IG19=1,0,IF(IE19<>0,500,HZ19*$AE19/$AH19+IA19/$AH19*5+IB19/$AH19*25+IC19*50+ID19*50)))","v":0}]
[null,{"$f":"IF(C20=0,\"\",ROW(C20)-4)","v":16},208,"Switzerland","Jeep Wrangler TJ","Kurt Kälin","Nicole Kälin",{"$f":"IF(C20=0,\"\",IF(OR(BB20=1,BC20<>0),BC20,\"-\"))","v":500},{"$f":"IF(C20=0,\"\",IF(OR(BM20=1,BN20<>0),BN20,\"-\"))","v":500},{"$f":"IF(C20=0,\"\",IF(OR(BX20=1,BY20<>0),BY20,\" -\"))","v":500},{"$f":"IF(C20=0,\"\",IF(OR(CJ20<>0,CI20=1),CJ20,\" -\"))","v":5.7623049219687879},{"$f":"IF(C20=0,\"\",IF(OR(CU20<>0,CT20=1),CU20,\" -\"))","v":155.76230492196879},{"$f":"IF(C20=0,\"\",IF(OR(DF20<>0,DE20=1),DF20,\" -\"))","v":20.648259303721488},{"$f":"IF(C20=0,\"\",IF(OR(DQ20<>0,DP20=1),DQ20,\" -\"))","v":500},{"$f":"IF(C20=0,\"\",IF(OR(EB20<>0,EA20=1),EB20,\" -\"))","v":500},{"$f":"IF(C20=0,\"\",IF(OR(EM20<>0,EL20=1),EM20,\" -\"))","v":500},{"$f":"IF(C20=0,\"\",IF(OR(EX20<>0,EW20=1),EX20,\" -\"))","v":500},{"$f":"IF(C20=0,\"\",IF(OR(FI20<>0,FH20=1),FI20,\" -\"))","v":500},{"$f":"IF(C20=0,\"\",IF(OR(FT20<>0,FS20=1),FT20,\" -\"))","v":500},{"$f":"IF(C20=0,\"\",IF(OR(GE20<>0,GD20=1),GE20,\" -\"))","v":500},{"$f":"IF(C20=0,\"\",IF(OR(GP20<>0,GO20=1),GP20,\" -\"))","v":500},{"$f":"IF(C20=0,\"\",IF(OR(HA20<>0,GZ20=1),HA20,\" -\"))","v":500},{"$f":"IF(C20=0,\"\",IF(OR(HL20<>0,HK20=1),HL20,\" -\"))","v":500},{"$f":"IF(C20=0,\"\",IF(AJ20<>0,AJ20,\" -\"))","v":" -"},{"$f":"IF(C20=0,\"\",IF(OR(HW20<>0,HV20=1),HW20,\" -\"))","v":" -"},{"$f":"IF(C20=0,\"\",IF(OR(IH20<>0,IG20=1),IH20,\" -\"))","v":" -"},{"$f":"IF(C20=0,\"\",IF(AL20=1,\"DNF\",IF(AL20=2,\"DSQ\",IF(AM20<>1,\"~ \"&ROUND(SUM(H20:X20),3),ROUND(SUM(H20:X20),3)))))","v":6682.1729999999998},null,null,{"$f":"IF(C20<>\"\",C20,\"\")","v":208},{"$f":"IF(AD20<>\"\",3,\"\")","v":3},1750,2380,{"$f":"IF(AD20<>\"\",(AF20/1000*AG20/1000)/2,\"\")","v":2.0825},3,null,null,null,1,null,null,{"$f":"IF(C20=0,99999,IF(AL20>0,9999,SUM(H20:X20)-AN20))","v":6682.1728691476592},{"$f":"IF(C20=0,99999,IF(AL20=1,9999,SUM(Y20:Z20)))","v":0},null,null,{"$f":"IF(C20<>\"\",C20,\"\")","v":208},null,null,null,null,null,1,null,null,{"$f":"IF($C20=\"\",\"\", IF(BB20=1,0,IF(AZ20<>0,500,AU20*$AE20/$AH20+AV20/$AH20*5+AW20/$AH20*25+AX20*50+AY20*50)))","v":500},null,{"$f":"IF(C20<>\"\",C20,\"\")","v":208},null,null,null,null,null,1,null,null,{"$f":"IF($C20=\"\",\"\", IF(BM20=1,0,IF(BK20<>0,500,BF20*$AE20/$AH20+BG20/$AH20*5+BH20/$AH20*25+BI20*50+BJ20*50)))","v":500},null,{"$f":"IF(C20<>\"\",C20,\"\")","v":208},null,null,null,null,null,1,null,null,{"$f":"IF($C20=\"\",\"\", IF(BX20=1,0,IF(BV20<>0,500,BQ20*$AE20/$AH20+BR20/$AH20*5+BS20/$AH20*25+BT20*50+BU20*50)))","v":500},null,{"$f":"IF(C20<>\"\",C20,\"\")","v":208},4,null,null,null,null,null,null,null,{"$f":"IF($C20=\"\",\"\", IF(CI20=1,0,IF(CG20<>0,500,CB20*$AE20/$AH20+CC20/$AH20*5+CD20/$AH20*25+CE20*50+CF20*50)))","v":5.7623049219687879},null,{"$f":"IF(C20<>\"\",C20,\"\")","v":208},4,null,null,2,1,null,null,null,{"$f":"IF($C20=\"\",\"\", IF(CT20=1,0,IF(CR20<>0,500,CM20*$AE20/$AH20+CN20/$AH20*5+CO20/$AH20*25+CP20*50+CQ20*50)))","v":155.76230492196879},null,{"$f":"IF(C20<>\"\",C20,\"\")","v":208},6,null,1,null,null,null,null,null,{"$f":"IF($C20=\"\",\"\", IF(DE20=1,0,IF(DC20<>0,500,CX20*$AE20/$AH20+CY20/$AH20*5+CZ20/$AH20*25+DA20*50+DB20*50)))","v":20.648259303721488},null,{"$f":"IF(C20<>\"\",C20,\"\")","v":208},null,null,null,null,null,1,null,null,{"$f":"IF($C20=\"\",\"\", IF(DP20=1,0,IF(DN20<>0,500,DI20*$AE20/$AH20+DJ20/$AH20*5+DK20/$AH20*25+DL20*50+DM20*50)))","v":500},null,{"$f":"IF(C20<>\"\",C20,\"\")","v":208},null,null,null,null,null,1,null,null,{"$f":"IF($C20=\"\",\"\", IF(EA20=1,0,IF(DY20<>0,500,DT20*$AE20/$AH20+DU20/$AH20*5+DV20/$AH20*25+DW20*50+DX20*50)))","v":500},null,{"$f":"IF(C20<>\"\",C20,\"\")","v":208},null,null,null,null,null,1,null,null,{"$f":"IF($C20=\"\",\"\", IF(EL20=1,0,IF(EJ20<>0,500,EE20*$AE20/$AH20+EF20/$AH20*5+EG20/$AH20*25+EH20*50+EI20*50)))","v":500},null,{"$f":"IF(C20<>\"\",C20,\"\")","v":208},null,null,null,null,null,1,null,null,{"$f":"IF($C20=\"\",\"\", IF(EW20=1,0,IF(EU20<>0,500,EP20*$AE20/$AH20+EQ20/$AH20*5+ER20/$AH20*25+ES20*50+ET20*50)))","v":500},null,{"$f":"IF(C20<>\"\",C20,\"\")","v":208},null,null,null,null,null,1,null,null,{"$f":"IF($C20=\"\",\"\", IF(FH20=1,0,IF(FF20<>0,500,FA20*$AE20/$AH20+FB20/$AH20*5+FC20/$AH20*25+FD20*50+FE20*50)))","v":500},null,{"$f":"IF(C20<>\"\",C20,\"\")","v":208},null,null,null,null,null,1,null,null,{"$f":"IF($C20=\"\",\"\", IF(FS20=1,0,IF(FQ20<>0,500,FL20*$AE20/$AH20+FM20/$AH20*5+FN20/$AH20*25+FO20*50+FP20*50)))","v":500},null,{"$f":"IF(C20<>\"\",C20,\"\")","v":208},null,null,null,null,null,1,null,null,{"$f":"IF($C20=\"\",\"\", IF(GD20=1,0,IF(GB20<>0,500,FW20*$AE20/$AH20+FX20/$AH20*5+FY20/$AH20*25+FZ20*50+GA20*50)))","v":500},null,{"$f":"IF(C20<>\"\",C20,\"\")","v":208},null,null,null,null,null,1,null,null,{"$f":"IF($C20=\"\",\"\", IF(GO20=1,0,IF(GM20<>0,500,GH20*$AE20/$AH20+GI20/$AH20*5+GJ20/$AH20*25+GK20*50+GL20*50)))","v":500},null,{"$f":"IF(C20<>\"\",C20,\"\")","v":208},null,null,null,null,null,1,null,null,{"$f":"IF($C20=\"\",\"\", IF(GZ20=1,0,IF(GX20<>0,500,GS20*$AE20/$AH20+GT20/$AH20*5+GU20/$AH20*25+GV20*50+GW20*50)))","v":500},null,{"$f":"IF(C20<>\"\",C20,\"\")","v":208},null,null,null,null,null,1,null,null,{"$f":"IF($C20=\"\",\"\", IF(HK20=1,0,IF(HI20<>0,500,HD20*$AE20/$AH20+HE20/$AH20*5+HF20/$AH20*25+HG20*50+HH20*50)))","v":500},null,{"$f":"IF(C20<>\"\",C20,\"\")","v":208},null,null,null,null,null,null,null,null,{"$f":"IF($C20=\"\",\"\", IF(HV20=1,0,IF(HT20<>0,500,HO20*$AE20/$AH20+HP20/$AH20*5+HQ20/$AH20*25+HR20*50+HS20*50)))","v":0},null,{"$f":"IF(C20<>\"\",C20,\"\")","v":208},null,null,null,null,null,null,null,null,{"$f":"IF($C20=\"\",\"\", IF(IG20=1,0,IF(IE20<>0,500,HZ20*$AE20/$AH20+IA20/$AH20*5+IB20/$AH20*25+IC20*50+ID20*50)))","v":0}]
[null,{"$f":"IF(C21=0,\"\",ROW(C21)-4)","v":17},216,"Germany","Suzuki Samurai","Felix May","Thomas May",{"$f":"IF(C21=0,\"\",IF(OR(BB21=1,BC21<>0),BC21,\"-\"))","v":0},{"$f":"IF(C21=0,\"\",IF(OR(BM21=1,BN21<>0),BN21,\"-\"))","v":9.5124851367419758},{"$f":"IF(C21=0,\"\",IF(OR(BX21=1,BY21<>0),BY21,\" -\"))","v":0},{"$f":"IF(C21=0,\"\",IF(OR(CJ21<>0,CI21=1),CJ21,\" -\"))","v":0},{"$f":"IF(C21=0,\"\",IF(OR(CU21<>0,CT21=1),CU21,\" -\"))","v":21.063359945642944},{"$f":"IF(C21=0,\"\",IF(OR(DF21<>0,DE21=1),DF21,\" -\"))","v":2.0383896721589947},{"$f":"IF(C21=0,\"\",IF(OR(DQ21<>0,DP21=1),DQ21,\" -\"))","v":0},{"$f":"IF(C21=0,\"\",IF(OR(EB21<>0,EA21=1),EB21,\" -\"))","v":0},{"$f":"IF(C21=0,\"\",IF(OR(EM21<>0,EL21=1),EM21,\" -\"))","v":0},{"$f":"IF(C21=0,\"\",IF(OR(EX21<>0,EW21=1),EX21,\" -\"))","v":0},{"$f":"IF(C21=0,\"\",IF(OR(FI21<>0,FH21=1),FI21,\" -\"))","v":0},{"$f":"IF(C21=0,\"\",IF(OR(FT21<>0,FS21=1),FT21,\" -\"))","v":0},{"$f":"IF(C21=0,\"\",IF(OR(GE21<>0,GD21=1),GE21,\" -\"))","v":0},{"$f":"IF(C21=0,\"\",IF(OR(GP21<>0,GO21=1),GP21,\" -\"))","v":0},{"$f":"IF(C21=0,\"\",IF(OR(HA21<>0,GZ21=1),HA21,\" -\"))","v":4.0767793443179894},{"$f":"IF(C21=0,\"\",IF(OR(HL21<>0,HK21=1),HL21,\" -\"))","v":2.0383896721589947},{"$f":"IF(C21=0,\"\",IF(AJ21<>0,AJ21,\" -\"))","v":" -"},{"$f":"IF(C21=0,\"\",IF(OR(HW21<>0,HV21=1),HW21,\" -\"))","v":" -"},{"$f":"IF(C21=0,\"\",IF(OR(IH21<>0,IG21=1),IH21,\" -\"))","v":" -"},{"$f":"IF(C21=0,\"\",IF(AL21=1,\"DNF\",IF(AL21=2,\"DSQ\",IF(AM21<>1,\"~ \"&ROUND(SUM(H21:X21),3),ROUND(SUM(H21:X21),3)))))","v":"DSQ"},null,null,{"$f":"IF(C21<>\"\",C21,\"\")","v":216},{"$f":"IF(AD21<>\"\",3,\"\")","v":3},1450,2030,{"$f":"IF(AD21<>\"\",(AF21/1000*AG21/1000)/2,\"\")","v":1.4717499999999999},5,null,"Non-compliant car",2,1,null,null,{"$f":"IF(C21=0,99999,IF(AL21>0,9999,SUM(H21:X21)-AN21))","v":9999},{"$f":"IF(C21=0,99999,IF(AL21=1,9999,SUM(Y21:Z21)))","v":0},null,null,{"$f":"IF(C21<>\"\",C21,\"\")","v":216},null,null,null,null,null,null,null,1,{"$f":"IF($C21=\"\",\"\", IF(BB21=1,0,IF(AZ21<>0,500,AU21*$AE21/$AH21+AV21/$AH21*5+AW21/$AH21*25+AX21*50+AY21*50)))","v":0},null,{"$f":"IF(C21<>\"\",C21,\"\")","v":216},3,1,null,null,null,null,null,null,{"$f":"IF($C21=\"\",\"\", IF(BM21=1,0,IF(BK21<>0,500,BF21*$AE21/$AH21+BG21/$AH21*5+BH21/$AH21*25+BI21*50+BJ21*50)))","v":9.5124851367419758},null,{"$f":"IF(C21<>\"\",C21,\"\")","v":216},null,null,null,null,null,null,null,1,{"$f":"IF($C21=\"\",\"\", IF(BX21=1,0,IF(BV21<>0,500,BQ21*$AE21/$AH21+BR21/$AH21*5+BS21/$AH21*25+BT21*50+BU21*50)))","v":0},null,{"$f":"IF(C21<>\"\",C21,\"\")","v":216},null,null,null,null,null,null,null,1,{"$f":"IF($C21=\"\",\"\", IF(CI21=1,0,IF(CG21<>0,500,CB21*$AE21/$AH21+CC21/$AH21*5+CD21/$AH21*25+CE21*50+CF21*50)))","v":0},null,{"$f":"IF(C21<>\"\",C21,\"\")","v":216},2,null,1,null,null,null,null,null,{"$f":"IF($C21=\"\",\"\", IF(CT21=1,0,IF(CR21<>0,500,CM21*$AE21/$AH21+CN21/$AH21*5+CO21/$AH21*25+CP21*50+CQ21*50)))","v":21.063359945642944},null,{"$f":"IF(C21<>\"\",C21,\"\")","v":216},1,null,null,null,null,null,null,null,{"$f":"IF($C21=\"\",\"\", IF(DE21=1,0,IF(DC21<>0,500,CX21*$AE21/$AH21+CY21/$AH21*5+CZ21/$AH21*25+DA21*50+DB21*50)))","v":2.0383896721589947},null,{"$f":"IF(C21<>\"\",C21,\"\")","v":216},null,null,null,null,null,null,null,1,{"$f":"IF($C21=\"\",\"\", IF(DP21=1,0,IF(DN21<>0,500,DI21*$AE21/$AH21+DJ21/$AH21*5+DK21/$AH21*25+DL21*50+DM21*50)))","v":0},null,{"$f":"IF(C21<>\"\",C21,\"\")","v":216},null,null,null,null,null,null,null,1,{"$f":"IF($C21=\"\",\"\", IF(EA21=1,0,IF(DY21<>0,500,DT21*$AE21/$AH21+DU21/$AH21*5+DV21/$AH21*25+DW21*50+DX21*50)))","v":0},null,{"$f":"IF(C21<>\"\",C21,\"\")","v":216},null,null,null,null,null,null,null,1,{"$f":"IF($C21=\"\",\"\", IF(EL21=1,0,IF(EJ21<>0,500,EE21*$AE21/$AH21+EF21/$AH21*5+EG21/$AH21*25+EH21*50+EI21*50)))","v":0},null,{"$f":"IF(C21<>\"\",C21,\"\")","v":216},null,null,null,null,null,null,null,1,{"$f":"IF($C21=\"\",\"\", IF(EW21=1,0,IF(EU21<>0,500,EP21*$AE21/$AH21+EQ21/$AH21*5+ER21/$AH21*25+ES21*50+ET21*50)))","v":0},null,{"$f":"IF(C21<>\"\",C21,\"\")","v":216},null,null,null,null,null,null,null,1,{"$f":"IF($C21=\"\",\"\", IF(FH21=1,0,IF(FF21<>0,500,FA21*$AE21/$AH21+FB21/$AH21*5+FC21/$AH21*25+FD21*50+FE21*50)))","v":0},null,{"$f":"IF(C21<>\"\",C21,\"\")","v":216},null,null,null,null,null,null,null,1,{"$f":"IF($C21=\"\",\"\", IF(FS21=1,0,IF(FQ21<>0,500,FL21*$AE21/$AH21+FM21/$AH21*5+FN21/$AH21*25+FO21*50+FP21*50)))","v":0},null,{"$f":"IF(C21<>\"\",C21,\"\")","v":216},null,null,null,null,null,null,null,1,{"$f":"IF($C21=\"\",\"\", IF(GD21=1,0,IF(GB21<>0,500,FW21*$AE21/$AH21+FX21/$AH21*5+FY21/$AH21*25+FZ21*50+GA21*50)))","v":0},null,{"$f":"IF(C21<>\"\",C21,\"\")","v":216},null,null,null,null,null,null,null,1,{"$f":"IF($C21=\"\",\"\", IF(GO21=1,0,IF(GM21<>0,500,GH21*$AE21/$AH21+GI21/$AH21*5+GJ21/$AH21*25+GK21*50+GL21*50)))","v":0},null,{"$f":"IF(C21<>\"\",C21,\"\")","v":216},2,null,null,null,null,null,null,null,{"$f":"IF($C21=\"\",\"\", IF(GZ21=1,0,IF(GX21<>0,500,GS21*$AE21/$AH21+GT21/$AH21*5+GU21/$AH21*25+GV21*50+GW21*50)))","v":4.0767793443179894},null,{"$f":"IF(C21<>\"\",C21,\"\")","v":216},1,null,null,null,null,null,null,null,{"$f":"IF($C21=\"\",\"\", IF(HK21=1,0,IF(HI21<>0,500,HD21*$AE21/$AH21+HE21/$AH21*5+HF21/$AH21*25+HG21*50+HH21*50)))","v":2.0383896721589947},null,{"$f":"IF(C21<>\"\",C21,\"\")","v":216},null,null,null,null,null,null,null,null,{"$f":"IF($C21=\"\",\"\", IF(HV21=1,0,IF(HT21<>0,500,HO21*$AE21/$AH21+HP21/$AH21*5+HQ21/$AH21*25+HR21*50+HS21*50)))","v":0},null,{"$f":"IF(C21<>\"\",C21,\"\")","v":216},null,null,null,null,null,null,null,null,{"$f":"IF($C21=\"\",\"\", IF(IG21=1,0,IF(IE21<>0,500,HZ21*$AE21/$AH21+IA21/$AH21*5+IB21/$AH21*25+IC21*50+ID21*50)))","v":0}]
[null,{"$f":"IF(C22=0,\"\",ROW(C22)-4)","v":18},218,"Germany","Suzuki Samurai","Gurber Yasar","Serhat Veysi",{"$f":"IF(C22=0,\"\",IF(OR(BB22=1,BC22<>0),BC22,\"-\"))","v":23.781212841854938},{"$f":"IF(C22=0,\"\",IF(OR(BM22=1,BN22<>0),BN22,\"-\"))","v":3.3973161202649909},{"$f":"IF(C22=0,\"\",IF(OR(BX22=1,BY22<>0),BY22,\" -\"))","v":2.0383896721589947},{"$f":"IF(C22=0,\"\",IF(OR(CJ22<>0,CI22=1),CJ22,\" -\"))","v":0},{"$f":"IF(C22=0,\"\",IF(OR(CU22<>0,CT22=1),CU22,\" -\"))","v":4.0767793443179894},{"$f":"IF(C22=0,\"\",IF(OR(DF22<>0,DE22=1),DF22,\" -\"))","v":21.063359945642944},{"$f":"IF(C22=0,\"\",IF(OR(DQ22<>0,DP22=1),DQ22,\" -\"))","v":0},{"$f":"IF(C22=0,\"\",IF(OR(EB22<>0,EA22=1),EB22,\" -\"))","v":3.3973161202649909},{"$f":"IF(C22=0,\"\",IF(OR(EM22<>0,EL22=1),EM22,\" -\"))","v":2.0383896721589947},{"$f":"IF(C22=0,\"\",IF(OR(EX22<>0,EW22=1),EX22,\" -\"))","v":2.0383896721589947},{"$f":"IF(C22=0,\"\",IF(OR(FI22<>0,FH22=1),FI22,\" -\"))","v":0},{"$f":"IF(C22=0,\"\",IF(OR(FT22<>0,FS22=1),FT22,\" -\"))","v":2.0383896721589947},{"$f":"IF(C22=0,\"\",IF(OR(GE22<>0,GD22=1),GE22,\" -\"))","v":4.0767793443179894},{"$f":"IF(C22=0,\"\",IF(OR(GP22<>0,GO22=1),GP22,\" -\"))","v":0},{"$f":"IF(C22=0,\"\",IF(OR(HA22<>0,GZ22=1),HA22,\" -\"))","v":6.1151690164769841},{"$f":"IF(C22=0,\"\",IF(OR(HL22<>0,HK22=1),HL22,\" -\"))","v":4.0767793443179894},{"$f":"IF(C22=0,\"\",IF(AJ22<>0,AJ22,\" -\"))","v":" -"},{"$f":"IF(C22=0,\"\",IF(OR(HW22<>0,HV22=1),HW22,\" -\"))","v":" -"},{"$f":"IF(C22=0,\"\",IF(OR(IH22<>0,IG22=1),IH22,\" -\"))","v":" -"},{"$f":"IF(C22=0,\"\",IF(AL22=1,\"DNF\",IF(AL22=2,\"DSQ\",IF(AM22<>1,\"~ \"&ROUND(SUM(H22:X22),3),ROUND(SUM(H22:X22),3)))))","v":"DSQ"},null,null,{"$f":"IF(C22<>\"\",C22,\"\")","v":218},{"$f":"IF(AD22<>\"\",3,\"\")","v":3},1450,2030,{"$f":"IF(AD22<>\"\",(AF22/1000*AG22/1000)/2,\"\")","v":1.4717499999999999},5,null,"Non-compliant car",2,1,null,null,{"$f":"IF(C22=0,99999,IF(AL22>0,9999,SUM(H22:X22)-AN22))","v":9999},{"$f":"IF(C22=0,99999,IF(AL22=1,9999,SUM(Y22:Z22)))","v":0},null,null,{"$f":"IF(C22<>\"\",C22,\"\")","v":218},null,2,1,null,null,null,null,null,{"$f":"IF($C22=\"\",\"\", IF(BB22=1,0,IF(AZ22<>0,500,AU22*$AE22/$AH22+AV22/$AH22*5+AW22/$AH22*25+AX22*50+AY22*50)))","v":23.781212841854938},null,{"$f":"IF(C22<>\"\",C22,\"\")","v":218},null,1,null,null,null,null,null,null,{"$f":"IF($C22=\"\",\"\", IF(BM22=1,0,IF(BK22<>0,500,BF22*$AE22/$AH22+BG22/$AH22*5+BH22/$AH22*25+BI22*50+BJ22*50)))","v":3.3973161202649909},null,{"$f":"IF(C22<>\"\",C22,\"\")","v":218},1,null,null,null,null,null,null,null,{"$f":"IF($C22=\"\",\"\", IF(BX22=1,0,IF(BV22<>0,500,BQ22*$AE22/$AH22+BR22/$AH22*5+BS22/$AH22*25+BT22*50+BU22*50)))","v":2.0383896721589947},null,{"$f":"IF(C22<>\"\",C22,\"\")","v":218},null,null,null,null,null,null,null,1,{"$f":"IF($C22=\"\",\"\", IF(CI22=1,0,IF(CG22<>0,500,CB22*$AE22/$AH22+CC22/$AH22*5+CD22/$AH22*25+CE22*50+CF22*50)))","v":0},null,{"$f":"IF(C22<>\"\",C22,\"\")","v":218},2,null,null,null,null,null,null,null,{"$f":"IF($C22=\"\",\"\", IF(CT22=1,0,IF(CR22<>0,500,CM22*$AE22/$AH22+CN22/$AH22*5+CO22/$AH22*25+CP22*50+CQ22*50)))","v":4.0767793443179894},null,{"$f":"IF(C22<>\"\",C22,\"\")","v":218},2,null,1,null,null,null,null,null,{"$f":"IF($C22=\"\",\"\", IF(DE22=1,0,IF(DC22<>0,500,CX22*$AE22/$AH22+CY22/$AH22*5+CZ22/$AH22*25+DA22*50+DB22*50)))","v":21.063359945642944},null,{"$f":"IF(C22<>\"\",C22,\"\")","v":218},null,null,null,null,null,null,null,1,{"$f":"IF($C22=\"\",\"\", IF(DP22=1,0,IF(DN22<>0,500,DI22*$AE22/$AH22+DJ22/$AH22*5+DK22/$AH22*25+DL22*50+DM22*50)))","v":0},null,{"$f":"IF(C22<>\"\",C22,\"\")","v":218},null,1,null,null,null,null,null,null,{"$f":"IF($C22=\"\",\"\", IF(EA22=1,0,IF(DY22<>0,500,DT22*$AE22/$AH22+DU22/$AH22*5+DV22/$AH22*25+DW22*50+DX22*50)))","v":3.3973161202649909},null,{"$f":"IF(C22<>\"\",C22,\"\")","v":218},1,null,null,null,null,null,null,null,{"$f":"IF($C22=\"\",\"\", IF(EL22=1,0,IF(EJ22<>0,500,EE22*$AE22/$AH22+EF22/$AH22*5+EG22/$AH22*25+EH22*50+EI22*50)))","v":2.0383896721589947},null,{"$f":"IF(C22<>\"\",C22,\"\")","v":218},1,null,null,null,null,null,null,null,{"$f":"IF($C22=\"\",\"\", IF(EW22=1,0,IF(EU22<>0,500,EP22*$AE22/$AH22+EQ22/$AH22*5+ER22/$AH22*25+ES22*50+ET22*50)))","v":2.0383896721589947},null,{"$f":"IF(C22<>\"\",C22,\"\")","v":218},null,null,null,null,null,null,null,1,{"$f":"IF($C22=\"\",\"\", IF(FH22=1,0,IF(FF22<>0,500,FA22*$AE22/$AH22+FB22/$AH22*5+FC22/$AH22*25+FD22*50+FE22*50)))","v":0},null,{"$f":"IF(C22<>\"\",C22,\"\")","v":218},1,null,null,null,null,null,null,null,{"$f":"IF($C22=\"\",\"\", IF(FS22=1,0,IF(FQ22<>0,500,FL22*$AE22/$AH22+FM22/$AH22*5+FN22/$AH22*25+FO22*50+FP22*50)))","v":2.0383896721589947},null,{"$f":"IF(C22<>\"\",C22,\"\")","v":218},2,null,null,null,null,null,null,null,{"$f":"IF($C22=\"\",\"\", IF(GD22=1,0,IF(GB22<>0,500,FW22*$AE22/$AH22+FX22/$AH22*5+FY22/$AH22*25+FZ22*50+GA22*50)))","v":4.0767793443179894},null,{"$f":"IF(C22<>\"\",C22,\"\")","v":218},null,null,null,null,null,null,null,1,{"$f":"IF($C22=\"\",\"\", IF(GO22=1,0,IF(GM22<>0,500,GH22*$AE22/$AH22+GI22/$AH22*5+GJ22/$AH22*25+GK22*50+GL22*50)))","v":0},null,{"$f":"IF(C22<>\"\",C22,\"\")","v":218},3,null,null,null,null,null,null,null,{"$f":"IF($C22=\"\",\"\", IF(GZ22=1,0,IF(GX22<>0,500,GS22*$AE22/$AH22+GT22/$AH22*5+GU22/$AH22*25+GV22*50+GW22*50)))","v":6.1151690164769841},null,{"$f":"IF(C22<>\"\",C22,\"\")","v":218},2,null,null,null,null,null,null,null,{"$f":"IF($C22=\"\",\"\", IF(HK22=1,0,IF(HI22<>0,500,HD22*$AE22/$AH22+HE22/$AH22*5+HF22/$AH22*25+HG22*50+HH22*50)))","v":4.0767793443179894},null,{"$f":"IF(C22<>\"\",C22,\"\")","v":218},null,null,null,null,null,null,null,null,{"$f":"IF($C22=\"\",\"\", IF(HV22=1,0,IF(HT22<>0,500,HO22*$AE22/$AH22+HP22/$AH22*5+HQ22/$AH22*25+HR22*50+HS22*50)))","v":0},null,{"$f":"IF(C22<>\"\",C22,\"\")","v":218},null,null,null,null,null,null,null,null,{"$f":"IF($C22=\"\",\"\", IF(IG22=1,0,IF(IE22<>0,500,HZ22*$AE22/$AH22+IA22/$AH22*5+IB22/$AH22*25+IC22*50+ID22*50)))","v":0}]
[null,{"$f":"IF(C23=0,\"\",ROW(C23)-4)","v":19},215,"Germany","Suzuki Samurai","Thomas May","Felix May",{"$f":"IF(C23=0,\"\",IF(OR(BB23=1,BC23<>0),BC23,\"-\"))","v":2.0383896721589947},{"$f":"IF(C23=0,\"\",IF(OR(BM23=1,BN23<>0),BN23,\"-\"))","v":5.4357057924239855},{"$f":"IF(C23=0,\"\",IF(OR(BX23=1,BY23<>0),BY23,\" -\"))","v":0},{"$f":"IF(C23=0,\"\",IF(OR(CJ23<>0,CI23=1),CJ23,\" -\"))","v":0},{"$f":"IF(C23=0,\"\",IF(OR(CU23<>0,CT23=1),CU23,\" -\"))","v":2.0383896721589947},{"$f":"IF(C23=0,\"\",IF(OR(DF23<>0,DE23=1),DF23,\" -\"))","v":23.101749617801939},{"$f":"IF(C23=0,\"\",IF(OR(DQ23<>0,DP23=1),DQ23,\" -\"))","v":0},{"$f":"IF(C23=0,\"\",IF(OR(EB23<>0,EA23=1),EB23,\" -\"))","v":47.562425683709876},{"$f":"IF(C23=0,\"\",IF(OR(EM23<>0,EL23=1),EM23,\" -\"))","v":0},{"$f":"IF(C23=0,\"\",IF(OR(EX23<>0,EW23=1),EX23,\" -\"))","v":0},{"$f":"IF(C23=0,\"\",IF(OR(FI23<>0,FH23=1),FI23,\" -\"))","v":0},{"$f":"IF(C23=0,\"\",IF(OR(FT23<>0,FS23=1),FT23,\" -\"))","v":4.0767793443179894},{"$f":"IF(C23=0,\"\",IF(OR(GE23<>0,GD23=1),GE23,\" -\"))","v":0},{"$f":"IF(C23=0,\"\",IF(OR(GP23<>0,GO23=1),GP23,\" -\"))","v":2.0383896721589947},{"$f":"IF(C23=0,\"\",IF(OR(HA23<>0,GZ23=1),HA23,\" -\"))","v":5.4357057924239855},{"$f":"IF(C23=0,\"\",IF(OR(HL23<>0,HK23=1),HL23,\" -\"))","v":108.15355868863598},{"$f":"IF(C23=0,\"\",IF(AJ23<>0,AJ23,\" -\"))","v":" -"},{"$f":"IF(C23=0,\"\",IF(OR(HW23<>0,HV23=1),HW23,\" -\"))","v":" -"},{"$f":"IF(C23=0,\"\",IF(OR(IH23<>0,IG23=1),IH23,\" -\"))","v":" -"},{"$f":"IF(C23=0,\"\",IF(AL23=1,\"DNF\",IF(AL23=2,\"DSQ\",IF(AM23<>1,\"~ \"&ROUND(SUM(H23:X23),3),ROUND(SUM(H23:X23),3)))))","v":"DSQ"},null,null,{"$f":"IF(C23<>\"\",C23,\"\")","v":215},{"$f":"IF(AD23<>\"\",3,\"\")","v":3},1450,2030,{"$f":"IF(AD23<>\"\",(AF23/1000*AG23/1000)/2,\"\")","v":1.4717499999999999},5,null,"Non-compliant car",2,1,null,null,{"$f":"IF(C23=0,99999,IF(AL23>0,9999,SUM(H23:X23)-AN23))","v":9999},{"$f":"IF(C23=0,99999,IF(AL23=1,9999,SUM(Y23:Z23)))","v":0},null,null,{"$f":"IF(C23<>\"\",C23,\"\")","v":215},1,null,null,null,null,null,null,null,{"$f":"IF($C23=\"\",\"\", IF(BB23=1,0,IF(AZ23<>0,500,AU23*$AE23/$AH23+AV23/$AH23*5+AW23/$AH23*25+AX23*50+AY23*50)))","v":2.0383896721589947},null,{"$f":"IF(C23<>\"\",C23,\"\")","v":215},1,1,null,null,null,null,null,null,{"$f":"IF($C23=\"\",\"\", IF(BM23=1,0,IF(BK23<>0,500,BF23*$AE23/$AH23+BG23/$AH23*5+BH23/$AH23*25+BI23*50+BJ23*50)))","v":5.4357057924239855},null,{"$f":"IF(C23<>\"\",C23,\"\")","v":215},null,null,null,null,null,null,null,1,{"$f":"IF($C23=\"\",\"\", IF(BX23=1,0,IF(BV23<>0,500,BQ23*$AE23/$AH23+BR23/$AH23*5+BS23/$AH23*25+BT23*50+BU23*50)))","v":0},null,{"$f":"IF(C23<>\"\",C23,\"\")","v":215},null,null,null,null,null,null,null,1,{"$f":"IF($C23=\"\",\"\", IF(CI23=1,0,IF(CG23<>0,500,CB23*$AE23/$AH23+CC23/$AH23*5+CD23/$AH23*25+CE23*50+CF23*50)))","v":0},null,{"$f":"IF(C23<>\"\",C23,\"\")","v":215},1,null,null,null,null,null,null,null,{"$f":"IF($C23=\"\",\"\", IF(CT23=1,0,IF(CR23<>0,500,CM23*$AE23/$AH23+CN23/$AH23*5+CO23/$AH23*25+CP23*50+CQ23*50)))","v":2.0383896721589947},null,{"$f":"IF(C23<>\"\",C23,\"\")","v":215},3,null,1,null,null,null,null,null,{"$f":"IF($C23=\"\",\"\", IF(DE23=1,0,IF(DC23<>0,500,CX23*$AE23/$AH23+CY23/$AH23*5+CZ23/$AH23*25+DA23*50+DB23*50)))","v":23.101749617801939},null,{"$f":"IF(C23<>\"\",C23,\"\")","v":215},null,null,null,null,null,null,null,1,{"$f":"IF($C23=\"\",\"\", IF(DP23=1,0,IF(DN23<>0,500,DI23*$AE23/$AH23+DJ23/$AH23*5+DK23/$AH23*25+DL23*50+DM23*50)))","v":0},null,{"$f":"IF(C23<>\"\",C23,\"\")","v":215},5,1,2,null,null,null,null,null,{"$f":"IF($C23=\"\",\"\", IF(EA23=1,0,IF(DY23<>0,500,DT23*$AE23/$AH23+DU23/$AH23*5+DV23/$AH23*25+DW23*50+DX23*50)))","v":47.562425683709876},null,{"$f":"IF(C23<>\"\",C23,\"\")","v":215},null,null,null,null,null,null,null,1,{"$f":"IF($C23=\"\",\"\", IF(EL23=1,0,IF(EJ23<>0,500,EE23*$AE23/$AH23+EF23/$AH23*5+EG23/$AH23*25+EH23*50+EI23*50)))","v":0},null,{"$f":"IF(C23<>\"\",C23,\"\")","v":215},null,null,null,null,null,null,null,1,{"$f":"IF($C23=\"\",\"\", IF(EW23=1,0,IF(EU23<>0,500,EP23*$AE23/$AH23+EQ23/$AH23*5+ER23/$AH23*25+ES23*50+ET23*50)))","v":0},null,{"$f":"IF(C23<>\"\",C23,\"\")","v":215},null,null,null,null,null,null,null,1,{"$f":"IF($C23=\"\",\"\", IF(FH23=1,0,IF(FF23<>0,500,FA23*$AE23/$AH23+FB23/$AH23*5+FC23/$AH23*25+FD23*50+FE23*50)))","v":0},null,{"$f":"IF(C23<>\"\",C23,\"\")","v":215},2,null,null,null,null,null,null,null,{"$f":"IF($C23=\"\",\"\", IF(FS23=1,0,IF(FQ23<>0,500,FL23*$AE23/$AH23+FM23/$AH23*5+FN23/$AH23*25+FO23*50+FP23*50)))","v":4.0767793443179894},null,{"$f":"IF(C23<>\"\",C23,\"\")","v":215},null,null,null,null,null,null,null,1,{"$f":"IF($C23=\"\",\"\", IF(GD23=1,0,IF(GB23<>0,500,FW23*$AE23/$AH23+FX23/$AH23*5+FY23/$AH23*25+FZ23*50+GA23*50)))","v":0},null,{"$f":"IF(C23<>\"\",C23,\"\")","v":215},1,null,null,null,null,null,null,null,{"$f":"IF($C23=\"\",\"\", IF(GO23=1,0,IF(GM23<>0,500,GH23*$AE23/$AH23+GI23/$AH23*5+GJ23/$AH23*25+GK23*50+GL23*50)))","v":2.0383896721589947},null,{"$f":"IF(C23<>\"\",C23,\"\")","v":215},1,1,null,null,null,null,null,null,{"$f":"IF($C23=\"\",\"\", IF(GZ23=1,0,IF(GX23<>0,500,GS23*$AE23/$AH23+GT23/$AH23*5+GU23/$AH23*25+GV23*50+GW23*50)))","v":5.4357057924239855},null,{"$f":"IF(C23<>\"\",C23,\"\")","v":215},4,null,null,1,1,null,"time",null,{"$f":"IF($C23=\"\",\"\", IF(HK23=1,0,IF(HI23<>0,500,HD23*$AE23/$AH23+HE23/$AH23*5+HF23/$AH23*25+HG23*50+HH23*50)))","v":108.15355868863598},null,{"$f":"IF(C23<>\"\",C23,\"\")","v":215},null,null,null,null,null,null,null,null,{"$f":"IF($C23=\"\",\"\", IF(HV23=1,0,IF(HT23<>0,500,HO23*$AE23/$AH23+HP23/$AH23*5+HQ23/$AH23*25+HR23*50+HS23*50)))","v":0},null,{"$f":"IF(C23<>\"\",C23,\"\")","v":215},null,null,null,null,null,null,null,null,{"$f":"IF($C23=\"\",\"\", IF(IG23=1,0,IF(IE23<>0,500,HZ23*$AE23/$AH23+IA23/$AH23*5+IB23/$AH23*25+IC23*50+ID23*50)))","v":0}]
[null,{"$f":"IF(C24=0,\"\",ROW(C24)-4)","v":""},null,null,null,null,null,{"$f":"IF(C24=0,\"\",IF(OR(BB24=1,BC24<>0),BC24,\"-\"))","v":""},{"$f":"IF(C24=0,\"\",IF(OR(BM24=1,BN24<>0),BN24,\"-\"))","v":""},{"$f":"IF(C24=0,\"\",IF(OR(BX24=1,BY24<>0),BY24,\" -\"))","v":""},{"$f":"IF(C24=0,\"\",IF(OR(CJ24<>0,CI24=1),CJ24,\" -\"))","v":""},{"$f":"IF(C24=0,\"\",IF(OR(CU24<>0,CT24=1),CU24,\" -\"))","v":""},{"$f":"IF(C24=0,\"\",IF(OR(DF24<>0,DE24=1),DF24,\" -\"))","v":""},{"$f":"IF(C24=0,\"\",IF(OR(DQ24<>0,DP24=1),DQ24,\" -\"))","v":""},{"$f":"IF(C24=0,\"\",IF(OR(EB24<>0,EA24=1),EB24,\" -\"))","v":""},{"$f":"IF(C24=0,\"\",IF(OR(EM24<>0,EL24=1),EM24,\" -\"))","v":""},{"$f":"IF(C24=0,\"\",IF(OR(EX24<>0,EW24=1),EX24,\" -\"))","v":""},{"$f":"IF(C24=0,\"\",IF(OR(FI24<>0,FH24=1),FI24,\" -\"))","v":""},{"$f":"IF(C24=0,\"\",IF(OR(FT24<>0,FS24=1),FT24,\" -\"))","v":""},{"$f":"IF(C24=0,\"\",IF(OR(GE24<>0,GD24=1),GE24,\" -\"))","v":""},{"$f":"IF(C24=0,\"\",IF(OR(GP24<>0,GO24=1),GP24,\" -\"))","v":""},{"$f":"IF(C24=0,\"\",IF(OR(HA24<>0,GZ24=1),HA24,\" -\"))","v":""},{"$f":"IF(C24=0,\"\",IF(OR(HL24<>0,HK24=1),HL24,\" -\"))","v":""},{"$f":"IF(C24=0,\"\",IF(AJ24<>0,AJ24,\" -\"))","v":""},{"$f":"IF(C24=0,\"\",IF(OR(HW24<>0,HV24=1),HW24,\" -\"))","v":""},{"$f":"IF(C24=0,\"\",IF(OR(IH24<>0,IG24=1),IH24,\" -\"))","v":""},{"$f":"IF(C24=0,\"\",IF(AL24=1,\"DNF\",IF(AL24=2,\"DSQ\",IF(AM24<>1,\"~ \"&ROUND(SUM(H24:X24),3),ROUND(SUM(H24:X24),3)))))","v":""},null,null,{"$f":"IF(C24<>\"\",C24,\"\")","v":""},{"$f":"IF(AD24<>\"\",3,\"\")","v":""},null,null,{"$f":"IF(AD24<>\"\",(AF24/1000*AG24/1000)/2,\"\")","v":""},null,null,null,null,null,null,null,{"$f":"IF(C24=0,99999,IF(AL24>0,9999,SUM(H24:X24)-AN24))","v":99999},{"$f":"IF(C24=0,99999,IF(AL24=1,9999,SUM(Y24:Z24)))","v":99999},null,null,{"$f":"IF(C24<>\"\",C24,\"\")","v":""},null,null,null,null,null,null,null,null,{"$f":"IF($C24=\"\",\"\", IF(BB24=1,0,IF(AZ24<>0,500,AU24*$AE24/$AH24+AV24/$AH24*5+AW24/$AH24*25+AX24*50+AY24*50)))","v":""},null,{"$f":"IF(C24<>\"\",C24,\"\")","v":""},null,null,null,null,null,null,null,null,{"$f":"IF($C24=\"\",\"\", IF(BM24=1,0,IF(BK24<>0,500,BF24*$AE24/$AH24+BG24/$AH24*5+BH24/$AH24*25+BI24*50+BJ24*50)))","v":""},null,{"$f":"IF(C24<>\"\",C24,\"\")","v":""},null,null,null,null,null,null,null,null,{"$f":"IF($C24=\"\",\"\", IF(BX24=1,0,IF(BV24<>0,500,BQ24*$AE24/$AH24+BR24/$AH24*5+BS24/$AH24*25+BT24*50+BU24*50)))","v":""},null,{"$f":"IF(C24<>\"\",C24,\"\")","v":""},null,null,null,null,null,null,null,null,{"$f":"IF($C24=\"\",\"\", IF(CI24=1,0,IF(CG24<>0,500,CB24*$AE24/$AH24+CC24/$AH24*5+CD24/$AH24*25+CE24*50+CF24*50)))","v":""},null,{"$f":"IF(C24<>\"\",C24,\"\")","v":""},null,null,null,null,null,null,null,null,{"$f":"IF($C24=\"\",\"\", IF(CT24=1,0,IF(CR24<>0,500,CM24*$AE24/$AH24+CN24/$AH24*5+CO24/$AH24*25+CP24*50+CQ24*50)))","v":""},null,{"$f":"IF(C24<>\"\",C24,\"\")","v":""},null,null,null,null,null,null,null,null,{"$f":"IF($C24=\"\",\"\", IF(DE24=1,0,IF(DC24<>0,500,CX24*$AE24/$AH24+CY24/$AH24*5+CZ24/$AH24*25+DA24*50+DB24*50)))","v":""},null,{"$f":"IF(C24<>\"\",C24,\"\")","v":""},null,null,null,null,null,null,null,null,{"$f":"IF($C24=\"\",\"\", IF(DP24=1,0,IF(DN24<>0,500,DI24*$AE24/$AH24+DJ24/$AH24*5+DK24/$AH24*25+DL24*50+DM24*50)))","v":""},null,{"$f":"IF(C24<>\"\",C24,\"\")","v":""},null,null,null,null,null,null,null,null,{"$f":"IF($C24=\"\",\"\", IF(EA24=1,0,IF(DY24<>0,500,DT24*$AE24/$AH24+DU24/$AH24*5+DV24/$AH24*25+DW24*50+DX24*50)))","v":""},null,{"$f":"IF(C24<>\"\",C24,\"\")","v":""},null,null,null,null,null,null,null,null,{"$f":"IF($C24=\"\",\"\", IF(EL24=1,0,IF(EJ24<>0,500,EE24*$AE24/$AH24+EF24/$AH24*5+EG24/$AH24*25+EH24*50+EI24*50)))","v":""},null,{"$f":"IF(C24<>\"\",C24,\"\")","v":""},null,null,null,null,null,null,null,null,{"$f":"IF($C24=\"\",\"\", IF(EW24=1,0,IF(EU24<>0,500,EP24*$AE24/$AH24+EQ24/$AH24*5+ER24/$AH24*25+ES24*50+ET24*50)))","v":""},null,{"$f":"IF(C24<>\"\",C24,\"\")","v":""},null,null,null,null,null,null,null,null,{"$f":"IF($C24=\"\",\"\", IF(FH24=1,0,IF(FF24<>0,500,FA24*$AE24/$AH24+FB24/$AH24*5+FC24/$AH24*25+FD24*50+FE24*50)))","v":""},null,{"$f":"IF(C24<>\"\",C24,\"\")","v":""},null,null,null,null,null,null,null,null,{"$f":"IF($C24=\"\",\"\", IF(FS24=1,0,IF(FQ24<>0,500,FL24*$AE24/$AH24+FM24/$AH24*5+FN24/$AH24*25+FO24*50+FP24*50)))","v":""},null,{"$f":"IF(C24<>\"\",C24,\"\")","v":""},null,null,null,null,null,null,null,null,{"$f":"IF($C24=\"\",\"\", IF(GD24=1,0,IF(GB24<>0,500,FW24*$AE24/$AH24+FX24/$AH24*5+FY24/$AH24*25+FZ24*50+GA24*50)))","v":""},null,{"$f":"IF(C24<>\"\",C24,\"\")","v":""},null,null,null,null,null,null,null,null,{"$f":"IF($C24=\"\",\"\", IF(GO24=1,0,IF(GM24<>0,500,GH24*$AE24/$AH24+GI24/$AH24*5+GJ24/$AH24*25+GK24*50+GL24*50)))","v":""},null,{"$f":"IF(C24<>\"\",C24,\"\")","v":""},null,null,null,null,null,null,null,null,{"$f":"IF($C24=\"\",\"\", IF(GZ24=1,0,IF(GX24<>0,500,GS24*$AE24/$AH24+GT24/$AH24*5+GU24/$AH24*25+GV24*50+GW24*50)))","v":""},null,{"$f":"IF(C24<>\"\",C24,\"\")","v":""},null,null,null,null,null,null,null,null,{"$f":"IF($C24=\"\",\"\", IF(HK24=1,0,IF(HI24<>0,500,HD24*$AE24/$AH24+HE24/$AH24*5+HF24/$AH24*25+HG24*50+HH24*50)))","v":""},null,{"$f":"IF(C24<>\"\",C24,\"\")","v":""},null,null,null,null,null,null,null,null,{"$f":"IF($C24=\"\",\"\", IF(HV24=1,0,IF(HT24<>0,500,HO24*$AE24/$AH24+HP24/$AH24*5+HQ24/$AH24*25+HR24*50+HS24*50)))","v":""},null,{"$f":"IF(C24<>\"\",C24,\"\")","v":""},null,null,null,null,null,null,null,null,{"$f":"IF($C24=\"\",\"\", IF(IG24=1,0,IF(IE24<>0,500,HZ24*$AE24/$AH24+IA24/$AH24*5+IB24/$AH24*25+IC24*50+ID24*50)))","v":""}]
[null,{"$f":"IF(C25=0,\"\",ROW(C25)-4)","v":""},null,null,null,null,null,{"$f":"IF(C25=0,\"\",IF(OR(BB25=1,BC25<>0),BC25,\"-\"))","v":""},{"$f":"IF(C25=0,\"\",IF(OR(BM25=1,BN25<>0),BN25,\"-\"))","v":""},{"$f":"IF(C25=0,\"\",IF(OR(BX25=1,BY25<>0),BY25,\" -\"))","v":""},{"$f":"IF(C25=0,\"\",IF(OR(CJ25<>0,CI25=1),CJ25,\" -\"))","v":""},{"$f":"IF(C25=0,\"\",IF(OR(CU25<>0,CT25=1),CU25,\" -\"))","v":""},{"$f":"IF(C25=0,\"\",IF(OR(DF25<>0,DE25=1),DF25,\" -\"))","v":""},{"$f":"IF(C25=0,\"\",IF(OR(DQ25<>0,DP25=1),DQ25,\" -\"))","v":""},{"$f":"IF(C25=0,\"\",IF(OR(EB25<>0,EA25=1),EB25,\" -\"))","v":""},{"$f":"IF(C25=0,\"\",IF(OR(EM25<>0,EL25=1),EM25,\" -\"))","v":""},{"$f":"IF(C25=0,\"\",IF(OR(EX25<>0,EW25=1),EX25,\" -\"))","v":""},{"$f":"IF(C25=0,\"\",IF(OR(FI25<>0,FH25=1),FI25,\" -\"))","v":""},{"$f":"IF(C25=0,\"\",IF(OR(FT25<>0,FS25=1),FT25,\" -\"))","v":""},{"$f":"IF(C25=0,\"\",IF(OR(GE25<>0,GD25=1),GE25,\" -\"))","v":""},{"$f":"IF(C25=0,\"\",IF(OR(GP25<>0,GO25=1),GP25,\" -\"))","v":""},{"$f":"IF(C25=0,\"\",IF(OR(HA25<>0,GZ25=1),HA25,\" -\"))","v":""},{"$f":"IF(C25=0,\"\",IF(OR(HL25<>0,HK25=1),HL25,\" -\"))","v":""},{"$f":"IF(C25=0,\"\",IF(AJ25<>0,AJ25,\" -\"))","v":""},{"$f":"IF(C25=0,\"\",IF(OR(HW25<>0,HV25=1),HW25,\" -\"))","v":""},{"$f":"IF(C25=0,\"\",IF(OR(IH25<>0,IG25=1),IH25,\" -\"))","v":""},{"$f":"IF(C25=0,\"\",IF(AL25=1,\"DNF\",IF(AL25=2,\"DSQ\",IF(AM25<>1,\"~ \"&ROUND(SUM(H25:X25),3),ROUND(SUM(H25:X25),3)))))","v":""},null,null,{"$f":"IF(C25<>\"\",C25,\"\")","v":""},{"$f":"IF(AD25<>\"\",3,\"\")","v":""},null,null,{"$f":"IF(AD25<>\"\",(AF25/1000*AG25/1000)/2,\"\")","v":""},null,null,null,null,null,null,null,{"$f":"IF(C25=0,99999,IF(AL25>0,9999,SUM(H25:X25)-AN25))","v":99999},{"$f":"IF(C25=0,99999,IF(AL25=1,9999,SUM(Y25:Z25)))","v":99999},null,null,{"$f":"IF(C25<>\"\",C25,\"\")","v":""},null,null,null,null,null,null,null,null,{"$f":"IF($C25=\"\",\"\", IF(BB25=1,0,IF(AZ25<>0,500,AU25*$AE25/$AH25+AV25/$AH25*5+AW25/$AH25*25+AX25*50+AY25*50)))","v":""},null,{"$f":"IF(C25<>\"\",C25,\"\")","v":""},null,null,null,null,null,null,null,null,{"$f":"IF($C25=\"\",\"\", IF(BM25=1,0,IF(BK25<>0,500,BF25*$AE25/$AH25+BG25/$AH25*5+BH25/$AH25*25+BI25*50+BJ25*50)))","v":""},null,{"$f":"IF(C25<>\"\",C25,\"\")","v":""},null,null,null,null,null,null,null,null,{"$f":"IF($C25=\"\",\"\", IF(BX25=1,0,IF(BV25<>0,500,BQ25*$AE25/$AH25+BR25/$AH25*5+BS25/$AH25*25+BT25*50+BU25*50)))","v":""},null,{"$f":"IF(C25<>\"\",C25,\"\")","v":""},null,null,null,null,null,null,null,null,{"$f":"IF($C25=\"\",\"\", IF(CI25=1,0,IF(CG25<>0,500,CB25*$AE25/$AH25+CC25/$AH25*5+CD25/$AH25*25+CE25*50+CF25*50)))","v":""},null,{"$f":"IF(C25<>\"\",C25,\"\")","v":""},null,null,null,null,null,null,null,null,{"$f":"IF($C25=\"\",\"\", IF(CT25=1,0,IF(CR25<>0,500,CM25*$AE25/$AH25+CN25/$AH25*5+CO25/$AH25*25+CP25*50+CQ25*50)))","v":""},null,{"$f":"IF(C25<>\"\",C25,\"\")","v":""},null,null,null,null,null,null,null,null,{"$f":"IF($C25=\"\",\"\", IF(DE25=1,0,IF(DC25<>0,500,CX25*$AE25/$AH25+CY25/$AH25*5+CZ25/$AH25*25+DA25*50+DB25*50)))","v":""},null,{"$f":"IF(C25<>\"\",C25,\"\")","v":""},null,null,null,null,null,null,null,null,{"$f":"IF($C25=\"\",\"\", IF(DP25=1,0,IF(DN25<>0,500,DI25*$AE25/$AH25+DJ25/$AH25*5+DK25/$AH25*25+DL25*50+DM25*50)))","v":""},null,{"$f":"IF(C25<>\"\",C25,\"\")","v":""},null,null,null,null,null,null,null,null,{"$f":"IF($C25=\"\",\"\", IF(EA25=1,0,IF(DY25<>0,500,DT25*$AE25/$AH25+DU25/$AH25*5+DV25/$AH25*25+DW25*50+DX25*50)))","v":""},null,{"$f":"IF(C25<>\"\",C25,\"\")","v":""},null,null,null,null,null,null,null,null,{"$f":"IF($C25=\"\",\"\", IF(EL25=1,0,IF(EJ25<>0,500,EE25*$AE25/$AH25+EF25/$AH25*5+EG25/$AH25*25+EH25*50+EI25*50)))","v":""},null,{"$f":"IF(C25<>\"\",C25,\"\")","v":""},null,null,null,null,null,null,null,null,{"$f":"IF($C25=\"\",\"\", IF(EW25=1,0,IF(EU25<>0,500,EP25*$AE25/$AH25+EQ25/$AH25*5+ER25/$AH25*25+ES25*50+ET25*50)))","v":""},null,{"$f":"IF(C25<>\"\",C25,\"\")","v":""},null,null,null,null,null,null,null,null,{"$f":"IF($C25=\"\",\"\", IF(FH25=1,0,IF(FF25<>0,500,FA25*$AE25/$AH25+FB25/$AH25*5+FC25/$AH25*25+FD25*50+FE25*50)))","v":""},null,{"$f":"IF(C25<>\"\",C25,\"\")","v":""},null,null,null,null,null,null,null,null,{"$f":"IF($C25=\"\",\"\", IF(FS25=1,0,IF(FQ25<>0,500,FL25*$AE25/$AH25+FM25/$AH25*5+FN25/$AH25*25+FO25*50+FP25*50)))","v":""},null,{"$f":"IF(C25<>\"\",C25,\"\")","v":""},null,null,null,null,null,null,null,null,{"$f":"IF($C25=\"\",\"\", IF(GD25=1,0,IF(GB25<>0,500,FW25*$AE25/$AH25+FX25/$AH25*5+FY25/$AH25*25+FZ25*50+GA25*50)))","v":""},null,{"$f":"IF(C25<>\"\",C25,\"\")","v":""},null,null,null,null,null,null,null,null,{"$f":"IF($C25=\"\",\"\", IF(GO25=1,0,IF(GM25<>0,500,GH25*$AE25/$AH25+GI25/$AH25*5+GJ25/$AH25*25+GK25*50+GL25*50)))","v":""},null,{"$f":"IF(C25<>\"\",C25,\"\")","v":""},null,null,null,null,null,null,null,null,{"$f":"IF($C25=\"\",\"\", IF(GZ25=1,0,IF(GX25<>0,500,GS25*$AE25/$AH25+GT25/$AH25*5+GU25/$AH25*25+GV25*50+GW25*50)))","v":""},null,{"$f":"IF(C25<>\"\",C25,\"\")","v":""},null,null,null,null,null,null,null,null,{"$f":"IF($C25=\"\",\"\", IF(HK25=1,0,IF(HI25<>0,500,HD25*$AE25/$AH25+HE25/$AH25*5+HF25/$AH25*25+HG25*50+HH25*50)))","v":""},null,{"$f":"IF(C25<>\"\",C25,\"\")","v":""},null,null,null,null,null,null,null,null,{"$f":"IF($C25=\"\",\"\", IF(HV25=1,0,IF(HT25<>0,500,HO25*$AE25/$AH25+HP25/$AH25*5+HQ25/$AH25*25+HR25*50+HS25*50)))","v":""},null,{"$f":"IF(C25<>\"\",C25,\"\")","v":""},null,null,null,null,null,null,null,null,{"$f":"IF($C25=\"\",\"\", IF(IG25=1,0,IF(IE25<>0,500,HZ25*$AE25/$AH25+IA25/$AH25*5+IB25/$AH25*25+IC25*50+ID25*50)))","v":""}]
[null,{"$f":"IF(C26=0,\"\",ROW(C26)-4)","v":""},null,null,null,null,null,{"$f":"IF(C26=0,\"\",IF(OR(BB26=1,BC26<>0),BC26,\"-\"))","v":""},{"$f":"IF(C26=0,\"\",IF(OR(BM26=1,BN26<>0),BN26,\"-\"))","v":""},{"$f":"IF(C26=0,\"\",IF(OR(BX26=1,BY26<>0),BY26,\" -\"))","v":""},{"$f":"IF(C26=0,\"\",IF(OR(CJ26<>0,CI26=1),CJ26,\" -\"))","v":""},{"$f":"IF(C26=0,\"\",IF(OR(CU26<>0,CT26=1),CU26,\" -\"))","v":""},{"$f":"IF(C26=0,\"\",IF(OR(DF26<>0,DE26=1),DF26,\" -\"))","v":""},{"$f":"IF(C26=0,\"\",IF(OR(DQ26<>0,DP26=1),DQ26,\" -\"))","v":""},{"$f":"IF(C26=0,\"\",IF(OR(EB26<>0,EA26=1),EB26,\" -\"))","v":""},{"$f":"IF(C26=0,\"\",IF(OR(EM26<>0,EL26=1),EM26,\" -\"))","v":""},{"$f":"IF(C26=0,\"\",IF(OR(EX26<>0,EW26=1),EX26,\" -\"))","v":""},{"$f":"IF(C26=0,\"\",IF(OR(FI26<>0,FH26=1),FI26,\" -\"))","v":""},{"$f":"IF(C26=0,\"\",IF(OR(FT26<>0,FS26=1),FT26,\" -\"))","v":""},{"$f":"IF(C26=0,\"\",IF(OR(GE26<>0,GD26=1),GE26,\" -\"))","v":""},{"$f":"IF(C26=0,\"\",IF(OR(GP26<>0,GO26=1),GP26,\" -\"))","v":""},{"$f":"IF(C26=0,\"\",IF(OR(HA26<>0,GZ26=1),HA26,\" -\"))","v":""},{"$f":"IF(C26=0,\"\",IF(OR(HL26<>0,HK26=1),HL26,\" -\"))","v":""},{"$f":"IF(C26=0,\"\",IF(AJ26<>0,AJ26,\" -\"))","v":""},{"$f":"IF(C26=0,\"\",IF(OR(HW26<>0,HV26=1),HW26,\" -\"))","v":""},{"$f":"IF(C26=0,\"\",IF(OR(IH26<>0,IG26=1),IH26,\" -\"))","v":""},{"$f":"IF(C26=0,\"\",IF(AL26=1,\"DNF\",IF(AL26=2,\"DSQ\",IF(AM26<>1,\"~ \"&ROUND(SUM(H26:X26),3),ROUND(SUM(H26:X26),3)))))","v":""},null,null,{"$f":"IF(C26<>\"\",C26,\"\")","v":""},{"$f":"IF(AD26<>\"\",3,\"\")","v":""},null,null,{"$f":"IF(AD26<>\"\",(AF26/1000*AG26/1000)/2,\"\")","v":""},null,null,null,null,null,null,null,{"$f":"IF(C26=0,99999,IF(AL26>0,9999,SUM(H26:X26)-AN26))","v":99999},{"$f":"IF(C26=0,99999,IF(AL26=1,9999,SUM(Y26:Z26)))","v":99999},null,null,{"$f":"IF(C26<>\"\",C26,\"\")","v":""},null,null,null,null,null,null,null,null,{"$f":"IF($C26=\"\",\"\", IF(BB26=1,0,IF(AZ26<>0,500,AU26*$AE26/$AH26+AV26/$AH26*5+AW26/$AH26*25+AX26*50+AY26*50)))","v":""},null,{"$f":"IF(C26<>\"\",C26,\"\")","v":""},null,null,null,null,null,null,null,null,{"$f":"IF($C26=\"\",\"\", IF(BM26=1,0,IF(BK26<>0,500,BF26*$AE26/$AH26+BG26/$AH26*5+BH26/$AH26*25+BI26*50+BJ26*50)))","v":""},null,{"$f":"IF(C26<>\"\",C26,\"\")","v":""},null,null,null,null,null,null,null,null,{"$f":"IF($C26=\"\",\"\", IF(BX26=1,0,IF(BV26<>0,500,BQ26*$AE26/$AH26+BR26/$AH26*5+BS26/$AH26*25+BT26*50+BU26*50)))","v":""},null,{"$f":"IF(C26<>\"\",C26,\"\")","v":""},null,null,null,null,null,null,null,null,{"$f":"IF($C26=\"\",\"\", IF(CI26=1,0,IF(CG26<>0,500,CB26*$AE26/$AH26+CC26/$AH26*5+CD26/$AH26*25+CE26*50+CF26*50)))","v":""},null,{"$f":"IF(C26<>\"\",C26,\"\")","v":""},null,null,null,null,null,null,null,null,{"$f":"IF($C26=\"\",\"\", IF(CT26=1,0,IF(CR26<>0,500,CM26*$AE26/$AH26+CN26/$AH26*5+CO26/$AH26*25+CP26*50+CQ26*50)))","v":""},null,{"$f":"IF(C26<>\"\",C26,\"\")","v":""},null,null,null,null,null,null,null,null,{"$f":"IF($C26=\"\",\"\", IF(DE26=1,0,IF(DC26<>0,500,CX26*$AE26/$AH26+CY26/$AH26*5+CZ26/$AH26*25+DA26*50+DB26*50)))","v":""},null,{"$f":"IF(C26<>\"\",C26,\"\")","v":""},null,null,null,null,null,null,null,null,{"$f":"IF($C26=\"\",\"\", IF(DP26=1,0,IF(DN26<>0,500,DI26*$AE26/$AH26+DJ26/$AH26*5+DK26/$AH26*25+DL26*50+DM26*50)))","v":""},null,{"$f":"IF(C26<>\"\",C26,\"\")","v":""},null,null,null,null,null,null,null,null,{"$f":"IF($C26=\"\",\"\", IF(EA26=1,0,IF(DY26<>0,500,DT26*$AE26/$AH26+DU26/$AH26*5+DV26/$AH26*25+DW26*50+DX26*50)))","v":""},null,{"$f":"IF(C26<>\"\",C26,\"\")","v":""},null,null,null,null,null,null,null,null,{"$f":"IF($C26=\"\",\"\", IF(EL26=1,0,IF(EJ26<>0,500,EE26*$AE26/$AH26+EF26/$AH26*5+EG26/$AH26*25+EH26*50+EI26*50)))","v":""},null,{"$f":"IF(C26<>\"\",C26,\"\")","v":""},null,null,null,null,null,null,null,null,{"$f":"IF($C26=\"\",\"\", IF(EW26=1,0,IF(EU26<>0,500,EP26*$AE26/$AH26+EQ26/$AH26*5+ER26/$AH26*25+ES26*50+ET26*50)))","v":""},null,{"$f":"IF(C26<>\"\",C26,\"\")","v":""},null,null,null,null,null,null,null,null,{"$f":"IF($C26=\"\",\"\", IF(FH26=1,0,IF(FF26<>0,500,FA26*$AE26/$AH26+FB26/$AH26*5+FC26/$AH26*25+FD26*50+FE26*50)))","v":""},null,{"$f":"IF(C26<>\"\",C26,\"\")","v":""},null,null,null,null,null,null,null,null,{"$f":"IF($C26=\"\",\"\", IF(FS26=1,0,IF(FQ26<>0,500,FL26*$AE26/$AH26+FM26/$AH26*5+FN26/$AH26*25+FO26*50+FP26*50)))","v":""},null,{"$f":"IF(C26<>\"\",C26,\"\")","v":""},null,null,null,null,null,null,null,null,{"$f":"IF($C26=\"\",\"\", IF(GD26=1,0,IF(GB26<>0,500,FW26*$AE26/$AH26+FX26/$AH26*5+FY26/$AH26*25+FZ26*50+GA26*50)))","v":""},null,{"$f":"IF(C26<>\"\",C26,\"\")","v":""},null,null,null,null,null,null,null,null,{"$f":"IF($C26=\"\",\"\", IF(GO26=1,0,IF(GM26<>0,500,GH26*$AE26/$AH26+GI26/$AH26*5+GJ26/$AH26*25+GK26*50+GL26*50)))","v":""},null,{"$f":"IF(C26<>\"\",C26,\"\")","v":""},null,null,null,null,null,null,null,null,{"$f":"IF($C26=\"\",\"\", IF(GZ26=1,0,IF(GX26<>0,500,GS26*$AE26/$AH26+GT26/$AH26*5+GU26/$AH26*25+GV26*50+GW26*50)))","v":""},null,{"$f":"IF(C26<>\"\",C26,\"\")","v":""},null,null,null,null,null,null,null,null,{"$f":"IF($C26=\"\",\"\", IF(HK26=1,0,IF(HI26<>0,500,HD26*$AE26/$AH26+HE26/$AH26*5+HF26/$AH26*25+HG26*50+HH26*50)))","v":""},null,{"$f":"IF(C26<>\"\",C26,\"\")","v":""},null,null,null,null,null,null,null,null,{"$f":"IF($C26=\"\",\"\", IF(HV26=1,0,IF(HT26<>0,500,HO26*$AE26/$AH26+HP26/$AH26*5+HQ26/$AH26*25+HR26*50+HS26*50)))","v":""},null,{"$f":"IF(C26<>\"\",C26,\"\")","v":""},null,null,null,null,null,null,null,null,{"$f":"IF($C26=\"\",\"\", IF(IG26=1,0,IF(IE26<>0,500,HZ26*$AE26/$AH26+IA26/$AH26*5+IB26/$AH26*25+IC26*50+ID26*50)))","v":""}]
[null,{"$f":"IF(C27=0,\"\",ROW(C27)-4)","v":""},null,null,null,null,null,{"$f":"IF(C27=0,\"\",IF(OR(BB27=1,BC27<>0),BC27,\"-\"))","v":""},{"$f":"IF(C27=0,\"\",IF(OR(BM27=1,BN27<>0),BN27,\"-\"))","v":""},{"$f":"IF(C27=0,\"\",IF(OR(BX27=1,BY27<>0),BY27,\" -\"))","v":""},{"$f":"IF(C27=0,\"\",IF(OR(CJ27<>0,CI27=1),CJ27,\" -\"))","v":""},{"$f":"IF(C27=0,\"\",IF(OR(CU27<>0,CT27=1),CU27,\" -\"))","v":""},{"$f":"IF(C27=0,\"\",IF(OR(DF27<>0,DE27=1),DF27,\" -\"))","v":""},{"$f":"IF(C27=0,\"\",IF(OR(DQ27<>0,DP27=1),DQ27,\" -\"))","v":""},{"$f":"IF(C27=0,\"\",IF(OR(EB27<>0,EA27=1),EB27,\" -\"))","v":""},{"$f":"IF(C27=0,\"\",IF(OR(EM27<>0,EL27=1),EM27,\" -\"))","v":""},{"$f":"IF(C27=0,\"\",IF(OR(EX27<>0,EW27=1),EX27,\" -\"))","v":""},{"$f":"IF(C27=0,\"\",IF(OR(FI27<>0,FH27=1),FI27,\" -\"))","v":""},{"$f":"IF(C27=0,\"\",IF(OR(FT27<>0,FS27=1),FT27,\" -\"))","v":""},{"$f":"IF(C27=0,\"\",IF(OR(GE27<>0,GD27=1),GE27,\" -\"))","v":""},{"$f":"IF(C27=0,\"\",IF(OR(GP27<>0,GO27=1),GP27,\" -\"))","v":""},{"$f":"IF(C27=0,\"\",IF(OR(HA27<>0,GZ27=1),HA27,\" -\"))","v":""},{"$f":"IF(C27=0,\"\",IF(OR(HL27<>0,HK27=1),HL27,\" -\"))","v":""},{"$f":"IF(C27=0,\"\",IF(AJ27<>0,AJ27,\" -\"))","v":""},{"$f":"IF(C27=0,\"\",IF(OR(HW27<>0,HV27=1),HW27,\" -\"))","v":""},{"$f":"IF(C27=0,\"\",IF(OR(IH27<>0,IG27=1),IH27,\" -\"))","v":""},{"$f":"IF(C27=0,\"\",IF(AL27=1,\"DNF\",IF(AL27=2,\"DSQ\",IF(AM27<>1,\"~ \"&ROUND(SUM(H27:X27),3),ROUND(SUM(H27:X27),3)))))","v":""},null,null,{"$f":"IF(C27<>\"\",C27,\"\")","v":""},{"$f":"IF(AD27<>\"\",3,\"\")","v":""},null,null,{"$f":"IF(AD27<>\"\",(AF27/1000*AG27/1000)/2,\"\")","v":""},null,null,null,null,null,null,null,{"$f":"IF(C27=0,99999,IF(AL27>0,9999,SUM(H27:X27)-AN27))","v":99999},{"$f":"IF(C27=0,99999,IF(AL27=1,9999,SUM(Y27:Z27)))","v":99999},null,null,{"$f":"IF(C27<>\"\",C27,\"\")","v":""},null,null,null,null,null,null,null,null,{"$f":"IF($C27=\"\",\"\", IF(BB27=1,0,IF(AZ27<>0,500,AU27*$AE27/$AH27+AV27/$AH27*5+AW27/$AH27*25+AX27*50+AY27*50)))","v":""},null,{"$f":"IF(C27<>\"\",C27,\"\")","v":""},null,null,null,null,null,null,null,null,{"$f":"IF($C27=\"\",\"\", IF(BM27=1,0,IF(BK27<>0,500,BF27*$AE27/$AH27+BG27/$AH27*5+BH27/$AH27*25+BI27*50+BJ27*50)))","v":""},null,{"$f":"IF(C27<>\"\",C27,\"\")","v":""},null,null,null,null,null,null,null,null,{"$f":"IF($C27=\"\",\"\", IF(BX27=1,0,IF(BV27<>0,500,BQ27*$AE27/$AH27+BR27/$AH27*5+BS27/$AH27*25+BT27*50+BU27*50)))","v":""},null,{"$f":"IF(C27<>\"\",C27,\"\")","v":""},null,null,null,null,null,null,null,null,{"$f":"IF($C27=\"\",\"\", IF(CI27=1,0,IF(CG27<>0,500,CB27*$AE27/$AH27+CC27/$AH27*5+CD27/$AH27*25+CE27*50+CF27*50)))","v":""},null,{"$f":"IF(C27<>\"\",C27,\"\")","v":""},null,null,null,null,null,null,null,null,{"$f":"IF($C27=\"\",\"\", IF(CT27=1,0,IF(CR27<>0,500,CM27*$AE27/$AH27+CN27/$AH27*5+CO27/$AH27*25+CP27*50+CQ27*50)))","v":""},null,{"$f":"IF(C27<>\"\",C27,\"\")","v":""},null,null,null,null,null,null,null,null,{"$f":"IF($C27=\"\",\"\", IF(DE27=1,0,IF(DC27<>0,500,CX27*$AE27/$AH27+CY27/$AH27*5+CZ27/$AH27*25+DA27*50+DB27*50)))","v":""},null,{"$f":"IF(C27<>\"\",C27,\"\")","v":""},null,null,null,null,null,null,null,null,{"$f":"IF($C27=\"\",\"\", IF(DP27=1,0,IF(DN27<>0,500,DI27*$AE27/$AH27+DJ27/$AH27*5+DK27/$AH27*25+DL27*50+DM27*50)))","v":""},null,{"$f":"IF(C27<>\"\",C27,\"\")","v":""},null,null,null,null,null,null,null,null,{"$f":"IF($C27=\"\",\"\", IF(EA27=1,0,IF(DY27<>0,500,DT27*$AE27/$AH27+DU27/$AH27*5+DV27/$AH27*25+DW27*50+DX27*50)))","v":""},null,{"$f":"IF(C27<>\"\",C27,\"\")","v":""},null,null,null,null,null,null,null,null,{"$f":"IF($C27=\"\",\"\", IF(EL27=1,0,IF(EJ27<>0,500,EE27*$AE27/$AH27+EF27/$AH27*5+EG27/$AH27*25+EH27*50+EI27*50)))","v":""},null,{"$f":"IF(C27<>\"\",C27,\"\")","v":""},null,null,null,null,null,null,null,null,{"$f":"IF($C27=\"\",\"\", IF(EW27=1,0,IF(EU27<>0,500,EP27*$AE27/$AH27+EQ27/$AH27*5+ER27/$AH27*25+ES27*50+ET27*50)))","v":""},null,{"$f":"IF(C27<>\"\",C27,\"\")","v":""},null,null,null,null,null,null,null,null,{"$f":"IF($C27=\"\",\"\", IF(FH27=1,0,IF(FF27<>0,500,FA27*$AE27/$AH27+FB27/$AH27*5+FC27/$AH27*25+FD27*50+FE27*50)))","v":""},null,{"$f":"IF(C27<>\"\",C27,\"\")","v":""},null,null,null,null,null,null,null,null,{"$f":"IF($C27=\"\",\"\", IF(FS27=1,0,IF(FQ27<>0,500,FL27*$AE27/$AH27+FM27/$AH27*5+FN27/$AH27*25+FO27*50+FP27*50)))","v":""},null,{"$f":"IF(C27<>\"\",C27,\"\")","v":""},null,null,null,null,null,null,null,null,{"$f":"IF($C27=\"\",\"\", IF(GD27=1,0,IF(GB27<>0,500,FW27*$AE27/$AH27+FX27/$AH27*5+FY27/$AH27*25+FZ27*50+GA27*50)))","v":""},null,{"$f":"IF(C27<>\"\",C27,\"\")","v":""},null,null,null,null,null,null,null,null,{"$f":"IF($C27=\"\",\"\", IF(GO27=1,0,IF(GM27<>0,500,GH27*$AE27/$AH27+GI27/$AH27*5+GJ27/$AH27*25+GK27*50+GL27*50)))","v":""},null,{"$f":"IF(C27<>\"\",C27,\"\")","v":""},null,null,null,null,null,null,null,null,{"$f":"IF($C27=\"\",\"\", IF(GZ27=1,0,IF(GX27<>0,500,GS27*$AE27/$AH27+GT27/$AH27*5+GU27/$AH27*25+GV27*50+GW27*50)))","v":""},null,{"$f":"IF(C27<>\"\",C27,\"\")","v":""},null,null,null,null,null,null,null,null,{"$f":"IF($C27=\"\",\"\", IF(HK27=1,0,IF(HI27<>0,500,HD27*$AE27/$AH27+HE27/$AH27*5+HF27/$AH27*25+HG27*50+HH27*50)))","v":""},null,{"$f":"IF(C27<>\"\",C27,\"\")","v":""},null,null,null,null,null,null,null,null,{"$f":"IF($C27=\"\",\"\", IF(HV27=1,0,IF(HT27<>0,500,HO27*$AE27/$AH27+HP27/$AH27*5+HQ27/$AH27*25+HR27*50+HS27*50)))","v":""},null,{"$f":"IF(C27<>\"\",C27,\"\")","v":""},null,null,null,null,null,null,null,null,{"$f":"IF($C27=\"\",\"\", IF(IG27=1,0,IF(IE27<>0,500,HZ27*$AE27/$AH27+IA27/$AH27*5+IB27/$AH27*25+IC27*50+ID27*50)))","v":""}]
[null,{"$f":"IF(C28=0,\"\",ROW(C28)-4)","v":""},null,null,null,null,null,{"$f":"IF(C28=0,\"\",IF(OR(BB28=1,BC28<>0),BC28,\"-\"))","v":""},{"$f":"IF(C28=0,\"\",IF(OR(BM28=1,BN28<>0),BN28,\"-\"))","v":""},{"$f":"IF(C28=0,\"\",IF(OR(BX28=1,BY28<>0),BY28,\" -\"))","v":""},{"$f":"IF(C28=0,\"\",IF(OR(CJ28<>0,CI28=1),CJ28,\" -\"))","v":""},{"$f":"IF(C28=0,\"\",IF(OR(CU28<>0,CT28=1),CU28,\" -\"))","v":""},{"$f":"IF(C28=0,\"\",IF(OR(DF28<>0,DE28=1),DF28,\" -\"))","v":""},{"$f":"IF(C28=0,\"\",IF(OR(DQ28<>0,DP28=1),DQ28,\" -\"))","v":""},{"$f":"IF(C28=0,\"\",IF(OR(EB28<>0,EA28=1),EB28,\" -\"))","v":""},{"$f":"IF(C28=0,\"\",IF(OR(EM28<>0,EL28=1),EM28,\" -\"))","v":""},{"$f":"IF(C28=0,\"\",IF(OR(EX28<>0,EW28=1),EX28,\" -\"))","v":""},{"$f":"IF(C28=0,\"\",IF(OR(FI28<>0,FH28=1),FI28,\" -\"))","v":""},{"$f":"IF(C28=0,\"\",IF(OR(FT28<>0,FS28=1),FT28,\" -\"))","v":""},{"$f":"IF(C28=0,\"\",IF(OR(GE28<>0,GD28=1),GE28,\" -\"))","v":""},{"$f":"IF(C28=0,\"\",IF(OR(GP28<>0,GO28=1),GP28,\" -\"))","v":""},{"$f":"IF(C28=0,\"\",IF(OR(HA28<>0,GZ28=1),HA28,\" -\"))","v":""},{"$f":"IF(C28=0,\"\",IF(OR(HL28<>0,HK28=1),HL28,\" -\"))","v":""},{"$f":"IF(C28=0,\"\",IF(AJ28<>0,AJ28,\" -\"))","v":""},{"$f":"IF(C28=0,\"\",IF(OR(HW28<>0,HV28=1),HW28,\" -\"))","v":""},{"$f":"IF(C28=0,\"\",IF(OR(IH28<>0,IG28=1),IH28,\" -\"))","v":""},{"$f":"IF(C28=0,\"\",IF(AL28=1,\"DNF\",IF(AL28=2,\"DSQ\",IF(AM28<>1,\"~ \"&ROUND(SUM(H28:X28),3),ROUND(SUM(H28:X28),3)))))","v":""},null,null,{"$f":"IF(C28<>\"\",C28,\"\")","v":""},{"$f":"IF(AD28<>\"\",3,\"\")","v":""},null,null,{"$f":"IF(AD28<>\"\",(AF28/1000*AG28/1000)/2,\"\")","v":""},null,null,null,null,null,null,null,{"$f":"IF(C28=0,99999,IF(AL28>0,9999,SUM(H28:X28)-AN28))","v":99999},{"$f":"IF(C28=0,99999,IF(AL28=1,9999,SUM(Y28:Z28)))","v":99999},null,null,{"$f":"IF(C28<>\"\",C28,\"\")","v":""},null,null,null,null,null,null,null,null,{"$f":"IF($C28=\"\",\"\", IF(BB28=1,0,IF(AZ28<>0,500,AU28*$AE28/$AH28+AV28/$AH28*5+AW28/$AH28*25+AX28*50+AY28*50)))","v":""},null,{"$f":"IF(C28<>\"\",C28,\"\")","v":""},null,null,null,null,null,null,null,null,{"$f":"IF($C28=\"\",\"\", IF(BM28=1,0,IF(BK28<>0,500,BF28*$AE28/$AH28+BG28/$AH28*5+BH28/$AH28*25+BI28*50+BJ28*50)))","v":""},null,{"$f":"IF(C28<>\"\",C28,\"\")","v":""},null,null,null,null,null,null,null,null,{"$f":"IF($C28=\"\",\"\", IF(BX28=1,0,IF(BV28<>0,500,BQ28*$AE28/$AH28+BR28/$AH28*5+BS28/$AH28*25+BT28*50+BU28*50)))","v":""},null,{"$f":"IF(C28<>\"\",C28,\"\")","v":""},null,null,null,null,null,null,null,null,{"$f":"IF($C28=\"\",\"\", IF(CI28=1,0,IF(CG28<>0,500,CB28*$AE28/$AH28+CC28/$AH28*5+CD28/$AH28*25+CE28*50+CF28*50)))","v":""},null,{"$f":"IF(C28<>\"\",C28,\"\")","v":""},null,null,null,null,null,null,null,null,{"$f":"IF($C28=\"\",\"\", IF(CT28=1,0,IF(CR28<>0,500,CM28*$AE28/$AH28+CN28/$AH28*5+CO28/$AH28*25+CP28*50+CQ28*50)))","v":""},null,{"$f":"IF(C28<>\"\",C28,\"\")","v":""},null,null,null,null,null,null,null,null,{"$f":"IF($C28=\"\",\"\", IF(DE28=1,0,IF(DC28<>0,500,CX28*$AE28/$AH28+CY28/$AH28*5+CZ28/$AH28*25+DA28*50+DB28*50)))","v":""},null,{"$f":"IF(C28<>\"\",C28,\"\")","v":""},null,null,null,null,null,null,null,null,{"$f":"IF($C28=\"\",\"\", IF(DP28=1,0,IF(DN28<>0,500,DI28*$AE28/$AH28+DJ28/$AH28*5+DK28/$AH28*25+DL28*50+DM28*50)))","v":""},null,{"$f":"IF(C28<>\"\",C28,\"\")","v":""},null,null,null,null,null,null,null,null,{"$f":"IF($C28=\"\",\"\", IF(EA28=1,0,IF(DY28<>0,500,DT28*$AE28/$AH28+DU28/$AH28*5+DV28/$AH28*25+DW28*50+DX28*50)))","v":""},null,{"$f":"IF(C28<>\"\",C28,\"\")","v":""},null,null,null,null,null,null,null,null,{"$f":"IF($C28=\"\",\"\", IF(EL28=1,0,IF(EJ28<>0,500,EE28*$AE28/$AH28+EF28/$AH28*5+EG28/$AH28*25+EH28*50+EI28*50)))","v":""},null,{"$f":"IF(C28<>\"\",C28,\"\")","v":""},null,null,null,null,null,null,null,null,{"$f":"IF($C28=\"\",\"\", IF(EW28=1,0,IF(EU28<>0,500,EP28*$AE28/$AH28+EQ28/$AH28*5+ER28/$AH28*25+ES28*50+ET28*50)))","v":""},null,{"$f":"IF(C28<>\"\",C28,\"\")","v":""},null,null,null,null,null,null,null,null,{"$f":"IF($C28=\"\",\"\", IF(FH28=1,0,IF(FF28<>0,500,FA28*$AE28/$AH28+FB28/$AH28*5+FC28/$AH28*25+FD28*50+FE28*50)))","v":""},null,{"$f":"IF(C28<>\"\",C28,\"\")","v":""},null,null,null,null,null,null,null,null,{"$f":"IF($C28=\"\",\"\", IF(FS28=1,0,IF(FQ28<>0,500,FL28*$AE28/$AH28+FM28/$AH28*5+FN28/$AH28*25+FO28*50+FP28*50)))","v":""},null,{"$f":"IF(C28<>\"\",C28,\"\")","v":""},null,null,null,null,null,null,null,null,{"$f":"IF($C28=\"\",\"\", IF(GD28=1,0,IF(GB28<>0,500,FW28*$AE28/$AH28+FX28/$AH28*5+FY28/$AH28*25+FZ28*50+GA28*50)))","v":""},null,{"$f":"IF(C28<>\"\",C28,\"\")","v":""},null,null,null,null,null,null,null,null,{"$f":"IF($C28=\"\",\"\", IF(GO28=1,0,IF(GM28<>0,500,GH28*$AE28/$AH28+GI28/$AH28*5+GJ28/$AH28*25+GK28*50+GL28*50)))","v":""},null,{"$f":"IF(C28<>\"\",C28,\"\")","v":""},null,null,null,null,null,null,null,null,{"$f":"IF($C28=\"\",\"\", IF(GZ28=1,0,IF(GX28<>0,500,GS28*$AE28/$AH28+GT28/$AH28*5+GU28/$AH28*25+GV28*50+GW28*50)))","v":""},null,{"$f":"IF(C28<>\"\",C28,\"\")","v":""},null,null,null,null,null,null,null,null,{"$f":"IF($C28=\"\",\"\", IF(HK28=1,0,IF(HI28<>0,500,HD28*$AE28/$AH28+HE28/$AH28*5+HF28/$AH28*25+HG28*50+HH28*50)))","v":""},null,{"$f":"IF(C28<>\"\",C28,\"\")","v":""},null,null,null,null,null,null,null,null,{"$f":"IF($C28=\"\",\"\", IF(HV28=1,0,IF(HT28<>0,500,HO28*$AE28/$AH28+HP28/$AH28*5+HQ28/$AH28*25+HR28*50+HS28*50)))","v":""},null,{"$f":"IF(C28<>\"\",C28,\"\")","v":""},null,null,null,null,null,null,null,null,{"$f":"IF($C28=\"\",\"\", IF(IG28=1,0,IF(IE28<>0,500,HZ28*$AE28/$AH28+IA28/$AH28*5+IB28/$AH28*25+IC28*50+ID28*50)))","v":""}]
[null,{"$f":"IF(C29=0,\"\",ROW(C29)-4)","v":""},null,null,null,null,null,{"$f":"IF(C29=0,\"\",IF(OR(BB29=1,BC29<>0),BC29,\"-\"))","v":""},{"$f":"IF(C29=0,\"\",IF(OR(BM29=1,BN29<>0),BN29,\"-\"))","v":""},{"$f":"IF(C29=0,\"\",IF(OR(BX29=1,BY29<>0),BY29,\" -\"))","v":""},{"$f":"IF(C29=0,\"\",IF(OR(CJ29<>0,CI29=1),CJ29,\" -\"))","v":""},{"$f":"IF(C29=0,\"\",IF(OR(CU29<>0,CT29=1),CU29,\" -\"))","v":""},{"$f":"IF(C29=0,\"\",IF(OR(DF29<>0,DE29=1),DF29,\" -\"))","v":""},{"$f":"IF(C29=0,\"\",IF(OR(DQ29<>0,DP29=1),DQ29,\" -\"))","v":""},{"$f":"IF(C29=0,\"\",IF(OR(EB29<>0,EA29=1),EB29,\" -\"))","v":""},{"$f":"IF(C29=0,\"\",IF(OR(EM29<>0,EL29=1),EM29,\" -\"))","v":""},{"$f":"IF(C29=0,\"\",IF(OR(EX29<>0,EW29=1),EX29,\" -\"))","v":""},{"$f":"IF(C29=0,\"\",IF(OR(FI29<>0,FH29=1),FI29,\" -\"))","v":""},{"$f":"IF(C29=0,\"\",IF(OR(FT29<>0,FS29=1),FT29,\" -\"))","v":""},{"$f":"IF(C29=0,\"\",IF(OR(GE29<>0,GD29=1),GE29,\" -\"))","v":""},{"$f":"IF(C29=0,\"\",IF(OR(GP29<>0,GO29=1),GP29,\" -\"))","v":""},{"$f":"IF(C29=0,\"\",IF(OR(HA29<>0,GZ29=1),HA29,\" -\"))","v":""},{"$f":"IF(C29=0,\"\",IF(OR(HL29<>0,HK29=1),HL29,\" -\"))","v":""},{"$f":"IF(C29=0,\"\",IF(AJ29<>0,AJ29,\" -\"))","v":""},{"$f":"IF(C29=0,\"\",IF(OR(HW29<>0,HV29=1),HW29,\" -\"))","v":""},{"$f":"IF(C29=0,\"\",IF(OR(IH29<>0,IG29=1),IH29,\" -\"))","v":""},{"$f":"IF(C29=0,\"\",IF(AL29=1,\"DNF\",IF(AL29=2,\"DSQ\",IF(AM29<>1,\"~ \"&ROUND(SUM(H29:X29),3),ROUND(SUM(H29:X29),3)))))","v":""},null,null,{"$f":"IF(C29<>\"\",C29,\"\")","v":""},{"$f":"IF(AD29<>\"\",3,\"\")","v":""},null,null,{"$f":"IF(AD29<>\"\",(AF29/1000*AG29/1000)/2,\"\")","v":""},null,null,null,null,null,null,null,{"$f":"IF(C29=0,99999,IF(AL29>0,9999,SUM(H29:X29)-AN29))","v":99999},{"$f":"IF(C29=0,99999,IF(AL29=1,9999,SUM(Y29:Z29)))","v":99999},null,null,{"$f":"IF(C29<>\"\",C29,\"\")","v":""},null,null,null,null,null,null,null,null,{"$f":"IF($C29=\"\",\"\", IF(BB29=1,0,IF(AZ29<>0,500,AU29*$AE29/$AH29+AV29/$AH29*5+AW29/$AH29*25+AX29*50+AY29*50)))","v":""},null,{"$f":"IF(C29<>\"\",C29,\"\")","v":""},null,null,null,null,null,null,null,null,{"$f":"IF($C29=\"\",\"\", IF(BM29=1,0,IF(BK29<>0,500,BF29*$AE29/$AH29+BG29/$AH29*5+BH29/$AH29*25+BI29*50+BJ29*50)))","v":""},null,{"$f":"IF(C29<>\"\",C29,\"\")","v":""},null,null,null,null,null,null,null,null,{"$f":"IF($C29=\"\",\"\", IF(BX29=1,0,IF(BV29<>0,500,BQ29*$AE29/$AH29+BR29/$AH29*5+BS29/$AH29*25+BT29*50+BU29*50)))","v":""},null,{"$f":"IF(C29<>\"\",C29,\"\")","v":""},null,null,null,null,null,null,null,null,{"$f":"IF($C29=\"\",\"\", IF(CI29=1,0,IF(CG29<>0,500,CB29*$AE29/$AH29+CC29/$AH29*5+CD29/$AH29*25+CE29*50+CF29*50)))","v":""},null,{"$f":"IF(C29<>\"\",C29,\"\")","v":""},null,null,null,null,null,null,null,null,{"$f":"IF($C29=\"\",\"\", IF(CT29=1,0,IF(CR29<>0,500,CM29*$AE29/$AH29+CN29/$AH29*5+CO29/$AH29*25+CP29*50+CQ29*50)))","v":""},null,{"$f":"IF(C29<>\"\",C29,\"\")","v":""},null,null,null,null,null,null,null,null,{"$f":"IF($C29=\"\",\"\", IF(DE29=1,0,IF(DC29<>0,500,CX29*$AE29/$AH29+CY29/$AH29*5+CZ29/$AH29*25+DA29*50+DB29*50)))","v":""},null,{"$f":"IF(C29<>\"\",C29,\"\")","v":""},null,null,null,null,null,null,null,null,{"$f":"IF($C29=\"\",\"\", IF(DP29=1,0,IF(DN29<>0,500,DI29*$AE29/$AH29+DJ29/$AH29*5+DK29/$AH29*25+DL29*50+DM29*50)))","v":""},null,{"$f":"IF(C29<>\"\",C29,\"\")","v":""},null,null,null,null,null,null,null,null,{"$f":"IF($C29=\"\",\"\", IF(EA29=1,0,IF(DY29<>0,500,DT29*$AE29/$AH29+DU29/$AH29*5+DV29/$AH29*25+DW29*50+DX29*50)))","v":""},null,{"$f":"IF(C29<>\"\",C29,\"\")","v":""},null,null,null,null,null,null,null,null,{"$f":"IF($C29=\"\",\"\", IF(EL29=1,0,IF(EJ29<>0,500,EE29*$AE29/$AH29+EF29/$AH29*5+EG29/$AH29*25+EH29*50+EI29*50)))","v":""},null,{"$f":"IF(C29<>\"\",C29,\"\")","v":""},null,null,null,null,null,null,null,null,{"$f":"IF($C29=\"\",\"\", IF(EW29=1,0,IF(EU29<>0,500,EP29*$AE29/$AH29+EQ29/$AH29*5+ER29/$AH29*25+ES29*50+ET29*50)))","v":""},null,{"$f":"IF(C29<>\"\",C29,\"\")","v":""},null,null,null,null,null,null,null,null,{"$f":"IF($C29=\"\",\"\", IF(FH29=1,0,IF(FF29<>0,500,FA29*$AE29/$AH29+FB29/$AH29*5+FC29/$AH29*25+FD29*50+FE29*50)))","v":""},null,{"$f":"IF(C29<>\"\",C29,\"\")","v":""},null,null,null,null,null,null,null,null,{"$f":"IF($C29=\"\",\"\", IF(FS29=1,0,IF(FQ29<>0,500,FL29*$AE29/$AH29+FM29/$AH29*5+FN29/$AH29*25+FO29*50+FP29*50)))","v":""},null,{"$f":"IF(C29<>\"\",C29,\"\")","v":""},null,null,null,null,null,null,null,null,{"$f":"IF($C29=\"\",\"\", IF(GD29=1,0,IF(GB29<>0,500,FW29*$AE29/$AH29+FX29/$AH29*5+FY29/$AH29*25+FZ29*50+GA29*50)))","v":""},null,{"$f":"IF(C29<>\"\",C29,\"\")","v":""},null,null,null,null,null,null,null,null,{"$f":"IF($C29=\"\",\"\", IF(GO29=1,0,IF(GM29<>0,500,GH29*$AE29/$AH29+GI29/$AH29*5+GJ29/$AH29*25+GK29*50+GL29*50)))","v":""},null,{"$f":"IF(C29<>\"\",C29,\"\")","v":""},null,null,null,null,null,null,null,null,{"$f":"IF($C29=\"\",\"\", IF(GZ29=1,0,IF(GX29<>0,500,GS29*$AE29/$AH29+GT29/$AH29*5+GU29/$AH29*25+GV29*50+GW29*50)))","v":""},null,{"$f":"IF(C29<>\"\",C29,\"\")","v":""},null,null,null,null,null,null,null,null,{"$f":"IF($C29=\"\",\"\", IF(HK29=1,0,IF(HI29<>0,500,HD29*$AE29/$AH29+HE29/$AH29*5+HF29/$AH29*25+HG29*50+HH29*50)))","v":""},null,{"$f":"IF(C29<>\"\",C29,\"\")","v":""},null,null,null,null,null,null,null,null,{"$f":"IF($C29=\"\",\"\", IF(HV29=1,0,IF(HT29<>0,500,HO29*$AE29/$AH29+HP29/$AH29*5+HQ29/$AH29*25+HR29*50+HS29*50)))","v":""},null,{"$f":"IF(C29<>\"\",C29,\"\")","v":""},null,null,null,null,null,null,null,null,{"$f":"IF($C29=\"\",\"\", IF(IG29=1,0,IF(IE29<>0,500,HZ29*$AE29/$AH29+IA29/$AH29*5+IB29/$AH29*25+IC29*50+ID29*50)))","v":""}]
[null,{"$f":"IF(C30=0,\"\",ROW(C30)-4)","v":""},null,null,null,null,null,{"$f":"IF(C30=0,\"\",IF(OR(BB30=1,BC30<>0),BC30,\"-\"))","v":""},{"$f":"IF(C30=0,\"\",IF(OR(BM30=1,BN30<>0),BN30,\"-\"))","v":""},{"$f":"IF(C30=0,\"\",IF(OR(BX30=1,BY30<>0),BY30,\" -\"))","v":""},{"$f":"IF(C30=0,\"\",IF(OR(CJ30<>0,CI30=1),CJ30,\" -\"))","v":""},{"$f":"IF(C30=0,\"\",IF(OR(CU30<>0,CT30=1),CU30,\" -\"))","v":""},{"$f":"IF(C30=0,\"\",IF(OR(DF30<>0,DE30=1),DF30,\" -\"))","v":""},{"$f":"IF(C30=0,\"\",IF(OR(DQ30<>0,DP30=1),DQ30,\" -\"))","v":""},{"$f":"IF(C30=0,\"\",IF(OR(EB30<>0,EA30=1),EB30,\" -\"))","v":""},{"$f":"IF(C30=0,\"\",IF(OR(EM30<>0,EL30=1),EM30,\" -\"))","v":""},{"$f":"IF(C30=0,\"\",IF(OR(EX30<>0,EW30=1),EX30,\" -\"))","v":""},{"$f":"IF(C30=0,\"\",IF(OR(FI30<>0,FH30=1),FI30,\" -\"))","v":""},{"$f":"IF(C30=0,\"\",IF(OR(FT30<>0,FS30=1),FT30,\" -\"))","v":""},{"$f":"IF(C30=0,\"\",IF(OR(GE30<>0,GD30=1),GE30,\" -\"))","v":""},{"$f":"IF(C30=0,\"\",IF(OR(GP30<>0,GO30=1),GP30,\" -\"))","v":""},{"$f":"IF(C30=0,\"\",IF(OR(HA30<>0,GZ30=1),HA30,\" -\"))","v":""},{"$f":"IF(C30=0,\"\",IF(OR(HL30<>0,HK30=1),HL30,\" -\"))","v":""},{"$f":"IF(C30=0,\"\",IF(AJ30<>0,AJ30,\" -\"))","v":""},{"$f":"IF(C30=0,\"\",IF(OR(HW30<>0,HV30=1),HW30,\" -\"))","v":""},{"$f":"IF(C30=0,\"\",IF(OR(IH30<>0,IG30=1),IH30,\" -\"))","v":""},{"$f":"IF(C30=0,\"\",IF(AL30=1,\"DNF\",IF(AL30=2,\"DSQ\",IF(AM30<>1,\"~ \"&ROUND(SUM(H30:X30),3),ROUND(SUM(H30:X30),3)))))","v":""},null,null,{"$f":"IF(C30<>\"\",C30,\"\")","v":""},{"$f":"IF(AD30<>\"\",3,\"\")","v":""},null,null,{"$f":"IF(AD30<>\"\",(AF30/1000*AG30/1000)/2,\"\")","v":""},null,null,null,null,null,null,null,{"$f":"IF(C30=0,99999,IF(AL30>0,9999,SUM(H30:X30)-AN30))","v":99999},{"$f":"IF(C30=0,99999,IF(AL30=1,9999,SUM(Y30:Z30)))","v":99999},null,null,{"$f":"IF(C30<>\"\",C30,\"\")","v":""},null,null,null,null,null,null,null,null,{"$f":"IF($C30=\"\",\"\", IF(BB30=1,0,IF(AZ30<>0,500,AU30*$AE30/$AH30+AV30/$AH30*5+AW30/$AH30*25+AX30*50+AY30*50)))","v":""},null,{"$f":"IF(C30<>\"\",C30,\"\")","v":""},null,null,null,null,null,null,null,null,{"$f":"IF($C30=\"\",\"\", IF(BM30=1,0,IF(BK30<>0,500,BF30*$AE30/$AH30+BG30/$AH30*5+BH30/$AH30*25+BI30*50+BJ30*50)))","v":""},null,{"$f":"IF(C30<>\"\",C30,\"\")","v":""},null,null,null,null,null,null,null,null,{"$f":"IF($C30=\"\",\"\", IF(BX30=1,0,IF(BV30<>0,500,BQ30*$AE30/$AH30+BR30/$AH30*5+BS30/$AH30*25+BT30*50+BU30*50)))","v":""},null,{"$f":"IF(C30<>\"\",C30,\"\")","v":""},null,null,null,null,null,null,null,null,{"$f":"IF($C30=\"\",\"\", IF(CI30=1,0,IF(CG30<>0,500,CB30*$AE30/$AH30+CC30/$AH30*5+CD30/$AH30*25+CE30*50+CF30*50)))","v":""},null,{"$f":"IF(C30<>\"\",C30,\"\")","v":""},null,null,null,null,null,null,null,null,{"$f":"IF($C30=\"\",\"\", IF(CT30=1,0,IF(CR30<>0,500,CM30*$AE30/$AH30+CN30/$AH30*5+CO30/$AH30*25+CP30*50+CQ30*50)))","v":""},null,{"$f":"IF(C30<>\"\",C30,\"\")","v":""},null,null,null,null,null,null,null,null,{"$f":"IF($C30=\"\",\"\", IF(DE30=1,0,IF(DC30<>0,500,CX30*$AE30/$AH30+CY30/$AH30*5+CZ30/$AH30*25+DA30*50+DB30*50)))","v":""},null,{"$f":"IF(C30<>\"\",C30,\"\")","v":""},null,null,null,null,null,null,null,null,{"$f":"IF($C30=\"\",\"\", IF(DP30=1,0,IF(DN30<>0,500,DI30*$AE30/$AH30+DJ30/$AH30*5+DK30/$AH30*25+DL30*50+DM30*50)))","v":""},null,{"$f":"IF(C30<>\"\",C30,\"\")","v":""},null,null,null,null,null,null,null,null,{"$f":"IF($C30=\"\",\"\", IF(EA30=1,0,IF(DY30<>0,500,DT30*$AE30/$AH30+DU30/$AH30*5+DV30/$AH30*25+DW30*50+DX30*50)))","v":""},null,{"$f":"IF(C30<>\"\",C30,\"\")","v":""},null,null,null,null,null,null,null,null,{"$f":"IF($C30=\"\",\"\", IF(EL30=1,0,IF(EJ30<>0,500,EE30*$AE30/$AH30+EF30/$AH30*5+EG30/$AH30*25+EH30*50+EI30*50)))","v":""},null,{"$f":"IF(C30<>\"\",C30,\"\")","v":""},null,null,null,null,null,null,null,null,{"$f":"IF($C30=\"\",\"\", IF(EW30=1,0,IF(EU30<>0,500,EP30*$AE30/$AH30+EQ30/$AH30*5+ER30/$AH30*25+ES30*50+ET30*50)))","v":""},null,{"$f":"IF(C30<>\"\",C30,\"\")","v":""},null,null,null,null,null,null,null,null,{"$f":"IF($C30=\"\",\"\", IF(FH30=1,0,IF(FF30<>0,500,FA30*$AE30/$AH30+FB30/$AH30*5+FC30/$AH30*25+FD30*50+FE30*50)))","v":""},null,{"$f":"IF(C30<>\"\",C30,\"\")","v":""},null,null,null,null,null,null,null,null,{"$f":"IF($C30=\"\",\"\", IF(FS30=1,0,IF(FQ30<>0,500,FL30*$AE30/$AH30+FM30/$AH30*5+FN30/$AH30*25+FO30*50+FP30*50)))","v":""},null,{"$f":"IF(C30<>\"\",C30,\"\")","v":""},null,null,null,null,null,null,null,null,{"$f":"IF($C30=\"\",\"\", IF(GD30=1,0,IF(GB30<>0,500,FW30*$AE30/$AH30+FX30/$AH30*5+FY30/$AH30*25+FZ30*50+GA30*50)))","v":""},null,{"$f":"IF(C30<>\"\",C30,\"\")","v":""},null,null,null,null,null,null,null,null,{"$f":"IF($C30=\"\",\"\", IF(GO30=1,0,IF(GM30<>0,500,GH30*$AE30/$AH30+GI30/$AH30*5+GJ30/$AH30*25+GK30*50+GL30*50)))","v":""},null,{"$f":"IF(C30<>\"\",C30,\"\")","v":""},null,null,null,null,null,null,null,null,{"$f":"IF($C30=\"\",\"\", IF(GZ30=1,0,IF(GX30<>0,500,GS30*$AE30/$AH30+GT30/$AH30*5+GU30/$AH30*25+GV30*50+GW30*50)))","v":""},null,{"$f":"IF(C30<>\"\",C30,\"\")","v":""},null,null,null,null,null,null,null,null,{"$f":"IF($C30=\"\",\"\", IF(HK30=1,0,IF(HI30<>0,500,HD30*$AE30/$AH30+HE30/$AH30*5+HF30/$AH30*25+HG30*50+HH30*50)))","v":""},null,{"$f":"IF(C30<>\"\",C30,\"\")","v":""},null,null,null,null,null,null,null,null,{"$f":"IF($C30=\"\",\"\", IF(HV30=1,0,IF(HT30<>0,500,HO30*$AE30/$AH30+HP30/$AH30*5+HQ30/$AH30*25+HR30*50+HS30*50)))","v":""},null,{"$f":"IF(C30<>\"\",C30,\"\")","v":""},null,null,null,null,null,null,null,null,{"$f":"IF($C30=\"\",\"\", IF(IG30=1,0,IF(IE30<>0,500,HZ30*$AE30/$AH30+IA30/$AH30*5+IB30/$AH30*25+IC30*50+ID30*50)))","v":""}]
[null,{"$f":"IF(C31=0,\"\",ROW(C31)-4)","v":""},null,null,null,null,null,{"$f":"IF(C31=0,\"\",IF(OR(BB31=1,BC31<>0),BC31,\"-\"))","v":""},{"$f":"IF(C31=0,\"\",IF(OR(BM31=1,BN31<>0),BN31,\"-\"))","v":""},{"$f":"IF(C31=0,\"\",IF(OR(BX31=1,BY31<>0),BY31,\" -\"))","v":""},{"$f":"IF(C31=0,\"\",IF(OR(CJ31<>0,CI31=1),CJ31,\" -\"))","v":""},{"$f":"IF(C31=0,\"\",IF(OR(CU31<>0,CT31=1),CU31,\" -\"))","v":""},{"$f":"IF(C31=0,\"\",IF(OR(DF31<>0,DE31=1),DF31,\" -\"))","v":""},{"$f":"IF(C31=0,\"\",IF(OR(DQ31<>0,DP31=1),DQ31,\" -\"))","v":""},{"$f":"IF(C31=0,\"\",IF(OR(EB31<>0,EA31=1),EB31,\" -\"))","v":""},{"$f":"IF(C31=0,\"\",IF(OR(EM31<>0,EL31=1),EM31,\" -\"))","v":""},{"$f":"IF(C31=0,\"\",IF(OR(EX31<>0,EW31=1),EX31,\" -\"))","v":""},{"$f":"IF(C31=0,\"\",IF(OR(FI31<>0,FH31=1),FI31,\" -\"))","v":""},{"$f":"IF(C31=0,\"\",IF(OR(FT31<>0,FS31=1),FT31,\" -\"))","v":""},{"$f":"IF(C31=0,\"\",IF(OR(GE31<>0,GD31=1),GE31,\" -\"))","v":""},{"$f":"IF(C31=0,\"\",IF(OR(GP31<>0,GO31=1),GP31,\" -\"))","v":""},{"$f":"IF(C31=0,\"\",IF(OR(HA31<>0,GZ31=1),HA31,\" -\"))","v":""},{"$f":"IF(C31=0,\"\",IF(OR(HL31<>0,HK31=1),HL31,\" -\"))","v":""},{"$f":"IF(C31=0,\"\",IF(AJ31<>0,AJ31,\" -\"))","v":""},{"$f":"IF(C31=0,\"\",IF(OR(HW31<>0,HV31=1),HW31,\" -\"))","v":""},{"$f":"IF(C31=0,\"\",IF(OR(IH31<>0,IG31=1),IH31,\" -\"))","v":""},{"$f":"IF(C31=0,\"\",IF(AL31=1,\"DNF\",IF(AL31=2,\"DSQ\",IF(AM31<>1,\"~ \"&ROUND(SUM(H31:X31),3),ROUND(SUM(H31:X31),3)))))","v":""},null,null,{"$f":"IF(C31<>\"\",C31,\"\")","v":""},{"$f":"IF(AD31<>\"\",3,\"\")","v":""},null,null,{"$f":"IF(AD31<>\"\",(AF31/1000*AG31/1000)/2,\"\")","v":""},null,null,null,null,null,null,null,{"$f":"IF(C31=0,99999,IF(AL31>0,9999,SUM(H31:X31)-AN31))","v":99999},{"$f":"IF(C31=0,99999,IF(AL31=1,9999,SUM(Y31:Z31)))","v":99999},null,null,{"$f":"IF(C31<>\"\",C31,\"\")","v":""},null,null,null,null,null,null,null,null,{"$f":"IF($C31=\"\",\"\", IF(BB31=1,0,IF(AZ31<>0,500,AU31*$AE31/$AH31+AV31/$AH31*5+AW31/$AH31*25+AX31*50+AY31*50)))","v":""},null,{"$f":"IF(C31<>\"\",C31,\"\")","v":""},null,null,null,null,null,null,null,null,{"$f":"IF($C31=\"\",\"\", IF(BM31=1,0,IF(BK31<>0,500,BF31*$AE31/$AH31+BG31/$AH31*5+BH31/$AH31*25+BI31*50+BJ31*50)))","v":""},null,{"$f":"IF(C31<>\"\",C31,\"\")","v":""},null,null,null,null,null,null,null,null,{"$f":"IF($C31=\"\",\"\", IF(BX31=1,0,IF(BV31<>0,500,BQ31*$AE31/$AH31+BR31/$AH31*5+BS31/$AH31*25+BT31*50+BU31*50)))","v":""},null,{"$f":"IF(C31<>\"\",C31,\"\")","v":""},null,null,null,null,null,null,null,null,{"$f":"IF($C31=\"\",\"\", IF(CI31=1,0,IF(CG31<>0,500,CB31*$AE31/$AH31+CC31/$AH31*5+CD31/$AH31*25+CE31*50+CF31*50)))","v":""},null,{"$f":"IF(C31<>\"\",C31,\"\")","v":""},null,null,null,null,null,null,null,null,{"$f":"IF($C31=\"\",\"\", IF(CT31=1,0,IF(CR31<>0,500,CM31*$AE31/$AH31+CN31/$AH31*5+CO31/$AH31*25+CP31*50+CQ31*50)))","v":""},null,{"$f":"IF(C31<>\"\",C31,\"\")","v":""},null,null,null,null,null,null,null,null,{"$f":"IF($C31=\"\",\"\", IF(DE31=1,0,IF(DC31<>0,500,CX31*$AE31/$AH31+CY31/$AH31*5+CZ31/$AH31*25+DA31*50+DB31*50)))","v":""},null,{"$f":"IF(C31<>\"\",C31,\"\")","v":""},null,null,null,null,null,null,null,null,{"$f":"IF($C31=\"\",\"\", IF(DP31=1,0,IF(DN31<>0,500,DI31*$AE31/$AH31+DJ31/$AH31*5+DK31/$AH31*25+DL31*50+DM31*50)))","v":""},null,{"$f":"IF(C31<>\"\",C31,\"\")","v":""},null,null,null,null,null,null,null,null,{"$f":"IF($C31=\"\",\"\", IF(EA31=1,0,IF(DY31<>0,500,DT31*$AE31/$AH31+DU31/$AH31*5+DV31/$AH31*25+DW31*50+DX31*50)))","v":""},null,{"$f":"IF(C31<>\"\",C31,\"\")","v":""},null,null,null,null,null,null,null,null,{"$f":"IF($C31=\"\",\"\", IF(EL31=1,0,IF(EJ31<>0,500,EE31*$AE31/$AH31+EF31/$AH31*5+EG31/$AH31*25+EH31*50+EI31*50)))","v":""},null,{"$f":"IF(C31<>\"\",C31,\"\")","v":""},null,null,null,null,null,null,null,null,{"$f":"IF($C31=\"\",\"\", IF(EW31=1,0,IF(EU31<>0,500,EP31*$AE31/$AH31+EQ31/$AH31*5+ER31/$AH31*25+ES31*50+ET31*50)))","v":""},null,{"$f":"IF(C31<>\"\",C31,\"\")","v":""},null,null,null,null,null,null,null,null,{"$f":"IF($C31=\"\",\"\", IF(FH31=1,0,IF(FF31<>0,500,FA31*$AE31/$AH31+FB31/$AH31*5+FC31/$AH31*25+FD31*50+FE31*50)))","v":""},null,{"$f":"IF(C31<>\"\",C31,\"\")","v":""},null,null,null,null,null,null,null,null,{"$f":"IF($C31=\"\",\"\", IF(FS31=1,0,IF(FQ31<>0,500,FL31*$AE31/$AH31+FM31/$AH31*5+FN31/$AH31*25+FO31*50+FP31*50)))","v":""},null,{"$f":"IF(C31<>\"\",C31,\"\")","v":""},null,null,null,null,null,null,null,null,{"$f":"IF($C31=\"\",\"\", IF(GD31=1,0,IF(GB31<>0,500,FW31*$AE31/$AH31+FX31/$AH31*5+FY31/$AH31*25+FZ31*50+GA31*50)))","v":""},null,{"$f":"IF(C31<>\"\",C31,\"\")","v":""},null,null,null,null,null,null,null,null,{"$f":"IF($C31=\"\",\"\", IF(GO31=1,0,IF(GM31<>0,500,GH31*$AE31/$AH31+GI31/$AH31*5+GJ31/$AH31*25+GK31*50+GL31*50)))","v":""},null,{"$f":"IF(C31<>\"\",C31,\"\")","v":""},null,null,null,null,null,null,null,null,{"$f":"IF($C31=\"\",\"\", IF(GZ31=1,0,IF(GX31<>0,500,GS31*$AE31/$AH31+GT31/$AH31*5+GU31/$AH31*25+GV31*50+GW31*50)))","v":""},null,{"$f":"IF(C31<>\"\",C31,\"\")","v":""},null,null,null,null,null,null,null,null,{"$f":"IF($C31=\"\",\"\", IF(HK31=1,0,IF(HI31<>0,500,HD31*$AE31/$AH31+HE31/$AH31*5+HF31/$AH31*25+HG31*50+HH31*50)))","v":""},null,{"$f":"IF(C31<>\"\",C31,\"\")","v":""},null,null,null,null,null,null,null,null,{"$f":"IF($C31=\"\",\"\", IF(HV31=1,0,IF(HT31<>0,500,HO31*$AE31/$AH31+HP31/$AH31*5+HQ31/$AH31*25+HR31*50+HS31*50)))","v":""},null,{"$f":"IF(C31<>\"\",C31,\"\")","v":""},null,null,null,null,null,null,null,null,{"$f":"IF($C31=\"\",\"\", IF(IG31=1,0,IF(IE31<>0,500,HZ31*$AE31/$AH31+IA31/$AH31*5+IB31/$AH31*25+IC31*50+ID31*50)))","v":""}]
[null,{"$f":"IF(C32=0,\"\",ROW(C32)-4)","v":""},null,null,null,null,null,{"$f":"IF(C32=0,\"\",IF(OR(BB32=1,BC32<>0),BC32,\"-\"))","v":""},{"$f":"IF(C32=0,\"\",IF(OR(BM32=1,BN32<>0),BN32,\"-\"))","v":""},{"$f":"IF(C32=0,\"\",IF(OR(BX32=1,BY32<>0),BY32,\" -\"))","v":""},{"$f":"IF(C32=0,\"\",IF(OR(CJ32<>0,CI32=1),CJ32,\" -\"))","v":""},{"$f":"IF(C32=0,\"\",IF(OR(CU32<>0,CT32=1),CU32,\" -\"))","v":""},{"$f":"IF(C32=0,\"\",IF(OR(DF32<>0,DE32=1),DF32,\" -\"))","v":""},{"$f":"IF(C32=0,\"\",IF(OR(DQ32<>0,DP32=1),DQ32,\" -\"))","v":""},{"$f":"IF(C32=0,\"\",IF(OR(EB32<>0,EA32=1),EB32,\" -\"))","v":""},{"$f":"IF(C32=0,\"\",IF(OR(EM32<>0,EL32=1),EM32,\" -\"))","v":""},{"$f":"IF(C32=0,\"\",IF(OR(EX32<>0,EW32=1),EX32,\" -\"))","v":""},{"$f":"IF(C32=0,\"\",IF(OR(FI32<>0,FH32=1),FI32,\" -\"))","v":""},{"$f":"IF(C32=0,\"\",IF(OR(FT32<>0,FS32=1),FT32,\" -\"))","v":""},{"$f":"IF(C32=0,\"\",IF(OR(GE32<>0,GD32=1),GE32,\" -\"))","v":""},{"$f":"IF(C32=0,\"\",IF(OR(GP32<>0,GO32=1),GP32,\" -\"))","v":""},{"$f":"IF(C32=0,\"\",IF(OR(HA32<>0,GZ32=1),HA32,\" -\"))","v":""},{"$f":"IF(C32=0,\"\",IF(OR(HL32<>0,HK32=1),HL32,\" -\"))","v":""},{"$f":"IF(C32=0,\"\",IF(AJ32<>0,AJ32,\" -\"))","v":""},{"$f":"IF(C32=0,\"\",IF(OR(HW32<>0,HV32=1),HW32,\" -\"))","v":""},{"$f":"IF(C32=0,\"\",IF(OR(IH32<>0,IG32=1),IH32,\" -\"))","v":""},{"$f":"IF(C32=0,\"\",IF(AL32=1,\"DNF\",IF(AL32=2,\"DSQ\",IF(AM32<>1,\"~ \"&ROUND(SUM(H32:X32),3),ROUND(SUM(H32:X32),3)))))","v":""},null,null,{"$f":"IF(C32<>\"\",C32,\"\")","v":""},{"$f":"IF(AD32<>\"\",3,\"\")","v":""},null,null,{"$f":"IF(AD32<>\"\",(AF32/1000*AG32/1000)/2,\"\")","v":""},null,null,null,null,null,null,null,{"$f":"IF(C32=0,99999,IF(AL32>0,9999,SUM(H32:X32)-AN32))","v":99999},{"$f":"IF(C32=0,99999,IF(AL32=1,9999,SUM(Y32:Z32)))","v":99999},null,null,{"$f":"IF(C32<>\"\",C32,\"\")","v":""},null,null,null,null,null,null,null,null,{"$f":"IF($C32=\"\",\"\", IF(BB32=1,0,IF(AZ32<>0,500,AU32*$AE32/$AH32+AV32/$AH32*5+AW32/$AH32*25+AX32*50+AY32*50)))","v":""},null,{"$f":"IF(C32<>\"\",C32,\"\")","v":""},null,null,null,null,null,null,null,null,{"$f":"IF($C32=\"\",\"\", IF(BM32=1,0,IF(BK32<>0,500,BF32*$AE32/$AH32+BG32/$AH32*5+BH32/$AH32*25+BI32*50+BJ32*50)))","v":""},null,{"$f":"IF(C32<>\"\",C32,\"\")","v":""},null,null,null,null,null,null,null,null,{"$f":"IF($C32=\"\",\"\", IF(BX32=1,0,IF(BV32<>0,500,BQ32*$AE32/$AH32+BR32/$AH32*5+BS32/$AH32*25+BT32*50+BU32*50)))","v":""},null,{"$f":"IF(C32<>\"\",C32,\"\")","v":""},null,null,null,null,null,null,null,null,{"$f":"IF($C32=\"\",\"\", IF(CI32=1,0,IF(CG32<>0,500,CB32*$AE32/$AH32+CC32/$AH32*5+CD32/$AH32*25+CE32*50+CF32*50)))","v":""},null,{"$f":"IF(C32<>\"\",C32,\"\")","v":""},null,null,null,null,null,null,null,null,{"$f":"IF($C32=\"\",\"\", IF(CT32=1,0,IF(CR32<>0,500,CM32*$AE32/$AH32+CN32/$AH32*5+CO32/$AH32*25+CP32*50+CQ32*50)))","v":""},null,{"$f":"IF(C32<>\"\",C32,\"\")","v":""},null,null,null,null,null,null,null,null,{"$f":"IF($C32=\"\",\"\", IF(DE32=1,0,IF(DC32<>0,500,CX32*$AE32/$AH32+CY32/$AH32*5+CZ32/$AH32*25+DA32*50+DB32*50)))","v":""},null,{"$f":"IF(C32<>\"\",C32,\"\")","v":""},null,null,null,null,null,null,null,null,{"$f":"IF($C32=\"\",\"\", IF(DP32=1,0,IF(DN32<>0,500,DI32*$AE32/$AH32+DJ32/$AH32*5+DK32/$AH32*25+DL32*50+DM32*50)))","v":""},null,{"$f":"IF(C32<>\"\",C32,\"\")","v":""},null,null,null,null,null,null,null,null,{"$f":"IF($C32=\"\",\"\", IF(EA32=1,0,IF(DY32<>0,500,DT32*$AE32/$AH32+DU32/$AH32*5+DV32/$AH32*25+DW32*50+DX32*50)))","v":""},null,{"$f":"IF(C32<>\"\",C32,\"\")","v":""},null,null,null,null,null,null,null,null,{"$f":"IF($C32=\"\",\"\", IF(EL32=1,0,IF(EJ32<>0,500,EE32*$AE32/$AH32+EF32/$AH32*5+EG32/$AH32*25+EH32*50+EI32*50)))","v":""},null,{"$f":"IF(C32<>\"\",C32,\"\")","v":""},null,null,null,null,null,null,null,null,{"$f":"IF($C32=\"\",\"\", IF(EW32=1,0,IF(EU32<>0,500,EP32*$AE32/$AH32+EQ32/$AH32*5+ER32/$AH32*25+ES32*50+ET32*50)))","v":""},null,{"$f":"IF(C32<>\"\",C32,\"\")","v":""},null,null,null,null,null,null,null,null,{"$f":"IF($C32=\"\",\"\", IF(FH32=1,0,IF(FF32<>0,500,FA32*$AE32/$AH32+FB32/$AH32*5+FC32/$AH32*25+FD32*50+FE32*50)))","v":""},null,{"$f":"IF(C32<>\"\",C32,\"\")","v":""},null,null,null,null,null,null,null,null,{"$f":"IF($C32=\"\",\"\", IF(FS32=1,0,IF(FQ32<>0,500,FL32*$AE32/$AH32+FM32/$AH32*5+FN32/$AH32*25+FO32*50+FP32*50)))","v":""},null,{"$f":"IF(C32<>\"\",C32,\"\")","v":""},null,null,null,null,null,null,null,null,{"$f":"IF($C32=\"\",\"\", IF(GD32=1,0,IF(GB32<>0,500,FW32*$AE32/$AH32+FX32/$AH32*5+FY32/$AH32*25+FZ32*50+GA32*50)))","v":""},null,{"$f":"IF(C32<>\"\",C32,\"\")","v":""},null,null,null,null,null,null,null,null,{"$f":"IF($C32=\"\",\"\", IF(GO32=1,0,IF(GM32<>0,500,GH32*$AE32/$AH32+GI32/$AH32*5+GJ32/$AH32*25+GK32*50+GL32*50)))","v":""},null,{"$f":"IF(C32<>\"\",C32,\"\")","v":""},null,null,null,null,null,null,null,null,{"$f":"IF($C32=\"\",\"\", IF(GZ32=1,0,IF(GX32<>0,500,GS32*$AE32/$AH32+GT32/$AH32*5+GU32/$AH32*25+GV32*50+GW32*50)))","v":""},null,{"$f":"IF(C32<>\"\",C32,\"\")","v":""},null,null,null,null,null,null,null,null,{"$f":"IF($C32=\"\",\"\", IF(HK32=1,0,IF(HI32<>0,500,HD32*$AE32/$AH32+HE32/$AH32*5+HF32/$AH32*25+HG32*50+HH32*50)))","v":""},null,{"$f":"IF(C32<>\"\",C32,\"\")","v":""},null,null,null,null,null,null,null,null,{"$f":"IF($C32=\"\",\"\", IF(HV32=1,0,IF(HT32<>0,500,HO32*$AE32/$AH32+HP32/$AH32*5+HQ32/$AH32*25+HR32*50+HS32*50)))","v":""},null,{"$f":"IF(C32<>\"\",C32,\"\")","v":""},null,null,null,null,null,null,null,null,{"$f":"IF($C32=\"\",\"\", IF(IG32=1,0,IF(IE32<>0,500,HZ32*$AE32/$AH32+IA32/$AH32*5+IB32/$AH32*25+IC32*50+ID32*50)))","v":""}]
[null,{"$f":"IF(C33=0,\"\",ROW(C33)-4)","v":""},null,null,null,null,null,{"$f":"IF(C33=0,\"\",IF(OR(BB33=1,BC33<>0),BC33,\"-\"))","v":""},{"$f":"IF(C33=0,\"\",IF(OR(BM33=1,BN33<>0),BN33,\"-\"))","v":""},{"$f":"IF(C33=0,\"\",IF(OR(BX33=1,BY33<>0),BY33,\" -\"))","v":""},{"$f":"IF(C33=0,\"\",IF(OR(CJ33<>0,CI33=1),CJ33,\" -\"))","v":""},{"$f":"IF(C33=0,\"\",IF(OR(CU33<>0,CT33=1),CU33,\" -\"))","v":""},{"$f":"IF(C33=0,\"\",IF(OR(DF33<>0,DE33=1),DF33,\" -\"))","v":""},{"$f":"IF(C33=0,\"\",IF(OR(DQ33<>0,DP33=1),DQ33,\" -\"))","v":""},{"$f":"IF(C33=0,\"\",IF(OR(EB33<>0,EA33=1),EB33,\" -\"))","v":""},{"$f":"IF(C33=0,\"\",IF(OR(EM33<>0,EL33=1),EM33,\" -\"))","v":""},{"$f":"IF(C33=0,\"\",IF(OR(EX33<>0,EW33=1),EX33,\" -\"))","v":""},{"$f":"IF(C33=0,\"\",IF(OR(FI33<>0,FH33=1),FI33,\" -\"))","v":""},{"$f":"IF(C33=0,\"\",IF(OR(FT33<>0,FS33=1),FT33,\" -\"))","v":""},{"$f":"IF(C33=0,\"\",IF(OR(GE33<>0,GD33=1),GE33,\" -\"))","v":""},{"$f":"IF(C33=0,\"\",IF(OR(GP33<>0,GO33=1),GP33,\" -\"))","v":""},{"$f":"IF(C33=0,\"\",IF(OR(HA33<>0,GZ33=1),HA33,\" -\"))","v":""},{"$f":"IF(C33=0,\"\",IF(OR(HL33<>0,HK33=1),HL33,\" -\"))","v":""},{"$f":"IF(C33=0,\"\",IF(AJ33<>0,AJ33,\" -\"))","v":""},{"$f":"IF(C33=0,\"\",IF(OR(HW33<>0,HV33=1),HW33,\" -\"))","v":""},{"$f":"IF(C33=0,\"\",IF(OR(IH33<>0,IG33=1),IH33,\" -\"))","v":""},{"$f":"IF(C33=0,\"\",IF(AL33=1,\"DNF\",IF(AL33=2,\"DSQ\",IF(AM33<>1,\"~ \"&ROUND(SUM(H33:X33),3),ROUND(SUM(H33:X33),3)))))","v":""},null,null,{"$f":"IF(C33<>\"\",C33,\"\")","v":""},{"$f":"IF(AD33<>\"\",3,\"\")","v":""},null,null,{"$f":"IF(AD33<>\"\",(AF33/1000*AG33/1000)/2,\"\")","v":""},null,null,null,null,null,null,null,{"$f":"IF(C33=0,99999,IF(AL33>0,9999,SUM(H33:X33)-AN33))","v":99999},{"$f":"IF(C33=0,99999,IF(AL33=1,9999,SUM(Y33:Z33)))","v":99999},null,null,{"$f":"IF(C33<>\"\",C33,\"\")","v":""},null,null,null,null,null,null,null,null,{"$f":"IF($C33=\"\",\"\", IF(BB33=1,0,IF(AZ33<>0,500,AU33*$AE33/$AH33+AV33/$AH33*5+AW33/$AH33*25+AX33*50+AY33*50)))","v":""},null,{"$f":"IF(C33<>\"\",C33,\"\")","v":""},null,null,null,null,null,null,null,null,{"$f":"IF($C33=\"\",\"\", IF(BM33=1,0,IF(BK33<>0,500,BF33*$AE33/$AH33+BG33/$AH33*5+BH33/$AH33*25+BI33*50+BJ33*50)))","v":""},null,{"$f":"IF(C33<>\"\",C33,\"\")","v":""},null,null,null,null,null,null,null,null,{"$f":"IF($C33=\"\",\"\", IF(BX33=1,0,IF(BV33<>0,500,BQ33*$AE33/$AH33+BR33/$AH33*5+BS33/$AH33*25+BT33*50+BU33*50)))","v":""},null,{"$f":"IF(C33<>\"\",C33,\"\")","v":""},null,null,null,null,null,null,null,null,{"$f":"IF($C33=\"\",\"\", IF(CI33=1,0,IF(CG33<>0,500,CB33*$AE33/$AH33+CC33/$AH33*5+CD33/$AH33*25+CE33*50+CF33*50)))","v":""},null,{"$f":"IF(C33<>\"\",C33,\"\")","v":""},null,null,null,null,null,null,null,null,{"$f":"IF($C33=\"\",\"\", IF(CT33=1,0,IF(CR33<>0,500,CM33*$AE33/$AH33+CN33/$AH33*5+CO33/$AH33*25+CP33*50+CQ33*50)))","v":""},null,{"$f":"IF(C33<>\"\",C33,\"\")","v":""},null,null,null,null,null,null,null,null,{"$f":"IF($C33=\"\",\"\", IF(DE33=1,0,IF(DC33<>0,500,CX33*$AE33/$AH33+CY33/$AH33*5+CZ33/$AH33*25+DA33*50+DB33*50)))","v":""},null,{"$f":"IF(C33<>\"\",C33,\"\")","v":""},null,null,null,null,null,null,null,null,{"$f":"IF($C33=\"\",\"\", IF(DP33=1,0,IF(DN33<>0,500,DI33*$AE33/$AH33+DJ33/$AH33*5+DK33/$AH33*25+DL33*50+DM33*50)))","v":""},null,{"$f":"IF(C33<>\"\",C33,\"\")","v":""},null,null,null,null,null,null,null,null,{"$f":"IF($C33=\"\",\"\", IF(EA33=1,0,IF(DY33<>0,500,DT33*$AE33/$AH33+DU33/$AH33*5+DV33/$AH33*25+DW33*50+DX33*50)))","v":""},null,{"$f":"IF(C33<>\"\",C33,\"\")","v":""},null,null,null,null,null,null,null,null,{"$f":"IF($C33=\"\",\"\", IF(EL33=1,0,IF(EJ33<>0,500,EE33*$AE33/$AH33+EF33/$AH33*5+EG33/$AH33*25+EH33*50+EI33*50)))","v":""},null,{"$f":"IF(C33<>\"\",C33,\"\")","v":""},null,null,null,null,null,null,null,null,{"$f":"IF($C33=\"\",\"\", IF(EW33=1,0,IF(EU33<>0,500,EP33*$AE33/$AH33+EQ33/$AH33*5+ER33/$AH33*25+ES33*50+ET33*50)))","v":""},null,{"$f":"IF(C33<>\"\",C33,\"\")","v":""},null,null,null,null,null,null,null,null,{"$f":"IF($C33=\"\",\"\", IF(FH33=1,0,IF(FF33<>0,500,FA33*$AE33/$AH33+FB33/$AH33*5+FC33/$AH33*25+FD33*50+FE33*50)))","v":""},null,{"$f":"IF(C33<>\"\",C33,\"\")","v":""},null,null,null,null,null,null,null,null,{"$f":"IF($C33=\"\",\"\", IF(FS33=1,0,IF(FQ33<>0,500,FL33*$AE33/$AH33+FM33/$AH33*5+FN33/$AH33*25+FO33*50+FP33*50)))","v":""},null,{"$f":"IF(C33<>\"\",C33,\"\")","v":""},null,null,null,null,null,null,null,null,{"$f":"IF($C33=\"\",\"\", IF(GD33=1,0,IF(GB33<>0,500,FW33*$AE33/$AH33+FX33/$AH33*5+FY33/$AH33*25+FZ33*50+GA33*50)))","v":""},null,{"$f":"IF(C33<>\"\",C33,\"\")","v":""},null,null,null,null,null,null,null,null,{"$f":"IF($C33=\"\",\"\", IF(GO33=1,0,IF(GM33<>0,500,GH33*$AE33/$AH33+GI33/$AH33*5+GJ33/$AH33*25+GK33*50+GL33*50)))","v":""},null,{"$f":"IF(C33<>\"\",C33,\"\")","v":""},null,null,null,null,null,null,null,null,{"$f":"IF($C33=\"\",\"\", IF(GZ33=1,0,IF(GX33<>0,500,GS33*$AE33/$AH33+GT33/$AH33*5+GU33/$AH33*25+GV33*50+GW33*50)))","v":""},null,{"$f":"IF(C33<>\"\",C33,\"\")","v":""},null,null,null,null,null,null,null,null,{"$f":"IF($C33=\"\",\"\", IF(HK33=1,0,IF(HI33<>0,500,HD33*$AE33/$AH33+HE33/$AH33*5+HF33/$AH33*25+HG33*50+HH33*50)))","v":""},null,{"$f":"IF(C33<>\"\",C33,\"\")","v":""},null,null,null,null,null,null,null,null,{"$f":"IF($C33=\"\",\"\", IF(HV33=1,0,IF(HT33<>0,500,HO33*$AE33/$AH33+HP33/$AH33*5+HQ33/$AH33*25+HR33*50+HS33*50)))","v":""},null,{"$f":"IF(C33<>\"\",C33,\"\")","v":""},null,null,null,null,null,null,null,null,{"$f":"IF($C33=\"\",\"\", IF(IG33=1,0,IF(IE33<>0,500,HZ33*$AE33/$AH33+IA33/$AH33*5+IB33/$AH33*25+IC33*50+ID33*50)))","v":""}]
[null,{"$f":"IF(C34=0,\"\",ROW(C34)-4)","v":""},null,null,null,null,null,{"$f":"IF(C34=0,\"\",IF(OR(BB34=1,BC34<>0),BC34,\"-\"))","v":""},{"$f":"IF(C34=0,\"\",IF(OR(BM34=1,BN34<>0),BN34,\"-\"))","v":""},{"$f":"IF(C34=0,\"\",IF(OR(BX34=1,BY34<>0),BY34,\" -\"))","v":""},{"$f":"IF(C34=0,\"\",IF(OR(CJ34<>0,CI34=1),CJ34,\" -\"))","v":""},{"$f":"IF(C34=0,\"\",IF(OR(CU34<>0,CT34=1),CU34,\" -\"))","v":""},{"$f":"IF(C34=0,\"\",IF(OR(DF34<>0,DE34=1),DF34,\" -\"))","v":""},{"$f":"IF(C34=0,\"\",IF(OR(DQ34<>0,DP34=1),DQ34,\" -\"))","v":""},{"$f":"IF(C34=0,\"\",IF(OR(EB34<>0,EA34=1),EB34,\" -\"))","v":""},{"$f":"IF(C34=0,\"\",IF(OR(EM34<>0,EL34=1),EM34,\" -\"))","v":""},{"$f":"IF(C34=0,\"\",IF(OR(EX34<>0,EW34=1),EX34,\" -\"))","v":""},{"$f":"IF(C34=0,\"\",IF(OR(FI34<>0,FH34=1),FI34,\" -\"))","v":""},{"$f":"IF(C34=0,\"\",IF(OR(FT34<>0,FS34=1),FT34,\" -\"))","v":""},{"$f":"IF(C34=0,\"\",IF(OR(GE34<>0,GD34=1),GE34,\" -\"))","v":""},{"$f":"IF(C34=0,\"\",IF(OR(GP34<>0,GO34=1),GP34,\" -\"))","v":""},{"$f":"IF(C34=0,\"\",IF(OR(HA34<>0,GZ34=1),HA34,\" -\"))","v":""},{"$f":"IF(C34=0,\"\",IF(OR(HL34<>0,HK34=1),HL34,\" -\"))","v":""},{"$f":"IF(C34=0,\"\",IF(AJ34<>0,AJ34,\" -\"))","v":""},{"$f":"IF(C34=0,\"\",IF(OR(HW34<>0,HV34=1),HW34,\" -\"))","v":""},{"$f":"IF(C34=0,\"\",IF(OR(IH34<>0,IG34=1),IH34,\" -\"))","v":""},{"$f":"IF(C34=0,\"\",IF(AL34=1,\"DNF\",IF(AL34=2,\"DSQ\",IF(AM34<>1,\"~ \"&ROUND(SUM(H34:X34),3),ROUND(SUM(H34:X34),3)))))","v":""},null,null,{"$f":"IF(C34<>\"\",C34,\"\")","v":""},{"$f":"IF(AD34<>\"\",3,\"\")","v":""},null,null,{"$f":"IF(AD34<>\"\",(AF34/1000*AG34/1000)/2,\"\")","v":""},null,null,null,null,null,null,null,{"$f":"IF(C34=0,99999,IF(AL34>0,9999,SUM(H34:X34)-AN34))","v":99999},{"$f":"IF(C34=0,99999,IF(AL34=1,9999,SUM(Y34:Z34)))","v":99999},null,null,{"$f":"IF(C34<>\"\",C34,\"\")","v":""},null,null,null,null,null,null,null,null,{"$f":"IF($C34=\"\",\"\", IF(BB34=1,0,IF(AZ34<>0,500,AU34*$AE34/$AH34+AV34/$AH34*5+AW34/$AH34*25+AX34*50+AY34*50)))","v":""},null,{"$f":"IF(C34<>\"\",C34,\"\")","v":""},null,null,null,null,null,null,null,null,{"$f":"IF($C34=\"\",\"\", IF(BM34=1,0,IF(BK34<>0,500,BF34*$AE34/$AH34+BG34/$AH34*5+BH34/$AH34*25+BI34*50+BJ34*50)))","v":""},null,{"$f":"IF(C34<>\"\",C34,\"\")","v":""},null,null,null,null,null,null,null,null,{"$f":"IF($C34=\"\",\"\", IF(BX34=1,0,IF(BV34<>0,500,BQ34*$AE34/$AH34+BR34/$AH34*5+BS34/$AH34*25+BT34*50+BU34*50)))","v":""},null,{"$f":"IF(C34<>\"\",C34,\"\")","v":""},null,null,null,null,null,null,null,null,{"$f":"IF($C34=\"\",\"\", IF(CI34=1,0,IF(CG34<>0,500,CB34*$AE34/$AH34+CC34/$AH34*5+CD34/$AH34*25+CE34*50+CF34*50)))","v":""},null,{"$f":"IF(C34<>\"\",C34,\"\")","v":""},null,null,null,null,null,null,null,null,{"$f":"IF($C34=\"\",\"\", IF(CT34=1,0,IF(CR34<>0,500,CM34*$AE34/$AH34+CN34/$AH34*5+CO34/$AH34*25+CP34*50+CQ34*50)))","v":""},null,{"$f":"IF(C34<>\"\",C34,\"\")","v":""},null,null,null,null,null,null,null,null,{"$f":"IF($C34=\"\",\"\", IF(DE34=1,0,IF(DC34<>0,500,CX34*$AE34/$AH34+CY34/$AH34*5+CZ34/$AH34*25+DA34*50+DB34*50)))","v":""},null,{"$f":"IF(C34<>\"\",C34,\"\")","v":""},null,null,null,null,null,null,null,null,{"$f":"IF($C34=\"\",\"\", IF(DP34=1,0,IF(DN34<>0,500,DI34*$AE34/$AH34+DJ34/$AH34*5+DK34/$AH34*25+DL34*50+DM34*50)))","v":""},null,{"$f":"IF(C34<>\"\",C34,\"\")","v":""},null,null,null,null,null,null,null,null,{"$f":"IF($C34=\"\",\"\", IF(EA34=1,0,IF(DY34<>0,500,DT34*$AE34/$AH34+DU34/$AH34*5+DV34/$AH34*25+DW34*50+DX34*50)))","v":""},null,{"$f":"IF(C34<>\"\",C34,\"\")","v":""},null,null,null,null,null,null,null,null,{"$f":"IF($C34=\"\",\"\", IF(EL34=1,0,IF(EJ34<>0,500,EE34*$AE34/$AH34+EF34/$AH34*5+EG34/$AH34*25+EH34*50+EI34*50)))","v":""},null,{"$f":"IF(C34<>\"\",C34,\"\")","v":""},null,null,null,null,null,null,null,null,{"$f":"IF($C34=\"\",\"\", IF(EW34=1,0,IF(EU34<>0,500,EP34*$AE34/$AH34+EQ34/$AH34*5+ER34/$AH34*25+ES34*50+ET34*50)))","v":""},null,{"$f":"IF(C34<>\"\",C34,\"\")","v":""},null,null,null,null,null,null,null,null,{"$f":"IF($C34=\"\",\"\", IF(FH34=1,0,IF(FF34<>0,500,FA34*$AE34/$AH34+FB34/$AH34*5+FC34/$AH34*25+FD34*50+FE34*50)))","v":""},null,{"$f":"IF(C34<>\"\",C34,\"\")","v":""},null,null,null,null,null,null,null,null,{"$f":"IF($C34=\"\",\"\", IF(FS34=1,0,IF(FQ34<>0,500,FL34*$AE34/$AH34+FM34/$AH34*5+FN34/$AH34*25+FO34*50+FP34*50)))","v":""},null,{"$f":"IF(C34<>\"\",C34,\"\")","v":""},null,null,null,null,null,null,null,null,{"$f":"IF($C34=\"\",\"\", IF(GD34=1,0,IF(GB34<>0,500,FW34*$AE34/$AH34+FX34/$AH34*5+FY34/$AH34*25+FZ34*50+GA34*50)))","v":""},null,{"$f":"IF(C34<>\"\",C34,\"\")","v":""},null,null,null,null,null,null,null,null,{"$f":"IF($C34=\"\",\"\", IF(GO34=1,0,IF(GM34<>0,500,GH34*$AE34/$AH34+GI34/$AH34*5+GJ34/$AH34*25+GK34*50+GL34*50)))","v":""},null,{"$f":"IF(C34<>\"\",C34,\"\")","v":""},null,null,null,null,null,null,null,null,{"$f":"IF($C34=\"\",\"\", IF(GZ34=1,0,IF(GX34<>0,500,GS34*$AE34/$AH34+GT34/$AH34*5+GU34/$AH34*25+GV34*50+GW34*50)))","v":""},null,{"$f":"IF(C34<>\"\",C34,\"\")","v":""},null,null,null,null,null,null,null,null,{"$f":"IF($C34=\"\",\"\", IF(HK34=1,0,IF(HI34<>0,500,HD34*$AE34/$AH34+HE34/$AH34*5+HF34/$AH34*25+HG34*50+HH34*50)))","v":""},null,{"$f":"IF(C34<>\"\",C34,\"\")","v":""},null,null,null,null,null,null,null,null,{"$f":"IF($C34=\"\",\"\", IF(HV34=1,0,IF(HT34<>0,500,HO34*$AE34/$AH34+HP34/$AH34*5+HQ34/$AH34*25+HR34*50+HS34*50)))","v":""},null,{"$f":"IF(C34<>\"\",C34,\"\")","v":""},null,null,null,null,null,null,null,null,{"$f":"IF($C34=\"\",\"\", IF(IG34=1,0,IF(IE34<>0,500,HZ34*$AE34/$AH34+IA34/$AH34*5+IB34/$AH34*25+IC34*50+ID34*50)))","v":""}]
[null,{"$f":"IF(C35=0,\"\",ROW(C35)-4)","v":""},null,null,null,null,null,{"$f":"IF(C35=0,\"\",IF(OR(BB35=1,BC35<>0),BC35,\"-\"))","v":""},{"$f":"IF(C35=0,\"\",IF(OR(BM35=1,BN35<>0),BN35,\"-\"))","v":""},{"$f":"IF(C35=0,\"\",IF(OR(BX35=1,BY35<>0),BY35,\" -\"))","v":""},{"$f":"IF(C35=0,\"\",IF(OR(CJ35<>0,CI35=1),CJ35,\" -\"))","v":""},{"$f":"IF(C35=0,\"\",IF(OR(CU35<>0,CT35=1),CU35,\" -\"))","v":""},{"$f":"IF(C35=0,\"\",IF(OR(DF35<>0,DE35=1),DF35,\" -\"))","v":""},{"$f":"IF(C35=0,\"\",IF(OR(DQ35<>0,DP35=1),DQ35,\" -\"))","v":""},{"$f":"IF(C35=0,\"\",IF(OR(EB35<>0,EA35=1),EB35,\" -\"))","v":""},{"$f":"IF(C35=0,\"\",IF(OR(EM35<>0,EL35=1),EM35,\" -\"))","v":""},{"$f":"IF(C35=0,\"\",IF(OR(EX35<>0,EW35=1),EX35,\" -\"))","v":""},{"$f":"IF(C35=0,\"\",IF(OR(FI35<>0,FH35=1),FI35,\" -\"))","v":""},{"$f":"IF(C35=0,\"\",IF(OR(FT35<>0,FS35=1),FT35,\" -\"))","v":""},{"$f":"IF(C35=0,\"\",IF(OR(GE35<>0,GD35=1),GE35,\" -\"))","v":""},{"$f":"IF(C35=0,\"\",IF(OR(GP35<>0,GO35=1),GP35,\" -\"))","v":""},{"$f":"IF(C35=0,\"\",IF(OR(HA35<>0,GZ35=1),HA35,\" -\"))","v":""},{"$f":"IF(C35=0,\"\",IF(OR(HL35<>0,HK35=1),HL35,\" -\"))","v":""},{"$f":"IF(C35=0,\"\",IF(AJ35<>0,AJ35,\" -\"))","v":""},{"$f":"IF(C35=0,\"\",IF(OR(HW35<>0,HV35=1),HW35,\" -\"))","v":""},{"$f":"IF(C35=0,\"\",IF(OR(IH35<>0,IG35=1),IH35,\" -\"))","v":""},{"$f":"IF(C35=0,\"\",IF(AL35=1,\"DNF\",IF(AL35=2,\"DSQ\",IF(AM35<>1,\"~ \"&ROUND(SUM(H35:X35),3),ROUND(SUM(H35:X35),3)))))","v":""},null,null,{"$f":"IF(C35<>\"\",C35,\"\")","v":""},{"$f":"IF(AD35<>\"\",3,\"\")","v":""},null,null,{"$f":"IF(AD35<>\"\",(AF35/1000*AG35/1000)/2,\"\")","v":""},null,null,null,null,null,null,null,{"$f":"IF(C35=0,99999,IF(AL35>0,9999,SUM(H35:X35)-AN35))","v":99999},{"$f":"IF(C35=0,99999,IF(AL35=1,9999,SUM(Y35:Z35)))","v":99999},null,null,{"$f":"IF(C35<>\"\",C35,\"\")","v":""},null,null,null,null,null,null,null,null,{"$f":"IF($C35=\"\",\"\", IF(BB35=1,0,IF(AZ35<>0,500,AU35*$AE35/$AH35+AV35/$AH35*5+AW35/$AH35*25+AX35*50+AY35*50)))","v":""},null,{"$f":"IF(C35<>\"\",C35,\"\")","v":""},null,null,null,null,null,null,null,null,{"$f":"IF($C35=\"\",\"\", IF(BM35=1,0,IF(BK35<>0,500,BF35*$AE35/$AH35+BG35/$AH35*5+BH35/$AH35*25+BI35*50+BJ35*50)))","v":""},null,{"$f":"IF(C35<>\"\",C35,\"\")","v":""},null,null,null,null,null,null,null,null,{"$f":"IF($C35=\"\",\"\", IF(BX35=1,0,IF(BV35<>0,500,BQ35*$AE35/$AH35+BR35/$AH35*5+BS35/$AH35*25+BT35*50+BU35*50)))","v":""},null,{"$f":"IF(C35<>\"\",C35,\"\")","v":""},null,null,null,null,null,null,null,null,{"$f":"IF($C35=\"\",\"\", IF(CI35=1,0,IF(CG35<>0,500,CB35*$AE35/$AH35+CC35/$AH35*5+CD35/$AH35*25+CE35*50+CF35*50)))","v":""},null,{"$f":"IF(C35<>\"\",C35,\"\")","v":""},null,null,null,null,null,null,null,null,{"$f":"IF($C35=\"\",\"\", IF(CT35=1,0,IF(CR35<>0,500,CM35*$AE35/$AH35+CN35/$AH35*5+CO35/$AH35*25+CP35*50+CQ35*50)))","v":""},null,{"$f":"IF(C35<>\"\",C35,\"\")","v":""},null,null,null,null,null,null,null,null,{"$f":"IF($C35=\"\",\"\", IF(DE35=1,0,IF(DC35<>0,500,CX35*$AE35/$AH35+CY35/$AH35*5+CZ35/$AH35*25+DA35*50+DB35*50)))","v":""},null,{"$f":"IF(C35<>\"\",C35,\"\")","v":""},null,null,null,null,null,null,null,null,{"$f":"IF($C35=\"\",\"\", IF(DP35=1,0,IF(DN35<>0,500,DI35*$AE35/$AH35+DJ35/$AH35*5+DK35/$AH35*25+DL35*50+DM35*50)))","v":""},null,{"$f":"IF(C35<>\"\",C35,\"\")","v":""},null,null,null,null,null,null,null,null,{"$f":"IF($C35=\"\",\"\", IF(EA35=1,0,IF(DY35<>0,500,DT35*$AE35/$AH35+DU35/$AH35*5+DV35/$AH35*25+DW35*50+DX35*50)))","v":""},null,{"$f":"IF(C35<>\"\",C35,\"\")","v":""},null,null,null,null,null,null,null,null,{"$f":"IF($C35=\"\",\"\", IF(EL35=1,0,IF(EJ35<>0,500,EE35*$AE35/$AH35+EF35/$AH35*5+EG35/$AH35*25+EH35*50+EI35*50)))","v":""},null,{"$f":"IF(C35<>\"\",C35,\"\")","v":""},null,null,null,null,null,null,null,null,{"$f":"IF($C35=\"\",\"\", IF(EW35=1,0,IF(EU35<>0,500,EP35*$AE35/$AH35+EQ35/$AH35*5+ER35/$AH35*25+ES35*50+ET35*50)))","v":""},null,{"$f":"IF(C35<>\"\",C35,\"\")","v":""},null,null,null,null,null,null,null,null,{"$f":"IF($C35=\"\",\"\", IF(FH35=1,0,IF(FF35<>0,500,FA35*$AE35/$AH35+FB35/$AH35*5+FC35/$AH35*25+FD35*50+FE35*50)))","v":""},null,{"$f":"IF(C35<>\"\",C35,\"\")","v":""},null,null,null,null,null,null,null,null,{"$f":"IF($C35=\"\",\"\", IF(FS35=1,0,IF(FQ35<>0,500,FL35*$AE35/$AH35+FM35/$AH35*5+FN35/$AH35*25+FO35*50+FP35*50)))","v":""},null,{"$f":"IF(C35<>\"\",C35,\"\")","v":""},null,null,null,null,null,null,null,null,{"$f":"IF($C35=\"\",\"\", IF(GD35=1,0,IF(GB35<>0,500,FW35*$AE35/$AH35+FX35/$AH35*5+FY35/$AH35*25+FZ35*50+GA35*50)))","v":""},null,{"$f":"IF(C35<>\"\",C35,\"\")","v":""},null,null,null,null,null,null,null,null,{"$f":"IF($C35=\"\",\"\", IF(GO35=1,0,IF(GM35<>0,500,GH35*$AE35/$AH35+GI35/$AH35*5+GJ35/$AH35*25+GK35*50+GL35*50)))","v":""},null,{"$f":"IF(C35<>\"\",C35,\"\")","v":""},null,null,null,null,null,null,null,null,{"$f":"IF($C35=\"\",\"\", IF(GZ35=1,0,IF(GX35<>0,500,GS35*$AE35/$AH35+GT35/$AH35*5+GU35/$AH35*25+GV35*50+GW35*50)))","v":""},null,{"$f":"IF(C35<>\"\",C35,\"\")","v":""},null,null,null,null,null,null,null,null,{"$f":"IF($C35=\"\",\"\", IF(HK35=1,0,IF(HI35<>0,500,HD35*$AE35/$AH35+HE35/$AH35*5+HF35/$AH35*25+HG35*50+HH35*50)))","v":""},null,{"$f":"IF(C35<>\"\",C35,\"\")","v":""},null,null,null,null,null,null,null,null,{"$f":"IF($C35=\"\",\"\", IF(HV35=1,0,IF(HT35<>0,500,HO35*$AE35/$AH35+HP35/$AH35*5+HQ35/$AH35*25+HR35*50+HS35*50)))","v":""},null,{"$f":"IF(C35<>\"\",C35,\"\")","v":""},null,null,null,null,null,null,null,null,{"$f":"IF($C35=\"\",\"\", IF(IG35=1,0,IF(IE35<>0,500,HZ35*$AE35/$AH35+IA35/$AH35*5+IB35/$AH35*25+IC35*50+ID35*50)))","v":""}]
[null,{"$f":"IF(C36=0,\"\",ROW(C36)-4)","v":""},null,null,null,null,null,{"$f":"IF(C36=0,\"\",IF(OR(BB36=1,BC36<>0),BC36,\"-\"))","v":""},{"$f":"IF(C36=0,\"\",IF(OR(BM36=1,BN36<>0),BN36,\"-\"))","v":""},{"$f":"IF(C36=0,\"\",IF(OR(BX36=1,BY36<>0),BY36,\" -\"))","v":""},{"$f":"IF(C36=0,\"\",IF(OR(CJ36<>0,CI36=1),CJ36,\" -\"))","v":""},{"$f":"IF(C36=0,\"\",IF(OR(CU36<>0,CT36=1),CU36,\" -\"))","v":""},{"$f":"IF(C36=0,\"\",IF(OR(DF36<>0,DE36=1),DF36,\" -\"))","v":""},{"$f":"IF(C36=0,\"\",IF(OR(DQ36<>0,DP36=1),DQ36,\" -\"))","v":""},{"$f":"IF(C36=0,\"\",IF(OR(EB36<>0,EA36=1),EB36,\" -\"))","v":""},{"$f":"IF(C36=0,\"\",IF(OR(EM36<>0,EL36=1),EM36,\" -\"))","v":""},{"$f":"IF(C36=0,\"\",IF(OR(EX36<>0,EW36=1),EX36,\" -\"))","v":""},{"$f":"IF(C36=0,\"\",IF(OR(FI36<>0,FH36=1),FI36,\" -\"))","v":""},{"$f":"IF(C36=0,\"\",IF(OR(FT36<>0,FS36=1),FT36,\" -\"))","v":""},{"$f":"IF(C36=0,\"\",IF(OR(GE36<>0,GD36=1),GE36,\" -\"))","v":""},{"$f":"IF(C36=0,\"\",IF(OR(GP36<>0,GO36=1),GP36,\" -\"))","v":""},{"$f":"IF(C36=0,\"\",IF(OR(HA36<>0,GZ36=1),HA36,\" -\"))","v":""},{"$f":"IF(C36=0,\"\",IF(OR(HL36<>0,HK36=1),HL36,\" -\"))","v":""},{"$f":"IF(C36=0,\"\",IF(AJ36<>0,AJ36,\" -\"))","v":""},{"$f":"IF(C36=0,\"\",IF(OR(HW36<>0,HV36=1),HW36,\" -\"))","v":""},{"$f":"IF(C36=0,\"\",IF(OR(IH36<>0,IG36=1),IH36,\" -\"))","v":""},{"$f":"IF(C36=0,\"\",IF(AL36=1,\"DNF\",IF(AL36=2,\"DSQ\",IF(AM36<>1,\"~ \"&ROUND(SUM(H36:X36),3),ROUND(SUM(H36:X36),3)))))","v":""},null,null,{"$f":"IF(C36<>\"\",C36,\"\")","v":""},{"$f":"IF(AD36<>\"\",3,\"\")","v":""},null,null,{"$f":"IF(AD36<>\"\",(AF36/1000*AG36/1000)/2,\"\")","v":""},null,null,null,null,null,null,null,{"$f":"IF(C36=0,99999,IF(AL36>0,9999,SUM(H36:X36)-AN36))","v":99999},{"$f":"IF(C36=0,99999,IF(AL36=1,9999,SUM(Y36:Z36)))","v":99999},null,null,{"$f":"IF(C36<>\"\",C36,\"\")","v":""},null,null,null,null,null,null,null,null,{"$f":"IF($C36=\"\",\"\", IF(BB36=1,0,IF(AZ36<>0,500,AU36*$AE36/$AH36+AV36/$AH36*5+AW36/$AH36*25+AX36*50+AY36*50)))","v":""},null,{"$f":"IF(C36<>\"\",C36,\"\")","v":""},null,null,null,null,null,null,null,null,{"$f":"IF($C36=\"\",\"\", IF(BM36=1,0,IF(BK36<>0,500,BF36*$AE36/$AH36+BG36/$AH36*5+BH36/$AH36*25+BI36*50+BJ36*50)))","v":""},null,{"$f":"IF(C36<>\"\",C36,\"\")","v":""},null,null,null,null,null,null,null,null,{"$f":"IF($C36=\"\",\"\", IF(BX36=1,0,IF(BV36<>0,500,BQ36*$AE36/$AH36+BR36/$AH36*5+BS36/$AH36*25+BT36*50+BU36*50)))","v":""},null,{"$f":"IF(C36<>\"\",C36,\"\")","v":""},null,null,null,null,null,null,null,null,{"$f":"IF($C36=\"\",\"\", IF(CI36=1,0,IF(CG36<>0,500,CB36*$AE36/$AH36+CC36/$AH36*5+CD36/$AH36*25+CE36*50+CF36*50)))","v":""},null,{"$f":"IF(C36<>\"\",C36,\"\")","v":""},null,null,null,null,null,null,null,null,{"$f":"IF($C36=\"\",\"\", IF(CT36=1,0,IF(CR36<>0,500,CM36*$AE36/$AH36+CN36/$AH36*5+CO36/$AH36*25+CP36*50+CQ36*50)))","v":""},null,{"$f":"IF(C36<>\"\",C36,\"\")","v":""},null,null,null,null,null,null,null,null,{"$f":"IF($C36=\"\",\"\", IF(DE36=1,0,IF(DC36<>0,500,CX36*$AE36/$AH36+CY36/$AH36*5+CZ36/$AH36*25+DA36*50+DB36*50)))","v":""},null,{"$f":"IF(C36<>\"\",C36,\"\")","v":""},null,null,null,null,null,null,null,null,{"$f":"IF($C36=\"\",\"\", IF(DP36=1,0,IF(DN36<>0,500,DI36*$AE36/$AH36+DJ36/$AH36*5+DK36/$AH36*25+DL36*50+DM36*50)))","v":""},null,{"$f":"IF(C36<>\"\",C36,\"\")","v":""},null,null,null,null,null,null,null,null,{"$f":"IF($C36=\"\",\"\", IF(EA36=1,0,IF(DY36<>0,500,DT36*$AE36/$AH36+DU36/$AH36*5+DV36/$AH36*25+DW36*50+DX36*50)))","v":""},null,{"$f":"IF(C36<>\"\",C36,\"\")","v":""},null,null,null,null,null,null,null,null,{"$f":"IF($C36=\"\",\"\", IF(EL36=1,0,IF(EJ36<>0,500,EE36*$AE36/$AH36+EF36/$AH36*5+EG36/$AH36*25+EH36*50+EI36*50)))","v":""},null,{"$f":"IF(C36<>\"\",C36,\"\")","v":""},null,null,null,null,null,null,null,null,{"$f":"IF($C36=\"\",\"\", IF(EW36=1,0,IF(EU36<>0,500,EP36*$AE36/$AH36+EQ36/$AH36*5+ER36/$AH36*25+ES36*50+ET36*50)))","v":""},null,{"$f":"IF(C36<>\"\",C36,\"\")","v":""},null,null,null,null,null,null,null,null,{"$f":"IF($C36=\"\",\"\", IF(FH36=1,0,IF(FF36<>0,500,FA36*$AE36/$AH36+FB36/$AH36*5+FC36/$AH36*25+FD36*50+FE36*50)))","v":""},null,{"$f":"IF(C36<>\"\",C36,\"\")","v":""},null,null,null,null,null,null,null,null,{"$f":"IF($C36=\"\",\"\", IF(FS36=1,0,IF(FQ36<>0,500,FL36*$AE36/$AH36+FM36/$AH36*5+FN36/$AH36*25+FO36*50+FP36*50)))","v":""},null,{"$f":"IF(C36<>\"\",C36,\"\")","v":""},null,null,null,null,null,null,null,null,{"$f":"IF($C36=\"\",\"\", IF(GD36=1,0,IF(GB36<>0,500,FW36*$AE36/$AH36+FX36/$AH36*5+FY36/$AH36*25+FZ36*50+GA36*50)))","v":""},null,{"$f":"IF(C36<>\"\",C36,\"\")","v":""},null,null,null,null,null,null,null,null,{"$f":"IF($C36=\"\",\"\", IF(GO36=1,0,IF(GM36<>0,500,GH36*$AE36/$AH36+GI36/$AH36*5+GJ36/$AH36*25+GK36*50+GL36*50)))","v":""},null,{"$f":"IF(C36<>\"\",C36,\"\")","v":""},null,null,null,null,null,null,null,null,{"$f":"IF($C36=\"\",\"\", IF(GZ36=1,0,IF(GX36<>0,500,GS36*$AE36/$AH36+GT36/$AH36*5+GU36/$AH36*25+GV36*50+GW36*50)))","v":""},null,{"$f":"IF(C36<>\"\",C36,\"\")","v":""},null,null,null,null,null,null,null,null,{"$f":"IF($C36=\"\",\"\", IF(HK36=1,0,IF(HI36<>0,500,HD36*$AE36/$AH36+HE36/$AH36*5+HF36/$AH36*25+HG36*50+HH36*50)))","v":""},null,{"$f":"IF(C36<>\"\",C36,\"\")","v":""},null,null,null,null,null,null,null,null,{"$f":"IF($C36=\"\",\"\", IF(HV36=1,0,IF(HT36<>0,500,HO36*$AE36/$AH36+HP36/$AH36*5+HQ36/$AH36*25+HR36*50+HS36*50)))","v":""},null,{"$f":"IF(C36<>\"\",C36,\"\")","v":""},null,null,null,null,null,null,null,null,{"$f":"IF($C36=\"\",\"\", IF(IG36=1,0,IF(IE36<>0,500,HZ36*$AE36/$AH36+IA36/$AH36*5+IB36/$AH36*25+IC36*50+ID36*50)))","v":""}]
[null,{"$f":"IF(C37=0,\"\",ROW(C37)-4)","v":""},null,null,null,null,null,{"$f":"IF(C37=0,\"\",IF(OR(BB37=1,BC37<>0),BC37,\"-\"))","v":""},{"$f":"IF(C37=0,\"\",IF(OR(BM37=1,BN37<>0),BN37,\"-\"))","v":""},{"$f":"IF(C37=0,\"\",IF(OR(BX37=1,BY37<>0),BY37,\" -\"))","v":""},{"$f":"IF(C37=0,\"\",IF(OR(CJ37<>0,CI37=1),CJ37,\" -\"))","v":""},{"$f":"IF(C37=0,\"\",IF(OR(CU37<>0,CT37=1),CU37,\" -\"))","v":""},{"$f":"IF(C37=0,\"\",IF(OR(DF37<>0,DE37=1),DF37,\" -\"))","v":""},{"$f":"IF(C37=0,\"\",IF(OR(DQ37<>0,DP37=1),DQ37,\" -\"))","v":""},{"$f":"IF(C37=0,\"\",IF(OR(EB37<>0,EA37=1),EB37,\" -\"))","v":""},{"$f":"IF(C37=0,\"\",IF(OR(EM37<>0,EL37=1),EM37,\" -\"))","v":""},{"$f":"IF(C37=0,\"\",IF(OR(EX37<>0,EW37=1),EX37,\" -\"))","v":""},{"$f":"IF(C37=0,\"\",IF(OR(FI37<>0,FH37=1),FI37,\" -\"))","v":""},{"$f":"IF(C37=0,\"\",IF(OR(FT37<>0,FS37=1),FT37,\" -\"))","v":""},{"$f":"IF(C37=0,\"\",IF(OR(GE37<>0,GD37=1),GE37,\" -\"))","v":""},{"$f":"IF(C37=0,\"\",IF(OR(GP37<>0,GO37=1),GP37,\" -\"))","v":""},{"$f":"IF(C37=0,\"\",IF(OR(HA37<>0,GZ37=1),HA37,\" -\"))","v":""},{"$f":"IF(C37=0,\"\",IF(OR(HL37<>0,HK37=1),HL37,\" -\"))","v":""},{"$f":"IF(C37=0,\"\",IF(AJ37<>0,AJ37,\" -\"))","v":""},{"$f":"IF(C37=0,\"\",IF(OR(HW37<>0,HV37=1),HW37,\" -\"))","v":""},{"$f":"IF(C37=0,\"\",IF(OR(IH37<>0,IG37=1),IH37,\" -\"))","v":""},{"$f":"IF(C37=0,\"\",IF(AL37=1,\"DNF\",IF(AL37=2,\"DSQ\",IF(AM37<>1,\"~ \"&ROUND(SUM(H37:X37),3),ROUND(SUM(H37:X37),3)))))","v":""},null,null,{"$f":"IF(C37<>\"\",C37,\"\")","v":""},{"$f":"IF(AD37<>\"\",3,\"\")","v":""},null,null,{"$f":"IF(AD37<>\"\",(AF37/1000*AG37/1000)/2,\"\")","v":""},null,null,null,null,null,null,null,{"$f":"IF(C37=0,99999,IF(AL37>0,9999,SUM(H37:X37)-AN37))","v":99999},{"$f":"IF(C37=0,99999,IF(AL37=1,9999,SUM(Y37:Z37)))","v":99999},null,null,{"$f":"IF(C37<>\"\",C37,\"\")","v":""},null,null,null,null,null,null,null,null,{"$f":"IF($C37=\"\",\"\", IF(BB37=1,0,IF(AZ37<>0,500,AU37*$AE37/$AH37+AV37/$AH37*5+AW37/$AH37*25+AX37*50+AY37*50)))","v":""},null,{"$f":"IF(C37<>\"\",C37,\"\")","v":""},null,null,null,null,null,null,null,null,{"$f":"IF($C37=\"\",\"\", IF(BM37=1,0,IF(BK37<>0,500,BF37*$AE37/$AH37+BG37/$AH37*5+BH37/$AH37*25+BI37*50+BJ37*50)))","v":""},null,{"$f":"IF(C37<>\"\",C37,\"\")","v":""},null,null,null,null,null,null,null,null,{"$f":"IF($C37=\"\",\"\", IF(BX37=1,0,IF(BV37<>0,500,BQ37*$AE37/$AH37+BR37/$AH37*5+BS37/$AH37*25+BT37*50+BU37*50)))","v":""},null,{"$f":"IF(C37<>\"\",C37,\"\")","v":""},null,null,null,null,null,null,null,null,{"$f":"IF($C37=\"\",\"\", IF(CI37=1,0,IF(CG37<>0,500,CB37*$AE37/$AH37+CC37/$AH37*5+CD37/$AH37*25+CE37*50+CF37*50)))","v":""},null,{"$f":"IF(C37<>\"\",C37,\"\")","v":""},null,null,null,null,null,null,null,null,{"$f":"IF($C37=\"\",\"\", IF(CT37=1,0,IF(CR37<>0,500,CM37*$AE37/$AH37+CN37/$AH37*5+CO37/$AH37*25+CP37*50+CQ37*50)))","v":""},null,{"$f":"IF(C37<>\"\",C37,\"\")","v":""},null,null,null,null,null,null,null,null,{"$f":"IF($C37=\"\",\"\", IF(DE37=1,0,IF(DC37<>0,500,CX37*$AE37/$AH37+CY37/$AH37*5+CZ37/$AH37*25+DA37*50+DB37*50)))","v":""},null,{"$f":"IF(C37<>\"\",C37,\"\")","v":""},null,null,null,null,null,null,null,null,{"$f":"IF($C37=\"\",\"\", IF(DP37=1,0,IF(DN37<>0,500,DI37*$AE37/$AH37+DJ37/$AH37*5+DK37/$AH37*25+DL37*50+DM37*50)))","v":""},null,{"$f":"IF(C37<>\"\",C37,\"\")","v":""},null,null,null,null,null,null,null,null,{"$f":"IF($C37=\"\",\"\", IF(EA37=1,0,IF(DY37<>0,500,DT37*$AE37/$AH37+DU37/$AH37*5+DV37/$AH37*25+DW37*50+DX37*50)))","v":""},null,{"$f":"IF(C37<>\"\",C37,\"\")","v":""},null,null,null,null,null,null,null,null,{"$f":"IF($C37=\"\",\"\", IF(EL37=1,0,IF(EJ37<>0,500,EE37*$AE37/$AH37+EF37/$AH37*5+EG37/$AH37*25+EH37*50+EI37*50)))","v":""},null,{"$f":"IF(C37<>\"\",C37,\"\")","v":""},null,null,null,null,null,null,null,null,{"$f":"IF($C37=\"\",\"\", IF(EW37=1,0,IF(EU37<>0,500,EP37*$AE37/$AH37+EQ37/$AH37*5+ER37/$AH37*25+ES37*50+ET37*50)))","v":""},null,{"$f":"IF(C37<>\"\",C37,\"\")","v":""},null,null,null,null,null,null,null,null,{"$f":"IF($C37=\"\",\"\", IF(FH37=1,0,IF(FF37<>0,500,FA37*$AE37/$AH37+FB37/$AH37*5+FC37/$AH37*25+FD37*50+FE37*50)))","v":""},null,{"$f":"IF(C37<>\"\",C37,\"\")","v":""},null,null,null,null,null,null,null,null,{"$f":"IF($C37=\"\",\"\", IF(FS37=1,0,IF(FQ37<>0,500,FL37*$AE37/$AH37+FM37/$AH37*5+FN37/$AH37*25+FO37*50+FP37*50)))","v":""},null,{"$f":"IF(C37<>\"\",C37,\"\")","v":""},null,null,null,null,null,null,null,null,{"$f":"IF($C37=\"\",\"\", IF(GD37=1,0,IF(GB37<>0,500,FW37*$AE37/$AH37+FX37/$AH37*5+FY37/$AH37*25+FZ37*50+GA37*50)))","v":""},null,{"$f":"IF(C37<>\"\",C37,\"\")","v":""},null,null,null,null,null,null,null,null,{"$f":"IF($C37=\"\",\"\", IF(GO37=1,0,IF(GM37<>0,500,GH37*$AE37/$AH37+GI37/$AH37*5+GJ37/$AH37*25+GK37*50+GL37*50)))","v":""},null,{"$f":"IF(C37<>\"\",C37,\"\")","v":""},null,null,null,null,null,null,null,null,{"$f":"IF($C37=\"\",\"\", IF(GZ37=1,0,IF(GX37<>0,500,GS37*$AE37/$AH37+GT37/$AH37*5+GU37/$AH37*25+GV37*50+GW37*50)))","v":""},null,{"$f":"IF(C37<>\"\",C37,\"\")","v":""},null,null,null,null,null,null,null,null,{"$f":"IF($C37=\"\",\"\", IF(HK37=1,0,IF(HI37<>0,500,HD37*$AE37/$AH37+HE37/$AH37*5+HF37/$AH37*25+HG37*50+HH37*50)))","v":""},null,{"$f":"IF(C37<>\"\",C37,\"\")","v":""},null,null,null,null,null,null,null,null,{"$f":"IF($C37=\"\",\"\", IF(HV37=1,0,IF(HT37<>0,500,HO37*$AE37/$AH37+HP37/$AH37*5+HQ37/$AH37*25+HR37*50+HS37*50)))","v":""},null,{"$f":"IF(C37<>\"\",C37,\"\")","v":""},null,null,null,null,null,null,null,null,{"$f":"IF($C37=\"\",\"\", IF(IG37=1,0,IF(IE37<>0,500,HZ37*$AE37/$AH37+IA37/$AH37*5+IB37/$AH37*25+IC37*50+ID37*50)))","v":""}]
[null,{"$f":"IF(C38=0,\"\",ROW(C38)-4)","v":""},null,null,null,null,null,{"$f":"IF(C38=0,\"\",IF(OR(BB38=1,BC38<>0),BC38,\"-\"))","v":""},{"$f":"IF(C38=0,\"\",IF(OR(BM38=1,BN38<>0),BN38,\"-\"))","v":""},{"$f":"IF(C38=0,\"\",IF(OR(BX38=1,BY38<>0),BY38,\" -\"))","v":""},{"$f":"IF(C38=0,\"\",IF(OR(CJ38<>0,CI38=1),CJ38,\" -\"))","v":""},{"$f":"IF(C38=0,\"\",IF(OR(CU38<>0,CT38=1),CU38,\" -\"))","v":""},{"$f":"IF(C38=0,\"\",IF(OR(DF38<>0,DE38=1),DF38,\" -\"))","v":""},{"$f":"IF(C38=0,\"\",IF(OR(DQ38<>0,DP38=1),DQ38,\" -\"))","v":""},{"$f":"IF(C38=0,\"\",IF(OR(EB38<>0,EA38=1),EB38,\" -\"))","v":""},{"$f":"IF(C38=0,\"\",IF(OR(EM38<>0,EL38=1),EM38,\" -\"))","v":""},{"$f":"IF(C38=0,\"\",IF(OR(EX38<>0,EW38=1),EX38,\" -\"))","v":""},{"$f":"IF(C38=0,\"\",IF(OR(FI38<>0,FH38=1),FI38,\" -\"))","v":""},{"$f":"IF(C38=0,\"\",IF(OR(FT38<>0,FS38=1),FT38,\" -\"))","v":""},{"$f":"IF(C38=0,\"\",IF(OR(GE38<>0,GD38=1),GE38,\" -\"))","v":""},{"$f":"IF(C38=0,\"\",IF(OR(GP38<>0,GO38=1),GP38,\" -\"))","v":""},{"$f":"IF(C38=0,\"\",IF(OR(HA38<>0,GZ38=1),HA38,\" -\"))","v":""},{"$f":"IF(C38=0,\"\",IF(OR(HL38<>0,HK38=1),HL38,\" -\"))","v":""},{"$f":"IF(C38=0,\"\",IF(AJ38<>0,AJ38,\" -\"))","v":""},{"$f":"IF(C38=0,\"\",IF(OR(HW38<>0,HV38=1),HW38,\" -\"))","v":""},{"$f":"IF(C38=0,\"\",IF(OR(IH38<>0,IG38=1),IH38,\" -\"))","v":""},{"$f":"IF(C38=0,\"\",IF(AL38=1,\"DNF\",IF(AL38=2,\"DSQ\",IF(AM38<>1,\"~ \"&ROUND(SUM(H38:X38),3),ROUND(SUM(H38:X38),3)))))","v":""},null,null,{"$f":"IF(C38<>\"\",C38,\"\")","v":""},{"$f":"IF(AD38<>\"\",3,\"\")","v":""},null,null,{"$f":"IF(AD38<>\"\",(AF38/1000*AG38/1000)/2,\"\")","v":""},null,null,null,null,null,null,null,{"$f":"IF(C38=0,99999,IF(AL38>0,9999,SUM(H38:X38)-AN38))","v":99999},{"$f":"IF(C38=0,99999,IF(AL38=1,9999,SUM(Y38:Z38)))","v":99999},null,null,{"$f":"IF(C38<>\"\",C38,\"\")","v":""},null,null,null,null,null,null,null,null,{"$f":"IF($C38=\"\",\"\", IF(BB38=1,0,IF(AZ38<>0,500,AU38*$AE38/$AH38+AV38/$AH38*5+AW38/$AH38*25+AX38*50+AY38*50)))","v":""},null,{"$f":"IF(C38<>\"\",C38,\"\")","v":""},null,null,null,null,null,null,null,null,{"$f":"IF($C38=\"\",\"\", IF(BM38=1,0,IF(BK38<>0,500,BF38*$AE38/$AH38+BG38/$AH38*5+BH38/$AH38*25+BI38*50+BJ38*50)))","v":""},null,{"$f":"IF(C38<>\"\",C38,\"\")","v":""},null,null,null,null,null,null,null,null,{"$f":"IF($C38=\"\",\"\", IF(BX38=1,0,IF(BV38<>0,500,BQ38*$AE38/$AH38+BR38/$AH38*5+BS38/$AH38*25+BT38*50+BU38*50)))","v":""},null,{"$f":"IF(C38<>\"\",C38,\"\")","v":""},null,null,null,null,null,null,null,null,{"$f":"IF($C38=\"\",\"\", IF(CI38=1,0,IF(CG38<>0,500,CB38*$AE38/$AH38+CC38/$AH38*5+CD38/$AH38*25+CE38*50+CF38*50)))","v":""},null,{"$f":"IF(C38<>\"\",C38,\"\")","v":""},null,null,null,null,null,null,null,null,{"$f":"IF($C38=\"\",\"\", IF(CT38=1,0,IF(CR38<>0,500,CM38*$AE38/$AH38+CN38/$AH38*5+CO38/$AH38*25+CP38*50+CQ38*50)))","v":""},null,{"$f":"IF(C38<>\"\",C38,\"\")","v":""},null,null,null,null,null,null,null,null,{"$f":"IF($C38=\"\",\"\", IF(DE38=1,0,IF(DC38<>0,500,CX38*$AE38/$AH38+CY38/$AH38*5+CZ38/$AH38*25+DA38*50+DB38*50)))","v":""},null,{"$f":"IF(C38<>\"\",C38,\"\")","v":""},null,null,null,null,null,null,null,null,{"$f":"IF($C38=\"\",\"\", IF(DP38=1,0,IF(DN38<>0,500,DI38*$AE38/$AH38+DJ38/$AH38*5+DK38/$AH38*25+DL38*50+DM38*50)))","v":""},null,{"$f":"IF(C38<>\"\",C38,\"\")","v":""},null,null,null,null,null,null,null,null,{"$f":"IF($C38=\"\",\"\", IF(EA38=1,0,IF(DY38<>0,500,DT38*$AE38/$AH38+DU38/$AH38*5+DV38/$AH38*25+DW38*50+DX38*50)))","v":""},null,{"$f":"IF(C38<>\"\",C38,\"\")","v":""},null,null,null,null,null,null,null,null,{"$f":"IF($C38=\"\",\"\", IF(EL38=1,0,IF(EJ38<>0,500,EE38*$AE38/$AH38+EF38/$AH38*5+EG38/$AH38*25+EH38*50+EI38*50)))","v":""},null,{"$f":"IF(C38<>\"\",C38,\"\")","v":""},null,null,null,null,null,null,null,null,{"$f":"IF($C38=\"\",\"\", IF(EW38=1,0,IF(EU38<>0,500,EP38*$AE38/$AH38+EQ38/$AH38*5+ER38/$AH38*25+ES38*50+ET38*50)))","v":""},null,{"$f":"IF(C38<>\"\",C38,\"\")","v":""},null,null,null,null,null,null,null,null,{"$f":"IF($C38=\"\",\"\", IF(FH38=1,0,IF(FF38<>0,500,FA38*$AE38/$AH38+FB38/$AH38*5+FC38/$AH38*25+FD38*50+FE38*50)))","v":""},null,{"$f":"IF(C38<>\"\",C38,\"\")","v":""},null,null,null,null,null,null,null,null,{"$f":"IF($C38=\"\",\"\", IF(FS38=1,0,IF(FQ38<>0,500,FL38*$AE38/$AH38+FM38/$AH38*5+FN38/$AH38*25+FO38*50+FP38*50)))","v":""},null,{"$f":"IF(C38<>\"\",C38,\"\")","v":""},null,null,null,null,null,null,null,null,{"$f":"IF($C38=\"\",\"\", IF(GD38=1,0,IF(GB38<>0,500,FW38*$AE38/$AH38+FX38/$AH38*5+FY38/$AH38*25+FZ38*50+GA38*50)))","v":""},null,{"$f":"IF(C38<>\"\",C38,\"\")","v":""},null,null,null,null,null,null,null,null,{"$f":"IF($C38=\"\",\"\", IF(GO38=1,0,IF(GM38<>0,500,GH38*$AE38/$AH38+GI38/$AH38*5+GJ38/$AH38*25+GK38*50+GL38*50)))","v":""},null,{"$f":"IF(C38<>\"\",C38,\"\")","v":""},null,null,null,null,null,null,null,null,{"$f":"IF($C38=\"\",\"\", IF(GZ38=1,0,IF(GX38<>0,500,GS38*$AE38/$AH38+GT38/$AH38*5+GU38/$AH38*25+GV38*50+GW38*50)))","v":""},null,{"$f":"IF(C38<>\"\",C38,\"\")","v":""},null,null,null,null,null,null,null,null,{"$f":"IF($C38=\"\",\"\", IF(HK38=1,0,IF(HI38<>0,500,HD38*$AE38/$AH38+HE38/$AH38*5+HF38/$AH38*25+HG38*50+HH38*50)))","v":""},null,{"$f":"IF(C38<>\"\",C38,\"\")","v":""},null,null,null,null,null,null,null,null,{"$f":"IF($C38=\"\",\"\", IF(HV38=1,0,IF(HT38<>0,500,HO38*$AE38/$AH38+HP38/$AH38*5+HQ38/$AH38*25+HR38*50+HS38*50)))","v":""},null,{"$f":"IF(C38<>\"\",C38,\"\")","v":""},null,null,null,null,null,null,null,null,{"$f":"IF($C38=\"\",\"\", IF(IG38=1,0,IF(IE38<>0,500,HZ38*$AE38/$AH38+IA38/$AH38*5+IB38/$AH38*25+IC38*50+ID38*50)))","v":""}]
[null,{"$f":"IF(C39=0,\"\",ROW(C39)-4)","v":""},null,null,null,null,null,{"$f":"IF(C39=0,\"\",IF(OR(BB39=1,BC39<>0),BC39,\"-\"))","v":""},{"$f":"IF(C39=0,\"\",IF(OR(BM39=1,BN39<>0),BN39,\"-\"))","v":""},{"$f":"IF(C39=0,\"\",IF(OR(BX39=1,BY39<>0),BY39,\" -\"))","v":""},{"$f":"IF(C39=0,\"\",IF(OR(CJ39<>0,CI39=1),CJ39,\" -\"))","v":""},{"$f":"IF(C39=0,\"\",IF(OR(CU39<>0,CT39=1),CU39,\" -\"))","v":""},{"$f":"IF(C39=0,\"\",IF(OR(DF39<>0,DE39=1),DF39,\" -\"))","v":""},{"$f":"IF(C39=0,\"\",IF(OR(DQ39<>0,DP39=1),DQ39,\" -\"))","v":""},{"$f":"IF(C39=0,\"\",IF(OR(EB39<>0,EA39=1),EB39,\" -\"))","v":""},{"$f":"IF(C39=0,\"\",IF(OR(EM39<>0,EL39=1),EM39,\" -\"))","v":""},{"$f":"IF(C39=0,\"\",IF(OR(EX39<>0,EW39=1),EX39,\" -\"))","v":""},{"$f":"IF(C39=0,\"\",IF(OR(FI39<>0,FH39=1),FI39,\" -\"))","v":""},{"$f":"IF(C39=0,\"\",IF(OR(FT39<>0,FS39=1),FT39,\" -\"))","v":""},{"$f":"IF(C39=0,\"\",IF(OR(GE39<>0,GD39=1),GE39,\" -\"))","v":""},{"$f":"IF(C39=0,\"\",IF(OR(GP39<>0,GO39=1),GP39,\" -\"))","v":""},{"$f":"IF(C39=0,\"\",IF(OR(HA39<>0,GZ39=1),HA39,\" -\"))","v":""},{"$f":"IF(C39=0,\"\",IF(OR(HL39<>0,HK39=1),HL39,\" -\"))","v":""},{"$f":"IF(C39=0,\"\",IF(AJ39<>0,AJ39,\" -\"))","v":""},{"$f":"IF(C39=0,\"\",IF(OR(HW39<>0,HV39=1),HW39,\" -\"))","v":""},{"$f":"IF(C39=0,\"\",IF(OR(IH39<>0,IG39=1),IH39,\" -\"))","v":""},{"$f":"IF(C39=0,\"\",IF(AL39=1,\"DNF\",IF(AL39=2,\"DSQ\",IF(AM39<>1,\"~ \"&ROUND(SUM(H39:X39),3),ROUND(SUM(H39:X39),3)))))","v":""},null,null,{"$f":"IF(C39<>\"\",C39,\"\")","v":""},{"$f":"IF(AD39<>\"\",3,\"\")","v":""},null,null,{"$f":"IF(AD39<>\"\",(AF39/1000*AG39/1000)/2,\"\")","v":""},null,null,null,null,null,null,null,{"$f":"IF(C39=0,99999,IF(AL39>0,9999,SUM(H39:X39)-AN39))","v":99999},{"$f":"IF(C39=0,99999,IF(AL39=1,9999,SUM(Y39:Z39)))","v":99999},null,null,{"$f":"IF(C39<>\"\",C39,\"\")","v":""},null,null,null,null,null,null,null,null,{"$f":"IF($C39=\"\",\"\", IF(BB39=1,0,IF(AZ39<>0,500,AU39*$AE39/$AH39+AV39/$AH39*5+AW39/$AH39*25+AX39*50+AY39*50)))","v":""},null,{"$f":"IF(C39<>\"\",C39,\"\")","v":""},null,null,null,null,null,null,null,null,{"$f":"IF($C39=\"\",\"\", IF(BM39=1,0,IF(BK39<>0,500,BF39*$AE39/$AH39+BG39/$AH39*5+BH39/$AH39*25+BI39*50+BJ39*50)))","v":""},null,{"$f":"IF(C39<>\"\",C39,\"\")","v":""},null,null,null,null,null,null,null,null,{"$f":"IF($C39=\"\",\"\", IF(BX39=1,0,IF(BV39<>0,500,BQ39*$AE39/$AH39+BR39/$AH39*5+BS39/$AH39*25+BT39*50+BU39*50)))","v":""},null,{"$f":"IF(C39<>\"\",C39,\"\")","v":""},null,null,null,null,null,null,null,null,{"$f":"IF($C39=\"\",\"\", IF(CI39=1,0,IF(CG39<>0,500,CB39*$AE39/$AH39+CC39/$AH39*5+CD39/$AH39*25+CE39*50+CF39*50)))","v":""},null,{"$f":"IF(C39<>\"\",C39,\"\")","v":""},null,null,null,null,null,null,null,null,{"$f":"IF($C39=\"\",\"\", IF(CT39=1,0,IF(CR39<>0,500,CM39*$AE39/$AH39+CN39/$AH39*5+CO39/$AH39*25+CP39*50+CQ39*50)))","v":""},null,{"$f":"IF(C39<>\"\",C39,\"\")","v":""},null,null,null,null,null,null,null,null,{"$f":"IF($C39=\"\",\"\", IF(DE39=1,0,IF(DC39<>0,500,CX39*$AE39/$AH39+CY39/$AH39*5+CZ39/$AH39*25+DA39*50+DB39*50)))","v":""},null,{"$f":"IF(C39<>\"\",C39,\"\")","v":""},null,null,null,null,null,null,null,null,{"$f":"IF($C39=\"\",\"\", IF(DP39=1,0,IF(DN39<>0,500,DI39*$AE39/$AH39+DJ39/$AH39*5+DK39/$AH39*25+DL39*50+DM39*50)))","v":""},null,{"$f":"IF(C39<>\"\",C39,\"\")","v":""},null,null,null,null,null,null,null,null,{"$f":"IF($C39=\"\",\"\", IF(EA39=1,0,IF(DY39<>0,500,DT39*$AE39/$AH39+DU39/$AH39*5+DV39/$AH39*25+DW39*50+DX39*50)))","v":""},null,{"$f":"IF(C39<>\"\",C39,\"\")","v":""},null,null,null,null,null,null,null,null,{"$f":"IF($C39=\"\",\"\", IF(EL39=1,0,IF(EJ39<>0,500,EE39*$AE39/$AH39+EF39/$AH39*5+EG39/$AH39*25+EH39*50+EI39*50)))","v":""},null,{"$f":"IF(C39<>\"\",C39,\"\")","v":""},null,null,null,null,null,null,null,null,{"$f":"IF($C39=\"\",\"\", IF(EW39=1,0,IF(EU39<>0,500,EP39*$AE39/$AH39+EQ39/$AH39*5+ER39/$AH39*25+ES39*50+ET39*50)))","v":""},null,{"$f":"IF(C39<>\"\",C39,\"\")","v":""},null,null,null,null,null,null,null,null,{"$f":"IF($C39=\"\",\"\", IF(FH39=1,0,IF(FF39<>0,500,FA39*$AE39/$AH39+FB39/$AH39*5+FC39/$AH39*25+FD39*50+FE39*50)))","v":""},null,{"$f":"IF(C39<>\"\",C39,\"\")","v":""},null,null,null,null,null,null,null,null,{"$f":"IF($C39=\"\",\"\", IF(FS39=1,0,IF(FQ39<>0,500,FL39*$AE39/$AH39+FM39/$AH39*5+FN39/$AH39*25+FO39*50+FP39*50)))","v":""},null,{"$f":"IF(C39<>\"\",C39,\"\")","v":""},null,null,null,null,null,null,null,null,{"$f":"IF($C39=\"\",\"\", IF(GD39=1,0,IF(GB39<>0,500,FW39*$AE39/$AH39+FX39/$AH39*5+FY39/$AH39*25+FZ39*50+GA39*50)))","v":""},null,{"$f":"IF(C39<>\"\",C39,\"\")","v":""},null,null,null,null,null,null,null,null,{"$f":"IF($C39=\"\",\"\", IF(GO39=1,0,IF(GM39<>0,500,GH39*$AE39/$AH39+GI39/$AH39*5+GJ39/$AH39*25+GK39*50+GL39*50)))","v":""},null,{"$f":"IF(C39<>\"\",C39,\"\")","v":""},null,null,null,null,null,null,null,null,{"$f":"IF($C39=\"\",\"\", IF(GZ39=1,0,IF(GX39<>0,500,GS39*$AE39/$AH39+GT39/$AH39*5+GU39/$AH39*25+GV39*50+GW39*50)))","v":""},null,{"$f":"IF(C39<>\"\",C39,\"\")","v":""},null,null,null,null,null,null,null,null,{"$f":"IF($C39=\"\",\"\", IF(HK39=1,0,IF(HI39<>0,500,HD39*$AE39/$AH39+HE39/$AH39*5+HF39/$AH39*25+HG39*50+HH39*50)))","v":""},null,{"$f":"IF(C39<>\"\",C39,\"\")","v":""},null,null,null,null,null,null,null,null,{"$f":"IF($C39=\"\",\"\", IF(HV39=1,0,IF(HT39<>0,500,HO39*$AE39/$AH39+HP39/$AH39*5+HQ39/$AH39*25+HR39*50+HS39*50)))","v":""},null,{"$f":"IF(C39<>\"\",C39,\"\")","v":""},null,null,null,null,null,null,null,null,{"$f":"IF($C39=\"\",\"\", IF(IG39=1,0,IF(IE39<>0,500,HZ39*$AE39/$AH39+IA39/$AH39*5+IB39/$AH39*25+IC39*50+ID39*50)))","v":""}]
[]
[]
[]
[null,null,null,null,null," "]

{"sheet":"Modified","index":3,"n_rows":43,"n_cols":242,"rows_kept":43,"cut":false,"hidden":false,"merged":[[0,21,0,26]]}
[null,{"$f":"Settings!C2","v":"Eurotrial Finland 2025 : 18-20.7.2025 - Results"},null,null,null,null,null,null,null,null,null,null,null,null,null,null,null,null,null,null,null,{"$f":"NOW()","v":"2025-07-20T20:32:14.320"},null,null,null,null,null,null,null,{"$f":"B1","v":"Eurotrial Finland 2025 : 18-20.7.2025 - Results"},null,null,null,null,null,null,null,null,null,null,null,null,null,null,null,{"$f":"B1","v":"Eurotrial Finland 2025 : 18-20.7.2025 - Results"},null,null,null,null,null,null,null,null,null,null,{"$f":"B1","v":"Eurotrial Finland 2025 : 18-20.7.2025 - Results"},null,null,null,null,null,null,null,null,null,null,{"$f":"B1","v":"Eurotrial Finland 2025 : 18-20.7.2025 - Results"},null,null,null,null,null,null,null,null,null,null,{"$f":"B1","v":"Eurotrial Finland 2025 : 18-20.7.2025 - Results"},null,null,null,null,null,null,null,null,null,null,{"$f":"B1","v":"Eurotrial Finland 2025 : 18-20.7.2025 - Results"},null,null,null,null,null,null,null,null,null,null,{"$f":"B1","v":"Eurotrial Finland 2025 : 18-20.7.2025 - Results"},null,null,null,null,null,null,null,null,null,null,{"$f":"B1","v":"Eurotrial Finland 2025 : 18-20.7.2025 - Results"},null,null,null,null,null,null,null,null,null,null,{"$f":"B1","v":"Eurotrial Finland 2025 : 18-20.7.2025 - Results"},null,null,null,null,null,null,null,null,null,null,{"$f":"B1","v":"Eurotrial Finland 2025 : 18-20.7.2025 - Results"},null,null,null,null,null,null,null,null,null,null,{"$f":"B1","v":"Eurotrial Finland 2025 : 18-20.7.2025 - Results"},null,null,null,null,null,null,null,null,null,null,{"$f":"B1","v":"Eurotrial Finland 2025 : 18-20.7.2025 - Results"},null,null,null,null,null,null,null,null,null,null,{"$f":"B1","v":"Eurotrial Finland 2025 : 18-20.7.2025 - Results"},null,null,null,null,null,null,null,null,null,null,{"$f":"B1","v":"Eurotrial Finland 2025 : 18-20.7.2025 - Results"},null,null,null,null,null,null,null,null,null,null,{"$f":"B1","v":"Eurotrial Finland 2025 : 18-20.7.2025 - Results"},null,null,null,null,null,null,null,null,null,null,{"$f":"B1","v":"Eurotrial Finland 2025 : 18-20.7.2025 - Results"},null,null,null,null,null,null,null,null,null,null,{"$f":"B1","v":"Eurotrial Finland 2025 : 18-20.7.2025 - Results"},null,null,null,null,null,null,null,null,null,null,{"$f":"B1","v":"Eurotrial Finland 2025 : 18-20.7.2025 - Results"},null,null,null,null,null,null,null,null,null,null,{"$f":"B1","v":"Eurotrial Finland 2025 : 18-20.7.2025 - Results"}]
[null,"Class: Modified",null,null,null,null,null,null,null,null,null,null,null,null,null,null,null,null,null,null,null,null,null,null,null,null,null,null,null,{"$f":"B2","v":"Class: Modified"},null,null,null,null,null,null,null,null,null,null,null,null,null,null,null,{"$f":"B2","v":"Class: Modified"},null,null,null,null,null,null,null,null,{"$f":"AT3","v":"Section L1"},null,{"$f":"B2","v":"Class: Modified"},null,null,null,null,null,null,null,null,{"$f":"BE3","v":"Section L3"},null,{"$f":"B2","v":"Class: Modified"},null,null,null,null,null,null,null,null,{"$f":"BP3","v":"Section L4"},null,{"$f":"B2","v":"Class: Modified"},null,null,null,null,null,null,null,null,{"$f":"CA3","v":"Section L5"},null,{"$f":"B2","v":"Class: Modified"},null,null,null,null,null,null,null,null,{"$f":"CL3","v":"Section L6"},null,{"$f":"B2","v":"Class: Modified"},null,null,null,null,null,null,null,null,{"$f":"CW3","v":"Section L7"},null,{"$f":"B2","v":"Class: Modified"},null,null,null,null,null,null,null,null,{"$f":"DH3","v":"Section L8"},null,{"$f":"B2","v":"Class: Modified"},null,null,null,null,null,null,null,null,{"$f":"DS3","v":"Section L9"},null,{"$f":"B2","v":"Class: Modified"},null,null,null,null,null,null,null,null,{"$f":"ED3","v":"Section S1"},null,{"$f":"B2","v":"Class: Modified"},null,null,null,null,null,null,null,null,{"$f":"EO3","v":"Section S3"},null,{"$f":"B2","v":"Class: Modified"},null,null,null,null,null,null,null,null,{"$f":"EZ3","v":"Section S4"},null,{"$f":"B2","v":"Class: Modified"},null,null,null,null,null,null,null,null,{"$f":"FK3","v":"Section S5"},null,{"$f":"B2","v":"Class: Modified"},null,null,null,null,null,null,null,null,{"$f":"FV3","v":"Section S6"},null,{"$f":"B2","v":"Class: Modified"},null,null,null,null,null,null,null,null,{"$f":"GG3","v":"Section S7"},null,{"$f":"B2","v":"Class: Modified"},null,null,null,null,null,null,null,null,{"$f":"GR3","v":"Section S8"},null,{"$f":"B2","v":"Class: Modified"},null,null,null,null,null,null,null,null,{"$f":"HC3","v":"Section S9"},null,{"$f":"B2","v":"Class: Modified"},null,null,null,null,null,null,null,null,{"$f":"HN3","v":"Run-off section 1"},null,{"$f":"B2","v":"Class: Modified"},null,null,null,null,null,null,null,null,{"$f":"HY3","v":"Run-off section 2"}]
[null,null,null,null,null,null,null,null,null,null,null,null,null,null,null,null,null,null,null,null,null,null,null,null,null,null,null,null,null,null,null,null,null,null,null,null,null,null,null,null,null,"Helper columns for ordering",null,null,null,"Section L1",null,{"$f":"AT3","v":"Section L1"},null,{"$f":"AT3","v":"Section L1"},null,{"$f":"AT3","v":"Section L1"},null,{"$f":"AT3","v":"Section L1"},null,null,"Section L3",null,{"$f":"BE3","v":"Section L3"},null,{"$f":"BE3","v":"Section L3"},null,{"$f":"BE3","v":"Section L3"},null,{"$f":"BE3","v":"Section L3"},null,null,"Section L4",null,{"$f":"BP3","v":"Section L4"},null,{"$f":"BP3","v":"Section L4"},null,{"$f":"BP3","v":"Section L4"},null,{"$f":"BP3","v":"Section L4"},null,null,"Section L5",null,{"$f":"CA3","v":"Section L5"},null,{"$f":"CA3","v":"Section L5"},null,{"$f":"CA3","v":"Section L5"},null,{"$f":"CA3","v":"Section L5"},null,null,"Section L6",null,{"$f":"CL3","v":"Section L6"},null,{"$f":"CL3","v":"Section L6"},null,{"$f":"CL3","v":"Section L6"},null,{"$f":"CL3","v":"Section L6"},null,null,"Section L7",null,{"$f":"CW3","v":"Section L7"},null,{"$f":"CW3","v":"Section L7"},null,{"$f":"CW3","v":"Section L7"},null,{"$f":"CW3","v":"Section L7"},null,null,"Section L8",null,{"$f":"DH3","v":"Section L8"},null,{"$f":"DH3","v":"Section L8"},null,{"$f":"DH3","v":"Section L8"},null,{"$f":"DH3","v":"Section L8"},null,null,"Section L9",null,{"$f":"DS3","v":"Section L9"},null,{"$f":"DS3","v":"Section L9"},null,{"$f":"DS3","v":"Section L9"},null,{"$f":"DS3","v":"Section L9"},null,null,"Section S1",null,{"$f":"ED3","v":"Section S1"},null,{"$f":"ED3","v":"Section S1"},null,{"$f":"ED3","v":"Section S1"},null,{"$f":"ED3","v":"Section S1"},null,null,"Section S3",null,{"$f":"EO3","v":"Section S3"},null,{"$f":"EO3","v":"Section S3"},null,{"$f":"EO3","v":"Section S3"},null,{"$f":"EO3","v":"Section S3"},null,null,"Section S4",null,{"$f":"EZ3","v":"Section S4"},null,{"$f":"EZ3","v":"Section S4"},null,{"$f":"EZ3","v":"Section S4"},null,{"$f":"EZ3","v":"Section S4"},null,null,"Section S5",null,{"$f":"FK3","v":"Section S5"},null,{"$f":"FK3","v":"Section S5"},null,{"$f":"FK3","v":"Section S5"},null,{"$f":"FK3","v":"Section S5"},null,null,"Section S6",null,{"$f":"FV3","v":"Section S6"},null,{"$f":"FV3","v":"Section S6"},null,{"$f":"FV3","v":"Section S6"},null,{"$f":"FV3","v":"Section S6"},null,null,"Section S7",null,{"$f":"GG3","v":"Section S7"},null,{"$f":"GG3","v":"Section S7"},null,{"$f":"GG3","v":"Section S7"},null,{"$f":"GG3","v":"Section S7"},null,null,"Section S8",null,{"$f":"GR3","v":"Section S8"},null,{"$f":"GR3","v":"Section S8"},null,{"$f":"GR3","v":"Section S8"},null,{"$f":"GR3","v":"Section S8"},null,null,"Section S9",null,{"$f":"HC3","v":"Section S9"},null,{"$f":"HC3","v":"Section S9"},null,{"$f":"HC3","v":"Section S9"},null,{"$f":"HC3","v":"Section S9"},null,null,"Run-off section 1",null,"Run-off section 1",null,"Run-off section 1",null,"Run-off section 1",null,"Run-off section 1",null,null,"Run-off section 2",null,"Run-off section 2",null,"Run-off section 2",null,"Run-off section 2",null,"Run-off section 2"]
[null,"Pos.","Race #"," Team","Car","Driver","Co-Driver","L1","L3","L4","L5","L6","L7","L8","L9","S1","S3","S4","S5","S6","S7","S8","S9","Extra penalty","Run-off 1","Run-off 2","Total",null,null,"Race #","Car base reverse points","Car width (mm)","Car wheelbase (mm)","\"Magic Number\" ","Traditional reverse points","Extra penalty","Extra penalty reason","DNF = 1 DSQ = 2","Ended race (1 if ok)","Order change (1 = go higher)",null,"Result points, do not change","Run-off points do not change",null,null,"Race #","Reverse","Touching / Driving under (5)","Broken post / stick (25)","Not Passed Gate (50)","Section not completed (50)","Not driven section (500)","Comment","Clean (1 = ok)","Total",null,"Race #","Reverse","Touching / Driving under (5)","Broken post / stick (25)","Not Passed Gate (50)","Section not completed (50)","Not driven section (500)","Comment","Clean (1 = ok)","Total",null,"Race #","Reverse","Touching / Driving under (5)","Broken post / stick (25)","Not Passed Gate (50)","Section not completed (50)","Not driven section (500)","Comment","Clean (1 = ok)","Total",null,"Race #","Reverse","Touching / Driving under (5)","Broken post / stick (25)","Not Passed Gate (50)","Section not completed (50)","Not driven section (500)","Comment","Clean (1 = ok)","Total",null,"Race #","Reverse","Touching / Driving under (5)","Broken post / stick (25)","Not Passed Gate (50)","Section not completed (50)","Not driven section (500)","Comment","Clean (1 = ok)","Total",null,"Race #","Reverse","Touching / Driving under (5)","Broken post / stick (25)","Not Passed Gate (50)","Section not completed (50)","Not driven section (500)","Comment","Clean (1 = ok)","Total",null,"Race #","Reverse","Touching / Driving under (5)","Broken post / stick (25)","Not Passed Gate (50)","Section not completed (50)","Not driven section (500)","Comment","Clean (1 = ok)","Total",null,"Race #","Reverse","Touching / Driving under (5)","Broken post / stick (25)","Not Passed Gate (50)","Section not completed (50)","Not driven section (500)","Comment","Clean (1 = ok)","Total",null,"Race #","Reverse","Touching / Driving under (5)","Broken post / stick (25)","Not Passed Gate (50)","Section not completed (50)","Not driven section (500)","Comment","Clean (1 = ok)","Total",null,"Race #","Reverse","Touching / Driving under (5)","Broken post / stick (25)","Not Passed Gate (50)","Section not completed (50)","Not driven section (500)","Comment","Clean (1 = ok)","Total",null,"Race #","Reverse","Touching / Driving under (5)","Broken post / stick (25)","Not Passed Gate (50)","Section not completed (50)","Not driven section (500)","Comment","Clean (1 = ok)","Total",null,"Race #","Reverse","Touching / Driving under (5)","Broken post / stick (25)","Not Passed Gate (50)","Section not completed (50)","Not driven section (500)","Comment","Clean (1 = ok)","Total",null,"Race #","Reverse","Touching / Driving under (5)","Broken post / stick (25)","Not Passed Gate (50)","Section not completed (50)","Not driven section (500)","Comment","Clean (1 = ok)","Total",null,"Race #","Reverse","Touching / Driving under (5)","Broken post / stick (25)","Not Passed Gate (50)","Section not completed (50)","Not driven section (500)","Comment","Clean (1 = ok)","Total",null,"Race #","Reverse","Touching / Driving under (5)","Broken post / stick (25)","Not Passed Gate (50)","Section not completed (50)","Not driven section (500)","Comment","Clean (1 = ok)","Total",null,"Race #","Reverse","Touching / Driving under (5)","Broken post / stick (25)","Not Passed Gate (50)","Section not completed (50)","Not driven section (500)","Comment","Clean (1 = ok)","Total",null,"Race #","Reverse","Touching / Driving under (5)","Broken post / stick (25)","Not Passed Gate (50)","Section not completed (50)","Not driven section (500)","Comment","Clean (1 = ok)","Total",null,"Race #","Reverse","Touching / Driving under (5)","Broken post / stick (25)","Not Passed Gate (50)","Section not completed (50)","Not driven section (500)","Comment","Clean (1 = ok)","Total"]
[null,{"$f":"IF(C5=0,\"\",ROW(C5)-4)","v":1},302,"Finland","MBG 500","Miika Niinimäki","Jarno Puumalainen",{"$f":"IF(C5=0,\"\",IF(OR(BB5=1,BC5<>0),BC5,\"-\"))","v":0},{"$f":"IF(C5=0,\"\",IF(OR(BM5=1,BN5<>0),BN5,\"-\"))","v":1.4204545454545454},{"$f":"IF(C5=0,\"\",IF(OR(BX5=1,BY5<>0),BY5,\" -\"))","v":0},{"$f":"IF(C5=0,\"\",IF(OR(CJ5<>0,CI5=1),CJ5,\" -\"))","v":0},{"$f":"IF(C5=0,\"\",IF(OR(CU5<>0,CT5=1),CU5,\" -\"))","v":0},{"$f":"IF(C5=0,\"\",IF(OR(DF5<>0,DE5=1),DF5,\" -\"))","v":2.8409090909090908},{"$f":"IF(C5=0,\"\",IF(OR(DQ5<>0,DP5=1),DQ5,\" -\"))","v":0},{"$f":"IF(C5=0,\"\",IF(OR(EB5<>0,EA5=1),EB5,\" -\"))","v":1.4204545454545454},{"$f":"IF(C5=0,\"\",IF(OR(EM5<>0,EL5=1),EM5,\" -\"))","v":0},{"$f":"IF(C5=0,\"\",IF(OR(EX5<>0,EW5=1),EX5,\" -\"))","v":0},{"$f":"IF(C5=0,\"\",IF(OR(FI5<>0,FH5=1),FI5,\" -\"))","v":1.4204545454545454},{"$f":"IF(C5=0,\"\",IF(OR(FT5<>0,FS5=1),FT5,\" -\"))","v":0},{"$f":"IF(C5=0,\"\",IF(OR(GE5<>0,GD5=1),GE5,\" -\"))","v":1.4204545454545454},{"$f":"IF(C5=0,\"\",IF(OR(GP5<>0,GO5=1),GP5,\" -\"))","v":2.8409090909090908},{"$f":"IF(C5=0,\"\",IF(OR(HA5<>0,GZ5=1),HA5,\" -\"))","v":0},{"$f":"IF(C5=0,\"\",IF(OR(HL5<>0,HK5=1),HL5,\" -\"))","v":0},{"$f":"IF(C5=0,\"\",IF(AJ5<>0,AJ5,\" -\"))","v":" -"},{"$f":"IF(C5=0,\"\",IF(OR(HW5<>0,HV5=1),HW5,\" -\"))","v":" -"},{"$f":"IF(C5=0,\"\",IF(OR(IH5<>0,IG5=1),IH5,\" -\"))","v":" -"},{"$f":"IF(C5=0,\"\",IF(AL5=1,\"DNF\",IF(AL5=2,\"DSQ\",IF(AM5<>1,\"~ \"&ROUND(SUM(H5:X5),3),ROUND(SUM(H5:X5),3)))))","v":11.364000000000001},null,null,{"$f":"IF(C5<>\"\",C5,\"\")","v":302},{"$f":"IF(AD5<>\"\",3,\"\")","v":3},1760,2400,{"$f":"IF(AD5<>\"\",(AF5/1000*AG5/1000)/2,\"\")","v":2.1120000000000001},3,null,null,null,1,null,null,{"$f":"IF(C5=0,99999,IF(AL5>0,9999,SUM(H5:X5)-AN5))","v":11.363636363636363},{"$f":"IF(C5=0,99999,IF(AL5=1,9999,SUM(Y5:Z5)))","v":0},null,null,{"$f":"IF(C5<>\"\",C5,\"\")","v":302},null,null,null,null,null,null,null,1,{"$f":"IF($C5=\"\",\"\", IF(BB5=1,0,IF(AZ5<>0,500,AU5*$AE5/$AH5+AV5/$AH5*5+AW5/$AH5*25+AX5*50+AY5*50)))","v":0},null,{"$f":"IF(C5<>\"\",C5,\"\")","v":302},1,null,null,null,null,null,null,null,{"$f":"IF($C5=\"\",\"\", IF(BM5=1,0,IF(BK5<>0,500,BF5*$AE5/$AH5+BG5/$AH5*5+BH5/$AH5*25+BI5*50+BJ5*50)))","v":1.4204545454545454},null,{"$f":"IF(C5<>\"\",C5,\"\")","v":302},null,null,null,null,null,null,null,1,{"$f":"IF($C5=\"\",\"\", IF(BX5=1,0,IF(BV5<>0,500,BQ5*$AE5/$AH5+BR5/$AH5*5+BS5/$AH5*25+BT5*50+BU5*50)))","v":0},null,{"$f":"IF(C5<>\"\",C5,\"\")","v":302},null,null,null,null,null,null,null,1,{"$f":"IF($C5=\"\",\"\", IF(CI5=1,0,IF(CG5<>0,500,CB5*$AE5/$AH5+CC5/$AH5*5+CD5/$AH5*25+CE5*50+CF5*50)))","v":0},null,{"$f":"IF(C5<>\"\",C5,\"\")","v":302},null,null,null,null,null,null,null,1,{"$f":"IF($C5=\"\",\"\", IF(CT5=1,0,IF(CR5<>0,500,CM5*$AE5/$AH5+CN5/$AH5*5+CO5/$AH5*25+CP5*50+CQ5*50)))","v":0},null,{"$f":"IF(C5<>\"\",C5,\"\")","v":302},2,null,null,null,null,null,null,null,{"$f":"IF($C5=\"\",\"\", IF(DE5=1,0,IF(DC5<>0,500,CX5*$AE5/$AH5+CY5/$AH5*5+CZ5/$AH5*25+DA5*50+DB5*50)))","v":2.8409090909090908},null,{"$f":"IF(C5<>\"\",C5,\"\")","v":302},null,null,null,null,null,null,null,1,{"$f":"IF($C5=\"\",\"\", IF(DP5=1,0,IF(DN5<>0,500,DI5*$AE5/$AH5+DJ5/$AH5*5+DK5/$AH5*25+DL5*50+DM5*50)))","v":0},null,{"$f":"IF(C5<>\"\",C5,\"\")","v":302},1,null,null,null,null,null,null,null,{"$f":"IF($C5=\"\",\"\", IF(EA5=1,0,IF(DY5<>0,500,DT5*$AE5/$AH5+DU5/$AH5*5+DV5/$AH5*25+DW5*50+DX5*50)))","v":1.4204545454545454},null,{"$f":"IF(C5<>\"\",C5,\"\")","v":302},null,null,null,null,null,null,null,1,{"$f":"IF($C5=\"\",\"\", IF(EL5=1,0,IF(EJ5<>0,500,EE5*$AE5/$AH5+EF5/$AH5*5+EG5/$AH5*25+EH5*50+EI5*50)))","v":0},null,{"$f":"IF(C5<>\"\",C5,\"\")","v":302},null,null,null,null,null,null,null,1,{"$f":"IF($C5=\"\",\"\", IF(EW5=1,0,IF(EU5<>0,500,EP5*$AE5/$AH5+EQ5/$AH5*5+ER5/$AH5*25+ES5*50+ET5*50)))","v":0},null,{"$f":"IF(C5<>\"\",C5,\"\")","v":302},1,null,null,null,null,null,null,null,{"$f":"IF($C5=\"\",\"\", IF(FH5=1,0,IF(FF5<>0,500,FA5*$AE5/$AH5+FB5/$AH5*5+FC5/$AH5*25+FD5*50+FE5*50)))","v":1.4204545454545454},null,{"$f":"IF(C5<>\"\",C5,\"\")","v":302},null,null,null,null,null,null,null,1,{"$f":"IF($C5=\"\",\"\", IF(FS5=1,0,IF(FQ5<>0,500,FL5*$AE5/$AH5+FM5/$AH5*5+FN5/$AH5*25+FO5*50+FP5*50)))","v":0},null,{"$f":"IF(C5<>\"\",C5,\"\")","v":302},1,null,null,null,null,null,null,null,{"$f":"IF($C5=\"\",\"\", IF(GD5=1,0,IF(GB5<>0,500,FW5*$AE5/$AH5+FX5/$AH5*5+FY5/$AH5*25+FZ5*50+GA5*50)))","v":1.4204545454545454},null,{"$f":"IF(C5<>\"\",C5,\"\")","v":302},2,null,null,null,null,null,null,null,{"$f":"IF($C5=\"\",\"\", IF(GO5=1,0,IF(GM5<>0,500,GH5*$AE5/$AH5+GI5/$AH5*5+GJ5/$AH5*25+GK5*50+GL5*50)))","v":2.8409090909090908},null,{"$f":"IF(C5<>\"\",C5,\"\")","v":302},null,null,null,null,null,null,null,1,{"$f":"IF($C5=\"\",\"\", IF(GZ5=1,0,IF(GX5<>0,500,GS5*$AE5/$AH5+GT5/$AH5*5+GU5/$AH5*25+GV5*50+GW5*50)))","v":0},null,{"$f":"IF(C5<>\"\",C5,\"\")","v":302},null,null,null,null,null,null,null,1,{"$f":"IF($C5=\"\",\"\", IF(HK5=1,0,IF(HI5<>0,500,HD5*$AE5/$AH5+HE5/$AH5*5+HF5/$AH5*25+HG5*50+HH5*50)))","v":0},null,{"$f":"IF(C5<>\"\",C5,\"\")","v":302},null,null,null,null,null,null,null,null,{"$f":"IF($C5=\"\",\"\", IF(HV5=1,0,IF(HT5<>0,500,HO5*$AE5/$AH5+HP5/$AH5*5+HQ5/$AH5*25+HR5*50+HS5*50)))","v":0},null,{"$f":"IF(C5<>\"\",C5,\"\")","v":302},null,null,null,null,null,null,null,null,{"$f":"IF($C5=\"\",\"\", IF(IG5=1,0,IF(IE5<>0,500,HZ5*$AE5/$AH5+IA5/$AH5*5+IB5/$AH5*25+IC5*50+ID5*50)))","v":0}]
[null,{"$f":"IF(C6=0,\"\",ROW(C6)-4)","v":2},317,"Finland","Jeppis","Sami Juopperi","Taneli Purhonen",{"$f":"IF(C6=0,\"\",IF(OR(BB6=1,BC6<>0),BC6,\"-\"))","v":0},{"$f":"IF(C6=0,\"\",IF(OR(BM6=1,BN6<>0),BN6,\"-\"))","v":0},{"$f":"IF(C6=0,\"\",IF(OR(BX6=1,BY6<>0),BY6,\" -\"))","v":1.4488554042306578},{"$f":"IF(C6=0,\"\",IF(OR(CJ6<>0,CI6=1),CJ6,\" -\"))","v":2.8977108084613157},{"$f":"IF(C6=0,\"\",IF(OR(CU6<>0,CT6=1),CU6,\" -\"))","v":0},{"$f":"IF(C6=0,\"\",IF(OR(DF6<>0,DE6=1),DF6,\" -\"))","v":1.4488554042306578},{"$f":"IF(C6=0,\"\",IF(OR(DQ6<>0,DP6=1),DQ6,\" -\"))","v":0},{"$f":"IF(C6=0,\"\",IF(OR(EB6<>0,EA6=1),EB6,\" -\"))","v":1.4488554042306578},{"$f":"IF(C6=0,\"\",IF(OR(EM6<>0,EL6=1),EM6,\" -\"))","v":0},{"$f":"IF(C6=0,\"\",IF(OR(EX6<>0,EW6=1),EX6,\" -\"))","v":2.4147590070510967},{"$f":"IF(C6=0,\"\",IF(OR(FI6<>0,FH6=1),FI6,\" -\"))","v":0},{"$f":"IF(C6=0,\"\",IF(OR(FT6<>0,FS6=1),FT6,\" -\"))","v":0},{"$f":"IF(C6=0,\"\",IF(OR(GE6<>0,GD6=1),GE6,\" -\"))","v":17.869216652178114},{"$f":"IF(C6=0,\"\",IF(OR(GP6<>0,GO6=1),GP6,\" -\"))","v":3.8636144112817545},{"$f":"IF(C6=0,\"\",IF(OR(HA6<>0,GZ6=1),HA6,\" -\"))","v":2.8977108084613157},{"$f":"IF(C6=0,\"\",IF(OR(HL6<>0,HK6=1),HL6,\" -\"))","v":1.4488554042306578},{"$f":"IF(C6=0,\"\",IF(AJ6<>0,AJ6,\" -\"))","v":" -"},{"$f":"IF(C6=0,\"\",IF(OR(HW6<>0,HV6=1),HW6,\" -\"))","v":" -"},{"$f":"IF(C6=0,\"\",IF(OR(IH6<>0,IG6=1),IH6,\" -\"))","v":" -"},{"$f":"IF(C6=0,\"\",IF(AL6=1,\"DNF\",IF(AL6=2,\"DSQ\",IF(AM6<>1,\"~ \"&ROUND(SUM(H6:X6),3),ROUND(SUM(H6:X6),3)))))","v":35.738},null,null,{"$f":"IF(C6<>\"\",C6,\"\")","v":317},{"$f":"IF(AD6<>\"\",3,\"\")","v":3},1740,2380,{"$f":"IF(AD6<>\"\",(AF6/1000*AG6/1000)/2,\"\")","v":2.0705999999999998},3,null,null,null,1,null,null,{"$f":"IF(C6=0,99999,IF(AL6>0,9999,SUM(H6:X6)-AN6))","v":35.738433304356228},{"$f":"IF(C6=0,99999,IF(AL6=1,9999,SUM(Y6:Z6)))","v":0},null,null,{"$f":"IF(C6<>\"\",C6,\"\")","v":317},null,null,null,null,null,null,null,1,{"$f":"IF($C6=\"\",\"\", IF(BB6=1,0,IF(AZ6<>0,500,AU6*$AE6/$AH6+AV6/$AH6*5+AW6/$AH6*25+AX6*50+AY6*50)))","v":0},null,{"$f":"IF(C6<>\"\",C6,\"\")","v":317},null,null,null,null,null,null,null,1,{"$f":"IF($C6=\"\",\"\", IF(BM6=1,0,IF(BK6<>0,500,BF6*$AE6/$AH6+BG6/$AH6*5+BH6/$AH6*25+BI6*50+BJ6*50)))","v":0},null,{"$f":"IF(C6<>\"\",C6,\"\")","v":317},1,null,null,null,null,null,null,null,{"$f":"IF($C6=\"\",\"\", IF(BX6=1,0,IF(BV6<>0,500,BQ6*$AE6/$AH6+BR6/$AH6*5+BS6/$AH6*25+BT6*50+BU6*50)))","v":1.4488554042306578},null,{"$f":"IF(C6<>\"\",C6,\"\")","v":317},2,null,null,null,null,null,null,null,{"$f":"IF($C6=\"\",\"\", IF(CI6=1,0,IF(CG6<>0,500,CB6*$AE6/$AH6+CC6/$AH6*5+CD6/$AH6*25+CE6*50+CF6*50)))","v":2.8977108084613157},null,{"$f":"IF(C6<>\"\",C6,\"\")","v":317},null,null,null,null,null,null,null,1,{"$f":"IF($C6=\"\",\"\", IF(CT6=1,0,IF(CR6<>0,500,CM6*$AE6/$AH6+CN6/$AH6*5+CO6/$AH6*25+CP6*50+CQ6*50)))","v":0},null,{"$f":"IF(C6<>\"\",C6,\"\")","v":317},1,null,null,null,null,null,null,null,{"$f":"IF($C6=\"\",\"\", IF(DE6=1,0,IF(DC6<>0,500,CX6*$AE6/$AH6+CY6/$AH6*5+CZ6/$AH6*25+DA6*50+DB6*50)))","v":1.4488554042306578},null,{"$f":"IF(C6<>\"\",C6,\"\")","v":317},null,null,null,null,null,null,null,1,{"$f":"IF($C6=\"\",\"\", IF(DP6=1,0,IF(DN6<>0,500,DI6*$AE6/$AH6+DJ6/$AH6*5+DK6/$AH6*25+DL6*50+DM6*50)))","v":0},null,{"$f":"IF(C6<>\"\",C6,\"\")","v":317},1,null,null,null,null,null,null,null,{"$f":"IF($C6=\"\",\"\", IF(EA6=1,0,IF(DY6<>0,500,DT6*$AE6/$AH6+DU6/$AH6*5+DV6/$AH6*25+DW6*50+DX6*50)))","v":1.4488554042306578},null,{"$f":"IF(C6<>\"\",C6,\"\")","v":317},null,null,null,null,null,null,null,1,{"$f":"IF($C6=\"\",\"\", IF(EL6=1,0,IF(EJ6<>0,500,EE6*$AE6/$AH6+EF6/$AH6*5+EG6/$AH6*25+EH6*50+EI6*50)))","v":0},null,{"$f":"IF(C6<>\"\",C6,\"\")","v":317},null,1,null,null,null,null,null,null,{"$f":"IF($C6=\"\",\"\", IF(EW6=1,0,IF(EU6<>0,500,EP6*$AE6/$AH6+EQ6/$AH6*5+ER6/$AH6*25+ES6*50+ET6*50)))","v":2.4147590070510967},null,{"$f":"IF(C6<>\"\",C6,\"\")","v":317},null,null,null,null,null,null,null,1,{"$f":"IF($C6=\"\",\"\", IF(FH6=1,0,IF(FF6<>0,500,FA6*$AE6/$AH6+FB6/$AH6*5+FC6/$AH6*25+FD6*50+FE6*50)))","v":0},null,{"$f":"IF(C6<>\"\",C6,\"\")","v":317},null,null,null,null,null,null,null,1,{"$f":"IF($C6=\"\",\"\", IF(FS6=1,0,IF(FQ6<>0,500,FL6*$AE6/$AH6+FM6/$AH6*5+FN6/$AH6*25+FO6*50+FP6*50)))","v":0},null,{"$f":"IF(C6<>\"\",C6,\"\")","v":317},4,null,1,null,null,null,null,null,{"$f":"IF($C6=\"\",\"\", IF(GD6=1,0,IF(GB6<>0,500,FW6*$AE6/$AH6+FX6/$AH6*5+FY6/$AH6*25+FZ6*50+GA6*50)))","v":17.869216652178114},null,{"$f":"IF(C6<>\"\",C6,\"\")","v":317},1,1,null,null,null,null,null,null,{"$f":"IF($C6=\"\",\"\", IF(GO6=1,0,IF(GM6<>0,500,GH6*$AE6/$AH6+GI6/$AH6*5+GJ6/$AH6*25+GK6*50+GL6*50)))","v":3.8636144112817545},null,{"$f":"IF(C6<>\"\",C6,\"\")","v":317},2,null,null,null,null,null,null,null,{"$f":"IF($C6=\"\",\"\", IF(GZ6=1,0,IF(GX6<>0,500,GS6*$AE6/$AH6+GT6/$AH6*5+GU6/$AH6*25+GV6*50+GW6*50)))","v":2.8977108084613157},null,{"$f":"IF(C6<>\"\",C6,\"\")","v":317},1,null,null,null,null,null,null,null,{"$f":"IF($C6=\"\",\"\", IF(HK6=1,0,IF(HI6<>0,500,HD6*$AE6/$AH6+HE6/$AH6*5+HF6/$AH6*25+HG6*50+HH6*50)))","v":1.4488554042306578},null,{"$f":"IF(C6<>\"\",C6,\"\")","v":317},null,null,null,null,null,null,null,null,{"$f":"IF($C6=\"\",\"\", IF(HV6=1,0,IF(HT6<>0,500,HO6*$AE6/$AH6+HP6/$AH6*5+HQ6/$AH6*25+HR6*50+HS6*50)))","v":0},null,{"$f":"IF(C6<>\"\",C6,\"\")","v":317},null,null,null,null,null,null,null,null,{"$f":"IF($C6=\"\",\"\", IF(IG6=1,0,IF(IE6<>0,500,HZ6*$AE6/$AH6+IA6/$AH6*5+IB6/$AH6*25+IC6*50+ID6*50)))","v":0}]
[null,{"$f":"IF(C7=0,\"\",ROW(C7)-4)","v":3},319,"Denmark","Suzuki","Sondre Karstad","Madelen Karstad",{"$f":"IF(C7=0,\"\",IF(OR(BB7=1,BC7<>0),BC7,\"-\"))","v":0},{"$f":"IF(C7=0,\"\",IF(OR(BM7=1,BN7<>0),BN7,\"-\"))","v":6.1151690164769841},{"$f":"IF(C7=0,\"\",IF(OR(BX7=1,BY7<>0),BY7,\" -\"))","v":6.7946322405299817},{"$f":"IF(C7=0,\"\",IF(OR(CJ7<>0,CI7=1),CJ7,\" -\"))","v":16.986580601324956},{"$f":"IF(C7=0,\"\",IF(OR(CU7<>0,CT7=1),CU7,\" -\"))","v":3.3973161202649909},{"$f":"IF(C7=0,\"\",IF(OR(DF7<>0,DE7=1),DF7,\" -\"))","v":3.3973161202649909},{"$f":"IF(C7=0,\"\",IF(OR(DQ7<>0,DP7=1),DQ7,\" -\"))","v":0},{"$f":"IF(C7=0,\"\",IF(OR(EB7<>0,EA7=1),EB7,\" -\"))","v":21.063359945642944},{"$f":"IF(C7=0,\"\",IF(OR(EM7<>0,EL7=1),EM7,\" -\"))","v":0},{"$f":"IF(C7=0,\"\",IF(OR(EX7<>0,EW7=1),EX7,\" -\"))","v":20.383896721589949},{"$f":"IF(C7=0,\"\",IF(OR(FI7<>0,FH7=1),FI7,\" -\"))","v":3.3973161202649909},{"$f":"IF(C7=0,\"\",IF(OR(FT7<>0,FS7=1),FT7,\" -\"))","v":0},{"$f":"IF(C7=0,\"\",IF(OR(GE7<>0,GD7=1),GE7,\" -\"))","v":0},{"$f":"IF(C7=0,\"\",IF(OR(GP7<>0,GO7=1),GP7,\" -\"))","v":0},{"$f":"IF(C7=0,\"\",IF(OR(HA7<>0,GZ7=1),HA7,\" -\"))","v":4.0767793443179894},{"$f":"IF(C7=0,\"\",IF(OR(HL7<>0,HK7=1),HL7,\" -\"))","v":4.0767793443179894},{"$f":"IF(C7=0,\"\",IF(AJ7<>0,AJ7,\" -\"))","v":" -"},{"$f":"IF(C7=0,\"\",IF(OR(HW7<>0,HV7=1),HW7,\" -\"))","v":" -"},{"$f":"IF(C7=0,\"\",IF(OR(IH7<>0,IG7=1),IH7,\" -\"))","v":" -"},{"$f":"IF(C7=0,\"\",IF(AL7=1,\"DNF\",IF(AL7=2,\"DSQ\",IF(AM7<>1,\"~ \"&ROUND(SUM(H7:X7),3),ROUND(SUM(H7:X7),3)))))","v":89.688999999999993},null,null,{"$f":"IF(C7<>\"\",C7,\"\")","v":319},{"$f":"IF(AD7<>\"\",3,\"\")","v":3},1450,2030,{"$f":"IF(AD7<>\"\",(AF7/1000*AG7/1000)/2,\"\")","v":1.4717499999999999},5,null,null,null,1,null,null,{"$f":"IF(C7=0,99999,IF(AL7>0,9999,SUM(H7:X7)-AN7))","v":89.689145574995749},{"$f":"IF(C7=0,99999,IF(AL7=1,9999,SUM(Y7:Z7)))","v":0},null,null,{"$f":"IF(C7<>\"\",C7,\"\")","v":319},null,null,null,null,null,null,null,1,{"$f":"IF($C7=\"\",\"\", IF(BB7=1,0,IF(AZ7<>0,500,AU7*$AE7/$AH7+AV7/$AH7*5+AW7/$AH7*25+AX7*50+AY7*50)))","v":0},null,{"$f":"IF(C7<>\"\",C7,\"\")","v":319},3,null,null,null,null,null,null,null,{"$f":"IF($C7=\"\",\"\", IF(BM7=1,0,IF(BK7<>0,500,BF7*$AE7/$AH7+BG7/$AH7*5+BH7/$AH7*25+BI7*50+BJ7*50)))","v":6.1151690164769841},null,{"$f":"IF(C7<>\"\",C7,\"\")","v":319},null,2,null,null,null,null,null,null,{"$f":"IF($C7=\"\",\"\", IF(BX7=1,0,IF(BV7<>0,500,BQ7*$AE7/$AH7+BR7/$AH7*5+BS7/$AH7*25+BT7*50+BU7*50)))","v":6.7946322405299817},null,{"$f":"IF(C7<>\"\",C7,\"\")","v":319},null,null,1,null,null,null,null,null,{"$f":"IF($C7=\"\",\"\", IF(CI7=1,0,IF(CG7<>0,500,CB7*$AE7/$AH7+CC7/$AH7*5+CD7/$AH7*25+CE7*50+CF7*50)))","v":16.986580601324956},null,{"$f":"IF(C7<>\"\",C7,\"\")","v":319},null,1,null,null,null,null,null,null,{"$f":"IF($C7=\"\",\"\", IF(CT7=1,0,IF(CR7<>0,500,CM7*$AE7/$AH7+CN7/$AH7*5+CO7/$AH7*25+CP7*50+CQ7*50)))","v":3.3973161202649909},null,{"$f":"IF(C7<>\"\",C7,\"\")","v":319},null,1,null,null,null,null,null,null,{"$f":"IF($C7=\"\",\"\", IF(DE7=1,0,IF(DC7<>0,500,CX7*$AE7/$AH7+CY7/$AH7*5+CZ7/$AH7*25+DA7*50+DB7*50)))","v":3.3973161202649909},null,{"$f":"IF(C7<>\"\",C7,\"\")","v":319},null,null,null,null,null,null,null,1,{"$f":"IF($C7=\"\",\"\", IF(DP7=1,0,IF(DN7<>0,500,DI7*$AE7/$AH7+DJ7/$AH7*5+DK7/$AH7*25+DL7*50+DM7*50)))","v":0},null,{"$f":"IF(C7<>\"\",C7,\"\")","v":319},2,null,1,null,null,null,null,null,{"$f":"IF($C7=\"\",\"\", IF(EA7=1,0,IF(DY7<>0,500,DT7*$AE7/$AH7+DU7/$AH7*5+DV7/$AH7*25+DW7*50+DX7*50)))","v":21.063359945642944},null,{"$f":"IF(C7<>\"\",C7,\"\")","v":319},null,null,null,null,null,null,null,1,{"$f":"IF($C7=\"\",\"\", IF(EL7=1,0,IF(EJ7<>0,500,EE7*$AE7/$AH7+EF7/$AH7*5+EG7/$AH7*25+EH7*50+EI7*50)))","v":0},null,{"$f":"IF(C7<>\"\",C7,\"\")","v":319},null,1,1,null,null,null,null,null,{"$f":"IF($C7=\"\",\"\", IF(EW7=1,0,IF(EU7<>0,500,EP7*$AE7/$AH7+EQ7/$AH7*5+ER7/$AH7*25+ES7*50+ET7*50)))","v":20.383896721589949},null,{"$f":"IF(C7<>\"\",C7,\"\")","v":319},null,1,null,null,null,null,null,null,{"$f":"IF($C7=\"\",\"\", IF(FH7=1,0,IF(FF7<>0,500,FA7*$AE7/$AH7+FB7/$AH7*5+FC7/$AH7*25+FD7*50+FE7*50)))","v":3.3973161202649909},null,{"$f":"IF(C7<>\"\",C7,\"\")","v":319},null,null,null,null,null,null,null,1,{"$f":"IF($C7=\"\",\"\", IF(FS7=1,0,IF(FQ7<>0,500,FL7*$AE7/$AH7+FM7/$AH7*5+FN7/$AH7*25+FO7*50+FP7*50)))","v":0},null,{"$f":"IF(C7<>\"\",C7,\"\")","v":319},null,null,null,null,null,null,null,1,{"$f":"IF($C7=\"\",\"\", IF(GD7=1,0,IF(GB7<>0,500,FW7*$AE7/$AH7+FX7/$AH7*5+FY7/$AH7*25+FZ7*50+GA7*50)))","v":0},null,{"$f":"IF(C7<>\"\",C7,\"\")","v":319},null,null,null,null,null,null,null,1,{"$f":"IF($C7=\"\",\"\", IF(GO7=1,0,IF(GM7<>0,500,GH7*$AE7/$AH7+GI7/$AH7*5+GJ7/$AH7*25+GK7*50+GL7*50)))","v":0},null,{"$f":"IF(C7<>\"\",C7,\"\")","v":319},2,null,null,null,null,null,null,null,{"$f":"IF($C7=\"\",\"\", IF(GZ7=1,0,IF(GX7<>0,500,GS7*$AE7/$AH7+GT7/$AH7*5+GU7/$AH7*25+GV7*50+GW7*50)))","v":4.0767793443179894},null,{"$f":"IF(C7<>\"\",C7,\"\")","v":319},2,null,null,null,null,null,null,null,{"$f":"IF($C7=\"\",\"\", IF(HK7=1,0,IF(HI7<>0,500,HD7*$AE7/$AH7+HE7/$AH7*5+HF7/$AH7*25+HG7*50+HH7*50)))","v":4.0767793443179894},null,{"$f":"IF(C7<>\"\",C7,\"\")","v":319},null,null,null,null,null,null,null,null,{"$f":"IF($C7=\"\",\"\", IF(HV7=1,0,IF(HT7<>0,500,HO7*$AE7/$AH7+HP7/$AH7*5+HQ7/$AH7*25+HR7*50+HS7*50)))","v":0},null,{"$f":"IF(C7<>\"\",C7,\"\")","v":319},null,null,null,null,null,null,null,null,{"$f":"IF($C7=\"\",\"\", IF(IG7=1,0,IF(IE7<>0,500,HZ7*$AE7/$AH7+IA7/$AH7*5+IB7/$AH7*25+IC7*50+ID7*50)))","v":0}]
[null,{"$f":"IF(C8=0,\"\",ROW(C8)-4)","v":4},326,"Sweden","Suzuki SJ","Ronny Aslaksen","Tuva Aslaksen",{"$f":"IF(C8=0,\"\",IF(OR(BB8=1,BC8<>0),BC8,\"-\"))","v":0},{"$f":"IF(C8=0,\"\",IF(OR(BM8=1,BN8<>0),BN8,\"-\"))","v":4.0767793443179894},{"$f":"IF(C8=0,\"\",IF(OR(BX8=1,BY8<>0),BY8,\" -\"))","v":6.1151690164769841},{"$f":"IF(C8=0,\"\",IF(OR(CJ8<>0,CI8=1),CJ8,\" -\"))","v":0},{"$f":"IF(C8=0,\"\",IF(OR(CU8<>0,CT8=1),CU8,\" -\"))","v":39.4088669950739},{"$f":"IF(C8=0,\"\",IF(OR(DF8<>0,DE8=1),DF8,\" -\"))","v":16.986580601324956},{"$f":"IF(C8=0,\"\",IF(OR(DQ8<>0,DP8=1),DQ8,\" -\"))","v":0},{"$f":"IF(C8=0,\"\",IF(OR(EB8<>0,EA8=1),EB8,\" -\"))","v":2.0383896721589947},{"$f":"IF(C8=0,\"\",IF(OR(EM8<>0,EL8=1),EM8,\" -\"))","v":4.0767793443179894},{"$f":"IF(C8=0,\"\",IF(OR(EX8<>0,EW8=1),EX8,\" -\"))","v":4.0767793443179894},{"$f":"IF(C8=0,\"\",IF(OR(FI8<>0,FH8=1),FI8,\" -\"))","v":21.063359945642944},{"$f":"IF(C8=0,\"\",IF(OR(FT8<>0,FS8=1),FT8,\" -\"))","v":0},{"$f":"IF(C8=0,\"\",IF(OR(GE8<>0,GD8=1),GE8,\" -\"))","v":2.0383896721589947},{"$f":"IF(C8=0,\"\",IF(OR(GP8<>0,GO8=1),GP8,\" -\"))","v":0},{"$f":"IF(C8=0,\"\",IF(OR(HA8<>0,GZ8=1),HA8,\" -\"))","v":2.0383896721589947},{"$f":"IF(C8=0,\"\",IF(OR(HL8<>0,HK8=1),HL8,\" -\"))","v":10.191948360794973},{"$f":"IF(C8=0,\"\",IF(AJ8<>0,AJ8,\" -\"))","v":" -"},{"$f":"IF(C8=0,\"\",IF(OR(HW8<>0,HV8=1),HW8,\" -\"))","v":" -"},{"$f":"IF(C8=0,\"\",IF(OR(IH8<>0,IG8=1),IH8,\" -\"))","v":" -"},{"$f":"IF(C8=0,\"\",IF(AL8=1,\"DNF\",IF(AL8=2,\"DSQ\",IF(AM8<>1,\"~ \"&ROUND(SUM(H8:X8),3),ROUND(SUM(H8:X8),3)))))","v":112.111},null,null,{"$f":"IF(C8<>\"\",C8,\"\")","v":326},{"$f":"IF(AD8<>\"\",3,\"\")","v":3},1450,2030,{"$f":"IF(AD8<>\"\",(AF8/1000*AG8/1000)/2,\"\")","v":1.4717499999999999},5,null,null,null,1,null,null,{"$f":"IF(C8=0,99999,IF(AL8>0,9999,SUM(H8:X8)-AN8))","v":112.11143196874471},{"$f":"IF(C8=0,99999,IF(AL8=1,9999,SUM(Y8:Z8)))","v":0},null,null,{"$f":"IF(C8<>\"\",C8,\"\")","v":326},null,null,null,null,null,null,null,1,{"$f":"IF($C8=\"\",\"\", IF(BB8=1,0,IF(AZ8<>0,500,AU8*$AE8/$AH8+AV8/$AH8*5+AW8/$AH8*25+AX8*50+AY8*50)))","v":0},null,{"$f":"IF(C8<>\"\",C8,\"\")","v":326},2,null,null,null,null,null,null,null,{"$f":"IF($C8=\"\",\"\", IF(BM8=1,0,IF(BK8<>0,500,BF8*$AE8/$AH8+BG8/$AH8*5+BH8/$AH8*25+BI8*50+BJ8*50)))","v":4.0767793443179894},null,{"$f":"IF(C8<>\"\",C8,\"\")","v":326},3,null,null,null,null,null,null,null,{"$f":"IF($C8=\"\",\"\", IF(BX8=1,0,IF(BV8<>0,500,BQ8*$AE8/$AH8+BR8/$AH8*5+BS8/$AH8*25+BT8*50+BU8*50)))","v":6.1151690164769841},null,{"$f":"IF(C8<>\"\",C8,\"\")","v":326},null,null,null,null,null,null,null,1,{"$f":"IF($C8=\"\",\"\", IF(CI8=1,0,IF(CG8<>0,500,CB8*$AE8/$AH8+CC8/$AH8*5+CD8/$AH8*25+CE8*50+CF8*50)))","v":0},null,{"$f":"IF(C8<>\"\",C8,\"\")","v":326},1,1,2,null,null,null,null,null,{"$f":"IF($C8=\"\",\"\", IF(CT8=1,0,IF(CR8<>0,500,CM8*$AE8/$AH8+CN8/$AH8*5+CO8/$AH8*25+CP8*50+CQ8*50)))","v":39.4088669950739},null,{"$f":"IF(C8<>\"\",C8,\"\")","v":326},null,null,1,null,null,null,null,null,{"$f":"IF($C8=\"\",\"\", IF(DE8=1,0,IF(DC8<>0,500,CX8*$AE8/$AH8+CY8/$AH8*5+CZ8/$AH8*25+DA8*50+DB8*50)))","v":16.986580601324956},null,{"$f":"IF(C8<>\"\",C8,\"\")","v":326},null,null,null,null,null,null,null,1,{"$f":"IF($C8=\"\",\"\", IF(DP8=1,0,IF(DN8<>0,500,DI8*$AE8/$AH8+DJ8/$AH8*5+DK8/$AH8*25+DL8*50+DM8*50)))","v":0},null,{"$f":"IF(C8<>\"\",C8,\"\")","v":326},1,null,null,null,null,null,null,null,{"$f":"IF($C8=\"\",\"\", IF(EA8=1,0,IF(DY8<>0,500,DT8*$AE8/$AH8+DU8/$AH8*5+DV8/$AH8*25+DW8*50+DX8*50)))","v":2.0383896721589947},null,{"$f":"IF(C8<>\"\",C8,\"\")","v":326},2,null,null,null,null,null,null,null,{"$f":"IF($C8=\"\",\"\", IF(EL8=1,0,IF(EJ8<>0,500,EE8*$AE8/$AH8+EF8/$AH8*5+EG8/$AH8*25+EH8*50+EI8*50)))","v":4.0767793443179894},null,{"$f":"IF(C8<>\"\",C8,\"\")","v":326},2,null,null,null,null,null,null,null,{"$f":"IF($C8=\"\",\"\", IF(EW8=1,0,IF(EU8<>0,500,EP8*$AE8/$AH8+EQ8/$AH8*5+ER8/$AH8*25+ES8*50+ET8*50)))","v":4.0767793443179894},null,{"$f":"IF(C8<>\"\",C8,\"\")","v":326},2,null,1,null,null,null,null,null,{"$f":"IF($C8=\"\",\"\", IF(FH8=1,0,IF(FF8<>0,500,FA8*$AE8/$AH8+FB8/$AH8*5+FC8/$AH8*25+FD8*50+FE8*50)))","v":21.063359945642944},null,{"$f":"IF(C8<>\"\",C8,\"\")","v":326},null,null,null,null,null,null,null,1,{"$f":"IF($C8=\"\",\"\", IF(FS8=1,0,IF(FQ8<>0,500,FL8*$AE8/$AH8+FM8/$AH8*5+FN8/$AH8*25+FO8*50+FP8*50)))","v":0},null,{"$f":"IF(C8<>\"\",C8,\"\")","v":326},1,null,null,null,null,null,null,null,{"$f":"IF($C8=\"\",\"\", IF(GD8=1,0,IF(GB8<>0,500,FW8*$AE8/$AH8+FX8/$AH8*5+FY8/$AH8*25+FZ8*50+GA8*50)))","v":2.0383896721589947},null,{"$f":"IF(C8<>\"\",C8,\"\")","v":326},null,null,null,null,null,null,null,1,{"$f":"IF($C8=\"\",\"\", IF(GO8=1,0,IF(GM8<>0,500,GH8*$AE8/$AH8+GI8/$AH8*5+GJ8/$AH8*25+GK8*50+GL8*50)))","v":0},null,{"$f":"IF(C8<>\"\",C8,\"\")","v":326},1,null,null,null,null,null,null,null,{"$f":"IF($C8=\"\",\"\", IF(GZ8=1,0,IF(GX8<>0,500,GS8*$AE8/$AH8+GT8/$AH8*5+GU8/$AH8*25+GV8*50+GW8*50)))","v":2.0383896721589947},null,{"$f":"IF(C8<>\"\",C8,\"\")","v":326},5,null,null,null,null,null,null,null,{"$f":"IF($C8=\"\",\"\", IF(HK8=1,0,IF(HI8<>0,500,HD8*$AE8/$AH8+HE8/$AH8*5+HF8/$AH8*25+HG8*50+HH8*50)))","v":10.191948360794973},null,{"$f":"IF(C8<>\"\",C8,\"\")","v":326},null,null,null,null,null,null,null,null,{"$f":"IF($C8=\"\",\"\", IF(HV8=1,0,IF(HT8<>0,500,HO8*$AE8/$AH8+HP8/$AH8*5+HQ8/$AH8*25+HR8*50+HS8*50)))","v":0},null,{"$f":"IF(C8<>\"\",C8,\"\")","v":326},null,null,null,null,null,null,null,null,{"$f":"IF($C8=\"\",\"\", IF(IG8=1,0,IF(IE8<>0,500,HZ8*$AE8/$AH8+IA8/$AH8*5+IB8/$AH8*25+IC8*50+ID8*50)))","v":0}]
[null,{"$f":"IF(C9=0,\"\",ROW(C9)-4)","v":5},312,"Norway","Suzuki","Atle Fast","Tanya Fast",{"$f":"IF(C9=0,\"\",IF(OR(BB9=1,BC9<>0),BC9,\"-\"))","v":0},{"$f":"IF(C9=0,\"\",IF(OR(BM9=1,BN9<>0),BN9,\"-\"))","v":4.0767793443179894},{"$f":"IF(C9=0,\"\",IF(OR(BX9=1,BY9<>0),BY9,\" -\"))","v":3.3973161202649909},{"$f":"IF(C9=0,\"\",IF(OR(CJ9<>0,CI9=1),CJ9,\" -\"))","v":7.4740954645829802},{"$f":"IF(C9=0,\"\",IF(OR(CU9<>0,CT9=1),CU9,\" -\"))","v":33.973161202649912},{"$f":"IF(C9=0,\"\",IF(OR(DF9<>0,DE9=1),DF9,\" -\"))","v":0},{"$f":"IF(C9=0,\"\",IF(OR(DQ9<>0,DP9=1),DQ9,\" -\"))","v":0},{"$f":"IF(C9=0,\"\",IF(OR(EB9<>0,EA9=1),EB9,\" -\"))","v":4.0767793443179894},{"$f":"IF(C9=0,\"\",IF(OR(EM9<>0,EL9=1),EM9,\" -\"))","v":0},{"$f":"IF(C9=0,\"\",IF(OR(EX9<>0,EW9=1),EX9,\" -\"))","v":0},{"$f":"IF(C9=0,\"\",IF(OR(FI9<>0,FH9=1),FI9,\" -\"))","v":20.383896721589949},{"$f":"IF(C9=0,\"\",IF(OR(FT9<>0,FS9=1),FT9,\" -\"))","v":2.0383896721589947},{"$f":"IF(C9=0,\"\",IF(OR(GE9<>0,GD9=1),GE9,\" -\"))","v":36.011550874808904},{"$f":"IF(C9=0,\"\",IF(OR(GP9<>0,GO9=1),GP9,\" -\"))","v":9.5124851367419758},{"$f":"IF(C9=0,\"\",IF(OR(HA9<>0,GZ9=1),HA9,\" -\"))","v":0},{"$f":"IF(C9=0,\"\",IF(OR(HL9<>0,HK9=1),HL9,\" -\"))","v":19.024970273483952},{"$f":"IF(C9=0,\"\",IF(AJ9<>0,AJ9,\" -\"))","v":" -"},{"$f":"IF(C9=0,\"\",IF(OR(HW9<>0,HV9=1),HW9,\" -\"))","v":" -"},{"$f":"IF(C9=0,\"\",IF(OR(IH9<>0,IG9=1),IH9,\" -\"))","v":" -"},{"$f":"IF(C9=0,\"\",IF(AL9=1,\"DNF\",IF(AL9=2,\"DSQ\",IF(AM9<>1,\"~ \"&ROUND(SUM(H9:X9),3),ROUND(SUM(H9:X9),3)))))","v":139.96899999999999},null,null,{"$f":"IF(C9<>\"\",C9,\"\")","v":312},{"$f":"IF(AD9<>\"\",3,\"\")","v":3},1450,2030,{"$f":"IF(AD9<>\"\",(AF9/1000*AG9/1000)/2,\"\")","v":1.4717499999999999},5,null,null,null,1,null,null,{"$f":"IF(C9=0,99999,IF(AL9>0,9999,SUM(H9:X9)-AN9))","v":139.96942415491765},{"$f":"IF(C9=0,99999,IF(AL9=1,9999,SUM(Y9:Z9)))","v":0},null,null,{"$f":"IF(C9<>\"\",C9,\"\")","v":312},null,null,null,null,null,null,null,1,{"$f":"IF($C9=\"\",\"\", IF(BB9=1,0,IF(AZ9<>0,500,AU9*$AE9/$AH9+AV9/$AH9*5+AW9/$AH9*25+AX9*50+AY9*50)))","v":0},null,{"$f":"IF(C9<>\"\",C9,\"\")","v":312},2,null,null,null,null,null,null,null,{"$f":"IF($C9=\"\",\"\", IF(BM9=1,0,IF(BK9<>0,500,BF9*$AE9/$AH9+BG9/$AH9*5+BH9/$AH9*25+BI9*50+BJ9*50)))","v":4.0767793443179894},null,{"$f":"IF(C9<>\"\",C9,\"\")","v":312},null,1,null,null,null,null,null,null,{"$f":"IF($C9=\"\",\"\", IF(BX9=1,0,IF(BV9<>0,500,BQ9*$AE9/$AH9+BR9/$AH9*5+BS9/$AH9*25+BT9*50+BU9*50)))","v":3.3973161202649909},null,{"$f":"IF(C9<>\"\",C9,\"\")","v":312},2,1,null,null,null,null,null,null,{"$f":"IF($C9=\"\",\"\", IF(CI9=1,0,IF(CG9<>0,500,CB9*$AE9/$AH9+CC9/$AH9*5+CD9/$AH9*25+CE9*50+CF9*50)))","v":7.4740954645829802},null,{"$f":"IF(C9<>\"\",C9,\"\")","v":312},null,null,2,null,null,null,null,null,{"$f":"IF($C9=\"\",\"\", IF(CT9=1,0,IF(CR9<>0,500,CM9*$AE9/$AH9+CN9/$AH9*5+CO9/$AH9*25+CP9*50+CQ9*50)))","v":33.973161202649912},null,{"$f":"IF(C9<>\"\",C9,\"\")","v":312},null,null,null,null,null,null,null,1,{"$f":"IF($C9=\"\",\"\", IF(DE9=1,0,IF(DC9<>0,500,CX9*$AE9/$AH9+CY9/$AH9*5+CZ9/$AH9*25+DA9*50+DB9*50)))","v":0},null,{"$f":"IF(C9<>\"\",C9,\"\")","v":312},null,null,null,null,null,null,null,1,{"$f":"IF($C9=\"\",\"\", IF(DP9=1,0,IF(DN9<>0,500,DI9*$AE9/$AH9+DJ9/$AH9*5+DK9/$AH9*25+DL9*50+DM9*50)))","v":0},null,{"$f":"IF(C9<>\"\",C9,\"\")","v":312},2,null,null,null,null,null,null,null,{"$f":"IF($C9=\"\",\"\", IF(EA9=1,0,IF(DY9<>0,500,DT9*$AE9/$AH9+DU9/$AH9*5+DV9/$AH9*25+DW9*50+DX9*50)))","v":4.0767793443179894},null,{"$f":"IF(C9<>\"\",C9,\"\")","v":312},null,null,null,null,null,null,null,1,{"$f":"IF($C9=\"\",\"\", IF(EL9=1,0,IF(EJ9<>0,500,EE9*$AE9/$AH9+EF9/$AH9*5+EG9/$AH9*25+EH9*50+EI9*50)))","v":0},null,{"$f":"IF(C9<>\"\",C9,\"\")","v":312},null,null,null,null,null,null,null,1,{"$f":"IF($C9=\"\",\"\", IF(EW9=1,0,IF(EU9<>0,500,EP9*$AE9/$AH9+EQ9/$AH9*5+ER9/$AH9*25+ES9*50+ET9*50)))","v":0},null,{"$f":"IF(C9<>\"\",C9,\"\")","v":312},null,1,1,null,null,null,null,null,{"$f":"IF($C9=\"\",\"\", IF(FH9=1,0,IF(FF9<>0,500,FA9*$AE9/$AH9+FB9/$AH9*5+FC9/$AH9*25+FD9*50+FE9*50)))","v":20.383896721589949},null,{"$f":"IF(C9<>\"\",C9,\"\")","v":312},1,null,null,null,null,null,null,null,{"$f":"IF($C9=\"\",\"\", IF(FS9=1,0,IF(FQ9<>0,500,FL9*$AE9/$AH9+FM9/$AH9*5+FN9/$AH9*25+FO9*50+FP9*50)))","v":2.0383896721589947},null,{"$f":"IF(C9<>\"\",C9,\"\")","v":312},1,null,2,null,null,null,null,null,{"$f":"IF($C9=\"\",\"\", IF(GD9=1,0,IF(GB9<>0,500,FW9*$AE9/$AH9+FX9/$AH9*5+FY9/$AH9*25+FZ9*50+GA9*50)))","v":36.011550874808904},null,{"$f":"IF(C9<>\"\",C9,\"\")","v":312},3,1,null,null,null,null,null,null,{"$f":"IF($C9=\"\",\"\", IF(GO9=1,0,IF(GM9<>0,500,GH9*$AE9/$AH9+GI9/$AH9*5+GJ9/$AH9*25+GK9*50+GL9*50)))","v":9.5124851367419758},null,{"$f":"IF(C9<>\"\",C9,\"\")","v":312},null,null,null,null,null,null,null,1,{"$f":"IF($C9=\"\",\"\", IF(GZ9=1,0,IF(GX9<>0,500,GS9*$AE9/$AH9+GT9/$AH9*5+GU9/$AH9*25+GV9*50+GW9*50)))","v":0},null,{"$f":"IF(C9<>\"\",C9,\"\")","v":312},1,null,1,null,null,null,null,null,{"$f":"IF($C9=\"\",\"\", IF(HK9=1,0,IF(HI9<>0,500,HD9*$AE9/$AH9+HE9/$AH9*5+HF9/$AH9*25+HG9*50+HH9*50)))","v":19.024970273483952},null,{"$f":"IF(C9<>\"\",C9,\"\")","v":312},null,null,null,null,null,null,null,null,{"$f":"IF($C9=\"\",\"\", IF(HV9=1,0,IF(HT9<>0,500,HO9*$AE9/$AH9+HP9/$AH9*5+HQ9/$AH9*25+HR9*50+HS9*50)))","v":0},null,{"$f":"IF(C9<>\"\",C9,\"\")","v":312},null,null,null,null,null,null,null,null,{"$f":"IF($C9=\"\",\"\", IF(IG9=1,0,IF(IE9<>0,500,HZ9*$AE9/$AH9+IA9/$AH9*5+IB9/$AH9*25+IC9*50+ID9*50)))","v":0}]
[null,{"$f":"IF(C10=0,\"\",ROW(C10)-4)","v":6},323,"Finland","Lande Gruiser","Tuomas Vitikainen","Jami Hämäläinen",{"$f":"IF(C10=0,\"\",IF(OR(BB10=1,BC10<>0),BC10,\"-\"))","v":0},{"$f":"IF(C10=0,\"\",IF(OR(BM10=1,BN10<>0),BN10,\"-\"))","v":12.677484787018257},{"$f":"IF(C10=0,\"\",IF(OR(BX10=1,BY10<>0),BY10,\" -\"))","v":3.0425963488843815},{"$f":"IF(C10=0,\"\",IF(OR(CJ10<>0,CI10=1),CJ10,\" -\"))","v":3.0425963488843815},{"$f":"IF(C10=0,\"\",IF(OR(CU10<>0,CT10=1),CU10,\" -\"))","v":0},{"$f":"IF(C10=0,\"\",IF(OR(DF10<>0,DE10=1),DF10,\" -\"))","v":0},{"$f":"IF(C10=0,\"\",IF(OR(DQ10<>0,DP10=1),DQ10,\" -\"))","v":0},{"$f":"IF(C10=0,\"\",IF(OR(EB10<>0,EA10=1),EB10,\" -\"))","v":1.5212981744421907},{"$f":"IF(C10=0,\"\",IF(OR(EM10<>0,EL10=1),EM10,\" -\"))","v":0},{"$f":"IF(C10=0,\"\",IF(OR(EX10<>0,EW10=1),EX10,\" -\"))","v":14.198782961460447},{"$f":"IF(C10=0,\"\",IF(OR(FI10<>0,FH10=1),FI10,\" -\"))","v":101.52129817444219},{"$f":"IF(C10=0,\"\",IF(OR(FT10<>0,FS10=1),FT10,\" -\"))","v":2.5354969574036512},{"$f":"IF(C10=0,\"\",IF(OR(GE10<>0,GD10=1),GE10,\" -\"))","v":5.5780933062880322},{"$f":"IF(C10=0,\"\",IF(OR(GP10<>0,GO10=1),GP10,\" -\"))","v":0},{"$f":"IF(C10=0,\"\",IF(OR(HA10<>0,GZ10=1),HA10,\" -\"))","v":1.5212981744421907},{"$f":"IF(C10=0,\"\",IF(OR(HL10<>0,HK10=1),HL10,\" -\"))","v":5.5780933062880322},{"$f":"IF(C10=0,\"\",IF(AJ10<>0,AJ10,\" -\"))","v":" -"},{"$f":"IF(C10=0,\"\",IF(OR(HW10<>0,HV10=1),HW10,\" -\"))","v":" -"},{"$f":"IF(C10=0,\"\",IF(OR(IH10<>0,IG10=1),IH10,\" -\"))","v":" -"},{"$f":"IF(C10=0,\"\",IF(AL10=1,\"DNF\",IF(AL10=2,\"DSQ\",IF(AM10<>1,\"~ \"&ROUND(SUM(H10:X10),3),ROUND(SUM(H10:X10),3)))))","v":151.21700000000001},null,null,{"$f":"IF(C10<>\"\",C10,\"\")","v":323},{"$f":"IF(AD10<>\"\",3,\"\")","v":3},1700,2320,{"$f":"IF(AD10<>\"\",(AF10/1000*AG10/1000)/2,\"\")","v":1.972},3,null,null,null,1,null,null,{"$f":"IF(C10=0,99999,IF(AL10>0,9999,SUM(H10:X10)-AN10))","v":151.21703853955373},{"$f":"IF(C10=0,99999,IF(AL10=1,9999,SUM(Y10:Z10)))","v":0},null,null,{"$f":"IF(C10<>\"\",C10,\"\")","v":323},null,null,null,null,null,null,null,1,{"$f":"IF($C10=\"\",\"\", IF(BB10=1,0,IF(AZ10<>0,500,AU10*$AE10/$AH10+AV10/$AH10*5+AW10/$AH10*25+AX10*50+AY10*50)))","v":0},null,{"$f":"IF(C10<>\"\",C10,\"\")","v":323},null,null,1,null,null,null,null,null,{"$f":"IF($C10=\"\",\"\", IF(BM10=1,0,IF(BK10<>0,500,BF10*$AE10/$AH10+BG10/$AH10*5+BH10/$AH10*25+BI10*50+BJ10*50)))","v":12.677484787018257},null,{"$f":"IF(C10<>\"\",C10,\"\")","v":323},2,null,null,null,null,null,null,null,{"$f":"IF($C10=\"\",\"\", IF(BX10=1,0,IF(BV10<>0,500,BQ10*$AE10/$AH10+BR10/$AH10*5+BS10/$AH10*25+BT10*50+BU10*50)))","v":3.0425963488843815},null,{"$f":"IF(C10<>\"\",C10,\"\")","v":323},2,null,null,null,null,null,null,null,{"$f":"IF($C10=\"\",\"\", IF(CI10=1,0,IF(CG10<>0,500,CB10*$AE10/$AH10+CC10/$AH10*5+CD10/$AH10*25+CE10*50+CF10*50)))","v":3.0425963488843815},null,{"$f":"IF(C10<>\"\",C10,\"\")","v":323},null,null,null,null,null,null,null,1,{"$f":"IF($C10=\"\",\"\", IF(CT10=1,0,IF(CR10<>0,500,CM10*$AE10/$AH10+CN10/$AH10*5+CO10/$AH10*25+CP10*50+CQ10*50)))","v":0},null,{"$f":"IF(C10<>\"\",C10,\"\")","v":323},null,null,null,null,null,null,null,1,{"$f":"IF($C10=\"\",\"\", IF(DE10=1,0,IF(DC10<>0,500,CX10*$AE10/$AH10+CY10/$AH10*5+CZ10/$AH10*25+DA10*50+DB10*50)))","v":0},null,{"$f":"IF(C10<>\"\",C10,\"\")","v":323},null,null,null,null,null,null,null,1,{"$f":"IF($C10=\"\",\"\", IF(DP10=1,0,IF(DN10<>0,500,DI10*$AE10/$AH10+DJ10/$AH10*5+DK10/$AH10*25+DL10*50+DM10*50)))","v":0},null,{"$f":"IF(C10<>\"\",C10,\"\")","v":323},1,null,null,null,null,null,null,null,{"$f":"IF($C10=\"\",\"\", IF(EA10=1,0,IF(DY10<>0,500,DT10*$AE10/$AH10+DU10/$AH10*5+DV10/$AH10*25+DW10*50+DX10*50)))","v":1.5212981744421907},null,{"$f":"IF(C10<>\"\",C10,\"\")","v":323},null,null,null,null,null,null,null,1,{"$f":"IF($C10=\"\",\"\", IF(EL10=1,0,IF(EJ10<>0,500,EE10*$AE10/$AH10+EF10/$AH10*5+EG10/$AH10*25+EH10*50+EI10*50)))","v":0},null,{"$f":"IF(C10<>\"\",C10,\"\")","v":323},1,null,1,null,null,null,null,null,{"$f":"IF($C10=\"\",\"\", IF(EW10=1,0,IF(EU10<>0,500,EP10*$AE10/$AH10+EQ10/$AH10*5+ER10/$AH10*25+ES10*50+ET10*50)))","v":14.198782961460447},null,{"$f":"IF(C10<>\"\",C10,\"\")","v":323},1,null,null,1,1,null,"roll over",null,{"$f":"IF($C10=\"\",\"\", IF(FH10=1,0,IF(FF10<>0,500,FA10*$AE10/$AH10+FB10/$AH10*5+FC10/$AH10*25+FD10*50+FE10*50)))","v":101.52129817444219},null,{"$f":"IF(C10<>\"\",C10,\"\")","v":323},null,1,null,null,null,null,null,null,{"$f":"IF($C10=\"\",\"\", IF(FS10=1,0,IF(FQ10<>0,500,FL10*$AE10/$AH10+FM10/$AH10*5+FN10/$AH10*25+FO10*50+FP10*50)))","v":2.5354969574036512},null,{"$f":"IF(C10<>\"\",C10,\"\")","v":323},2,1,null,null,null,null,null,null,{"$f":"IF($C10=\"\",\"\", IF(GD10=1,0,IF(GB10<>0,500,FW10*$AE10/$AH10+FX10/$AH10*5+FY10/$AH10*25+FZ10*50+GA10*50)))","v":5.5780933062880322},null,{"$f":"IF(C10<>\"\",C10,\"\")","v":323},null,null,null,null,null,null,null,1,{"$f":"IF($C10=\"\",\"\", IF(GO10=1,0,IF(GM10<>0,500,GH10*$AE10/$AH10+GI10/$AH10*5+GJ10/$AH10*25+GK10*50+GL10*50)))","v":0},null,{"$f":"IF(C10<>\"\",C10,\"\")","v":323},1,null,null,null,null,null,null,null,{"$f":"IF($C10=\"\",\"\", IF(GZ10=1,0,IF(GX10<>0,500,GS10*$AE10/$AH10+GT10/$AH10*5+GU10/$AH10*25+GV10*50+GW10*50)))","v":1.5212981744421907},null,{"$f":"IF(C10<>\"\",C10,\"\")","v":323},2,1,null,null,null,null,null,null,{"$f":"IF($C10=\"\",\"\", IF(HK10=1,0,IF(HI10<>0,500,HD10*$AE10/$AH10+HE10/$AH10*5+HF10/$AH10*25+HG10*50+HH10*50)))","v":5.5780933062880322},null,{"$f":"IF(C10<>\"\",C10,\"\")","v":323},null,null,null,null,null,null,null,null,{"$f":"IF($C10=\"\",\"\", IF(HV10=1,0,IF(HT10<>0,500,HO10*$AE10/$AH10+HP10/$AH10*5+HQ10/$AH10*25+HR10*50+HS10*50)))","v":0},null,{"$f":"IF(C10<>\"\",C10,\"\")","v":323},null,null,null,null,null,null,null,null,{"$f":"IF($C10=\"\",\"\", IF(IG10=1,0,IF(IE10<>0,500,HZ10*$AE10/$AH10+IA10/$AH10*5+IB10/$AH10*25+IC10*50+ID10*50)))","v":0}]
[null,{"$f":"IF(C11=0,\"\",ROW(C11)-4)","v":7},318,"Finland","Mad Rover","Tomi Hanhikoski","Piia Hanhikoski",{"$f":"IF(C11=0,\"\",IF(OR(BB11=1,BC11<>0),BC11,\"-\"))","v":1.3020833333333335},{"$f":"IF(C11=0,\"\",IF(OR(BM11=1,BN11<>0),BN11,\"-\"))","v":7.8125000000000009},{"$f":"IF(C11=0,\"\",IF(OR(BX11=1,BY11<>0),BY11,\" -\"))","v":4.7743055555555554},{"$f":"IF(C11=0,\"\",IF(OR(CJ11<>0,CI11=1),CJ11,\" -\"))","v":17.361111111111111},{"$f":"IF(C11=0,\"\",IF(OR(CU11<>0,CT11=1),CU11,\" -\"))","v":8.6805555555555554},{"$f":"IF(C11=0,\"\",IF(OR(DF11<>0,DE11=1),DF11,\" -\"))","v":2.604166666666667},{"$f":"IF(C11=0,\"\",IF(OR(DQ11<>0,DP11=1),DQ11,\" -\"))","v":2.604166666666667},{"$f":"IF(C11=0,\"\",IF(OR(EB11<>0,EA11=1),EB11,\" -\"))","v":55.208333333333336},{"$f":"IF(C11=0,\"\",IF(OR(EM11<>0,EL11=1),EM11,\" -\"))","v":0},{"$f":"IF(C11=0,\"\",IF(OR(EX11<>0,EW11=1),EX11,\" -\"))","v":7.8125000000000009},{"$f":"IF(C11=0,\"\",IF(OR(FI11<>0,FH11=1),FI11,\" -\"))","v":4.7743055555555554},{"$f":"IF(C11=0,\"\",IF(OR(FT11<>0,FS11=1),FT11,\" -\"))","v":2.604166666666667},{"$f":"IF(C11=0,\"\",IF(OR(GE11<>0,GD11=1),GE11,\" -\"))","v":24.739583333333336},{"$f":"IF(C11=0,\"\",IF(OR(GP11<>0,GO11=1),GP11,\" -\"))","v":6.0763888888888893},{"$f":"IF(C11=0,\"\",IF(OR(HA11<>0,GZ11=1),HA11,\" -\"))","v":1.3020833333333335},{"$f":"IF(C11=0,\"\",IF(OR(HL11<>0,HK11=1),HL11,\" -\"))","v":6.510416666666667},{"$f":"IF(C11=0,\"\",IF(AJ11<>0,AJ11,\" -\"))","v":" -"},{"$f":"IF(C11=0,\"\",IF(OR(HW11<>0,HV11=1),HW11,\" -\"))","v":" -"},{"$f":"IF(C11=0,\"\",IF(OR(IH11<>0,IG11=1),IH11,\" -\"))","v":" -"},{"$f":"IF(C11=0,\"\",IF(AL11=1,\"DNF\",IF(AL11=2,\"DSQ\",IF(AM11<>1,\"~ \"&ROUND(SUM(H11:X11),3),ROUND(SUM(H11:X11),3)))))","v":154.167},null,null,{"$f":"IF(C11<>\"\",C11,\"\")","v":318},{"$f":"IF(AD11<>\"\",3,\"\")","v":3},1800,2560,{"$f":"IF(AD11<>\"\",(AF11/1000*AG11/1000)/2,\"\")","v":2.3039999999999998},2,null,null,null,1,null,null,{"$f":"IF(C11=0,99999,IF(AL11>0,9999,SUM(H11:X11)-AN11))","v":154.16666666666669},{"$f":"IF(C11=0,99999,IF(AL11=1,9999,SUM(Y11:Z11)))","v":0},null,null,{"$f":"IF(C11<>\"\",C11,\"\")","v":318},1,null,null,null,null,null,"Judge error, only 1 reverse",null,{"$f":"IF($C11=\"\",\"\", IF(BB11=1,0,IF(AZ11<>0,500,AU11*$AE11/$AH11+AV11/$AH11*5+AW11/$AH11*25+AX11*50+AY11*50)))","v":1.3020833333333335},null,{"$f":"IF(C11<>\"\",C11,\"\")","v":318},6,null,null,null,null,null,null,null,{"$f":"IF($C11=\"\",\"\", IF(BM11=1,0,IF(BK11<>0,500,BF11*$AE11/$AH11+BG11/$AH11*5+BH11/$AH11*25+BI11*50+BJ11*50)))","v":7.8125000000000009},null,{"$f":"IF(C11<>\"\",C11,\"\")","v":318},2,1,null,null,null,null,null,null,{"$f":"IF($C11=\"\",\"\", IF(BX11=1,0,IF(BV11<>0,500,BQ11*$AE11/$AH11+BR11/$AH11*5+BS11/$AH11*25+BT11*50+BU11*50)))","v":4.7743055555555554},null,{"$f":"IF(C11<>\"\",C11,\"\")","v":318},5,null,1,null,null,null,null,null,{"$f":"IF($C11=\"\",\"\", IF(CI11=1,0,IF(CG11<>0,500,CB11*$AE11/$AH11+CC11/$AH11*5+CD11/$AH11*25+CE11*50+CF11*50)))","v":17.361111111111111},null,{"$f":"IF(C11<>\"\",C11,\"\")","v":318},5,1,null,null,null,null,null,null,{"$f":"IF($C11=\"\",\"\", IF(CT11=1,0,IF(CR11<>0,500,CM11*$AE11/$AH11+CN11/$AH11*5+CO11/$AH11*25+CP11*50+CQ11*50)))","v":8.6805555555555554},null,{"$f":"IF(C11<>\"\",C11,\"\")","v":318},2,null,null,null,null,null,null,null,{"$f":"IF($C11=\"\",\"\", IF(DE11=1,0,IF(DC11<>0,500,CX11*$AE11/$AH11+CY11/$AH11*5+CZ11/$AH11*25+DA11*50+DB11*50)))","v":2.604166666666667},null,{"$f":"IF(C11<>\"\",C11,\"\")","v":318},2,null,null,null,null,null,null,null,{"$f":"IF($C11=\"\",\"\", IF(DP11=1,0,IF(DN11<>0,500,DI11*$AE11/$AH11+DJ11/$AH11*5+DK11/$AH11*25+DL11*50+DM11*50)))","v":2.604166666666667},null,{"$f":"IF(C11<>\"\",C11,\"\")","v":318},4,null,null,null,1,null,"time",null,{"$f":"IF($C11=\"\",\"\", IF(EA11=1,0,IF(DY11<>0,500,DT11*$AE11/$AH11+DU11/$AH11*5+DV11/$AH11*25+DW11*50+DX11*50)))","v":55.208333333333336},null,{"$f":"IF(C11<>\"\",C11,\"\")","v":318},null,null,null,null,null,null,null,1,{"$f":"IF($C11=\"\",\"\", IF(EL11=1,0,IF(EJ11<>0,500,EE11*$AE11/$AH11+EF11/$AH11*5+EG11/$AH11*25+EH11*50+EI11*50)))","v":0},null,{"$f":"IF(C11<>\"\",C11,\"\")","v":318},6,null,null,null,null,null,null,null,{"$f":"IF($C11=\"\",\"\", IF(EW11=1,0,IF(EU11<>0,500,EP11*$AE11/$AH11+EQ11/$AH11*5+ER11/$AH11*25+ES11*50+ET11*50)))","v":7.8125000000000009},null,{"$f":"IF(C11<>\"\",C11,\"\")","v":318},2,1,null,null,null,null,null,null,{"$f":"IF($C11=\"\",\"\", IF(FH11=1,0,IF(FF11<>0,500,FA11*$AE11/$AH11+FB11/$AH11*5+FC11/$AH11*25+FD11*50+FE11*50)))","v":4.7743055555555554},null,{"$f":"IF(C11<>\"\",C11,\"\")","v":318},2,null,null,null,null,null,null,null,{"$f":"IF($C11=\"\",\"\", IF(FS11=1,0,IF(FQ11<>0,500,FL11*$AE11/$AH11+FM11/$AH11*5+FN11/$AH11*25+FO11*50+FP11*50)))","v":2.604166666666667},null,{"$f":"IF(C11<>\"\",C11,\"\")","v":318},4,4,1,null,null,null,null,null,{"$f":"IF($C11=\"\",\"\", IF(GD11=1,0,IF(GB11<>0,500,FW11*$AE11/$AH11+FX11/$AH11*5+FY11/$AH11*25+FZ11*50+GA11*50)))","v":24.739583333333336},null,{"$f":"IF(C11<>\"\",C11,\"\")","v":318},3,1,null,null,null,null,null,null,{"$f":"IF($C11=\"\",\"\", IF(GO11=1,0,IF(GM11<>0,500,GH11*$AE11/$AH11+GI11/$AH11*5+GJ11/$AH11*25+GK11*50+GL11*50)))","v":6.0763888888888893},null,{"$f":"IF(C11<>\"\",C11,\"\")","v":318},1,null,null,null,null,null,null,null,{"$f":"IF($C11=\"\",\"\", IF(GZ11=1,0,IF(GX11<>0,500,GS11*$AE11/$AH11+GT11/$AH11*5+GU11/$AH11*25+GV11*50+GW11*50)))","v":1.3020833333333335},null,{"$f":"IF(C11<>\"\",C11,\"\")","v":318},5,null,null,null,null,null,null,null,{"$f":"IF($C11=\"\",\"\", IF(HK11=1,0,IF(HI11<>0,500,HD11*$AE11/$AH11+HE11/$AH11*5+HF11/$AH11*25+HG11*50+HH11*50)))","v":6.510416666666667},null,{"$f":"IF(C11<>\"\",C11,\"\")","v":318},null,null,null,null,null,null,null,null,{"$f":"IF($C11=\"\",\"\", IF(HV11=1,0,IF(HT11<>0,500,HO11*$AE11/$AH11+HP11/$AH11*5+HQ11/$AH11*25+HR11*50+HS11*50)))","v":0},null,{"$f":"IF(C11<>\"\",C11,\"\")","v":318},null,null,null,null,null,null,null,null,{"$f":"IF($C11=\"\",\"\", IF(IG11=1,0,IF(IE11<>0,500,HZ11*$AE11/$AH11+IA11/$AH11*5+IB11/$AH11*25+IC11*50+ID11*50)))","v":0}]
[null,{"$f":"IF(C12=0,\"\",ROW(C12)-4)","v":8},307,"Italy","Wranlger TJ","Francesco Piana","Giovanni Piana",{"$f":"IF(C12=0,\"\",IF(OR(BB12=1,BC12<>0),BC12,\"-\"))","v":0},{"$f":"IF(C12=0,\"\",IF(OR(BM12=1,BN12<>0),BN12,\"-\"))","v":5.2821128451380552},{"$f":"IF(C12=0,\"\",IF(OR(BX12=1,BY12<>0),BY12,\" -\"))","v":2.8811524609843939},{"$f":"IF(C12=0,\"\",IF(OR(CJ12<>0,CI12=1),CJ12,\" -\"))","v":52.881152460984396},{"$f":"IF(C12=0,\"\",IF(OR(CU12<>0,CT12=1),CU12,\" -\"))","v":12.004801920768307},{"$f":"IF(C12=0,\"\",IF(OR(DF12<>0,DE12=1),DF12,\" -\"))","v":1.440576230492197},{"$f":"IF(C12=0,\"\",IF(OR(DQ12<>0,DP12=1),DQ12,\" -\"))","v":2.8811524609843939},{"$f":"IF(C12=0,\"\",IF(OR(EB12<>0,EA12=1),EB12,\" -\"))","v":4.3217286914765909},{"$f":"IF(C12=0,\"\",IF(OR(EM12<>0,EL12=1),EM12,\" -\"))","v":0},{"$f":"IF(C12=0,\"\",IF(OR(EX12<>0,EW12=1),EX12,\" -\"))","v":5.7623049219687879},{"$f":"IF(C12=0,\"\",IF(OR(FI12<>0,FH12=1),FI12,\" -\"))","v":8.1632653061224492},{"$f":"IF(C12=0,\"\",IF(OR(FT12<>0,FS12=1),FT12,\" -\"))","v":0},{"$f":"IF(C12=0,\"\",IF(OR(GE12<>0,GD12=1),GE12,\" -\"))","v":41.776710684273709},{"$f":"IF(C12=0,\"\",IF(OR(GP12<>0,GO12=1),GP12,\" -\"))","v":13.445378151260503},{"$f":"IF(C12=0,\"\",IF(OR(HA12<>0,GZ12=1),HA12,\" -\"))","v":4.3217286914765909},{"$f":"IF(C12=0,\"\",IF(OR(HL12<>0,HK12=1),HL12,\" -\"))","v":16.326530612244898},{"$f":"IF(C12=0,\"\",IF(AJ12<>0,AJ12,\" -\"))","v":" -"},{"$f":"IF(C12=0,\"\",IF(OR(HW12<>0,HV12=1),HW12,\" -\"))","v":" -"},{"$f":"IF(C12=0,\"\",IF(OR(IH12<>0,IG12=1),IH12,\" -\"))","v":" -"},{"$f":"IF(C12=0,\"\",IF(AL12=1,\"DNF\",IF(AL12=2,\"DSQ\",IF(AM12<>1,\"~ \"&ROUND(SUM(H12:X12),3),ROUND(SUM(H12:X12),3)))))","v":171.489},null,null,{"$f":"IF(C12<>\"\",C12,\"\")","v":307},{"$f":"IF(AD12<>\"\",3,\"\")","v":3},1750,2380,{"$f":"IF(AD12<>\"\",(AF12/1000*AG12/1000)/2,\"\")","v":2.0825},3,null,null,null,1,null,null,{"$f":"IF(C12=0,99999,IF(AL12>0,9999,SUM(H12:X12)-AN12))","v":171.48859543817531},{"$f":"IF(C12=0,99999,IF(AL12=1,9999,SUM(Y12:Z12)))","v":0},null,null,{"$f":"IF(C12<>\"\",C12,\"\")","v":307},null,null,null,null,null,null,null,1,{"$f":"IF($C12=\"\",\"\", IF(BB12=1,0,IF(AZ12<>0,500,AU12*$AE12/$AH12+AV12/$AH12*5+AW12/$AH12*25+AX12*50+AY12*50)))","v":0},null,{"$f":"IF(C12<>\"\",C12,\"\")","v":307},2,1,null,null,null,null,null,null,{"$f":"IF($C12=\"\",\"\", IF(BM12=1,0,IF(BK12<>0,500,BF12*$AE12/$AH12+BG12/$AH12*5+BH12/$AH12*25+BI12*50+BJ12*50)))","v":5.2821128451380552},null,{"$f":"IF(C12<>\"\",C12,\"\")","v":307},2,null,null,null,null,null,null,null,{"$f":"IF($C12=\"\",\"\", IF(BX12=1,0,IF(BV12<>0,500,BQ12*$AE12/$AH12+BR12/$AH12*5+BS12/$AH12*25+BT12*50+BU12*50)))","v":2.8811524609843939},null,{"$f":"IF(C12<>\"\",C12,\"\")","v":307},2,null,null,null,1,null,"Reversed back to last gate",null,{"$f":"IF($C12=\"\",\"\", IF(CI12=1,0,IF(CG12<>0,500,CB12*$AE12/$AH12+CC12/$AH12*5+CD12/$AH12*25+CE12*50+CF12*50)))","v":52.881152460984396},null,{"$f":"IF(C12<>\"\",C12,\"\")","v":307},null,null,1,null,null,null,null,null,{"$f":"IF($C12=\"\",\"\", IF(CT12=1,0,IF(CR12<>0,500,CM12*$AE12/$AH12+CN12/$AH12*5+CO12/$AH12*25+CP12*50+CQ12*50)))","v":12.004801920768307},null,{"$f":"IF(C12<>\"\",C12,\"\")","v":307},1,null,null,null,null,null,null,null,{"$f":"IF($C12=\"\",\"\", IF(DE12=1,0,IF(DC12<>0,500,CX12*$AE12/$AH12+CY12/$AH12*5+CZ12/$AH12*25+DA12*50+DB12*50)))","v":1.440576230492197},null,{"$f":"IF(C12<>\"\",C12,\"\")","v":307},2,null,null,null,null,null,null,null,{"$f":"IF($C12=\"\",\"\", IF(DP12=1,0,IF(DN12<>0,500,DI12*$AE12/$AH12+DJ12/$AH12*5+DK12/$AH12*25+DL12*50+DM12*50)))","v":2.8811524609843939},null,{"$f":"IF(C12<>\"\",C12,\"\")","v":307},3,null,null,null,null,null,null,null,{"$f":"IF($C12=\"\",\"\", IF(EA12=1,0,IF(DY12<>0,500,DT12*$AE12/$AH12+DU12/$AH12*5+DV12/$AH12*25+DW12*50+DX12*50)))","v":4.3217286914765909},null,{"$f":"IF(C12<>\"\",C12,\"\")","v":307},null,null,null,null,null,null,null,1,{"$f":"IF($C12=\"\",\"\", IF(EL12=1,0,IF(EJ12<>0,500,EE12*$AE12/$AH12+EF12/$AH12*5+EG12/$AH12*25+EH12*50+EI12*50)))","v":0},null,{"$f":"IF(C12<>\"\",C12,\"\")","v":307},4,null,null,null,null,null,null,null,{"$f":"IF($C12=\"\",\"\", IF(EW12=1,0,IF(EU12<>0,500,EP12*$AE12/$AH12+EQ12/$AH12*5+ER12/$AH12*25+ES12*50+ET12*50)))","v":5.7623049219687879},null,{"$f":"IF(C12<>\"\",C12,\"\")","v":307},4,1,null,null,null,null,null,null,{"$f":"IF($C12=\"\",\"\", IF(FH12=1,0,IF(FF12<>0,500,FA12*$AE12/$AH12+FB12/$AH12*5+FC12/$AH12*25+FD12*50+FE12*50)))","v":8.1632653061224492},null,{"$f":"IF(C12<>\"\",C12,\"\")","v":307},null,null,null,null,null,null,null,1,{"$f":"IF($C12=\"\",\"\", IF(FS12=1,0,IF(FQ12<>0,500,FL12*$AE12/$AH12+FM12/$AH12*5+FN12/$AH12*25+FO12*50+FP12*50)))","v":0},null,{"$f":"IF(C12<>\"\",C12,\"\")","v":307},4,null,3,null,null,null,null,null,{"$f":"IF($C12=\"\",\"\", IF(GD12=1,0,IF(GB12<>0,500,FW12*$AE12/$AH12+FX12/$AH12*5+FY12/$AH12*25+FZ12*50+GA12*50)))","v":41.776710684273709},null,{"$f":"IF(C12<>\"\",C12,\"\")","v":307},1,null,1,null,null,null,null,null,{"$f":"IF($C12=\"\",\"\", IF(GO12=1,0,IF(GM12<>0,500,GH12*$AE12/$AH12+GI12/$AH12*5+GJ12/$AH12*25+GK12*50+GL12*50)))","v":13.445378151260503},null,{"$f":"IF(C12<>\"\",C12,\"\")","v":307},3,null,null,null,null,null,null,null,{"$f":"IF($C12=\"\",\"\", IF(GZ12=1,0,IF(GX12<>0,500,GS12*$AE12/$AH12+GT12/$AH12*5+GU12/$AH12*25+GV12*50+GW12*50)))","v":4.3217286914765909},null,{"$f":"IF(C12<>\"\",C12,\"\")","v":307},3,null,1,null,null,null,null,null,{"$f":"IF($C12=\"\",\"\", IF(HK12=1,0,IF(HI12<>0,500,HD12*$AE12/$AH12+HE12/$AH12*5+HF12/$AH12*25+HG12*50+HH12*50)))","v":16.326530612244898},null,{"$f":"IF(C12<>\"\",C12,\"\")","v":307},null,null,null,null,null,null,null,null,{"$f":"IF($C12=\"\",\"\", IF(HV12=1,0,IF(HT12<>0,500,HO12*$AE12/$AH12+HP12/$AH12*5+HQ12/$AH12*25+HR12*50+HS12*50)))","v":0},null,{"$f":"IF(C12<>\"\",C12,\"\")","v":307},null,null,null,null,null,null,null,null,{"$f":"IF($C12=\"\",\"\", IF(IG12=1,0,IF(IE12<>0,500,HZ12*$AE12/$AH12+IA12/$AH12*5+IB12/$AH12*25+IC12*50+ID12*50)))","v":0}]
[null,{"$f":"IF(C13=0,\"\",ROW(C13)-4)","v":9},308,"Norway","Suzuki","Halvor Sundsli","Anette Nordjordet Nesland",{"$f":"IF(C13=0,\"\",IF(OR(BB13=1,BC13<>0),BC13,\"-\"))","v":0},{"$f":"IF(C13=0,\"\",IF(OR(BM13=1,BN13<>0),BN13,\"-\"))","v":0},{"$f":"IF(C13=0,\"\",IF(OR(BX13=1,BY13<>0),BY13,\" -\"))","v":0},{"$f":"IF(C13=0,\"\",IF(OR(CJ13<>0,CI13=1),CJ13,\" -\"))","v":0},{"$f":"IF(C13=0,\"\",IF(OR(CU13<>0,CT13=1),CU13,\" -\"))","v":0},{"$f":"IF(C13=0,\"\",IF(OR(DF13<>0,DE13=1),DF13,\" -\"))","v":0},{"$f":"IF(C13=0,\"\",IF(OR(DQ13<>0,DP13=1),DQ13,\" -\"))","v":0},{"$f":"IF(C13=0,\"\",IF(OR(EB13<>0,EA13=1),EB13,\" -\"))","v":2.0383896721589947},{"$f":"IF(C13=0,\"\",IF(OR(EM13<>0,EL13=1),EM13,\" -\"))","v":0},{"$f":"IF(C13=0,\"\",IF(OR(EX13<>0,EW13=1),EX13,\" -\"))","v":0},{"$f":"IF(C13=0,\"\",IF(OR(FI13<>0,FH13=1),FI13,\" -\"))","v":19.024970273483952},{"$f":"IF(C13=0,\"\",IF(OR(FT13<>0,FS13=1),FT13,\" -\"))","v":0},{"$f":"IF(C13=0,\"\",IF(OR(GE13<>0,GD13=1),GE13,\" -\"))","v":156.39544759639887},{"$f":"IF(C13=0,\"\",IF(OR(GP13<>0,GO13=1),GP13,\" -\"))","v":0},{"$f":"IF(C13=0,\"\",IF(OR(HA13<>0,GZ13=1),HA13,\" -\"))","v":0},{"$f":"IF(C13=0,\"\",IF(OR(HL13<>0,HK13=1),HL13,\" -\"))","v":2.0383896721589947},{"$f":"IF(C13=0,\"\",IF(AJ13<>0,AJ13,\" -\"))","v":" -"},{"$f":"IF(C13=0,\"\",IF(OR(HW13<>0,HV13=1),HW13,\" -\"))","v":" -"},{"$f":"IF(C13=0,\"\",IF(OR(IH13<>0,IG13=1),IH13,\" -\"))","v":" -"},{"$f":"IF(C13=0,\"\",IF(AL13=1,\"DNF\",IF(AL13=2,\"DSQ\",IF(AM13<>1,\"~ \"&ROUND(SUM(H13:X13),3),ROUND(SUM(H13:X13),3)))))","v":179.49700000000001},null,null,{"$f":"IF(C13<>\"\",C13,\"\")","v":308},{"$f":"IF(AD13<>\"\",3,\"\")","v":3},1450,2030,{"$f":"IF(AD13<>\"\",(AF13/1000*AG13/1000)/2,\"\")","v":1.4717499999999999},5,null,null,null,1,null,null,{"$f":"IF(C13=0,99999,IF(AL13>0,9999,SUM(H13:X13)-AN13))","v":179.49719721420081},{"$f":"IF(C13=0,99999,IF(AL13=1,9999,SUM(Y13:Z13)))","v":0},null,null,{"$f":"IF(C13<>\"\",C13,\"\")","v":308},null,null,null,null,null,null,null,1,{"$f":"IF($C13=\"\",\"\", IF(BB13=1,0,IF(AZ13<>0,500,AU13*$AE13/$AH13+AV13/$AH13*5+AW13/$AH13*25+AX13*50+AY13*50)))","v":0},null,{"$f":"IF(C13<>\"\",C13,\"\")","v":308},null,null,null,null,null,null,null,1,{"$f":"IF($C13=\"\",\"\", IF(BM13=1,0,IF(BK13<>0,500,BF13*$AE13/$AH13+BG13/$AH13*5+BH13/$AH13*25+BI13*50+BJ13*50)))","v":0},null,{"$f":"IF(C13<>\"\",C13,\"\")","v":308},null,null,null,null,null,null,null,1,{"$f":"IF($C13=\"\",\"\", IF(BX13=1,0,IF(BV13<>0,500,BQ13*$AE13/$AH13+BR13/$AH13*5+BS13/$AH13*25+BT13*50+BU13*50)))","v":0},null,{"$f":"IF(C13<>\"\",C13,\"\")","v":308},null,null,null,null,null,null,null,1,{"$f":"IF($C13=\"\",\"\", IF(CI13=1,0,IF(CG13<>0,500,CB13*$AE13/$AH13+CC13/$AH13*5+CD13/$AH13*25+CE13*50+CF13*50)))","v":0},null,{"$f":"IF(C13<>\"\",C13,\"\")","v":308},null,null,null,null,null,null,null,1,{"$f":"IF($C13=\"\",\"\", IF(CT13=1,0,IF(CR13<>0,500,CM13*$AE13/$AH13+CN13/$AH13*5+CO13/$AH13*25+CP13*50+CQ13*50)))","v":0},null,{"$f":"IF(C13<>\"\",C13,\"\")","v":308},null,null,null,null,null,null,null,1,{"$f":"IF($C13=\"\",\"\", IF(DE13=1,0,IF(DC13<>0,500,CX13*$AE13/$AH13+CY13/$AH13*5+CZ13/$AH13*25+DA13*50+DB13*50)))","v":0},null,{"$f":"IF(C13<>\"\",C13,\"\")","v":308},null,null,null,null,null,null,null,1,{"$f":"IF($C13=\"\",\"\", IF(DP13=1,0,IF(DN13<>0,500,DI13*$AE13/$AH13+DJ13/$AH13*5+DK13/$AH13*25+DL13*50+DM13*50)))","v":0},null,{"$f":"IF(C13<>\"\",C13,\"\")","v":308},1,null,null,null,null,null,null,null,{"$f":"IF($C13=\"\",\"\", IF(EA13=1,0,IF(DY13<>0,500,DT13*$AE13/$AH13+DU13/$AH13*5+DV13/$AH13*25+DW13*50+DX13*50)))","v":2.0383896721589947},null,{"$f":"IF(C13<>\"\",C13,\"\")","v":308},null,null,null,null,null,null,null,1,{"$f":"IF($C13=\"\",\"\", IF(EL13=1,0,IF(EJ13<>0,500,EE13*$AE13/$AH13+EF13/$AH13*5+EG13/$AH13*25+EH13*50+EI13*50)))","v":0},null,{"$f":"IF(C13<>\"\",C13,\"\")","v":308},null,null,null,null,null,null,null,1,{"$f":"IF($C13=\"\",\"\", IF(EW13=1,0,IF(EU13<>0,500,EP13*$AE13/$AH13+EQ13/$AH13*5+ER13/$AH13*25+ES13*50+ET13*50)))","v":0},null,{"$f":"IF(C13<>\"\",C13,\"\")","v":308},1,null,1,null,null,null,null,null,{"$f":"IF($C13=\"\",\"\", IF(FH13=1,0,IF(FF13<>0,500,FA13*$AE13/$AH13+FB13/$AH13*5+FC13/$AH13*25+FD13*50+FE13*50)))","v":19.024970273483952},null,{"$f":"IF(C13<>\"\",C13,\"\")","v":308},null,null,null,null,null,null,null,1,{"$f":"IF($C13=\"\",\"\", IF(FS13=1,0,IF(FQ13<>0,500,FL13*$AE13/$AH13+FM13/$AH13*5+FN13/$AH13*25+FO13*50+FP13*50)))","v":0},null,{"$f":"IF(C13<>\"\",C13,\"\")","v":308},6,3,2,1,1,null,"time",null,{"$f":"IF($C13=\"\",\"\", IF(GD13=1,0,IF(GB13<>0,500,FW13*$AE13/$AH13+FX13/$AH13*5+FY13/$AH13*25+FZ13*50+GA13*50)))","v":156.39544759639887},null,{"$f":"IF(C13<>\"\",C13,\"\")","v":308},null,null,null,null,null,null,null,1,{"$f":"IF($C13=\"\",\"\", IF(GO13=1,0,IF(GM13<>0,500,GH13*$AE13/$AH13+GI13/$AH13*5+GJ13/$AH13*25+GK13*50+GL13*50)))","v":0},null,{"$f":"IF(C13<>\"\",C13,\"\")","v":308},null,null,null,null,null,null,null,1,{"$f":"IF($C13=\"\",\"\", IF(GZ13=1,0,IF(GX13<>0,500,GS13*$AE13/$AH13+GT13/$AH13*5+GU13/$AH13*25+GV13*50+GW13*50)))","v":0},null,{"$f":"IF(C13<>\"\",C13,\"\")","v":308},1,null,null,null,null,null,null,null,{"$f":"IF($C13=\"\",\"\", IF(HK13=1,0,IF(HI13<>0,500,HD13*$AE13/$AH13+HE13/$AH13*5+HF13/$AH13*25+HG13*50+HH13*50)))","v":2.0383896721589947},null,{"$f":"IF(C13<>\"\",C13,\"\")","v":308},null,null,null,null,null,null,null,null,{"$f":"IF($C13=\"\",\"\", IF(HV13=1,0,IF(HT13<>0,500,HO13*$AE13/$AH13+HP13/$AH13*5+HQ13/$AH13*25+HR13*50+HS13*50)))","v":0},null,{"$f":"IF(C13<>\"\",C13,\"\")","v":308},null,null,null,null,null,null,null,null,{"$f":"IF($C13=\"\",\"\", IF(IG13=1,0,IF(IE13<>0,500,HZ13*$AE13/$AH13+IA13/$AH13*5+IB13/$AH13*25+IC13*50+ID13*50)))","v":0}]
[null,{"$f":"IF(C14=0,\"\",ROW(C14)-4)","v":10},309,"Switzerland","Suzuki Vitara","Dubuis Colin","Courtine Sara",{"$f":"IF(C14=0,\"\",IF(OR(BB14=1,BC14<>0),BC14,\"-\"))","v":0},{"$f":"IF(C14=0,\"\",IF(OR(BM14=1,BN14<>0),BN14,\"-\"))","v":6.5717415115005471},{"$f":"IF(C14=0,\"\",IF(OR(BX14=1,BY14<>0),BY14,\" -\"))","v":3.2858707557502735},{"$f":"IF(C14=0,\"\",IF(OR(CJ14<>0,CI14=1),CJ14,\" -\"))","v":1.6429353778751368},{"$f":"IF(C14=0,\"\",IF(OR(CU14<>0,CT14=1),CU14,\" -\"))","v":0},{"$f":"IF(C14=0,\"\",IF(OR(DF14<>0,DE14=1),DF14,\" -\"))","v":1.6429353778751368},{"$f":"IF(C14=0,\"\",IF(OR(DQ14<>0,DP14=1),DQ14,\" -\"))","v":0},{"$f":"IF(C14=0,\"\",IF(OR(EB14<>0,EA14=1),EB14,\" -\"))","v":1.6429353778751368},{"$f":"IF(C14=0,\"\",IF(OR(EM14<>0,EL14=1),EM14,\" -\"))","v":3.2858707557502735},{"$f":"IF(C14=0,\"\",IF(OR(EX14<>0,EW14=1),EX14,\" -\"))","v":150},{"$f":"IF(C14=0,\"\",IF(OR(FI14<>0,FH14=1),FI14,\" -\"))","v":6.024096385542169},{"$f":"IF(C14=0,\"\",IF(OR(FT14<>0,FS14=1),FT14,\" -\"))","v":1.6429353778751368},{"$f":"IF(C14=0,\"\",IF(OR(GE14<>0,GD14=1),GE14,\" -\"))","v":7.667031763417306},{"$f":"IF(C14=0,\"\",IF(OR(GP14<>0,GO14=1),GP14,\" -\"))","v":4.381161007667032},{"$f":"IF(C14=0,\"\",IF(OR(HA14<>0,GZ14=1),HA14,\" -\"))","v":1.6429353778751368},{"$f":"IF(C14=0,\"\",IF(OR(HL14<>0,HK14=1),HL14,\" -\"))","v":1.6429353778751368},{"$f":"IF(C14=0,\"\",IF(AJ14<>0,AJ14,\" -\"))","v":" -"},{"$f":"IF(C14=0,\"\",IF(OR(HW14<>0,HV14=1),HW14,\" -\"))","v":" -"},{"$f":"IF(C14=0,\"\",IF(OR(IH14<>0,IG14=1),IH14,\" -\"))","v":" -"},{"$f":"IF(C14=0,\"\",IF(AL14=1,\"DNF\",IF(AL14=2,\"DSQ\",IF(AM14<>1,\"~ \"&ROUND(SUM(H14:X14),3),ROUND(SUM(H14:X14),3)))))","v":191.07300000000001},null,null,{"$f":"IF(C14<>\"\",C14,\"\")","v":309},{"$f":"IF(AD14<>\"\",3,\"\")","v":3},1660,2200,{"$f":"IF(AD14<>\"\",(AF14/1000*AG14/1000)/2,\"\")","v":1.8260000000000001},4,null,null,null,1,null,null,{"$f":"IF(C14=0,99999,IF(AL14>0,9999,SUM(H14:X14)-AN14))","v":191.07338444687846},{"$f":"IF(C14=0,99999,IF(AL14=1,9999,SUM(Y14:Z14)))","v":0},null,null,{"$f":"IF(C14<>\"\",C14,\"\")","v":309},null,null,null,null,null,null,null,1,{"$f":"IF($C14=\"\",\"\", IF(BB14=1,0,IF(AZ14<>0,500,AU14*$AE14/$AH14+AV14/$AH14*5+AW14/$AH14*25+AX14*50+AY14*50)))","v":0},null,{"$f":"IF(C14<>\"\",C14,\"\")","v":309},4,null,null,null,null,null,null,null,{"$f":"IF($C14=\"\",\"\", IF(BM14=1,0,IF(BK14<>0,500,BF14*$AE14/$AH14+BG14/$AH14*5+BH14/$AH14*25+BI14*50+BJ14*50)))","v":6.5717415115005471},null,{"$f":"IF(C14<>\"\",C14,\"\")","v":309},2,null,null,null,null,null,null,null,{"$f":"IF($C14=\"\",\"\", IF(BX14=1,0,IF(BV14<>0,500,BQ14*$AE14/$AH14+BR14/$AH14*5+BS14/$AH14*25+BT14*50+BU14*50)))","v":3.2858707557502735},null,{"$f":"IF(C14<>\"\",C14,\"\")","v":309},1,null,null,null,null,null,null,null,{"$f":"IF($C14=\"\",\"\", IF(CI14=1,0,IF(CG14<>0,500,CB14*$AE14/$AH14+CC14/$AH14*5+CD14/$AH14*25+CE14*50+CF14*50)))","v":1.6429353778751368},null,{"$f":"IF(C14<>\"\",C14,\"\")","v":309},null,null,null,null,null,null,null,1,{"$f":"IF($C14=\"\",\"\", IF(CT14=1,0,IF(CR14<>0,500,CM14*$AE14/$AH14+CN14/$AH14*5+CO14/$AH14*25+CP14*50+CQ14*50)))","v":0},null,{"$f":"IF(C14<>\"\",C14,\"\")","v":309},1,null,null,null,null,null,null,null,{"$f":"IF($C14=\"\",\"\", IF(DE14=1,0,IF(DC14<>0,500,CX14*$AE14/$AH14+CY14/$AH14*5+CZ14/$AH14*25+DA14*50+DB14*50)))","v":1.6429353778751368},null,{"$f":"IF(C14<>\"\",C14,\"\")","v":309},null,null,null,null,null,null,null,1,{"$f":"IF($C14=\"\",\"\", IF(DP14=1,0,IF(DN14<>0,500,DI14*$AE14/$AH14+DJ14/$AH14*5+DK14/$AH14*25+DL14*50+DM14*50)))","v":0},null,{"$f":"IF(C14<>\"\",C14,\"\")","v":309},1,null,null,null,null,null,null,null,{"$f":"IF($C14=\"\",\"\", IF(EA14=1,0,IF(DY14<>0,500,DT14*$AE14/$AH14+DU14/$AH14*5+DV14/$AH14*25+DW14*50+DX14*50)))","v":1.6429353778751368},null,{"$f":"IF(C14<>\"\",C14,\"\")","v":309},2,null,null,null,null,null,null,null,{"$f":"IF($C14=\"\",\"\", IF(EL14=1,0,IF(EJ14<>0,500,EE14*$AE14/$AH14+EF14/$AH14*5+EG14/$AH14*25+EH14*50+EI14*50)))","v":3.2858707557502735},null,{"$f":"IF(C14<>\"\",C14,\"\")","v":309},null,null,null,2,1,null,"roll over",null,{"$f":"IF($C14=\"\",\"\", IF(EW14=1,0,IF(EU14<>0,500,EP14*$AE14/$AH14+EQ14/$AH14*5+ER14/$AH14*25+ES14*50+ET14*50)))","v":150},null,{"$f":"IF(C14<>\"\",C14,\"\")","v":309},2,1,null,null,null,null,null,null,{"$f":"IF($C14=\"\",\"\", IF(FH14=1,0,IF(FF14<>0,500,FA14*$AE14/$AH14+FB14/$AH14*5+FC14/$AH14*25+FD14*50+FE14*50)))","v":6.024096385542169},null,{"$f":"IF(C14<>\"\",C14,\"\")","v":309},1,null,null,null,null,null,null,null,{"$f":"IF($C14=\"\",\"\", IF(FS14=1,0,IF(FQ14<>0,500,FL14*$AE14/$AH14+FM14/$AH14*5+FN14/$AH14*25+FO14*50+FP14*50)))","v":1.6429353778751368},null,{"$f":"IF(C14<>\"\",C14,\"\")","v":309},3,1,null,null,null,null,null,null,{"$f":"IF($C14=\"\",\"\", IF(GD14=1,0,IF(GB14<>0,500,FW14*$AE14/$AH14+FX14/$AH14*5+FY14/$AH14*25+FZ14*50+GA14*50)))","v":7.667031763417306},null,{"$f":"IF(C14<>\"\",C14,\"\")","v":309},1,1,null,null,null,null,null,null,{"$f":"IF($C14=\"\",\"\", IF(GO14=1,0,IF(GM14<>0,500,GH14*$AE14/$AH14+GI14/$AH14*5+GJ14/$AH14*25+GK14*50+GL14*50)))","v":4.381161007667032},null,{"$f":"IF(C14<>\"\",C14,\"\")","v":309},1,null,null,null,null,null,null,null,{"$f":"IF($C14=\"\",\"\", IF(GZ14=1,0,IF(GX14<>0,500,GS14*$AE14/$AH14+GT14/$AH14*5+GU14/$AH14*25+GV14*50+GW14*50)))","v":1.6429353778751368},null,{"$f":"IF(C14<>\"\",C14,\"\")","v":309},1,null,null,null,null,null,null,null,{"$f":"IF($C14=\"\",\"\", IF(HK14=1,0,IF(HI14<>0,500,HD14*$AE14/$AH14+HE14/$AH14*5+HF14/$AH14*25+HG14*50+HH14*50)))","v":1.6429353778751368},null,{"$f":"IF(C14<>\"\",C14,\"\")","v":309},null,null,null,null,null,null,null,null,{"$f":"IF($C14=\"\",\"\", IF(HV14=1,0,IF(HT14<>0,500,HO14*$AE14/$AH14+HP14/$AH14*5+HQ14/$AH14*25+HR14*50+HS14*50)))","v":0},null,{"$f":"IF(C14<>\"\",C14,\"\")","v":309},null,null,null,null,null,null,null,null,{"$f":"IF($C14=\"\",\"\", IF(IG14=1,0,IF(IE14<>0,500,HZ14*$AE14/$AH14+IA14/$AH14*5+IB14/$AH14*25+IC14*50+ID14*50)))","v":0}]
[null,{"$f":"IF(C15=0,\"\",ROW(C15)-4)","v":11},316,"Finland","Range Rover","Petri Orvasto","Peppiina Orvasto",{"$f":"IF(C15=0,\"\",IF(OR(BB15=1,BC15<>0),BC15,\"-\"))","v":1.3196674438041611},{"$f":"IF(C15=0,\"\",IF(OR(BM15=1,BN15<>0),BN15,\"-\"))","v":7.4781155148902467},{"$f":"IF(C15=0,\"\",IF(OR(BX15=1,BY15<>0),BY15,\" -\"))","v":7.4781155148902467},{"$f":"IF(C15=0,\"\",IF(OR(CJ15<>0,CI15=1),CJ15,\" -\"))","v":17.595565917388818},{"$f":"IF(C15=0,\"\",IF(OR(CU15<>0,CT15=1),CU15,\" -\"))","v":101.31966744380416},{"$f":"IF(C15=0,\"\",IF(OR(DF15<>0,DE15=1),DF15,\" -\"))","v":2.6393348876083222},{"$f":"IF(C15=0,\"\",IF(OR(DQ15<>0,DP15=1),DQ15,\" -\"))","v":1.3196674438041611},{"$f":"IF(C15=0,\"\",IF(OR(EB15<>0,EA15=1),EB15,\" -\"))","v":2.6393348876083222},{"$f":"IF(C15=0,\"\",IF(OR(EM15<>0,EL15=1),EM15,\" -\"))","v":0},{"$f":"IF(C15=0,\"\",IF(OR(EX15<>0,EW15=1),EX15,\" -\"))","v":2.6393348876083222},{"$f":"IF(C15=0,\"\",IF(OR(FI15<>0,FH15=1),FI15,\" -\"))","v":6.1584480710860854},{"$f":"IF(C15=0,\"\",IF(OR(FT15<>0,FS15=1),FT15,\" -\"))","v":7.4781155148902467},{"$f":"IF(C15=0,\"\",IF(OR(GE15<>0,GD15=1),GE15,\" -\"))","v":28.152905467822105},{"$f":"IF(C15=0,\"\",IF(OR(GP15<>0,GO15=1),GP15,\" -\"))","v":12.316896142172171},{"$f":"IF(C15=0,\"\",IF(OR(HA15<>0,GZ15=1),HA15,\" -\"))","v":0},{"$f":"IF(C15=0,\"\",IF(OR(HL15<>0,HK15=1),HL15,\" -\"))","v":3.9590023314124836},{"$f":"IF(C15=0,\"\",IF(AJ15<>0,AJ15,\" -\"))","v":" -"},{"$f":"IF(C15=0,\"\",IF(OR(HW15<>0,HV15=1),HW15,\" -\"))","v":" -"},{"$f":"IF(C15=0,\"\",IF(OR(IH15<>0,IG15=1),IH15,\" -\"))","v":" -"},{"$f":"IF(C15=0,\"\",IF(AL15=1,\"DNF\",IF(AL15=2,\"DSQ\",IF(AM15<>1,\"~ \"&ROUND(SUM(H15:X15),3),ROUND(SUM(H15:X15),3)))))","v":202.494},null,null,{"$f":"IF(C15<>\"\",C15,\"\")","v":316},{"$f":"IF(AD15<>\"\",3,\"\")","v":3},1790,2540,{"$f":"IF(AD15<>\"\",(AF15/1000*AG15/1000)/2,\"\")","v":2.2733000000000003},2,null,null,null,1,null,null,{"$f":"IF(C15=0,99999,IF(AL15>0,9999,SUM(H15:X15)-AN15))","v":202.49417146878989},{"$f":"IF(C15=0,99999,IF(AL15=1,9999,SUM(Y15:Z15)))","v":0},null,null,{"$f":"IF(C15<>\"\",C15,\"\")","v":316},1,null,null,null,null,null,null,null,{"$f":"IF($C15=\"\",\"\", IF(BB15=1,0,IF(AZ15<>0,500,AU15*$AE15/$AH15+AV15/$AH15*5+AW15/$AH15*25+AX15*50+AY15*50)))","v":1.3196674438041611},null,{"$f":"IF(C15<>\"\",C15,\"\")","v":316},4,1,null,null,null,null,null,null,{"$f":"IF($C15=\"\",\"\", IF(BM15=1,0,IF(BK15<>0,500,BF15*$AE15/$AH15+BG15/$AH15*5+BH15/$AH15*25+BI15*50+BJ15*50)))","v":7.4781155148902467},null,{"$f":"IF(C15<>\"\",C15,\"\")","v":316},4,1,null,null,null,null,null,null,{"$f":"IF($C15=\"\",\"\", IF(BX15=1,0,IF(BV15<>0,500,BQ15*$AE15/$AH15+BR15/$AH15*5+BS15/$AH15*25+BT15*50+BU15*50)))","v":7.4781155148902467},null,{"$f":"IF(C15<>\"\",C15,\"\")","v":316},5,null,1,null,null,null,null,null,{"$f":"IF($C15=\"\",\"\", IF(CI15=1,0,IF(CG15<>0,500,CB15*$AE15/$AH15+CC15/$AH15*5+CD15/$AH15*25+CE15*50+CF15*50)))","v":17.595565917388818},null,{"$f":"IF(C15<>\"\",C15,\"\")","v":316},1,null,null,1,1,null,"Technical problem",null,{"$f":"IF($C15=\"\",\"\", IF(CT15=1,0,IF(CR15<>0,500,CM15*$AE15/$AH15+CN15/$AH15*5+CO15/$AH15*25+CP15*50+CQ15*50)))","v":101.31966744380416},null,{"$f":"IF(C15<>\"\",C15,\"\")","v":316},2,null,null,null,null,null,null,null,{"$f":"IF($C15=\"\",\"\", IF(DE15=1,0,IF(DC15<>0,500,CX15*$AE15/$AH15+CY15/$AH15*5+CZ15/$AH15*25+DA15*50+DB15*50)))","v":2.6393348876083222},null,{"$f":"IF(C15<>\"\",C15,\"\")","v":316},1,null,null,null,null,null,null,null,{"$f":"IF($C15=\"\",\"\", IF(DP15=1,0,IF(DN15<>0,500,DI15*$AE15/$AH15+DJ15/$AH15*5+DK15/$AH15*25+DL15*50+DM15*50)))","v":1.3196674438041611},null,{"$f":"IF(C15<>\"\",C15,\"\")","v":316},2,null,null,null,null,null,null,null,{"$f":"IF($C15=\"\",\"\", IF(EA15=1,0,IF(DY15<>0,500,DT15*$AE15/$AH15+DU15/$AH15*5+DV15/$AH15*25+DW15*50+DX15*50)))","v":2.6393348876083222},null,{"$f":"IF(C15<>\"\",C15,\"\")","v":316},null,null,null,null,null,null,null,1,{"$f":"IF($C15=\"\",\"\", IF(EL15=1,0,IF(EJ15<>0,500,EE15*$AE15/$AH15+EF15/$AH15*5+EG15/$AH15*25+EH15*50+EI15*50)))","v":0},null,{"$f":"IF(C15<>\"\",C15,\"\")","v":316},2,null,null,null,null,null,null,null,{"$f":"IF($C15=\"\",\"\", IF(EW15=1,0,IF(EU15<>0,500,EP15*$AE15/$AH15+EQ15/$AH15*5+ER15/$AH15*25+ES15*50+ET15*50)))","v":2.6393348876083222},null,{"$f":"IF(C15<>\"\",C15,\"\")","v":316},3,1,null,null,null,null,null,null,{"$f":"IF($C15=\"\",\"\", IF(FH15=1,0,IF(FF15<>0,500,FA15*$AE15/$AH15+FB15/$AH15*5+FC15/$AH15*25+FD15*50+FE15*50)))","v":6.1584480710860854},null,{"$f":"IF(C15<>\"\",C15,\"\")","v":316},4,1,null,null,null,null,null,null,{"$f":"IF($C15=\"\",\"\", IF(FS15=1,0,IF(FQ15<>0,500,FL15*$AE15/$AH15+FM15/$AH15*5+FN15/$AH15*25+FO15*50+FP15*50)))","v":7.4781155148902467},null,{"$f":"IF(C15<>\"\",C15,\"\")","v":316},3,1,2,null,null,null,null,null,{"$f":"IF($C15=\"\",\"\", IF(GD15=1,0,IF(GB15<>0,500,FW15*$AE15/$AH15+FX15/$AH15*5+FY15/$AH15*25+FZ15*50+GA15*50)))","v":28.152905467822105},null,{"$f":"IF(C15<>\"\",C15,\"\")","v":316},1,null,1,null,null,null,null,null,{"$f":"IF($C15=\"\",\"\", IF(GO15=1,0,IF(GM15<>0,500,GH15*$AE15/$AH15+GI15/$AH15*5+GJ15/$AH15*25+GK15*50+GL15*50)))","v":12.316896142172171},null,{"$f":"IF(C15<>\"\",C15,\"\")","v":316},null,null,null,null,null,null,null,1,{"$f":"IF($C15=\"\",\"\", IF(GZ15=1,0,IF(GX15<>0,500,GS15*$AE15/$AH15+GT15/$AH15*5+GU15/$AH15*25+GV15*50+GW15*50)))","v":0},null,{"$f":"IF(C15<>\"\",C15,\"\")","v":316},3,null,null,null,null,null,null,null,{"$f":"IF($C15=\"\",\"\", IF(HK15=1,0,IF(HI15<>0,500,HD15*$AE15/$AH15+HE15/$AH15*5+HF15/$AH15*25+HG15*50+HH15*50)))","v":3.9590023314124836},null,{"$f":"IF(C15<>\"\",C15,\"\")","v":316},null,null,null,null,null,null,null,null,{"$f":"IF($C15=\"\",\"\", IF(HV15=1,0,IF(HT15<>0,500,HO15*$AE15/$AH15+HP15/$AH15*5+HQ15/$AH15*25+HR15*50+HS15*50)))","v":0},null,{"$f":"IF(C15<>\"\",C15,\"\")","v":316},null,null,null,null,null,null,null,null,{"$f":"IF($C15=\"\",\"\", IF(IG15=1,0,IF(IE15<>0,500,HZ15*$AE15/$AH15+IA15/$AH15*5+IB15/$AH15*25+IC15*50+ID15*50)))","v":0}]
[null,{"$f":"IF(C16=0,\"\",ROW(C16)-4)","v":12},306,"Norway","Suzuki SJ","Brian Aslaksen","Andreas Tomter",{"$f":"IF(C16=0,\"\",IF(OR(BB16=1,BC16<>0),BC16,\"-\"))","v":0},{"$f":"IF(C16=0,\"\",IF(OR(BM16=1,BN16<>0),BN16,\"-\"))","v":4.0767793443179894},{"$f":"IF(C16=0,\"\",IF(OR(BX16=1,BY16<>0),BY16,\" -\"))","v":7.4740954645829802},{"$f":"IF(C16=0,\"\",IF(OR(CJ16<>0,CI16=1),CJ16,\" -\"))","v":22.422286393748941},{"$f":"IF(C16=0,\"\",IF(OR(CU16<>0,CT16=1),CU16,\" -\"))","v":16.986580601324956},{"$f":"IF(C16=0,\"\",IF(OR(DF16<>0,DE16=1),DF16,\" -\"))","v":19.024970273483952},{"$f":"IF(C16=0,\"\",IF(OR(DQ16<>0,DP16=1),DQ16,\" -\"))","v":2.0383896721589947},{"$f":"IF(C16=0,\"\",IF(OR(EB16<>0,EA16=1),EB16,\" -\"))","v":14.268727705112962},{"$f":"IF(C16=0,\"\",IF(OR(EM16<>0,EL16=1),EM16,\" -\"))","v":0},{"$f":"IF(C16=0,\"\",IF(OR(EX16<>0,EW16=1),EX16,\" -\"))","v":59.512485136741972},{"$f":"IF(C16=0,\"\",IF(OR(FI16<>0,FH16=1),FI16,\" -\"))","v":25.140139289960935},{"$f":"IF(C16=0,\"\",IF(OR(FT16<>0,FS16=1),FT16,\" -\"))","v":2.0383896721589947},{"$f":"IF(C16=0,\"\",IF(OR(GE16<>0,GD16=1),GE16,\" -\"))","v":6.1151690164769841},{"$f":"IF(C16=0,\"\",IF(OR(GP16<>0,GO16=1),GP16,\" -\"))","v":0},{"$f":"IF(C16=0,\"\",IF(OR(HA16<>0,GZ16=1),HA16,\" -\"))","v":8.1535586886359788},{"$f":"IF(C16=0,\"\",IF(OR(HL16<>0,HK16=1),HL16,\" -\"))","v":15.627654153218959},{"$f":"IF(C16=0,\"\",IF(AJ16<>0,AJ16,\" -\"))","v":" -"},{"$f":"IF(C16=0,\"\",IF(OR(HW16<>0,HV16=1),HW16,\" -\"))","v":" -"},{"$f":"IF(C16=0,\"\",IF(OR(IH16<>0,IG16=1),IH16,\" -\"))","v":" -"},{"$f":"IF(C16=0,\"\",IF(AL16=1,\"DNF\",IF(AL16=2,\"DSQ\",IF(AM16<>1,\"~ \"&ROUND(SUM(H16:X16),3),ROUND(SUM(H16:X16),3)))))","v":202.87899999999999},null,null,{"$f":"IF(C16<>\"\",C16,\"\")","v":306},{"$f":"IF(AD16<>\"\",3,\"\")","v":3},1450,2030,{"$f":"IF(AD16<>\"\",(AF16/1000*AG16/1000)/2,\"\")","v":1.4717499999999999},5,null,null,null,1,null,null,{"$f":"IF(C16=0,99999,IF(AL16>0,9999,SUM(H16:X16)-AN16))","v":202.87922541192458},{"$f":"IF(C16=0,99999,IF(AL16=1,9999,SUM(Y16:Z16)))","v":0},null,null,{"$f":"IF(C16<>\"\",C16,\"\")","v":306},null,null,null,null,null,null,null,1,{"$f":"IF($C16=\"\",\"\", IF(BB16=1,0,IF(AZ16<>0,500,AU16*$AE16/$AH16+AV16/$AH16*5+AW16/$AH16*25+AX16*50+AY16*50)))","v":0},null,{"$f":"IF(C16<>\"\",C16,\"\")","v":306},2,null,null,null,null,null,null,null,{"$f":"IF($C16=\"\",\"\", IF(BM16=1,0,IF(BK16<>0,500,BF16*$AE16/$AH16+BG16/$AH16*5+BH16/$AH16*25+BI16*50+BJ16*50)))","v":4.0767793443179894},null,{"$f":"IF(C16<>\"\",C16,\"\")","v":306},2,1,null,null,null,null,null,null,{"$f":"IF($C16=\"\",\"\", IF(BX16=1,0,IF(BV16<>0,500,BQ16*$AE16/$AH16+BR16/$AH16*5+BS16/$AH16*25+BT16*50+BU16*50)))","v":7.4740954645829802},null,{"$f":"IF(C16<>\"\",C16,\"\")","v":306},1,1,1,null,null,null,null,null,{"$f":"IF($C16=\"\",\"\", IF(CI16=1,0,IF(CG16<>0,500,CB16*$AE16/$AH16+CC16/$AH16*5+CD16/$AH16*25+CE16*50+CF16*50)))","v":22.422286393748941},null,{"$f":"IF(C16<>\"\",C16,\"\")","v":306},null,null,1,null,null,null,null,null,{"$f":"IF($C16=\"\",\"\", IF(CT16=1,0,IF(CR16<>0,500,CM16*$AE16/$AH16+CN16/$AH16*5+CO16/$AH16*25+CP16*50+CQ16*50)))","v":16.986580601324956},null,{"$f":"IF(C16<>\"\",C16,\"\")","v":306},1,null,1,null,null,null,null,null,{"$f":"IF($C16=\"\",\"\", IF(DE16=1,0,IF(DC16<>0,500,CX16*$AE16/$AH16+CY16/$AH16*5+CZ16/$AH16*25+DA16*50+DB16*50)))","v":19.024970273483952},null,{"$f":"IF(C16<>\"\",C16,\"\")","v":306},1,null,null,null,null,null,null,null,{"$f":"IF($C16=\"\",\"\", IF(DP16=1,0,IF(DN16<>0,500,DI16*$AE16/$AH16+DJ16/$AH16*5+DK16/$AH16*25+DL16*50+DM16*50)))","v":2.0383896721589947},null,{"$f":"IF(C16<>\"\",C16,\"\")","v":306},7,null,null,null,null,null,null,null,{"$f":"IF($C16=\"\",\"\", IF(EA16=1,0,IF(DY16<>0,500,DT16*$AE16/$AH16+DU16/$AH16*5+DV16/$AH16*25+DW16*50+DX16*50)))","v":14.268727705112962},null,{"$f":"IF(C16<>\"\",C16,\"\")","v":306},null,null,null,null,null,null,null,1,{"$f":"IF($C16=\"\",\"\", IF(EL16=1,0,IF(EJ16<>0,500,EE16*$AE16/$AH16+EF16/$AH16*5+EG16/$AH16*25+EH16*50+EI16*50)))","v":0},null,{"$f":"IF(C16<>\"\",C16,\"\")","v":306},3,1,null,null,1,null,"time",null,{"$f":"IF($C16=\"\",\"\", IF(EW16=1,0,IF(EU16<>0,500,EP16*$AE16/$AH16+EQ16/$AH16*5+ER16/$AH16*25+ES16*50+ET16*50)))","v":59.512485136741972},null,{"$f":"IF(C16<>\"\",C16,\"\")","v":306},4,null,1,null,null,null,null,null,{"$f":"IF($C16=\"\",\"\", IF(FH16=1,0,IF(FF16<>0,500,FA16*$AE16/$AH16+FB16/$AH16*5+FC16/$AH16*25+FD16*50+FE16*50)))","v":25.140139289960935},null,{"$f":"IF(C16<>\"\",C16,\"\")","v":306},1,null,null,null,null,null,null,null,{"$f":"IF($C16=\"\",\"\", IF(FS16=1,0,IF(FQ16<>0,500,FL16*$AE16/$AH16+FM16/$AH16*5+FN16/$AH16*25+FO16*50+FP16*50)))","v":2.0383896721589947},null,{"$f":"IF(C16<>\"\",C16,\"\")","v":306},3,null,null,null,null,null,null,null,{"$f":"IF($C16=\"\",\"\", IF(GD16=1,0,IF(GB16<>0,500,FW16*$AE16/$AH16+FX16/$AH16*5+FY16/$AH16*25+FZ16*50+GA16*50)))","v":6.1151690164769841},null,{"$f":"IF(C16<>\"\",C16,\"\")","v":306},null,null,null,null,null,null,null,1,{"$f":"IF($C16=\"\",\"\", IF(GO16=1,0,IF(GM16<>0,500,GH16*$AE16/$AH16+GI16/$AH16*5+GJ16/$AH16*25+GK16*50+GL16*50)))","v":0},null,{"$f":"IF(C16<>\"\",C16,\"\")","v":306},4,null,null,null,null,null,null,null,{"$f":"IF($C16=\"\",\"\", IF(GZ16=1,0,IF(GX16<>0,500,GS16*$AE16/$AH16+GT16/$AH16*5+GU16/$AH16*25+GV16*50+GW16*50)))","v":8.1535586886359788},null,{"$f":"IF(C16<>\"\",C16,\"\")","v":306},6,1,null,null,null,null,null,null,{"$f":"IF($C16=\"\",\"\", IF(HK16=1,0,IF(HI16<>0,500,HD16*$AE16/$AH16+HE16/$AH16*5+HF16/$AH16*25+HG16*50+HH16*50)))","v":15.627654153218959},null,{"$f":"IF(C16<>\"\",C16,\"\")","v":306},null,null,null,null,null,null,null,null,{"$f":"IF($C16=\"\",\"\", IF(HV16=1,0,IF(HT16<>0,500,HO16*$AE16/$AH16+HP16/$AH16*5+HQ16/$AH16*25+HR16*50+HS16*50)))","v":0},null,{"$f":"IF(C16<>\"\",C16,\"\")","v":306},null,null,null,null,null,null,null,null,{"$f":"IF($C16=\"\",\"\", IF(IG16=1,0,IF(IE16<>0,500,HZ16*$AE16/$AH16+IA16/$AH16*5+IB16/$AH16*25+IC16*50+ID16*50)))","v":0}]
[null,{"$f":"IF(C17=0,\"\",ROW(C17)-4)","v":13},310,"Italy","Suzuki Jimny","Giacomo Gianelli",null,{"$f":"IF(C17=0,\"\",IF(OR(BB17=1,BC17<>0),BC17,\"-\"))","v":4.4444444444444446},{"$f":"IF(C17=0,\"\",IF(OR(BM17=1,BN17<>0),BN17,\"-\"))","v":3.333333333333333},{"$f":"IF(C17=0,\"\",IF(OR(BX17=1,BY17<>0),BY17,\" -\"))","v":15.555555555555555},{"$f":"IF(C17=0,\"\",IF(OR(CJ17<>0,CI17=1),CJ17,\" -\"))","v":15.555555555555555},{"$f":"IF(C17=0,\"\",IF(OR(CU17<>0,CT17=1),CU17,\" -\"))","v":1.6666666666666665},{"$f":"IF(C17=0,\"\",IF(OR(DF17<>0,DE17=1),DF17,\" -\"))","v":7.7777777777777777},{"$f":"IF(C17=0,\"\",IF(OR(DQ17<>0,DP17=1),DQ17,\" -\"))","v":0},{"$f":"IF(C17=0,\"\",IF(OR(EB17<>0,EA17=1),EB17,\" -\"))","v":50},{"$f":"IF(C17=0,\"\",IF(OR(EM17<>0,EL17=1),EM17,\" -\"))","v":7.7777777777777777},{"$f":"IF(C17=0,\"\",IF(OR(EX17<>0,EW17=1),EX17,\" -\"))","v":17.222222222222221},{"$f":"IF(C17=0,\"\",IF(OR(FI17<>0,FH17=1),FI17,\" -\"))","v":6.1111111111111107},{"$f":"IF(C17=0,\"\",IF(OR(FT17<>0,FS17=1),FT17,\" -\"))","v":0},{"$f":"IF(C17=0,\"\",IF(OR(GE17<>0,GD17=1),GE17,\" -\"))","v":46.111111111111107},{"$f":"IF(C17=0,\"\",IF(OR(GP17<>0,GO17=1),GP17,\" -\"))","v":7.2222222222222214},{"$f":"IF(C17=0,\"\",IF(OR(HA17<>0,GZ17=1),HA17,\" -\"))","v":0},{"$f":"IF(C17=0,\"\",IF(OR(HL17<>0,HK17=1),HL17,\" -\"))","v":24.444444444444443},{"$f":"IF(C17=0,\"\",IF(AJ17<>0,AJ17,\" -\"))","v":" -"},{"$f":"IF(C17=0,\"\",IF(OR(HW17<>0,HV17=1),HW17,\" -\"))","v":" -"},{"$f":"IF(C17=0,\"\",IF(OR(IH17<>0,IG17=1),IH17,\" -\"))","v":" -"},{"$f":"IF(C17=0,\"\",IF(AL17=1,\"DNF\",IF(AL17=2,\"DSQ\",IF(AM17<>1,\"~ \"&ROUND(SUM(H17:X17),3),ROUND(SUM(H17:X17),3)))))","v":207.22200000000001},null,null,{"$f":"IF(C17<>\"\",C17,\"\")","v":310},{"$f":"IF(AD17<>\"\",3,\"\")","v":3},1600,2250,{"$f":"IF(AD17<>\"\",(AF17/1000*AG17/1000)/2,\"\")","v":1.8},4,null,null,null,1,null,null,{"$f":"IF(C17=0,99999,IF(AL17>0,9999,SUM(H17:X17)-AN17))","v":207.22222222222223},{"$f":"IF(C17=0,99999,IF(AL17=1,9999,SUM(Y17:Z17)))","v":0},null,null,{"$f":"IF(C17<>\"\",C17,\"\")","v":310},1,1,null,null,null,null,null,null,{"$f":"IF($C17=\"\",\"\", IF(BB17=1,0,IF(AZ17<>0,500,AU17*$AE17/$AH17+AV17/$AH17*5+AW17/$AH17*25+AX17*50+AY17*50)))","v":4.4444444444444446},null,{"$f":"IF(C17<>\"\",C17,\"\")","v":310},2,null,null,null,null,null,null,null,{"$f":"IF($C17=\"\",\"\", IF(BM17=1,0,IF(BK17<>0,500,BF17*$AE17/$AH17+BG17/$AH17*5+BH17/$AH17*25+BI17*50+BJ17*50)))","v":3.333333333333333},null,{"$f":"IF(C17<>\"\",C17,\"\")","v":310},1,null,1,null,null,null,null,null,{"$f":"IF($C17=\"\",\"\", IF(BX17=1,0,IF(BV17<>0,500,BQ17*$AE17/$AH17+BR17/$AH17*5+BS17/$AH17*25+BT17*50+BU17*50)))","v":15.555555555555555},null,{"$f":"IF(C17<>\"\",C17,\"\")","v":310},1,null,1,null,null,null,null,null,{"$f":"IF($C17=\"\",\"\", IF(CI17=1,0,IF(CG17<>0,500,CB17*$AE17/$AH17+CC17/$AH17*5+CD17/$AH17*25+CE17*50+CF17*50)))","v":15.555555555555555},null,{"$f":"IF(C17<>\"\",C17,\"\")","v":310},1,null,null,null,null,null,null,null,{"$f":"IF($C17=\"\",\"\", IF(CT17=1,0,IF(CR17<>0,500,CM17*$AE17/$AH17+CN17/$AH17*5+CO17/$AH17*25+CP17*50+CQ17*50)))","v":1.6666666666666665},null,{"$f":"IF(C17<>\"\",C17,\"\")","v":310},3,1,null,null,null,null,null,null,{"$f":"IF($C17=\"\",\"\", IF(DE17=1,0,IF(DC17<>0,500,CX17*$AE17/$AH17+CY17/$AH17*5+CZ17/$AH17*25+DA17*50+DB17*50)))","v":7.7777777777777777},null,{"$f":"IF(C17<>\"\",C17,\"\")","v":310},null,null,null,null,null,null,null,1,{"$f":"IF($C17=\"\",\"\", IF(DP17=1,0,IF(DN17<>0,500,DI17*$AE17/$AH17+DJ17/$AH17*5+DK17/$AH17*25+DL17*50+DM17*50)))","v":0},null,{"$f":"IF(C17<>\"\",C17,\"\")","v":310},10,2,2,null,null,null,null,null,{"$f":"IF($C17=\"\",\"\", IF(EA17=1,0,IF(DY17<>0,500,DT17*$AE17/$AH17+DU17/$AH17*5+DV17/$AH17*25+DW17*50+DX17*50)))","v":50},null,{"$f":"IF(C17<>\"\",C17,\"\")","v":310},3,1,null,null,null,null,null,null,{"$f":"IF($C17=\"\",\"\", IF(EL17=1,0,IF(EJ17<>0,500,EE17*$AE17/$AH17+EF17/$AH17*5+EG17/$AH17*25+EH17*50+EI17*50)))","v":7.7777777777777777},null,{"$f":"IF(C17<>\"\",C17,\"\")","v":310},2,null,1,null,null,null,null,null,{"$f":"IF($C17=\"\",\"\", IF(EW17=1,0,IF(EU17<>0,500,EP17*$AE17/$AH17+EQ17/$AH17*5+ER17/$AH17*25+ES17*50+ET17*50)))","v":17.222222222222221},null,{"$f":"IF(C17<>\"\",C17,\"\")","v":310},2,1,null,null,null,null,null,null,{"$f":"IF($C17=\"\",\"\", IF(FH17=1,0,IF(FF17<>0,500,FA17*$AE17/$AH17+FB17/$AH17*5+FC17/$AH17*25+FD17*50+FE17*50)))","v":6.1111111111111107},null,{"$f":"IF(C17<>\"\",C17,\"\")","v":310},null,null,null,null,null,null,null,1,{"$f":"IF($C17=\"\",\"\", IF(FS17=1,0,IF(FQ17<>0,500,FL17*$AE17/$AH17+FM17/$AH17*5+FN17/$AH17*25+FO17*50+FP17*50)))","v":0},null,{"$f":"IF(C17<>\"\",C17,\"\")","v":310},1,1,3,null,null,null,null,null,{"$f":"IF($C17=\"\",\"\", IF(GD17=1,0,IF(GB17<>0,500,FW17*$AE17/$AH17+FX17/$AH17*5+FY17/$AH17*25+FZ17*50+GA17*50)))","v":46.111111111111107},null,{"$f":"IF(C17<>\"\",C17,\"\")","v":310},1,2,null,null,null,null,null,null,{"$f":"IF($C17=\"\",\"\", IF(GO17=1,0,IF(GM17<>0,500,GH17*$AE17/$AH17+GI17/$AH17*5+GJ17/$AH17*25+GK17*50+GL17*50)))","v":7.2222222222222214},null,{"$f":"IF(C17<>\"\",C17,\"\")","v":310},null,null,null,null,null,null,null,1,{"$f":"IF($C17=\"\",\"\", IF(GZ17=1,0,IF(GX17<>0,500,GS17*$AE17/$AH17+GT17/$AH17*5+GU17/$AH17*25+GV17*50+GW17*50)))","v":0},null,{"$f":"IF(C17<>\"\",C17,\"\")","v":310},3,2,1,null,null,null,null,null,{"$f":"IF($C17=\"\",\"\", IF(HK17=1,0,IF(HI17<>0,500,HD17*$AE17/$AH17+HE17/$AH17*5+HF17/$AH17*25+HG17*50+HH17*50)))","v":24.444444444444443},null,{"$f":"IF(C17<>\"\",C17,\"\")","v":310},null,null,null,null,null,null,null,null,{"$f":"IF($C17=\"\",\"\", IF(HV17=1,0,IF(HT17<>0,500,HO17*$AE17/$AH17+HP17/$AH17*5+HQ17/$AH17*25+HR17*50+HS17*50)))","v":0},null,{"$f":"IF(C17<>\"\",C17,\"\")","v":310},null,null,null,null,null,null,null,null,{"$f":"IF($C17=\"\",\"\", IF(IG17=1,0,IF(IE17<>0,500,HZ17*$AE17/$AH17+IA17/$AH17*5+IB17/$AH17*25+IC17*50+ID17*50)))","v":0}]
[null,{"$f":"IF(C18=0,\"\",ROW(C18)-4)","v":14},314,"Switzerland","Suzuki Samurai","Rätus Schmid","Fabian Rohrer",{"$f":"IF(C18=0,\"\",IF(OR(BB18=1,BC18<>0),BC18,\"-\"))","v":0},{"$f":"IF(C18=0,\"\",IF(OR(BM18=1,BN18<>0),BN18,\"-\"))","v":0},{"$f":"IF(C18=0,\"\",IF(OR(BX18=1,BY18<>0),BY18,\" -\"))","v":5.4357057924239855},{"$f":"IF(C18=0,\"\",IF(OR(CJ18<>0,CI18=1),CJ18,\" -\"))","v":0},{"$f":"IF(C18=0,\"\",IF(OR(CU18<>0,CT18=1),CU18,\" -\"))","v":40.088330219126895},{"$f":"IF(C18=0,\"\",IF(OR(DF18<>0,DE18=1),DF18,\" -\"))","v":2.0383896721589947},{"$f":"IF(C18=0,\"\",IF(OR(DQ18<>0,DP18=1),DQ18,\" -\"))","v":2.0383896721589947},{"$f":"IF(C18=0,\"\",IF(OR(EB18<>0,EA18=1),EB18,\" -\"))","v":2.0383896721589947},{"$f":"IF(C18=0,\"\",IF(OR(EM18<>0,EL18=1),EM18,\" -\"))","v":2.0383896721589947},{"$f":"IF(C18=0,\"\",IF(OR(EX18<>0,EW18=1),EX18,\" -\"))","v":2.0383896721589947},{"$f":"IF(C18=0,\"\",IF(OR(FI18<>0,FH18=1),FI18,\" -\"))","v":19.024970273483952},{"$f":"IF(C18=0,\"\",IF(OR(FT18<>0,FS18=1),FT18,\" -\"))","v":4.0767793443179894},{"$f":"IF(C18=0,\"\",IF(OR(GE18<>0,GD18=1),GE18,\" -\"))","v":121.06335994564294},{"$f":"IF(C18=0,\"\",IF(OR(GP18<>0,GO18=1),GP18,\" -\"))","v":2.0383896721589947},{"$f":"IF(C18=0,\"\",IF(OR(HA18<>0,GZ18=1),HA18,\" -\"))","v":0},{"$f":"IF(C18=0,\"\",IF(OR(HL18<>0,HK18=1),HL18,\" -\"))","v":11.55087480890097},{"$f":"IF(C18=0,\"\",IF(AJ18<>0,AJ18,\" -\"))","v":" -"},{"$f":"IF(C18=0,\"\",IF(OR(HW18<>0,HV18=1),HW18,\" -\"))","v":" -"},{"$f":"IF(C18=0,\"\",IF(OR(IH18<>0,IG18=1),IH18,\" -\"))","v":" -"},{"$f":"IF(C18=0,\"\",IF(AL18=1,\"DNF\",IF(AL18=2,\"DSQ\",IF(AM18<>1,\"~ \"&ROUND(SUM(H18:X18),3),ROUND(SUM(H18:X18),3)))))","v":213.47},null,null,{"$f":"IF(C18<>\"\",C18,\"\")","v":314},{"$f":"IF(AD18<>\"\",3,\"\")","v":3},1450,2030,{"$f":"IF(AD18<>\"\",(AF18/1000*AG18/1000)/2,\"\")","v":1.4717499999999999},5,null,null,null,1,null,null,{"$f":"IF(C18=0,99999,IF(AL18>0,9999,SUM(H18:X18)-AN18))","v":213.47035841685067},{"$f":"IF(C18=0,99999,IF(AL18=1,9999,SUM(Y18:Z18)))","v":0},null,null,{"$f":"IF(C18<>\"\",C18,\"\")","v":314},null,null,null,null,null,null,null,1,{"$f":"IF($C18=\"\",\"\", IF(BB18=1,0,IF(AZ18<>0,500,AU18*$AE18/$AH18+AV18/$AH18*5+AW18/$AH18*25+AX18*50+AY18*50)))","v":0},null,{"$f":"IF(C18<>\"\",C18,\"\")","v":314},null,null,null,null,null,null,null,1,{"$f":"IF($C18=\"\",\"\", IF(BM18=1,0,IF(BK18<>0,500,BF18*$AE18/$AH18+BG18/$AH18*5+BH18/$AH18*25+BI18*50+BJ18*50)))","v":0},null,{"$f":"IF(C18<>\"\",C18,\"\")","v":314},1,1,null,null,null,null,null,null,{"$f":"IF($C18=\"\",\"\", IF(BX18=1,0,IF(BV18<>0,500,BQ18*$AE18/$AH18+BR18/$AH18*5+BS18/$AH18*25+BT18*50+BU18*50)))","v":5.4357057924239855},null,{"$f":"IF(C18<>\"\",C18,\"\")","v":314},null,null,null,null,null,null,null,1,{"$f":"IF($C18=\"\",\"\", IF(CI18=1,0,IF(CG18<>0,500,CB18*$AE18/$AH18+CC18/$AH18*5+CD18/$AH18*25+CE18*50+CF18*50)))","v":0},null,{"$f":"IF(C18<>\"\",C18,\"\")","v":314},3,null,2,null,null,null,null,null,{"$f":"IF($C18=\"\",\"\", IF(CT18=1,0,IF(CR18<>0,500,CM18*$AE18/$AH18+CN18/$AH18*5+CO18/$AH18*25+CP18*50+CQ18*50)))","v":40.088330219126895},null,{"$f":"IF(C18<>\"\",C18,\"\")","v":314},1,null,null,null,null,null,null,null,{"$f":"IF($C18=\"\",\"\", IF(DE18=1,0,IF(DC18<>0,500,CX18*$AE18/$AH18+CY18/$AH18*5+CZ18/$AH18*25+DA18*50+DB18*50)))","v":2.0383896721589947},null,{"$f":"IF(C18<>\"\",C18,\"\")","v":314},1,null,null,null,null,null,null,null,{"$f":"IF($C18=\"\",\"\", IF(DP18=1,0,IF(DN18<>0,500,DI18*$AE18/$AH18+DJ18/$AH18*5+DK18/$AH18*25+DL18*50+DM18*50)))","v":2.0383896721589947},null,{"$f":"IF(C18<>\"\",C18,\"\")","v":314},1,null,null,null,null,null,null,null,{"$f":"IF($C18=\"\",\"\", IF(EA18=1,0,IF(DY18<>0,500,DT18*$AE18/$AH18+DU18/$AH18*5+DV18/$AH18*25+DW18*50+DX18*50)))","v":2.0383896721589947},null,{"$f":"IF(C18<>\"\",C18,\"\")","v":314},1,null,null,null,null,null,null,null,{"$f":"IF($C18=\"\",\"\", IF(EL18=1,0,IF(EJ18<>0,500,EE18*$AE18/$AH18+EF18/$AH18*5+EG18/$AH18*25+EH18*50+EI18*50)))","v":2.0383896721589947},null,{"$f":"IF(C18<>\"\",C18,\"\")","v":314},1,null,null,null,null,null,null,null,{"$f":"IF($C18=\"\",\"\", IF(EW18=1,0,IF(EU18<>0,500,EP18*$AE18/$AH18+EQ18/$AH18*5+ER18/$AH18*25+ES18*50+ET18*50)))","v":2.0383896721589947},null,{"$f":"IF(C18<>\"\",C18,\"\")","v":314},1,null,1,null,null,null,null,null,{"$f":"IF($C18=\"\",\"\", IF(FH18=1,0,IF(FF18<>0,500,FA18*$AE18/$AH18+FB18/$AH18*5+FC18/$AH18*25+FD18*50+FE18*50)))","v":19.024970273483952},null,{"$f":"IF(C18<>\"\",C18,\"\")","v":314},2,null,null,null,null,null,null,null,{"$f":"IF($C18=\"\",\"\", IF(FS18=1,0,IF(FQ18<>0,500,FL18*$AE18/$AH18+FM18/$AH18*5+FN18/$AH18*25+FO18*50+FP18*50)))","v":4.0767793443179894},null,{"$f":"IF(C18<>\"\",C18,\"\")","v":314},2,null,1,1,1,null,"roll over",null,{"$f":"IF($C18=\"\",\"\", IF(GD18=1,0,IF(GB18<>0,500,FW18*$AE18/$AH18+FX18/$AH18*5+FY18/$AH18*25+FZ18*50+GA18*50)))","v":121.06335994564294},null,{"$f":"IF(C18<>\"\",C18,\"\")","v":314},1,null,null,null,null,null,null,null,{"$f":"IF($C18=\"\",\"\", IF(GO18=1,0,IF(GM18<>0,500,GH18*$AE18/$AH18+GI18/$AH18*5+GJ18/$AH18*25+GK18*50+GL18*50)))","v":2.0383896721589947},null,{"$f":"IF(C18<>\"\",C18,\"\")","v":314},null,null,null,null,null,null,null,1,{"$f":"IF($C18=\"\",\"\", IF(GZ18=1,0,IF(GX18<>0,500,GS18*$AE18/$AH18+GT18/$AH18*5+GU18/$AH18*25+GV18*50+GW18*50)))","v":0},null,{"$f":"IF(C18<>\"\",C18,\"\")","v":314},4,1,null,null,null,null,null,null,{"$f":"IF($C18=\"\",\"\", IF(HK18=1,0,IF(HI18<>0,500,HD18*$AE18/$AH18+HE18/$AH18*5+HF18/$AH18*25+HG18*50+HH18*50)))","v":11.55087480890097},null,{"$f":"IF(C18<>\"\",C18,\"\")","v":314},null,null,null,null,null,null,null,null,{"$f":"IF($C18=\"\",\"\", IF(HV18=1,0,IF(HT18<>0,500,HO18*$AE18/$AH18+HP18/$AH18*5+HQ18/$AH18*25+HR18*50+HS18*50)))","v":0},null,{"$f":"IF(C18<>\"\",C18,\"\")","v":314},null,null,null,null,null,null,null,null,{"$f":"IF($C18=\"\",\"\", IF(IG18=1,0,IF(IE18<>0,500,HZ18*$AE18/$AH18+IA18/$AH18*5+IB18/$AH18*25+IC18*50+ID18*50)))","v":0}]
[null,{"$f":"IF(C19=0,\"\",ROW(C19)-4)","v":15},321,"Denmark","Olavi","Samu Sarka","Markku Sarka",{"$f":"IF(C19=0,\"\",IF(OR(BB19=1,BC19<>0),BC19,\"-\"))","v":14.94819092916596},{"$f":"IF(C19=0,\"\",IF(OR(BM19=1,BN19<>0),BN19,\"-\"))","v":16.307117377271958},{"$f":"IF(C19=0,\"\",IF(OR(BX19=1,BY19<>0),BY19,\" -\"))","v":13.589264481059963},{"$f":"IF(C19=0,\"\",IF(OR(CJ19<>0,CI19=1),CJ19,\" -\"))","v":6.1151690164769841},{"$f":"IF(C19=0,\"\",IF(OR(CU19<>0,CT19=1),CU19,\" -\"))","v":34.652624426702914},{"$f":"IF(C19=0,\"\",IF(OR(DF19<>0,DE19=1),DF19,\" -\"))","v":0},{"$f":"IF(C19=0,\"\",IF(OR(DQ19<>0,DP19=1),DQ19,\" -\"))","v":56.115169016476983},{"$f":"IF(C19=0,\"\",IF(OR(EB19<>0,EA19=1),EB19,\" -\"))","v":10.191948360794973},{"$f":"IF(C19=0,\"\",IF(OR(EM19<>0,EL19=1),EM19,\" -\"))","v":4.0767793443179894},{"$f":"IF(C19=0,\"\",IF(OR(EX19<>0,EW19=1),EX19,\" -\"))","v":62.230338032953966},{"$f":"IF(C19=0,\"\",IF(OR(FI19<>0,FH19=1),FI19,\" -\"))","v":26.499065738066932},{"$f":"IF(C19=0,\"\",IF(OR(FT19<>0,FS19=1),FT19,\" -\"))","v":6.1151690164769841},{"$f":"IF(C19=0,\"\",IF(OR(GE19<>0,GD19=1),GE19,\" -\"))","v":38.729403771020898},{"$f":"IF(C19=0,\"\",IF(OR(GP19<>0,GO19=1),GP19,\" -\"))","v":2.0383896721589947},{"$f":"IF(C19=0,\"\",IF(OR(HA19<>0,GZ19=1),HA19,\" -\"))","v":13.589264481059963},{"$f":"IF(C19=0,\"\",IF(OR(HL19<>0,HK19=1),HL19,\" -\"))","v":13.589264481059963},{"$f":"IF(C19=0,\"\",IF(AJ19<>0,AJ19,\" -\"))","v":" -"},{"$f":"IF(C19=0,\"\",IF(OR(HW19<>0,HV19=1),HW19,\" -\"))","v":" -"},{"$f":"IF(C19=0,\"\",IF(OR(IH19<>0,IG19=1),IH19,\" -\"))","v":" -"},{"$f":"IF(C19=0,\"\",IF(AL19=1,\"DNF\",IF(AL19=2,\"DSQ\",IF(AM19<>1,\"~ \"&ROUND(SUM(H19:X19),3),ROUND(SUM(H19:X19),3)))))","v":318.78699999999998},null,null,{"$f":"IF(C19<>\"\",C19,\"\")","v":321},{"$f":"IF(AD19<>\"\",3,\"\")","v":3},1450,2030,{"$f":"IF(AD19<>\"\",(AF19/1000*AG19/1000)/2,\"\")","v":1.4717499999999999},5,null,null,null,1,null,null,{"$f":"IF(C19=0,99999,IF(AL19>0,9999,SUM(H19:X19)-AN19))","v":318.78715814506546},{"$f":"IF(C19=0,99999,IF(AL19=1,9999,SUM(Y19:Z19)))","v":0},null,null,{"$f":"IF(C19<>\"\",C19,\"\")","v":321},4,2,null,null,null,null,null,null,{"$f":"IF($C19=\"\",\"\", IF(BB19=1,0,IF(AZ19<>0,500,AU19*$AE19/$AH19+AV19/$AH19*5+AW19/$AH19*25+AX19*50+AY19*50)))","v":14.94819092916596},null,{"$f":"IF(C19<>\"\",C19,\"\")","v":321},8,null,null,null,null,null,null,null,{"$f":"IF($C19=\"\",\"\", IF(BM19=1,0,IF(BK19<>0,500,BF19*$AE19/$AH19+BG19/$AH19*5+BH19/$AH19*25+BI19*50+BJ19*50)))","v":16.307117377271958},null,{"$f":"IF(C19<>\"\",C19,\"\")","v":321},5,1,null,null,null,null,null,null,{"$f":"IF($C19=\"\",\"\", IF(BX19=1,0,IF(BV19<>0,500,BQ19*$AE19/$AH19+BR19/$AH19*5+BS19/$AH19*25+BT19*50+BU19*50)))","v":13.589264481059963},null,{"$f":"IF(C19<>\"\",C19,\"\")","v":321},3,null,null,null,null,null,null,null,{"$f":"IF($C19=\"\",\"\", IF(CI19=1,0,IF(CG19<>0,500,CB19*$AE19/$AH19+CC19/$AH19*5+CD19/$AH19*25+CE19*50+CF19*50)))","v":6.1151690164769841},null,{"$f":"IF(C19<>\"\",C19,\"\")","v":321},7,1,1,null,null,null,null,null,{"$f":"IF($C19=\"\",\"\", IF(CT19=1,0,IF(CR19<>0,500,CM19*$AE19/$AH19+CN19/$AH19*5+CO19/$AH19*25+CP19*50+CQ19*50)))","v":34.652624426702914},null,{"$f":"IF(C19<>\"\",C19,\"\")","v":321},null,null,null,null,null,null,null,1,{"$f":"IF($C19=\"\",\"\", IF(DE19=1,0,IF(DC19<>0,500,CX19*$AE19/$AH19+CY19/$AH19*5+CZ19/$AH19*25+DA19*50+DB19*50)))","v":0},null,{"$f":"IF(C19<>\"\",C19,\"\")","v":321},3,null,null,null,1,null,"Roll over",null,{"$f":"IF($C19=\"\",\"\", IF(DP19=1,0,IF(DN19<>0,500,DI19*$AE19/$AH19+DJ19/$AH19*5+DK19/$AH19*25+DL19*50+DM19*50)))","v":56.115169016476983},null,{"$f":"IF(C19<>\"\",C19,\"\")","v":321},5,null,null,null,null,null,null,null,{"$f":"IF($C19=\"\",\"\", IF(EA19=1,0,IF(DY19<>0,500,DT19*$AE19/$AH19+DU19/$AH19*5+DV19/$AH19*25+DW19*50+DX19*50)))","v":10.191948360794973},null,{"$f":"IF(C19<>\"\",C19,\"\")","v":321},2,null,null,null,null,null,null,null,{"$f":"IF($C19=\"\",\"\", IF(EL19=1,0,IF(EJ19<>0,500,EE19*$AE19/$AH19+EF19/$AH19*5+EG19/$AH19*25+EH19*50+EI19*50)))","v":4.0767793443179894},null,{"$f":"IF(C19<>\"\",C19,\"\")","v":321},6,null,null,null,1,null,"time",null,{"$f":"IF($C19=\"\",\"\", IF(EW19=1,0,IF(EU19<>0,500,EP19*$AE19/$AH19+EQ19/$AH19*5+ER19/$AH19*25+ES19*50+ET19*50)))","v":62.230338032953966},null,{"$f":"IF(C19<>\"\",C19,\"\")","v":321},3,1,1,null,null,null,null,null,{"$f":"IF($C19=\"\",\"\", IF(FH19=1,0,IF(FF19<>0,500,FA19*$AE19/$AH19+FB19/$AH19*5+FC19/$AH19*25+FD19*50+FE19*50)))","v":26.499065738066932},null,{"$f":"IF(C19<>\"\",C19,\"\")","v":321},3,null,null,null,null,null,null,null,{"$f":"IF($C19=\"\",\"\", IF(FS19=1,0,IF(FQ19<>0,500,FL19*$AE19/$AH19+FM19/$AH19*5+FN19/$AH19*25+FO19*50+FP19*50)))","v":6.1151690164769841},null,{"$f":"IF(C19<>\"\",C19,\"\")","v":321},9,1,1,null,null,null,null,null,{"$f":"IF($C19=\"\",\"\", IF(GD19=1,0,IF(GB19<>0,500,FW19*$AE19/$AH19+FX19/$AH19*5+FY19/$AH19*25+FZ19*50+GA19*50)))","v":38.729403771020898},null,{"$f":"IF(C19<>\"\",C19,\"\")","v":321},1,null,null,null,null,null,null,null,{"$f":"IF($C19=\"\",\"\", IF(GO19=1,0,IF(GM19<>0,500,GH19*$AE19/$AH19+GI19/$AH19*5+GJ19/$AH19*25+GK19*50+GL19*50)))","v":2.0383896721589947},null,{"$f":"IF(C19<>\"\",C19,\"\")","v":321},5,1,null,null,null,null,null,null,{"$f":"IF($C19=\"\",\"\", IF(GZ19=1,0,IF(GX19<>0,500,GS19*$AE19/$AH19+GT19/$AH19*5+GU19/$AH19*25+GV19*50+GW19*50)))","v":13.589264481059963},null,{"$f":"IF(C19<>\"\",C19,\"\")","v":321},5,1,null,null,null,null,null,null,{"$f":"IF($C19=\"\",\"\", IF(HK19=1,0,IF(HI19<>0,500,HD19*$AE19/$AH19+HE19/$AH19*5+HF19/$AH19*25+HG19*50+HH19*50)))","v":13.589264481059963},null,{"$f":"IF(C19<>\"\",C19,\"\")","v":321},null,null,null,null,null,null,null,null,{"$f":"IF($C19=\"\",\"\", IF(HV19=1,0,IF(HT19<>0,500,HO19*$AE19/$AH19+HP19/$AH19*5+HQ19/$AH19*25+HR19*50+HS19*50)))","v":0},null,{"$f":"IF(C19<>\"\",C19,\"\")","v":321},null,null,null,null,null,null,null,null,{"$f":"IF($C19=\"\",\"\", IF(IG19=1,0,IF(IE19<>0,500,HZ19*$AE19/$AH19+IA19/$AH19*5+IB19/$AH19*25+IC19*50+ID19*50)))","v":0}]
[null,{"$f":"IF(C20=0,\"\",ROW(C20)-4)","v":16},313,"Slovakia","Suzuky Samurai","Petr Stanovský","Barbora Blahová",{"$f":"IF(C20=0,\"\",IF(OR(BB20=1,BC20<>0),BC20,\"-\"))","v":3.3973161202649909},{"$f":"IF(C20=0,\"\",IF(OR(BM20=1,BN20<>0),BN20,\"-\"))","v":0},{"$f":"IF(C20=0,\"\",IF(OR(BX20=1,BY20<>0),BY20,\" -\"))","v":2.0383896721589947},{"$f":"IF(C20=0,\"\",IF(OR(CJ20<>0,CI20=1),CJ20,\" -\"))","v":6.1151690164769841},{"$f":"IF(C20=0,\"\",IF(OR(CU20<>0,CT20=1),CU20,\" -\"))","v":21.063359945642944},{"$f":"IF(C20=0,\"\",IF(OR(DF20<>0,DE20=1),DF20,\" -\"))","v":7.4740954645829802},{"$f":"IF(C20=0,\"\",IF(OR(DQ20<>0,DP20=1),DQ20,\" -\"))","v":2.0383896721589947},{"$f":"IF(C20=0,\"\",IF(OR(EB20<>0,EA20=1),EB20,\" -\"))","v":4.0767793443179894},{"$f":"IF(C20=0,\"\",IF(OR(EM20<>0,EL20=1),EM20,\" -\"))","v":2.0383896721589947},{"$f":"IF(C20=0,\"\",IF(OR(EX20<>0,EW20=1),EX20,\" -\"))","v":8.1535586886359788},{"$f":"IF(C20=0,\"\",IF(OR(FI20<>0,FH20=1),FI20,\" -\"))","v":29.896381858331921},{"$f":"IF(C20=0,\"\",IF(OR(FT20<>0,FS20=1),FT20,\" -\"))","v":233.29369797859692},{"$f":"IF(C20=0,\"\",IF(OR(GE20<>0,GD20=1),GE20,\" -\"))","v":210.19194836079498},{"$f":"IF(C20=0,\"\",IF(OR(GP20<>0,GO20=1),GP20,\" -\"))","v":16.986580601324956},{"$f":"IF(C20=0,\"\",IF(OR(HA20<>0,GZ20=1),HA20,\" -\"))","v":8.1535586886359788},{"$f":"IF(C20=0,\"\",IF(OR(HL20<>0,HK20=1),HL20,\" -\"))","v":39.408866995073893},{"$f":"IF(C20=0,\"\",IF(AJ20<>0,AJ20,\" -\"))","v":" -"},{"$f":"IF(C20=0,\"\",IF(OR(HW20<>0,HV20=1),HW20,\" -\"))","v":" -"},{"$f":"IF(C20=0,\"\",IF(OR(IH20<>0,IG20=1),IH20,\" -\"))","v":" -"},{"$f":"IF(C20=0,\"\",IF(AL20=1,\"DNF\",IF(AL20=2,\"DSQ\",IF(AM20<>1,\"~ \"&ROUND(SUM(H20:X20),3),ROUND(SUM(H20:X20),3)))))","v":594.32600000000002},null,null,{"$f":"IF(C20<>\"\",C20,\"\")","v":313},{"$f":"IF(AD20<>\"\",3,\"\")","v":3},1450,2030,{"$f":"IF(AD20<>\"\",(AF20/1000*AG20/1000)/2,\"\")","v":1.4717499999999999},5,null,null,null,1,null,null,{"$f":"IF(C20=0,99999,IF(AL20>0,9999,SUM(H20:X20)-AN20))","v":594.32648207915747},{"$f":"IF(C20=0,99999,IF(AL20=1,9999,SUM(Y20:Z20)))","v":0},null,null,{"$f":"IF(C20<>\"\",C20,\"\")","v":313},null,1,null,null,null,null,null,null,{"$f":"IF($C20=\"\",\"\", IF(BB20=1,0,IF(AZ20<>0,500,AU20*$AE20/$AH20+AV20/$AH20*5+AW20/$AH20*25+AX20*50+AY20*50)))","v":3.3973161202649909},null,{"$f":"IF(C20<>\"\",C20,\"\")","v":313},null,null,null,null,null,null,null,1,{"$f":"IF($C20=\"\",\"\", IF(BM20=1,0,IF(BK20<>0,500,BF20*$AE20/$AH20+BG20/$AH20*5+BH20/$AH20*25+BI20*50+BJ20*50)))","v":0},null,{"$f":"IF(C20<>\"\",C20,\"\")","v":313},1,null,null,null,null,null,null,null,{"$f":"IF($C20=\"\",\"\", IF(BX20=1,0,IF(BV20<>0,500,BQ20*$AE20/$AH20+BR20/$AH20*5+BS20/$AH20*25+BT20*50+BU20*50)))","v":2.0383896721589947},null,{"$f":"IF(C20<>\"\",C20,\"\")","v":313},3,null,null,null,null,null,null,null,{"$f":"IF($C20=\"\",\"\", IF(CI20=1,0,IF(CG20<>0,500,CB20*$AE20/$AH20+CC20/$AH20*5+CD20/$AH20*25+CE20*50+CF20*50)))","v":6.1151690164769841},null,{"$f":"IF(C20<>\"\",C20,\"\")","v":313},2,null,1,null,null,null,null,null,{"$f":"IF($C20=\"\",\"\", IF(CT20=1,0,IF(CR20<>0,500,CM20*$AE20/$AH20+CN20/$AH20*5+CO20/$AH20*25+CP20*50+CQ20*50)))","v":21.063359945642944},null,{"$f":"IF(C20<>\"\",C20,\"\")","v":313},2,1,null,null,null,null,null,null,{"$f":"IF($C20=\"\",\"\", IF(DE20=1,0,IF(DC20<>0,500,CX20*$AE20/$AH20+CY20/$AH20*5+CZ20/$AH20*25+DA20*50+DB20*50)))","v":7.4740954645829802},null,{"$f":"IF(C20<>\"\",C20,\"\")","v":313},1,null,null,null,null,null,null,null,{"$f":"IF($C20=\"\",\"\", IF(DP20=1,0,IF(DN20<>0,500,DI20*$AE20/$AH20+DJ20/$AH20*5+DK20/$AH20*25+DL20*50+DM20*50)))","v":2.0383896721589947},null,{"$f":"IF(C20<>\"\",C20,\"\")","v":313},2,null,null,null,null,null,null,null,{"$f":"IF($C20=\"\",\"\", IF(EA20=1,0,IF(DY20<>0,500,DT20*$AE20/$AH20+DU20/$AH20*5+DV20/$AH20*25+DW20*50+DX20*50)))","v":4.0767793443179894},null,{"$f":"IF(C20<>\"\",C20,\"\")","v":313},1,null,null,null,null,null,null,null,{"$f":"IF($C20=\"\",\"\", IF(EL20=1,0,IF(EJ20<>0,500,EE20*$AE20/$AH20+EF20/$AH20*5+EG20/$AH20*25+EH20*50+EI20*50)))","v":2.0383896721589947},null,{"$f":"IF(C20<>\"\",C20,\"\")","v":313},4,null,null,null,null,null,null,null,{"$f":"IF($C20=\"\",\"\", IF(EW20=1,0,IF(EU20<>0,500,EP20*$AE20/$AH20+EQ20/$AH20*5+ER20/$AH20*25+ES20*50+ET20*50)))","v":8.1535586886359788},null,{"$f":"IF(C20<>\"\",C20,\"\")","v":313},3,2,1,null,null,null,null,null,{"$f":"IF($C20=\"\",\"\", IF(FH20=1,0,IF(FF20<>0,500,FA20*$AE20/$AH20+FB20/$AH20*5+FC20/$AH20*25+FD20*50+FE20*50)))","v":29.896381858331921},null,{"$f":"IF(C20<>\"\",C20,\"\")","v":313},8,null,1,3,1,null,null,null,{"$f":"IF($C20=\"\",\"\", IF(FS20=1,0,IF(FQ20<>0,500,FL20*$AE20/$AH20+FM20/$AH20*5+FN20/$AH20*25+FO20*50+FP20*50)))","v":233.29369797859692},null,{"$f":"IF(C20<>\"\",C20,\"\")","v":313},5,null,null,3,1,null,null,null,{"$f":"IF($C20=\"\",\"\", IF(GD20=1,0,IF(GB20<>0,500,FW20*$AE20/$AH20+FX20/$AH20*5+FY20/$AH20*25+FZ20*50+GA20*50)))","v":210.19194836079498},null,{"$f":"IF(C20<>\"\",C20,\"\")","v":313},null,null,1,null,null,null,null,null,{"$f":"IF($C20=\"\",\"\", IF(GO20=1,0,IF(GM20<>0,500,GH20*$AE20/$AH20+GI20/$AH20*5+GJ20/$AH20*25+GK20*50+GL20*50)))","v":16.986580601324956},null,{"$f":"IF(C20<>\"\",C20,\"\")","v":313},4,null,null,null,null,null,null,null,{"$f":"IF($C20=\"\",\"\", IF(GZ20=1,0,IF(GX20<>0,500,GS20*$AE20/$AH20+GT20/$AH20*5+GU20/$AH20*25+GV20*50+GW20*50)))","v":8.1535586886359788},null,{"$f":"IF(C20<>\"\",C20,\"\")","v":313},6,3,1,null,null,null,null,null,{"$f":"IF($C20=\"\",\"\", IF(HK20=1,0,IF(HI20<>0,500,HD20*$AE20/$AH20+HE20/$AH20*5+HF20/$AH20*25+HG20*50+HH20*50)))","v":39.408866995073893},null,{"$f":"IF(C20<>\"\",C20,\"\")","v":313},null,null,null,null,null,null,null,null,{"$f":"IF($C20=\"\",\"\", IF(HV20=1,0,IF(HT20<>0,500,HO20*$AE20/$AH20+HP20/$AH20*5+HQ20/$AH20*25+HR20*50+HS20*50)))","v":0},null,{"$f":"IF(C20<>\"\",C20,\"\")","v":313},null,null,null,null,null,null,null,null,{"$f":"IF($C20=\"\",\"\", IF(IG20=1,0,IF(IE20<>0,500,HZ20*$AE20/$AH20+IA20/$AH20*5+IB20/$AH20*25+IC20*50+ID20*50)))","v":0}]
[null,{"$f":"IF(C21=0,\"\",ROW(C21)-4)","v":17},320,"Switzerland","Suzuki Samurai","Anssi Perälä","Niko Jaakkola",{"$f":"IF(C21=0,\"\",IF(OR(BB21=1,BC21<>0),BC21,\"-\"))","v":0},{"$f":"IF(C21=0,\"\",IF(OR(BM21=1,BN21<>0),BN21,\"-\"))","v":56.115169016476983},{"$f":"IF(C21=0,\"\",IF(OR(BX21=1,BY21<>0),BY21,\" -\"))","v":2.0383896721589947},{"$f":"IF(C21=0,\"\",IF(OR(CJ21<>0,CI21=1),CJ21,\" -\"))","v":24.460676065907936},{"$f":"IF(C21=0,\"\",IF(OR(CU21<>0,CT21=1),CU21,\" -\"))","v":100},{"$f":"IF(C21=0,\"\",IF(OR(DF21<>0,DE21=1),DF21,\" -\"))","v":6.1151690164769841},{"$f":"IF(C21=0,\"\",IF(OR(DQ21<>0,DP21=1),DQ21,\" -\"))","v":4.0767793443179894},{"$f":"IF(C21=0,\"\",IF(OR(EB21<>0,EA21=1),EB21,\" -\"))","v":23.101749617801939},{"$f":"IF(C21=0,\"\",IF(OR(EM21<>0,EL21=1),EM21,\" -\"))","v":0},{"$f":"IF(C21=0,\"\",IF(OR(EX21<>0,EW21=1),EX21,\" -\"))","v":19.024970273483952},{"$f":"IF(C21=0,\"\",IF(OR(FI21<>0,FH21=1),FI21,\" -\"))","v":105.43570579242399},{"$f":"IF(C21=0,\"\",IF(OR(FT21<>0,FS21=1),FT21,\" -\"))","v":4.0767793443179894},{"$f":"IF(C21=0,\"\",IF(OR(GE21<>0,GD21=1),GE21,\" -\"))","v":206.11516901647698},{"$f":"IF(C21=0,\"\",IF(OR(GP21<>0,GO21=1),GP21,\" -\"))","v":2.0383896721589947},{"$f":"IF(C21=0,\"\",IF(OR(HA21<>0,GZ21=1),HA21,\" -\"))","v":2.0383896721589947},{"$f":"IF(C21=0,\"\",IF(OR(HL21<>0,HK21=1),HL21,\" -\"))","v":204.076779344318},{"$f":"IF(C21=0,\"\",IF(AJ21<>0,AJ21,\" -\"))","v":" -"},{"$f":"IF(C21=0,\"\",IF(OR(HW21<>0,HV21=1),HW21,\" -\"))","v":" -"},{"$f":"IF(C21=0,\"\",IF(OR(IH21<>0,IG21=1),IH21,\" -\"))","v":" -"},{"$f":"IF(C21=0,\"\",IF(AL21=1,\"DNF\",IF(AL21=2,\"DSQ\",IF(AM21<>1,\"~ \"&ROUND(SUM(H21:X21),3),ROUND(SUM(H21:X21),3)))))","v":758.71400000000006},null,null,{"$f":"IF(C21<>\"\",C21,\"\")","v":320},{"$f":"IF(AD21<>\"\",3,\"\")","v":3},1450,2030,{"$f":"IF(AD21<>\"\",(AF21/1000*AG21/1000)/2,\"\")","v":1.4717499999999999},5,null,null,null,1,null,null,{"$f":"IF(C21=0,99999,IF(AL21>0,9999,SUM(H21:X21)-AN21))","v":758.71411584847976},{"$f":"IF(C21=0,99999,IF(AL21=1,9999,SUM(Y21:Z21)))","v":0},null,null,{"$f":"IF(C21<>\"\",C21,\"\")","v":320},null,null,null,null,null,null,null,1,{"$f":"IF($C21=\"\",\"\", IF(BB21=1,0,IF(AZ21<>0,500,AU21*$AE21/$AH21+AV21/$AH21*5+AW21/$AH21*25+AX21*50+AY21*50)))","v":0},null,{"$f":"IF(C21<>\"\",C21,\"\")","v":320},3,null,null,null,1,null,"time",null,{"$f":"IF($C21=\"\",\"\", IF(BM21=1,0,IF(BK21<>0,500,BF21*$AE21/$AH21+BG21/$AH21*5+BH21/$AH21*25+BI21*50+BJ21*50)))","v":56.115169016476983},null,{"$f":"IF(C21<>\"\",C21,\"\")","v":320},1,null,null,null,null,null,null,null,{"$f":"IF($C21=\"\",\"\", IF(BX21=1,0,IF(BV21<>0,500,BQ21*$AE21/$AH21+BR21/$AH21*5+BS21/$AH21*25+BT21*50+BU21*50)))","v":2.0383896721589947},null,{"$f":"IF(C21<>\"\",C21,\"\")","v":320},2,1,1,null,null,null,null,null,{"$f":"IF($C21=\"\",\"\", IF(CI21=1,0,IF(CG21<>0,500,CB21*$AE21/$AH21+CC21/$AH21*5+CD21/$AH21*25+CE21*50+CF21*50)))","v":24.460676065907936},null,{"$f":"IF(C21<>\"\",C21,\"\")","v":320},null,null,null,1,1,null,"Technical failure",null,{"$f":"IF($C21=\"\",\"\", IF(CT21=1,0,IF(CR21<>0,500,CM21*$AE21/$AH21+CN21/$AH21*5+CO21/$AH21*25+CP21*50+CQ21*50)))","v":100},null,{"$f":"IF(C21<>\"\",C21,\"\")","v":320},3,null,null,null,null,null,null,null,{"$f":"IF($C21=\"\",\"\", IF(DE21=1,0,IF(DC21<>0,500,CX21*$AE21/$AH21+CY21/$AH21*5+CZ21/$AH21*25+DA21*50+DB21*50)))","v":6.1151690164769841},null,{"$f":"IF(C21<>\"\",C21,\"\")","v":320},2,null,null,null,null,null,null,null,{"$f":"IF($C21=\"\",\"\", IF(DP21=1,0,IF(DN21<>0,500,DI21*$AE21/$AH21+DJ21/$AH21*5+DK21/$AH21*25+DL21*50+DM21*50)))","v":4.0767793443179894},null,{"$f":"IF(C21<>\"\",C21,\"\")","v":320},3,null,1,null,null,null,null,null,{"$f":"IF($C21=\"\",\"\", IF(EA21=1,0,IF(DY21<>0,500,DT21*$AE21/$AH21+DU21/$AH21*5+DV21/$AH21*25+DW21*50+DX21*50)))","v":23.101749617801939},null,{"$f":"IF(C21<>\"\",C21,\"\")","v":320},null,null,null,null,null,null,null,1,{"$f":"IF($C21=\"\",\"\", IF(EL21=1,0,IF(EJ21<>0,500,EE21*$AE21/$AH21+EF21/$AH21*5+EG21/$AH21*25+EH21*50+EI21*50)))","v":0},null,{"$f":"IF(C21<>\"\",C21,\"\")","v":320},1,null,1,null,null,null,null,null,{"$f":"IF($C21=\"\",\"\", IF(EW21=1,0,IF(EU21<>0,500,EP21*$AE21/$AH21+EQ21/$AH21*5+ER21/$AH21*25+ES21*50+ET21*50)))","v":19.024970273483952},null,{"$f":"IF(C21<>\"\",C21,\"\")","v":320},1,1,null,1,1,null,null,null,{"$f":"IF($C21=\"\",\"\", IF(FH21=1,0,IF(FF21<>0,500,FA21*$AE21/$AH21+FB21/$AH21*5+FC21/$AH21*25+FD21*50+FE21*50)))","v":105.43570579242399},null,{"$f":"IF(C21<>\"\",C21,\"\")","v":320},2,null,null,null,null,null,null,null,{"$f":"IF($C21=\"\",\"\", IF(FS21=1,0,IF(FQ21<>0,500,FL21*$AE21/$AH21+FM21/$AH21*5+FN21/$AH21*25+FO21*50+FP21*50)))","v":4.0767793443179894},null,{"$f":"IF(C21<>\"\",C21,\"\")","v":320},3,null,null,3,1,null,"time",null,{"$f":"IF($C21=\"\",\"\", IF(GD21=1,0,IF(GB21<>0,500,FW21*$AE21/$AH21+FX21/$AH21*5+FY21/$AH21*25+FZ21*50+GA21*50)))","v":206.11516901647698},null,{"$f":"IF(C21<>\"\",C21,\"\")","v":320},1,null,null,null,null,null,null,null,{"$f":"IF($C21=\"\",\"\", IF(GO21=1,0,IF(GM21<>0,500,GH21*$AE21/$AH21+GI21/$AH21*5+GJ21/$AH21*25+GK21*50+GL21*50)))","v":2.0383896721589947},null,{"$f":"IF(C21<>\"\",C21,\"\")","v":320},1,null,null,null,null,null,null,null,{"$f":"IF($C21=\"\",\"\", IF(GZ21=1,0,IF(GX21<>0,500,GS21*$AE21/$AH21+GT21/$AH21*5+GU21/$AH21*25+GV21*50+GW21*50)))","v":2.0383896721589947},null,{"$f":"IF(C21<>\"\",C21,\"\")","v":320},2,null,null,3,1,null,null,null,{"$f":"IF($C21=\"\",\"\", IF(HK21=1,0,IF(HI21<>0,500,HD21*$AE21/$AH21+HE21/$AH21*5+HF21/$AH21*25+HG21*50+HH21*50)))","v":204.076779344318},null,{"$f":"IF(C21<>\"\",C21,\"\")","v":320},null,null,null,null,null,null,null,null,{"$f":"IF($C21=\"\",\"\", IF(HV21=1,0,IF(HT21<>0,500,HO21*$AE21/$AH21+HP21/$AH21*5+HQ21/$AH21*25+HR21*50+HS21*50)))","v":0},null,{"$f":"IF(C21<>\"\",C21,\"\")","v":320},null,null,null,null,null,null,null,null,{"$f":"IF($C21=\"\",\"\", IF(IG21=1,0,IF(IE21<>0,500,HZ21*$AE21/$AH21+IA21/$AH21*5+IB21/$AH21*25+IC21*50+ID21*50)))","v":0}]
[null,{"$f":"IF(C22=0,\"\",ROW(C22)-4)","v":18},324,"Germany","Pajero","Tero Leskinen","Jarkko Penttilä",{"$f":"IF(C22=0,\"\",IF(OR(BB22=1,BC22<>0),BC22,\"-\"))","v":2.9168692270296548},{"$f":"IF(C22=0,\"\",IF(OR(BM22=1,BN22<>0),BN22,\"-\"))","v":109.23675255226058},{"$f":"IF(C22=0,\"\",IF(OR(BX22=1,BY22<>0),BY22,\" -\"))","v":10.209042294603792},{"$f":"IF(C22=0,\"\",IF(OR(CJ22<>0,CI22=1),CJ22,\" -\"))","v":254.37530384054449},{"$f":"IF(C22=0,\"\",IF(OR(CU22<>0,CT22=1),CU22,\" -\"))","v":160.69518716577539},{"$f":"IF(C22=0,\"\",IF(OR(DF22<>0,DE22=1),DF22,\" -\"))","v":32.571706368497814},{"$f":"IF(C22=0,\"\",IF(OR(DQ22<>0,DP22=1),DQ22,\" -\"))","v":4.3753038405444826},{"$f":"IF(C22=0,\"\",IF(OR(EB22<>0,EA22=1),EB22,\" -\"))","v":11.667476908118619},{"$f":"IF(C22=0,\"\",IF(OR(EM22<>0,EL22=1),EM22,\" -\"))","v":0},{"$f":"IF(C22=0,\"\",IF(OR(EX22<>0,EW22=1),EX22,\" -\"))","v":105.3475935828877},{"$f":"IF(C22=0,\"\",IF(OR(FI22<>0,FH22=1),FI22,\" -\"))","v":74.793388429752071},{"$f":"IF(C22=0,\"\",IF(OR(FT22<>0,FS22=1),FT22,\" -\"))","v":3.8891589693728732},{"$f":"IF(C22=0,\"\",IF(OR(GE22<>0,GD22=1),GE22,\" -\"))","v":216.52892561983469},{"$f":"IF(C22=0,\"\",IF(OR(GP22<>0,GO22=1),GP22,\" -\"))","v":178.68254739912493},{"$f":"IF(C22=0,\"\",IF(OR(HA22<>0,GZ22=1),HA22,\" -\"))","v":7.2921730675741374},{"$f":"IF(C22=0,\"\",IF(OR(HL22<>0,HK22=1),HL22,\" -\"))","v":250},{"$f":"IF(C22=0,\"\",IF(AJ22<>0,AJ22,\" -\"))","v":" -"},{"$f":"IF(C22=0,\"\",IF(OR(HW22<>0,HV22=1),HW22,\" -\"))","v":" -"},{"$f":"IF(C22=0,\"\",IF(OR(IH22<>0,IG22=1),IH22,\" -\"))","v":" -"},{"$f":"IF(C22=0,\"\",IF(AL22=1,\"DNF\",IF(AL22=2,\"DSQ\",IF(AM22<>1,\"~ \"&ROUND(SUM(H22:X22),3),ROUND(SUM(H22:X22),3)))))","v":1422.5809999999999},null,null,{"$f":"IF(C22<>\"\",C22,\"\")","v":324},{"$f":"IF(AD22<>\"\",3,\"\")","v":3},1700,2420,{"$f":"IF(AD22<>\"\",(AF22/1000*AG22/1000)/2,\"\")","v":2.0569999999999999},3,null,null,null,1,null,null,{"$f":"IF(C22=0,99999,IF(AL22>0,9999,SUM(H22:X22)-AN22))","v":1422.5814292659213},{"$f":"IF(C22=0,99999,IF(AL22=1,9999,SUM(Y22:Z22)))","v":0},null,null,{"$f":"IF(C22<>\"\",C22,\"\")","v":324},2,null,null,null,null,null,null,null,{"$f":"IF($C22=\"\",\"\", IF(BB22=1,0,IF(AZ22<>0,500,AU22*$AE22/$AH22+AV22/$AH22*5+AW22/$AH22*25+AX22*50+AY22*50)))","v":2.9168692270296548},null,{"$f":"IF(C22<>\"\",C22,\"\")","v":324},3,2,null,1,1,null,"time",null,{"$f":"IF($C22=\"\",\"\", IF(BM22=1,0,IF(BK22<>0,500,BF22*$AE22/$AH22+BG22/$AH22*5+BH22/$AH22*25+BI22*50+BJ22*50)))","v":109.23675255226058},null,{"$f":"IF(C22<>\"\",C22,\"\")","v":324},7,null,null,null,null,null,null,null,{"$f":"IF($C22=\"\",\"\", IF(BX22=1,0,IF(BV22<>0,500,BQ22*$AE22/$AH22+BR22/$AH22*5+BS22/$AH22*25+BT22*50+BU22*50)))","v":10.209042294603792},null,{"$f":"IF(C22<>\"\",C22,\"\")","v":324},3,null,null,4,1,null,null,null,{"$f":"IF($C22=\"\",\"\", IF(CI22=1,0,IF(CG22<>0,500,CB22*$AE22/$AH22+CC22/$AH22*5+CD22/$AH22*25+CE22*50+CF22*50)))","v":254.37530384054449},null,{"$f":"IF(C22<>\"\",C22,\"\")","v":324},4,2,null,2,1,null,"time",null,{"$f":"IF($C22=\"\",\"\", IF(CT22=1,0,IF(CR22<>0,500,CM22*$AE22/$AH22+CN22/$AH22*5+CO22/$AH22*25+CP22*50+CQ22*50)))","v":160.69518716577539},null,{"$f":"IF(C22<>\"\",C22,\"\")","v":324},4,1,2,null,null,null,null,null,{"$f":"IF($C22=\"\",\"\", IF(DE22=1,0,IF(DC22<>0,500,CX22*$AE22/$AH22+CY22/$AH22*5+CZ22/$AH22*25+DA22*50+DB22*50)))","v":32.571706368497814},null,{"$f":"IF(C22<>\"\",C22,\"\")","v":324},3,null,null,null,null,null,null,null,{"$f":"IF($C22=\"\",\"\", IF(DP22=1,0,IF(DN22<>0,500,DI22*$AE22/$AH22+DJ22/$AH22*5+DK22/$AH22*25+DL22*50+DM22*50)))","v":4.3753038405444826},null,{"$f":"IF(C22<>\"\",C22,\"\")","v":324},8,null,null,null,null,null,null,null,{"$f":"IF($C22=\"\",\"\", IF(EA22=1,0,IF(DY22<>0,500,DT22*$AE22/$AH22+DU22/$AH22*5+DV22/$AH22*25+DW22*50+DX22*50)))","v":11.667476908118619},null,{"$f":"IF(C22<>\"\",C22,\"\")","v":324},null,null,null,null,null,null,null,1,{"$f":"IF($C22=\"\",\"\", IF(EL22=1,0,IF(EJ22<>0,500,EE22*$AE22/$AH22+EF22/$AH22*5+EG22/$AH22*25+EH22*50+EI22*50)))","v":0},null,{"$f":"IF(C22<>\"\",C22,\"\")","v":324},2,1,null,1,1,null,null,null,{"$f":"IF($C22=\"\",\"\", IF(EW22=1,0,IF(EU22<>0,500,EP22*$AE22/$AH22+EQ22/$AH22*5+ER22/$AH22*25+ES22*50+ET22*50)))","v":105.3475935828877},null,{"$f":"IF(C22<>\"\",C22,\"\")","v":324},7,1,1,null,1,null,"time",null,{"$f":"IF($C22=\"\",\"\", IF(FH22=1,0,IF(FF22<>0,500,FA22*$AE22/$AH22+FB22/$AH22*5+FC22/$AH22*25+FD22*50+FE22*50)))","v":74.793388429752071},null,{"$f":"IF(C22<>\"\",C22,\"\")","v":324},1,1,null,null,null,null,null,null,{"$f":"IF($C22=\"\",\"\", IF(FS22=1,0,IF(FQ22<>0,500,FL22*$AE22/$AH22+FM22/$AH22*5+FN22/$AH22*25+FO22*50+FP22*50)))","v":3.8891589693728732},null,{"$f":"IF(C22<>\"\",C22,\"\")","v":324},3,null,1,3,1,null,"time",null,{"$f":"IF($C22=\"\",\"\", IF(GD22=1,0,IF(GB22<>0,500,FW22*$AE22/$AH22+FX22/$AH22*5+FY22/$AH22*25+FZ22*50+GA22*50)))","v":216.52892561983469},null,{"$f":"IF(C22<>\"\",C22,\"\")","v":324},3,null,2,2,1,null,"time",null,{"$f":"IF($C22=\"\",\"\", IF(GO22=1,0,IF(GM22<>0,500,GH22*$AE22/$AH22+GI22/$AH22*5+GJ22/$AH22*25+GK22*50+GL22*50)))","v":178.68254739912493},null,{"$f":"IF(C22<>\"\",C22,\"\")","v":324},5,null,null,null,null,null,null,null,{"$f":"IF($C22=\"\",\"\", IF(GZ22=1,0,IF(GX22<>0,500,GS22*$AE22/$AH22+GT22/$AH22*5+GU22/$AH22*25+GV22*50+GW22*50)))","v":7.2921730675741374},null,{"$f":"IF(C22<>\"\",C22,\"\")","v":324},null,null,null,4,1,null,null,null,{"$f":"IF($C22=\"\",\"\", IF(HK22=1,0,IF(HI22<>0,500,HD22*$AE22/$AH22+HE22/$AH22*5+HF22/$AH22*25+HG22*50+HH22*50)))","v":250},null,{"$f":"IF(C22<>\"\",C22,\"\")","v":324},null,null,null,null,null,null,null,null,{"$f":"IF($C22=\"\",\"\", IF(HV22=1,0,IF(HT22<>0,500,HO22*$AE22/$AH22+HP22/$AH22*5+HQ22/$AH22*25+HR22*50+HS22*50)))","v":0},null,{"$f":"IF(C22<>\"\",C22,\"\")","v":324},null,null,null,null,null,null,null,null,{"$f":"IF($C22=\"\",\"\", IF(IG22=1,0,IF(IE22<>0,500,HZ22*$AE22/$AH22+IA22/$AH22*5+IB22/$AH22*25+IC22*50+ID22*50)))","v":0}]
[null,{"$f":"IF(C23=0,\"\",ROW(C23)-4)","v":19},325,"Spain","Jeep Wrangler JK","Seppo Luukkanen","Jari Rantanen",{"$f":"IF(C23=0,\"\",IF(OR(BB23=1,BC23<>0),BC23,\"-\"))","v":1.32208707309533},{"$f":"IF(C23=0,\"\",IF(OR(BM23=1,BN23<>0),BN23,\"-\"))","v":69.831306096429955},{"$f":"IF(C23=0,\"\",IF(OR(BX23=1,BY23<>0),BY23,\" -\"))","v":19.831306096429948},{"$f":"IF(C23=0,\"\",IF(OR(CJ23<>0,CI23=1),CJ23,\" -\"))","v":83.492872518415027},{"$f":"IF(C23=0,\"\",IF(OR(CU23<>0,CT23=1),CU23,\" -\"))","v":5.7290439834130957},{"$f":"IF(C23=0,\"\",IF(OR(DF23<>0,DE23=1),DF23,\" -\"))","v":41.866090648018783},{"$f":"IF(C23=0,\"\",IF(OR(DQ23<>0,DP23=1),DQ23,\" -\"))","v":3.9662612192859901},{"$f":"IF(C23=0,\"\",IF(OR(EB23<>0,EA23=1),EB23,\" -\"))","v":3.9662612192859901},{"$f":"IF(C23=0,\"\",IF(OR(EM23<>0,EL23=1),EM23,\" -\"))","v":2.64417414619066},{"$f":"IF(C23=0,\"\",IF(OR(EX23<>0,EW23=1),EX23,\" -\"))","v":500},{"$f":"IF(C23=0,\"\",IF(OR(FI23<>0,FH23=1),FI23,\" -\"))","v":500},{"$f":"IF(C23=0,\"\",IF(OR(FT23<>0,FS23=1),FT23,\" -\"))","v":500},{"$f":"IF(C23=0,\"\",IF(OR(GE23<>0,GD23=1),GE23,\" -\"))","v":17.187131950239291},{"$f":"IF(C23=0,\"\",IF(OR(GP23<>0,GO23=1),GP23,\" -\"))","v":68.9499147143664},{"$f":"IF(C23=0,\"\",IF(OR(HA23<>0,GZ23=1),HA23,\" -\"))","v":250},{"$f":"IF(C23=0,\"\",IF(OR(HL23<>0,HK23=1),HL23,\" -\"))","v":103.52556552825422},{"$f":"IF(C23=0,\"\",IF(AJ23<>0,AJ23,\" -\"))","v":" -"},{"$f":"IF(C23=0,\"\",IF(OR(HW23<>0,HV23=1),HW23,\" -\"))","v":" -"},{"$f":"IF(C23=0,\"\",IF(OR(IH23<>0,IG23=1),IH23,\" -\"))","v":" -"},{"$f":"IF(C23=0,\"\",IF(AL23=1,\"DNF\",IF(AL23=2,\"DSQ\",IF(AM23<>1,\"~ \"&ROUND(SUM(H23:X23),3),ROUND(SUM(H23:X23),3)))))","v":2172.3119999999999},null,null,{"$f":"IF(C23<>\"\",C23,\"\")","v":325},{"$f":"IF(AD23<>\"\",3,\"\")","v":3},1873,2423,{"$f":"IF(AD23<>\"\",(AF23/1000*AG23/1000)/2,\"\")","v":2.2691394999999996},3,null,null,null,1,null,null,{"$f":"IF(C23=0,99999,IF(AL23>0,9999,SUM(H23:X23)-AN23))","v":2172.3120151934245},{"$f":"IF(C23=0,99999,IF(AL23=1,9999,SUM(Y23:Z23)))","v":0},null,null,{"$f":"IF(C23<>\"\",C23,\"\")","v":325},1,null,null,null,null,null,null,null,{"$f":"IF($C23=\"\",\"\", IF(BB23=1,0,IF(AZ23<>0,500,AU23*$AE23/$AH23+AV23/$AH23*5+AW23/$AH23*25+AX23*50+AY23*50)))","v":1.32208707309533},null,{"$f":"IF(C23<>\"\",C23,\"\")","v":325},5,1,1,null,1,null,"time",null,{"$f":"IF($C23=\"\",\"\", IF(BM23=1,0,IF(BK23<>0,500,BF23*$AE23/$AH23+BG23/$AH23*5+BH23/$AH23*25+BI23*50+BJ23*50)))","v":69.831306096429955},null,{"$f":"IF(C23<>\"\",C23,\"\")","v":325},5,1,1,null,null,null,null,null,{"$f":"IF($C23=\"\",\"\", IF(BX23=1,0,IF(BV23<>0,500,BQ23*$AE23/$AH23+BR23/$AH23*5+BS23/$AH23*25+BT23*50+BU23*50)))","v":19.831306096429948},null,{"$f":"IF(C23<>\"\",C23,\"\")","v":325},7,1,2,null,1,null,null,null,{"$f":"IF($C23=\"\",\"\", IF(CI23=1,0,IF(CG23<>0,500,CB23*$AE23/$AH23+CC23/$AH23*5+CD23/$AH23*25+CE23*50+CF23*50)))","v":83.492872518415027},null,{"$f":"IF(C23<>\"\",C23,\"\")","v":325},1,2,null,null,null,null,null,null,{"$f":"IF($C23=\"\",\"\", IF(CT23=1,0,IF(CR23<>0,500,CM23*$AE23/$AH23+CN23/$AH23*5+CO23/$AH23*25+CP23*50+CQ23*50)))","v":5.7290439834130957},null,{"$f":"IF(C23<>\"\",C23,\"\")","v":325},5,1,3,null,null,null,null,null,{"$f":"IF($C23=\"\",\"\", IF(DE23=1,0,IF(DC23<>0,500,CX23*$AE23/$AH23+CY23/$AH23*5+CZ23/$AH23*25+DA23*50+DB23*50)))","v":41.866090648018783},null,{"$f":"IF(C23<>\"\",C23,\"\")","v":325},3,null,null,null,null,null,null,null,{"$f":"IF($C23=\"\",\"\", IF(DP23=1,0,IF(DN23<>0,500,DI23*$AE23/$AH23+DJ23/$AH23*5+DK23/$AH23*25+DL23*50+DM23*50)))","v":3.9662612192859901},null,{"$f":"IF(C23<>\"\",C23,\"\")","v":325},3,null,null,null,null,null,null,null,{"$f":"IF($C23=\"\",\"\", IF(EA23=1,0,IF(DY23<>0,500,DT23*$AE23/$AH23+DU23/$AH23*5+DV23/$AH23*25+DW23*50+DX23*50)))","v":3.9662612192859901},null,{"$f":"IF(C23<>\"\",C23,\"\")","v":325},2,null,null,null,null,null,null,null,{"$f":"IF($C23=\"\",\"\", IF(EL23=1,0,IF(EJ23<>0,500,EE23*$AE23/$AH23+EF23/$AH23*5+EG23/$AH23*25+EH23*50+EI23*50)))","v":2.64417414619066},null,{"$f":"IF(C23<>\"\",C23,\"\")","v":325},null,null,null,null,null,1,null,null,{"$f":"IF($C23=\"\",\"\", IF(EW23=1,0,IF(EU23<>0,500,EP23*$AE23/$AH23+EQ23/$AH23*5+ER23/$AH23*25+ES23*50+ET23*50)))","v":500},null,{"$f":"IF(C23<>\"\",C23,\"\")","v":325},null,null,null,null,null,1,null,null,{"$f":"IF($C23=\"\",\"\", IF(FH23=1,0,IF(FF23<>0,500,FA23*$AE23/$AH23+FB23/$AH23*5+FC23/$AH23*25+FD23*50+FE23*50)))","v":500},null,{"$f":"IF(C23<>\"\",C23,\"\")","v":325},null,null,null,null,null,1,null,null,{"$f":"IF($C23=\"\",\"\", IF(FS23=1,0,IF(FQ23<>0,500,FL23*$AE23/$AH23+FM23/$AH23*5+FN23/$AH23*25+FO23*50+FP23*50)))","v":500},null,{"$f":"IF(C23<>\"\",C23,\"\")","v":325},3,1,1,null,null,null,null,null,{"$f":"IF($C23=\"\",\"\", IF(GD23=1,0,IF(GB23<>0,500,FW23*$AE23/$AH23+FX23/$AH23*5+FY23/$AH23*25+FZ23*50+GA23*50)))","v":17.187131950239291},null,{"$f":"IF(C23<>\"\",C23,\"\")","v":325},6,null,1,null,1,null,"time",null,{"$f":"IF($C23=\"\",\"\", IF(GO23=1,0,IF(GM23<>0,500,GH23*$AE23/$AH23+GI23/$AH23*5+GJ23/$AH23*25+GK23*50+GL23*50)))","v":68.9499147143664},null,{"$f":"IF(C23<>\"\",C23,\"\")","v":325},null,null,null,4,1,null,"time",null,{"$f":"IF($C23=\"\",\"\", IF(GZ23=1,0,IF(GX23<>0,500,GS23*$AE23/$AH23+GT23/$AH23*5+GU23/$AH23*25+GV23*50+GW23*50)))","v":250},null,{"$f":"IF(C23<>\"\",C23,\"\")","v":325},1,1,null,1,1,null,"car broken",null,{"$f":"IF($C23=\"\",\"\", IF(HK23=1,0,IF(HI23<>0,500,HD23*$AE23/$AH23+HE23/$AH23*5+HF23/$AH23*25+HG23*50+HH23*50)))","v":103.52556552825422},null,{"$f":"IF(C23<>\"\",C23,\"\")","v":325},null,null,null,null,null,null,null,null,{"$f":"IF($C23=\"\",\"\", IF(HV23=1,0,IF(HT23<>0,500,HO23*$AE23/$AH23+HP23/$AH23*5+HQ23/$AH23*25+HR23*50+HS23*50)))","v":0},null,{"$f":"IF(C23<>\"\",C23,\"\")","v":325},null,null,null,null,null,null,null,null,{"$f":"IF($C23=\"\",\"\", IF(IG23=1,0,IF(IE23<>0,500,HZ23*$AE23/$AH23+IA23/$AH23*5+IB23/$AH23*25+IC23*50+ID23*50)))","v":0}]
[null,{"$f":"IF(C24=0,\"\",ROW(C24)-4)","v":20},322,"Denmark","Toyota BJ40","Samu Suominen","Werneri Rouhiainen",{"$f":"IF(C24=0,\"\",IF(OR(BB24=1,BC24<>0),BC24,\"-\"))","v":203.14185474158245},{"$f":"IF(C24=0,\"\",IF(OR(BM24=1,BN24<>0),BN24,\"-\"))","v":107.33099439702571},{"$f":"IF(C24=0,\"\",IF(OR(BX24=1,BY24<>0),BY24,\" -\"))","v":20.422055820285905},{"$f":"IF(C24=0,\"\",IF(OR(CJ24<>0,CI24=1),CJ24,\" -\"))","v":132.46583232968527},{"$f":"IF(C24=0,\"\",IF(OR(CU24<>0,CT24=1),CU24,\" -\"))","v":500},{"$f":"IF(C24=0,\"\",IF(OR(DF24<>0,DE24=1),DF24,\" -\"))","v":250},{"$f":"IF(C24=0,\"\",IF(OR(DQ24<>0,DP24=1),DQ24,\" -\"))","v":12.567418966329789},{"$f":"IF(C24=0,\"\",IF(OR(EB24<>0,EA24=1),EB24,\" -\"))","v":234.03675970047652},{"$f":"IF(C24=0,\"\",IF(OR(EM24<>0,EL24=1),EM24,\" -\"))","v":7.8546368539561193},{"$f":"IF(C24=0,\"\",IF(OR(EX24<>0,EW24=1),EX24,\" -\"))","v":105.76006702623448},{"$f":"IF(C24=0,\"\",IF(OR(FI24<>0,FH24=1),FI24,\" -\"))","v":77.229407760381207},{"$f":"IF(C24=0,\"\",IF(OR(FT24<>0,FS24=1),FT24,\" -\"))","v":217.28020107870347},{"$f":"IF(C24=0,\"\",IF(OR(GE24<>0,GD24=1),GE24,\" -\"))","v":250},{"$f":"IF(C24=0,\"\",IF(OR(GP24<>0,GO24=1),GP24,\" -\"))","v":122.51662564800753},{"$f":"IF(C24=0,\"\",IF(OR(HA24<>0,GZ24=1),HA24,\" -\"))","v":250},{"$f":"IF(C24=0,\"\",IF(OR(HL24<>0,HK24=1),HL24,\" -\"))","v":250},{"$f":"IF(C24=0,\"\",IF(AJ24<>0,AJ24,\" -\"))","v":" -"},{"$f":"IF(C24=0,\"\",IF(OR(HW24<>0,HV24=1),HW24,\" -\"))","v":" -"},{"$f":"IF(C24=0,\"\",IF(OR(IH24<>0,IG24=1),IH24,\" -\"))","v":" -"},{"$f":"IF(C24=0,\"\",IF(AL24=1,\"DNF\",IF(AL24=2,\"DSQ\",IF(AM24<>1,\"~ \"&ROUND(SUM(H24:X24),3),ROUND(SUM(H24:X24),3)))))","v":2740.6060000000002},null,null,{"$f":"IF(C24<>\"\",C24,\"\")","v":322},{"$f":"IF(AD24<>\"\",3,\"\")","v":3},1690,2260,{"$f":"IF(AD24<>\"\",(AF24/1000*AG24/1000)/2,\"\")","v":1.9097},4,null,null,null,1,null,null,{"$f":"IF(C24=0,99999,IF(AL24>0,9999,SUM(H24:X24)-AN24))","v":2740.6058543226686},{"$f":"IF(C24=0,99999,IF(AL24=1,9999,SUM(Y24:Z24)))","v":0},null,null,{"$f":"IF(C24<>\"\",C24,\"\")","v":322},2,null,null,3,1,null,"Seatbelt broken, 3 non driven",null,{"$f":"IF($C24=\"\",\"\", IF(BB24=1,0,IF(AZ24<>0,500,AU24*$AE24/$AH24+AV24/$AH24*5+AW24/$AH24*25+AX24*50+AY24*50)))","v":203.14185474158245},null,{"$f":"IF(C24<>\"\",C24,\"\")","v":322},3,1,null,1,1,null,null,null,{"$f":"IF($C24=\"\",\"\", IF(BM24=1,0,IF(BK24<>0,500,BF24*$AE24/$AH24+BG24/$AH24*5+BH24/$AH24*25+BI24*50+BJ24*50)))","v":107.33099439702571},null,{"$f":"IF(C24<>\"\",C24,\"\")","v":322},3,1,1,null,null,null,null,null,{"$f":"IF($C24=\"\",\"\", IF(BX24=1,0,IF(BV24<>0,500,BQ24*$AE24/$AH24+BR24/$AH24*5+BS24/$AH24*25+BT24*50+BU24*50)))","v":20.422055820285905},null,{"$f":"IF(C24<>\"\",C24,\"\")","v":322},4,null,2,1,1,null,null,null,{"$f":"IF($C24=\"\",\"\", IF(CI24=1,0,IF(CG24<>0,500,CB24*$AE24/$AH24+CC24/$AH24*5+CD24/$AH24*25+CE24*50+CF24*50)))","v":132.46583232968527},null,{"$f":"IF(C24<>\"\",C24,\"\")","v":322},null,null,null,null,null,1,null,null,{"$f":"IF($C24=\"\",\"\", IF(CT24=1,0,IF(CR24<>0,500,CM24*$AE24/$AH24+CN24/$AH24*5+CO24/$AH24*25+CP24*50+CQ24*50)))","v":500},null,{"$f":"IF(C24<>\"\",C24,\"\")","v":322},null,null,null,4,1,null,"Towed",null,{"$f":"IF($C24=\"\",\"\", IF(DE24=1,0,IF(DC24<>0,500,CX24*$AE24/$AH24+CY24/$AH24*5+CZ24/$AH24*25+DA24*50+DB24*50)))","v":250},null,{"$f":"IF(C24<>\"\",C24,\"\")","v":322},8,null,null,null,null,null,null,null,{"$f":"IF($C24=\"\",\"\", IF(DP24=1,0,IF(DN24<>0,500,DI24*$AE24/$AH24+DJ24/$AH24*5+DK24/$AH24*25+DL24*50+DM24*50)))","v":12.567418966329789},null,{"$f":"IF(C24<>\"\",C24,\"\")","v":322},5,null,2,3,1,null,"Beautifull roll over",null,{"$f":"IF($C24=\"\",\"\", IF(EA24=1,0,IF(DY24<>0,500,DT24*$AE24/$AH24+DU24/$AH24*5+DV24/$AH24*25+DW24*50+DX24*50)))","v":234.03675970047652},null,{"$f":"IF(C24<>\"\",C24,\"\")","v":322},5,null,null,null,null,null,null,null,{"$f":"IF($C24=\"\",\"\", IF(EL24=1,0,IF(EJ24<>0,500,EE24*$AE24/$AH24+EF24/$AH24*5+EG24/$AH24*25+EH24*50+EI24*50)))","v":7.8546368539561193},null,{"$f":"IF(C24<>\"\",C24,\"\")","v":322},2,1,null,1,1,null,null,null,{"$f":"IF($C24=\"\",\"\", IF(EW24=1,0,IF(EU24<>0,500,EP24*$AE24/$AH24+EQ24/$AH24*5+ER24/$AH24*25+ES24*50+ET24*50)))","v":105.76006702623448},null,{"$f":"IF(C24<>\"\",C24,\"\")","v":322},4,3,1,null,1,null,"time",null,{"$f":"IF($C24=\"\",\"\", IF(FH24=1,0,IF(FF24<>0,500,FA24*$AE24/$AH24+FB24/$AH24*5+FC24/$AH24*25+FD24*50+FE24*50)))","v":77.229407760381207},null,{"$f":"IF(C24<>\"\",C24,\"\")","v":322},1,1,1,3,1,null,null,null,{"$f":"IF($C24=\"\",\"\", IF(FS24=1,0,IF(FQ24<>0,500,FL24*$AE24/$AH24+FM24/$AH24*5+FN24/$AH24*25+FO24*50+FP24*50)))","v":217.28020107870347},null,{"$f":"IF(C24<>\"\",C24,\"\")","v":322},null,null,null,4,1,null,"didn’t go",null,{"$f":"IF($C24=\"\",\"\", IF(GD24=1,0,IF(GB24<>0,500,FW24*$AE24/$AH24+FX24/$AH24*5+FY24/$AH24*25+FZ24*50+GA24*50)))","v":250},null,{"$f":"IF(C24<>\"\",C24,\"\")","v":322},6,null,1,1,1,null,"time",null,{"$f":"IF($C24=\"\",\"\", IF(GO24=1,0,IF(GM24<>0,500,GH24*$AE24/$AH24+GI24/$AH24*5+GJ24/$AH24*25+GK24*50+GL24*50)))","v":122.51662564800753},null,{"$f":"IF(C24<>\"\",C24,\"\")","v":322},null,null,null,4,1,null,"didn’t go",null,{"$f":"IF($C24=\"\",\"\", IF(GZ24=1,0,IF(GX24<>0,500,GS24*$AE24/$AH24+GT24/$AH24*5+GU24/$AH24*25+GV24*50+GW24*50)))","v":250},null,{"$f":"IF(C24<>\"\",C24,\"\")","v":322},null,null,null,4,1,null,null,null,{"$f":"IF($C24=\"\",\"\", IF(HK24=1,0,IF(HI24<>0,500,HD24*$AE24/$AH24+HE24/$AH24*5+HF24/$AH24*25+HG24*50+HH24*50)))","v":250},null,{"$f":"IF(C24<>\"\",C24,\"\")","v":322},null,null,null,null,null,null,null,null,{"$f":"IF($C24=\"\",\"\", IF(HV24=1,0,IF(HT24<>0,500,HO24*$AE24/$AH24+HP24/$AH24*5+HQ24/$AH24*25+HR24*50+HS24*50)))","v":0},null,{"$f":"IF(C24<>\"\",C24,\"\")","v":322},null,null,null,null,null,null,null,null,{"$f":"IF($C24=\"\",\"\", IF(IG24=1,0,IF(IE24<>0,500,HZ24*$AE24/$AH24+IA24/$AH24*5+IB24/$AH24*25+IC24*50+ID24*50)))","v":0}]
[null,{"$f":"IF(C25=0,\"\",ROW(C25)-4)","v":21},315,"Norway","Suzuki SJ410","Tommy Heia","Vera Vogsland",{"$f":"IF(C25=0,\"\",IF(OR(BB25=1,BC25<>0),BC25,\"-\"))","v":6.7946322405299817},{"$f":"IF(C25=0,\"\",IF(OR(BM25=1,BN25<>0),BN25,\"-\"))","v":0},{"$f":"IF(C25=0,\"\",IF(OR(BX25=1,BY25<>0),BY25,\" -\"))","v":4.0767793443179894},{"$f":"IF(C25=0,\"\",IF(OR(CJ25<>0,CI25=1),CJ25,\" -\"))","v":21.063359945642944},{"$f":"IF(C25=0,\"\",IF(OR(CU25<>0,CT25=1),CU25,\" -\"))","v":110.19194836079498},{"$f":"IF(C25=0,\"\",IF(OR(DF25<>0,DE25=1),DF25,\" -\"))","v":2.0383896721589947},{"$f":"IF(C25=0,\"\",IF(OR(DQ25<>0,DP25=1),DQ25,\" -\"))","v":0},{"$f":"IF(C25=0,\"\",IF(OR(EB25<>0,EA25=1),EB25,\" -\"))","v":4.0767793443179894},{"$f":"IF(C25=0,\"\",IF(OR(EM25<>0,EL25=1),EM25,\" -\"))","v":500},{"$f":"IF(C25=0,\"\",IF(OR(EX25<>0,EW25=1),EX25,\" -\"))","v":500},{"$f":"IF(C25=0,\"\",IF(OR(FI25<>0,FH25=1),FI25,\" -\"))","v":500},{"$f":"IF(C25=0,\"\",IF(OR(FT25<>0,FS25=1),FT25,\" -\"))","v":500},{"$f":"IF(C25=0,\"\",IF(OR(GE25<>0,GD25=1),GE25,\" -\"))","v":125.81960251401392},{"$f":"IF(C25=0,\"\",IF(OR(GP25<>0,GO25=1),GP25,\" -\"))","v":256.79463224052995},{"$f":"IF(C25=0,\"\",IF(OR(HA25<>0,GZ25=1),HA25,\" -\"))","v":4.0767793443179894},{"$f":"IF(C25=0,\"\",IF(OR(HL25<>0,HK25=1),HL25,\" -\"))","v":500},{"$f":"IF(C25=0,\"\",IF(AJ25<>0,AJ25,\" -\"))","v":" -"},{"$f":"IF(C25=0,\"\",IF(OR(HW25<>0,HV25=1),HW25,\" -\"))","v":" -"},{"$f":"IF(C25=0,\"\",IF(OR(IH25<>0,IG25=1),IH25,\" -\"))","v":" -"},{"$f":"IF(C25=0,\"\",IF(AL25=1,\"DNF\",IF(AL25=2,\"DSQ\",IF(AM25<>1,\"~ \"&ROUND(SUM(H25:X25),3),ROUND(SUM(H25:X25),3)))))","v":3034.933},null,null,{"$f":"IF(C25<>\"\",C25,\"\")","v":315},{"$f":"IF(AD25<>\"\",3,\"\")","v":3},1450,2030,{"$f":"IF(AD25<>\"\",(AF25/1000*AG25/1000)/2,\"\")","v":1.4717499999999999},5,null,null,null,1,null,null,{"$f":"IF(C25=0,99999,IF(AL25>0,9999,SUM(H25:X25)-AN25))","v":3034.9329030066247},{"$f":"IF(C25=0,99999,IF(AL25=1,9999,SUM(Y25:Z25)))","v":0},null,null,{"$f":"IF(C25<>\"\",C25,\"\")","v":315},null,2,null,null,null,null,null,null,{"$f":"IF($C25=\"\",\"\", IF(BB25=1,0,IF(AZ25<>0,500,AU25*$AE25/$AH25+AV25/$AH25*5+AW25/$AH25*25+AX25*50+AY25*50)))","v":6.7946322405299817},null,{"$f":"IF(C25<>\"\",C25,\"\")","v":315},null,null,null,null,null,null,null,1,{"$f":"IF($C25=\"\",\"\", IF(BM25=1,0,IF(BK25<>0,500,BF25*$AE25/$AH25+BG25/$AH25*5+BH25/$AH25*25+BI25*50+BJ25*50)))","v":0},null,{"$f":"IF(C25<>\"\",C25,\"\")","v":315},2,null,null,null,null,null,null,null,{"$f":"IF($C25=\"\",\"\", IF(BX25=1,0,IF(BV25<>0,500,BQ25*$AE25/$AH25+BR25/$AH25*5+BS25/$AH25*25+BT25*50+BU25*50)))","v":4.0767793443179894},null,{"$f":"IF(C25<>\"\",C25,\"\")","v":315},2,null,1,null,null,null,null,null,{"$f":"IF($C25=\"\",\"\", IF(CI25=1,0,IF(CG25<>0,500,CB25*$AE25/$AH25+CC25/$AH25*5+CD25/$AH25*25+CE25*50+CF25*50)))","v":21.063359945642944},null,{"$f":"IF(C25<>\"\",C25,\"\")","v":315},5,null,null,1,1,null,"time",null,{"$f":"IF($C25=\"\",\"\", IF(CT25=1,0,IF(CR25<>0,500,CM25*$AE25/$AH25+CN25/$AH25*5+CO25/$AH25*25+CP25*50+CQ25*50)))","v":110.19194836079498},null,{"$f":"IF(C25<>\"\",C25,\"\")","v":315},1,null,null,null,null,null,null,null,{"$f":"IF($C25=\"\",\"\", IF(DE25=1,0,IF(DC25<>0,500,CX25*$AE25/$AH25+CY25/$AH25*5+CZ25/$AH25*25+DA25*50+DB25*50)))","v":2.0383896721589947},null,{"$f":"IF(C25<>\"\",C25,\"\")","v":315},null,null,null,null,null,null,null,1,{"$f":"IF($C25=\"\",\"\", IF(DP25=1,0,IF(DN25<>0,500,DI25*$AE25/$AH25+DJ25/$AH25*5+DK25/$AH25*25+DL25*50+DM25*50)))","v":0},null,{"$f":"IF(C25<>\"\",C25,\"\")","v":315},2,null,null,null,null,null,null,null,{"$f":"IF($C25=\"\",\"\", IF(EA25=1,0,IF(DY25<>0,500,DT25*$AE25/$AH25+DU25/$AH25*5+DV25/$AH25*25+DW25*50+DX25*50)))","v":4.0767793443179894},null,{"$f":"IF(C25<>\"\",C25,\"\")","v":315},null,null,null,null,null,1,null,null,{"$f":"IF($C25=\"\",\"\", IF(EL25=1,0,IF(EJ25<>0,500,EE25*$AE25/$AH25+EF25/$AH25*5+EG25/$AH25*25+EH25*50+EI25*50)))","v":500},null,{"$f":"IF(C25<>\"\",C25,\"\")","v":315},null,null,null,null,null,1,null,null,{"$f":"IF($C25=\"\",\"\", IF(EW25=1,0,IF(EU25<>0,500,EP25*$AE25/$AH25+EQ25/$AH25*5+ER25/$AH25*25+ES25*50+ET25*50)))","v":500},null,{"$f":"IF(C25<>\"\",C25,\"\")","v":315},null,null,null,null,null,1,null,null,{"$f":"IF($C25=\"\",\"\", IF(FH25=1,0,IF(FF25<>0,500,FA25*$AE25/$AH25+FB25/$AH25*5+FC25/$AH25*25+FD25*50+FE25*50)))","v":500},null,{"$f":"IF(C25<>\"\",C25,\"\")","v":315},null,null,null,null,null,1,null,null,{"$f":"IF($C25=\"\",\"\", IF(FS25=1,0,IF(FQ25<>0,500,FL25*$AE25/$AH25+FM25/$AH25*5+FN25/$AH25*25+FO25*50+FP25*50)))","v":500},null,{"$f":"IF(C25<>\"\",C25,\"\")","v":315},11,1,null,1,1,null,"time",null,{"$f":"IF($C25=\"\",\"\", IF(GD25=1,0,IF(GB25<>0,500,FW25*$AE25/$AH25+FX25/$AH25*5+FY25/$AH25*25+FZ25*50+GA25*50)))","v":125.81960251401392},null,{"$f":"IF(C25<>\"\",C25,\"\")","v":315},null,2,null,4,1,null,"winch",null,{"$f":"IF($C25=\"\",\"\", IF(GO25=1,0,IF(GM25<>0,500,GH25*$AE25/$AH25+GI25/$AH25*5+GJ25/$AH25*25+GK25*50+GL25*50)))","v":256.79463224052995},null,{"$f":"IF(C25<>\"\",C25,\"\")","v":315},2,null,null,null,null,null,null,null,{"$f":"IF($C25=\"\",\"\", IF(GZ25=1,0,IF(GX25<>0,500,GS25*$AE25/$AH25+GT25/$AH25*5+GU25/$AH25*25+GV25*50+GW25*50)))","v":4.0767793443179894},null,{"$f":"IF(C25<>\"\",C25,\"\")","v":315},null,null,null,null,null,1,null,null,{"$f":"IF($C25=\"\",\"\", IF(HK25=1,0,IF(HI25<>0,500,HD25*$AE25/$AH25+HE25/$AH25*5+HF25/$AH25*25+HG25*50+HH25*50)))","v":500},null,{"$f":"IF(C25<>\"\",C25,\"\")","v":315},null,null,null,null,null,null,null,null,{"$f":"IF($C25=\"\",\"\", IF(HV25=1,0,IF(HT25<>0,500,HO25*$AE25/$AH25+HP25/$AH25*5+HQ25/$AH25*25+HR25*50+HS25*50)))","v":0},null,{"$f":"IF(C25<>\"\",C25,\"\")","v":315},null,null,null,null,null,null,null,null,{"$f":"IF($C25=\"\",\"\", IF(IG25=1,0,IF(IE25<>0,500,HZ25*$AE25/$AH25+IA25/$AH25*5+IB25/$AH25*25+IC25*50+ID25*50)))","v":0}]
[null,{"$f":"IF(C26=0,\"\",ROW(C26)-4)","v":22},311,"Norway","Suzuki SJ","Carl-Henrik Enger","Benjamin Enger Knutsen",{"$f":"IF(C26=0,\"\",IF(OR(BB26=1,BC26<>0),BC26,\"-\"))","v":16.986580601324956},{"$f":"IF(C26=0,\"\",IF(OR(BM26=1,BN26<>0),BN26,\"-\"))","v":500},{"$f":"IF(C26=0,\"\",IF(OR(BX26=1,BY26<>0),BY26,\" -\"))","v":500},{"$f":"IF(C26=0,\"\",IF(OR(CJ26<>0,CI26=1),CJ26,\" -\"))","v":13.589264481059963},{"$f":"IF(C26=0,\"\",IF(OR(CU26<>0,CT26=1),CU26,\" -\"))","v":146.88296245965688},{"$f":"IF(C26=0,\"\",IF(OR(DF26<>0,DE26=1),DF26,\" -\"))","v":500},{"$f":"IF(C26=0,\"\",IF(OR(DQ26<>0,DP26=1),DQ26,\" -\"))","v":2.0383896721589947},{"$f":"IF(C26=0,\"\",IF(OR(EB26<>0,EA26=1),EB26,\" -\"))","v":31.255308306437918},{"$f":"IF(C26=0,\"\",IF(OR(EM26<>0,EL26=1),EM26,\" -\"))","v":105.43570579242399},{"$f":"IF(C26=0,\"\",IF(OR(EX26<>0,EW26=1),EX26,\" -\"))","v":500},{"$f":"IF(C26=0,\"\",IF(OR(FI26<>0,FH26=1),FI26,\" -\"))","v":500},{"$f":"IF(C26=0,\"\",IF(OR(FT26<>0,FS26=1),FT26,\" -\"))","v":500},{"$f":"IF(C26=0,\"\",IF(OR(GE26<>0,GD26=1),GE26,\" -\"))","v":500},{"$f":"IF(C26=0,\"\",IF(OR(GP26<>0,GO26=1),GP26,\" -\"))","v":500},{"$f":"IF(C26=0,\"\",IF(OR(HA26<>0,GZ26=1),HA26,\" -\"))","v":2.0383896721589947},{"$f":"IF(C26=0,\"\",IF(OR(HL26<>0,HK26=1),HL26,\" -\"))","v":0},{"$f":"IF(C26=0,\"\",IF(AJ26<>0,AJ26,\" -\"))","v":" -"},{"$f":"IF(C26=0,\"\",IF(OR(HW26<>0,HV26=1),HW26,\" -\"))","v":" -"},{"$f":"IF(C26=0,\"\",IF(OR(IH26<>0,IG26=1),IH26,\" -\"))","v":" -"},{"$f":"IF(C26=0,\"\",IF(AL26=1,\"DNF\",IF(AL26=2,\"DSQ\",IF(AM26<>1,\"~ \"&ROUND(SUM(H26:X26),3),ROUND(SUM(H26:X26),3)))))","v":4318.2269999999999},null,null,{"$f":"IF(C26<>\"\",C26,\"\")","v":311},{"$f":"IF(AD26<>\"\",3,\"\")","v":3},1450,2030,{"$f":"IF(AD26<>\"\",(AF26/1000*AG26/1000)/2,\"\")","v":1.4717499999999999},5,null,null,null,1,null,null,{"$f":"IF(C26=0,99999,IF(AL26>0,9999,SUM(H26:X26)-AN26))","v":4318.226600985221},{"$f":"IF(C26=0,99999,IF(AL26=1,9999,SUM(Y26:Z26)))","v":0},null,null,{"$f":"IF(C26<>\"\",C26,\"\")","v":311},null,null,1,null,null,null,null,null,{"$f":"IF($C26=\"\",\"\", IF(BB26=1,0,IF(AZ26<>0,500,AU26*$AE26/$AH26+AV26/$AH26*5+AW26/$AH26*25+AX26*50+AY26*50)))","v":16.986580601324956},null,{"$f":"IF(C26<>\"\",C26,\"\")","v":311},null,null,null,null,null,1,null,null,{"$f":"IF($C26=\"\",\"\", IF(BM26=1,0,IF(BK26<>0,500,BF26*$AE26/$AH26+BG26/$AH26*5+BH26/$AH26*25+BI26*50+BJ26*50)))","v":500},null,{"$f":"IF(C26<>\"\",C26,\"\")","v":311},null,null,null,null,null,1,null,null,{"$f":"IF($C26=\"\",\"\", IF(BX26=1,0,IF(BV26<>0,500,BQ26*$AE26/$AH26+BR26/$AH26*5+BS26/$AH26*25+BT26*50+BU26*50)))","v":500},null,{"$f":"IF(C26<>\"\",C26,\"\")","v":311},5,1,null,null,null,null,null,null,{"$f":"IF($C26=\"\",\"\", IF(CI26=1,0,IF(CG26<>0,500,CB26*$AE26/$AH26+CC26/$AH26*5+CD26/$AH26*25+CE26*50+CF26*50)))","v":13.589264481059963},null,{"$f":"IF(C26<>\"\",C26,\"\")","v":311},3,2,2,1,1,null,"time",null,{"$f":"IF($C26=\"\",\"\", IF(CT26=1,0,IF(CR26<>0,500,CM26*$AE26/$AH26+CN26/$AH26*5+CO26/$AH26*25+CP26*50+CQ26*50)))","v":146.88296245965688},null,{"$f":"IF(C26<>\"\",C26,\"\")","v":311},null,null,null,null,null,1,null,null,{"$f":"IF($C26=\"\",\"\", IF(DE26=1,0,IF(DC26<>0,500,CX26*$AE26/$AH26+CY26/$AH26*5+CZ26/$AH26*25+DA26*50+DB26*50)))","v":500},null,{"$f":"IF(C26<>\"\",C26,\"\")","v":311},1,null,null,null,null,null,null,null,{"$f":"IF($C26=\"\",\"\", IF(DP26=1,0,IF(DN26<>0,500,DI26*$AE26/$AH26+DJ26/$AH26*5+DK26/$AH26*25+DL26*50+DM26*50)))","v":2.0383896721589947},null,{"$f":"IF(C26<>\"\",C26,\"\")","v":311},7,null,1,null,null,null,null,null,{"$f":"IF($C26=\"\",\"\", IF(EA26=1,0,IF(DY26<>0,500,DT26*$AE26/$AH26+DU26/$AH26*5+DV26/$AH26*25+DW26*50+DX26*50)))","v":31.255308306437918},null,{"$f":"IF(C26<>\"\",C26,\"\")","v":311},1,1,null,1,1,null,"oil leak",null,{"$f":"IF($C26=\"\",\"\", IF(EL26=1,0,IF(EJ26<>0,500,EE26*$AE26/$AH26+EF26/$AH26*5+EG26/$AH26*25+EH26*50+EI26*50)))","v":105.43570579242399},null,{"$f":"IF(C26<>\"\",C26,\"\")","v":311},null,null,null,null,null,1,null,null,{"$f":"IF($C26=\"\",\"\", IF(EW26=1,0,IF(EU26<>0,500,EP26*$AE26/$AH26+EQ26/$AH26*5+ER26/$AH26*25+ES26*50+ET26*50)))","v":500},null,{"$f":"IF(C26<>\"\",C26,\"\")","v":311},null,null,null,null,null,1,null,null,{"$f":"IF($C26=\"\",\"\", IF(FH26=1,0,IF(FF26<>0,500,FA26*$AE26/$AH26+FB26/$AH26*5+FC26/$AH26*25+FD26*50+FE26*50)))","v":500},null,{"$f":"IF(C26<>\"\",C26,\"\")","v":311},null,null,null,null,null,1,null,null,{"$f":"IF($C26=\"\",\"\", IF(FS26=1,0,IF(FQ26<>0,500,FL26*$AE26/$AH26+FM26/$AH26*5+FN26/$AH26*25+FO26*50+FP26*50)))","v":500},null,{"$f":"IF(C26<>\"\",C26,\"\")","v":311},null,null,null,null,null,1,null,null,{"$f":"IF($C26=\"\",\"\", IF(GD26=1,0,IF(GB26<>0,500,FW26*$AE26/$AH26+FX26/$AH26*5+FY26/$AH26*25+FZ26*50+GA26*50)))","v":500},null,{"$f":"IF(C26<>\"\",C26,\"\")","v":311},null,null,null,null,null,1,null,null,{"$f":"IF($C26=\"\",\"\", IF(GO26=1,0,IF(GM26<>0,500,GH26*$AE26/$AH26+GI26/$AH26*5+GJ26/$AH26*25+GK26*50+GL26*50)))","v":500},null,{"$f":"IF(C26<>\"\",C26,\"\")","v":311},1,null,null,null,null,null,null,null,{"$f":"IF($C26=\"\",\"\", IF(GZ26=1,0,IF(GX26<>0,500,GS26*$AE26/$AH26+GT26/$AH26*5+GU26/$AH26*25+GV26*50+GW26*50)))","v":2.0383896721589947},null,{"$f":"IF(C26<>\"\",C26,\"\")","v":311},null,null,null,null,null,null,null,1,{"$f":"IF($C26=\"\",\"\", IF(HK26=1,0,IF(HI26<>0,500,HD26*$AE26/$AH26+HE26/$AH26*5+HF26/$AH26*25+HG26*50+HH26*50)))","v":0},null,{"$f":"IF(C26<>\"\",C26,\"\")","v":311},null,null,null,null,null,null,null,null,{"$f":"IF($C26=\"\",\"\", IF(HV26=1,0,IF(HT26<>0,500,HO26*$AE26/$AH26+HP26/$AH26*5+HQ26/$AH26*25+HR26*50+HS26*50)))","v":0},null,{"$f":"IF(C26<>\"\",C26,\"\")","v":311},null,null,null,null,null,null,null,null,{"$f":"IF($C26=\"\",\"\", IF(IG26=1,0,IF(IE26<>0,500,HZ26*$AE26/$AH26+IA26/$AH26*5+IB26/$AH26*25+IC26*50+ID26*50)))","v":0}]
[null,{"$f":"IF(C27=0,\"\",ROW(C27)-4)","v":""},null,null,null,null,null,{"$f":"IF(C27=0,\"\",IF(OR(BB27=1,BC27<>0),BC27,\"-\"))","v":""},{"$f":"IF(C27=0,\"\",IF(OR(BM27=1,BN27<>0),BN27,\"-\"))","v":""},{"$f":"IF(C27=0,\"\",IF(OR(BX27=1,BY27<>0),BY27,\" -\"))","v":""},{"$f":"IF(C27=0,\"\",IF(OR(CJ27<>0,CI27=1),CJ27,\" -\"))","v":""},{"$f":"IF(C27=0,\"\",IF(OR(CU27<>0,CT27=1),CU27,\" -\"))","v":""},{"$f":"IF(C27=0,\"\",IF(OR(DF27<>0,DE27=1),DF27,\" -\"))","v":""},{"$f":"IF(C27=0,\"\",IF(OR(DQ27<>0,DP27=1),DQ27,\" -\"))","v":""},{"$f":"IF(C27=0,\"\",IF(OR(EB27<>0,EA27=1),EB27,\" -\"))","v":""},{"$f":"IF(C27=0,\"\",IF(OR(EM27<>0,EL27=1),EM27,\" -\"))","v":""},{"$f":"IF(C27=0,\"\",IF(OR(EX27<>0,EW27=1),EX27,\" -\"))","v":""},{"$f":"IF(C27=0,\"\",IF(OR(FI27<>0,FH27=1),FI27,\" -\"))","v":""},{"$f":"IF(C27=0,\"\",IF(OR(FT27<>0,FS27=1),FT27,\" -\"))","v":""},{"$f":"IF(C27=0,\"\",IF(OR(GE27<>0,GD27=1),GE27,\" -\"))","v":""},{"$f":"IF(C27=0,\"\",IF(OR(GP27<>0,GO27=1),GP27,\" -\"))","v":""},{"$f":"IF(C27=0,\"\",IF(OR(HA27<>0,GZ27=1),HA27,\" -\"))","v":""},{"$f":"IF(C27=0,\"\",IF(OR(HL27<>0,HK27=1),HL27,\" -\"))","v":""},{"$f":"IF(C27=0,\"\",IF(AJ27<>0,AJ27,\" -\"))","v":""},{"$f":"IF(C27=0,\"\",IF(OR(HW27<>0,HV27=1),HW27,\" -\"))","v":""},{"$f":"IF(C27=0,\"\",IF(OR(IH27<>0,IG27=1),IH27,\" -\"))","v":""},{"$f":"IF(C27=0,\"\",IF(AL27=1,\"DNF\",IF(AL27=2,\"DSQ\",IF(AM27<>1,\"~ \"&ROUND(SUM(H27:X27),3),ROUND(SUM(H27:X27),3)))))","v":""},null,null,{"$f":"IF(C27<>\"\",C27,\"\")","v":""},{"$f":"IF(AD27<>\"\",3,\"\")","v":""},null,null,{"$f":"IF(AD27<>\"\",(AF27/1000*AG27/1000)/2,\"\")","v":""},null,null,null,null,null,null,null,{"$f":"IF(C27=0,99999,IF(AL27>0,9999,SUM(H27:X27)-AN27))","v":99999},{"$f":"IF(C27=0,99999,IF(AL27=1,9999,SUM(Y27:Z27)))","v":99999},null,null,{"$f":"IF(C27<>\"\",C27,\"\")","v":""},null,null,null,null,null,null,null,null,{"$f":"IF($C27=\"\",\"\", IF(BB27=1,0,IF(AZ27<>0,500,AU27*$AE27/$AH27+AV27/$AH27*5+AW27/$AH27*25+AX27*50+AY27*50)))","v":""},null,{"$f":"IF(C27<>\"\",C27,\"\")","v":""},null,null,null,null,null,null,null,null,{"$f":"IF($C27=\"\",\"\", IF(BM27=1,0,IF(BK27<>0,500,BF27*$AE27/$AH27+BG27/$AH27*5+BH27/$AH27*25+BI27*50+BJ27*50)))","v":""},null,{"$f":"IF(C27<>\"\",C27,\"\")","v":""},null,null,null,null,null,null,null,null,{"$f":"IF($C27=\"\",\"\", IF(BX27=1,0,IF(BV27<>0,500,BQ27*$AE27/$AH27+BR27/$AH27*5+BS27/$AH27*25+BT27*50+BU27*50)))","v":""},null,{"$f":"IF(C27<>\"\",C27,\"\")","v":""},null,null,null,null,null,null,null,null,{"$f":"IF($C27=\"\",\"\", IF(CI27=1,0,IF(CG27<>0,500,CB27*$AE27/$AH27+CC27/$AH27*5+CD27/$AH27*25+CE27*50+CF27*50)))","v":""},null,{"$f":"IF(C27<>\"\",C27,\"\")","v":""},null,null,null,null,null,null,null,null,{"$f":"IF($C27=\"\",\"\", IF(CT27=1,0,IF(CR27<>0,500,CM27*$AE27/$AH27+CN27/$AH27*5+CO27/$AH27*25+CP27*50+CQ27*50)))","v":""},null,{"$f":"IF(C27<>\"\",C27,\"\")","v":""},null,null,null,null,null,null,null,null,{"$f":"IF($C27=\"\",\"\", IF(DE27=1,0,IF(DC27<>0,500,CX27*$AE27/$AH27+CY27/$AH27*5+CZ27/$AH27*25+DA27*50+DB27*50)))","v":""},null,{"$f":"IF(C27<>\"\",C27,\"\")","v":""},null,null,null,null,null,null,null,null,{"$f":"IF($C27=\"\",\"\", IF(DP27=1,0,IF(DN27<>0,500,DI27*$AE27/$AH27+DJ27/$AH27*5+DK27/$AH27*25+DL27*50+DM27*50)))","v":""},null,{"$f":"IF(C27<>\"\",C27,\"\")","v":""},null,null,null,null,null,null,null,null,{"$f":"IF($C27=\"\",\"\", IF(EA27=1,0,IF(DY27<>0,500,DT27*$AE27/$AH27+DU27/$AH27*5+DV27/$AH27*25+DW27*50+DX27*50)))","v":""},null,{"$f":"IF(C27<>\"\",C27,\"\")","v":""},null,null,null,null,null,null,null,null,{"$f":"IF($C27=\"\",\"\", IF(EL27=1,0,IF(EJ27<>0,500,EE27*$AE27/$AH27+EF27/$AH27*5+EG27/$AH27*25+EH27*50+EI27*50)))","v":""},null,{"$f":"IF(C27<>\"\",C27,\"\")","v":""},null,null,null,null,null,null,null,null,{"$f":"IF($C27=\"\",\"\", IF(EW27=1,0,IF(EU27<>0,500,EP27*$AE27/$AH27+EQ27/$AH27*5+ER27/$AH27*25+ES27*50+ET27*50)))","v":""},null,{"$f":"IF(C27<>\"\",C27,\"\")","v":""},null,null,null,null,null,null,null,null,{"$f":"IF($C27=\"\",\"\", IF(FH27=1,0,IF(FF27<>0,500,FA27*$AE27/$AH27+FB27/$AH27*5+FC27/$AH27*25+FD27*50+FE27*50)))","v":""},null,{"$f":"IF(C27<>\"\",C27,\"\")","v":""},null,null,null,null,null,null,null,null,{"$f":"IF($C27=\"\",\"\", IF(FS27=1,0,IF(FQ27<>0,500,FL27*$AE27/$AH27+FM27/$AH27*5+FN27/$AH27*25+FO27*50+FP27*50)))","v":""},null,{"$f":"IF(C27<>\"\",C27,\"\")","v":""},null,null,null,null,null,null,null,null,{"$f":"IF($C27=\"\",\"\", IF(GD27=1,0,IF(GB27<>0,500,FW27*$AE27/$AH27+FX27/$AH27*5+FY27/$AH27*25+FZ27*50+GA27*50)))","v":""},null,{"$f":"IF(C27<>\"\",C27,\"\")","v":""},null,null,null,null,null,null,null,null,{"$f":"IF($C27=\"\",\"\", IF(GO27=1,0,IF(GM27<>0,500,GH27*$AE27/$AH27+GI27/$AH27*5+GJ27/$AH27*25+GK27*50+GL27*50)))","v":""},null,{"$f":"IF(C27<>\"\",C27,\"\")","v":""},null,null,null,null,null,null,null,null,{"$f":"IF($C27=\"\",\"\", IF(GZ27=1,0,IF(GX27<>0,500,GS27*$AE27/$AH27+GT27/$AH27*5+GU27/$AH27*25+GV27*50+GW27*50)))","v":""},null,{"$f":"IF(C27<>\"\",C27,\"\")","v":""},null,null,null,null,null,null,null,null,{"$f":"IF($C27=\"\",\"\", IF(HK27=1,0,IF(HI27<>0,500,HD27*$AE27/$AH27+HE27/$AH27*5+HF27/$AH27*25+HG27*50+HH27*50)))","v":""},null,{"$f":"IF(C27<>\"\",C27,\"\")","v":""},null,null,null,null,null,null,null,null,{"$f":"IF($C27=\"\",\"\", IF(HV27=1,0,IF(HT27<>0,500,HO27*$AE27/$AH27+HP27/$AH27*5+HQ27/$AH27*25+HR27*50+HS27*50)))","v":""},null,{"$f":"IF(C27<>\"\",C27,\"\")","v":""},null,null,null,null,null,null,null,null,{"$f":"IF($C27=\"\",\"\", IF(IG27=1,0,IF(IE27<>0,500,HZ27*$AE27/$AH27+IA27/$AH27*5+IB27/$AH27*25+IC27*50+ID27*50)))","v":""}]
[null,{"$f":"IF(C28=0,\"\",ROW(C28)-4)","v":""},null,null,null,null,null,{"$f":"IF(C28=0,\"\",IF(OR(BB28=1,BC28<>0),BC28,\"-\"))","v":""},{"$f":"IF(C28=0,\"\",IF(OR(BM28=1,BN28<>0),BN28,\"-\"))","v":""},{"$f":"IF(C28=0,\"\",IF(OR(BX28=1,BY28<>0),BY28,\" -\"))","v":""},{"$f":"IF(C28=0,\"\",IF(OR(CJ28<>0,CI28=1),CJ28,\" -\"))","v":""},{"$f":"IF(C28=0,\"\",IF(OR(CU28<>0,CT28=1),CU28,\" -\"))","v":""},{"$f":"IF(C28=0,\"\",IF(OR(DF28<>0,DE28=1),DF28,\" -\"))","v":""},{"$f":"IF(C28=0,\"\",IF(OR(DQ28<>0,DP28=1),DQ28,\" -\"))","v":""},{"$f":"IF(C28=0,\"\",IF(OR(EB28<>0,EA28=1),EB28,\" -\"))","v":""},{"$f":"IF(C28=0,\"\",IF(OR(EM28<>0,EL28=1),EM28,\" -\"))","v":""},{"$f":"IF(C28=0,\"\",IF(OR(EX28<>0,EW28=1),EX28,\" -\"))","v":""},{"$f":"IF(C28=0,\"\",IF(OR(FI28<>0,FH28=1),FI28,\" -\"))","v":""},{"$f":"IF(C28=0,\"\",IF(OR(FT28<>0,FS28=1),FT28,\" -\"))","v":""},{"$f":"IF(C28=0,\"\",IF(OR(GE28<>0,GD28=1),GE28,\" -\"))","v":""},{"$f":"IF(C28=0,\"\",IF(OR(GP28<>0,GO28=1),GP28,\" -\"))","v":""},{"$f":"IF(C28=0,\"\",IF(OR(HA28<>0,GZ28=1),HA28,\" -\"))","v":""},{"$f":"IF(C28=0,\"\",IF(OR(HL28<>0,HK28=1),HL28,\" -\"))","v":""},{"$f":"IF(C28=0,\"\",IF(AJ28<>0,AJ28,\" -\"))","v":""},{"$f":"IF(C28=0,\"\",IF(OR(HW28<>0,HV28=1),HW28,\" -\"))","v":""},{"$f":"IF(C28=0,\"\",IF(OR(IH28<>0,IG28=1),IH28,\" -\"))","v":""},{"$f":"IF(C28=0,\"\",IF(AL28=1,\"DNF\",IF(AL28=2,\"DSQ\",IF(AM28<>1,\"~ \"&ROUND(SUM(H28:X28),3),ROUND(SUM(H28:X28),3)))))","v":""},null,null,{"$f":"IF(C28<>\"\",C28,\"\")","v":""},{"$f":"IF(AD28<>\"\",3,\"\")","v":""},null,null,{"$f":"IF(AD28<>\"\",(AF28/1000*AG28/1000)/2,\"\")","v":""},null,null,null,null,null,null,null,{"$f":"IF(C28=0,99999,IF(AL28>0,9999,SUM(H28:X28)-AN28))","v":99999},{"$f":"IF(C28=0,99999,IF(AL28=1,9999,SUM(Y28:Z28)))","v":99999},null,null,{"$f":"IF(C28<>\"\",C28,\"\")","v":""},null,null,null,null,null,null,null,null,{"$f":"IF($C28=\"\",\"\", IF(BB28=1,0,IF(AZ28<>0,500,AU28*$AE28/$AH28+AV28/$AH28*5+AW28/$AH28*25+AX28*50+AY28*50)))","v":""},null,{"$f":"IF(C28<>\"\",C28,\"\")","v":""},null,null,null,null,null,null,null,null,{"$f":"IF($C28=\"\",\"\", IF(BM28=1,0,IF(BK28<>0,500,BF28*$AE28/$AH28+BG28/$AH28*5+BH28/$AH28*25+BI28*50+BJ28*50)))","v":""},null,{"$f":"IF(C28<>\"\",C28,\"\")","v":""},null,null,null,null,null,null,null,null,{"$f":"IF($C28=\"\",\"\", IF(BX28=1,0,IF(BV28<>0,500,BQ28*$AE28/$AH28+BR28/$AH28*5+BS28/$AH28*25+BT28*50+BU28*50)))","v":""},null,{"$f":"IF(C28<>\"\",C28,\"\")","v":""},null,null,null,null,null,null,null,null,{"$f":"IF($C28=\"\",\"\", IF(CI28=1,0,IF(CG28<>0,500,CB28*$AE28/$AH28+CC28/$AH28*5+CD28/$AH28*25+CE28*50+CF28*50)))","v":""},null,{"$f":"IF(C28<>\"\",C28,\"\")","v":""},null,null,null,null,null,null,null,null,{"$f":"IF($C28=\"\",\"\", IF(CT28=1,0,IF(CR28<>0,500,CM28*$AE28/$AH28+CN28/$AH28*5+CO28/$AH28*25+CP28*50+CQ28*50)))","v":""},null,{"$f":"IF(C28<>\"\",C28,\"\")","v":""},null,null,null,null,null,null,null,null,{"$f":"IF($C28=\"\",\"\", IF(DE28=1,0,IF(DC28<>0,500,CX28*$AE28/$AH28+CY28/$AH28*5+CZ28/$AH28*25+DA28*50+DB28*50)))","v":""},null,{"$f":"IF(C28<>\"\",C28,\"\")","v":""},null,null,null,null,null,null,null,null,{"$f":"IF($C28=\"\",\"\", IF(DP28=1,0,IF(DN28<>0,500,DI28*$AE28/$AH28+DJ28/$AH28*5+DK28/$AH28*25+DL28*50+DM28*50)))","v":""},null,{"$f":"IF(C28<>\"\",C28,\"\")","v":""},null,null,null,null,null,null,null,null,{"$f":"IF($C28=\"\",\"\", IF(EA28=1,0,IF(DY28<>0,500,DT28*$AE28/$AH28+DU28/$AH28*5+DV28/$AH28*25+DW28*50+DX28*50)))","v":""},null,{"$f":"IF(C28<>\"\",C28,\"\")","v":""},null,null,null,null,null,null,null,null,{"$f":"IF($C28=\"\",\"\", IF(EL28=1,0,IF(EJ28<>0,500,EE28*$AE28/$AH28+EF28/$AH28*5+EG28/$AH28*25+EH28*50+EI28*50)))","v":""},null,{"$f":"IF(C28<>\"\",C28,\"\")","v":""},null,null,null,null,null,null,null,null,{"$f":"IF($C28=\"\",\"\", IF(EW28=1,0,IF(EU28<>0,500,EP28*$AE28/$AH28+EQ28/$AH28*5+ER28/$AH28*25+ES28*50+ET28*50)))","v":""},null,{"$f":"IF(C28<>\"\",C28,\"\")","v":""},null,null,null,null,null,null,null,null,{"$f":"IF($C28=\"\",\"\", IF(FH28=1,0,IF(FF28<>0,500,FA28*$AE28/$AH28+FB28/$AH28*5+FC28/$AH28*25+FD28*50+FE28*50)))","v":""},null,{"$f":"IF(C28<>\"\",C28,\"\")","v":""},null,null,null,null,null,null,null,null,{"$f":"IF($C28=\"\",\"\", IF(FS28=1,0,IF(FQ28<>0,500,FL28*$AE28/$AH28+FM28/$AH28*5+FN28/$AH28*25+FO28*50+FP28*50)))","v":""},null,{"$f":"IF(C28<>\"\",C28,\"\")","v":""},null,null,null,null,null,null,null,null,{"$f":"IF($C28=\"\",\"\", IF(GD28=1,0,IF(GB28<>0,500,FW28*$AE28/$AH28+FX28/$AH28*5+FY28/$AH28*25+FZ28*50+GA28*50)))","v":""},null,{"$f":"IF(C28<>\"\",C28,\"\")","v":""},null,null,null,null,null,null,null,null,{"$f":"IF($C28=\"\",\"\", IF(GO28=1,0,IF(GM28<>0,500,GH28*$AE28/$AH28+GI28/$AH28*5+GJ28/$AH28*25+GK28*50+GL28*50)))","v":""},null,{"$f":"IF(C28<>\"\",C28,\"\")","v":""},null,null,null,null,null,null,null,null,{"$f":"IF($C28=\"\",\"\", IF(GZ28=1,0,IF(GX28<>0,500,GS28*$AE28/$AH28+GT28/$AH28*5+GU28/$AH28*25+GV28*50+GW28*50)))","v":""},null,{"$f":"IF(C28<>\"\",C28,\"\")","v":""},null,null,null,null,null,null,null,null,{"$f":"IF($C28=\"\",\"\", IF(HK28=1,0,IF(HI28<>0,500,HD28*$AE28/$AH28+HE28/$AH28*5+HF28/$AH28*25+HG28*50+HH28*50)))","v":""},null,{"$f":"IF(C28<>\"\",C28,\"\")","v":""},null,null,null,null,null,null,null,null,{"$f":"IF($C28=\"\",\"\", IF(HV28=1,0,IF(HT28<>0,500,HO28*$AE28/$AH28+HP28/$AH28*5+HQ28/$AH28*25+HR28*50+HS28*50)))","v":""},null,{"$f":"IF(C28<>\"\",C28,\"\")","v":""},null,null,null,null,null,null,null,null,{"$f":"IF($C28=\"\",\"\", IF(IG28=1,0,IF(IE28<>0,500,HZ28*$AE28/$AH28+IA28/$AH28*5+IB28/$AH28*25+IC28*50+ID28*50)))","v":""}]
[null,{"$f":"IF(C29=0,\"\",ROW(C29)-4)","v":""},null,null,null,null,null,{"$f":"IF(C29=0,\"\",IF(OR(BB29=1,BC29<>0),BC29,\"-\"))","v":""},{"$f":"IF(C29=0,\"\",IF(OR(BM29=1,BN29<>0),BN29,\"-\"))","v":""},{"$f":"IF(C29=0,\"\",IF(OR(BX29=1,BY29<>0),BY29,\" -\"))","v":""},{"$f":"IF(C29=0,\"\",IF(OR(CJ29<>0,CI29=1),CJ29,\" -\"))","v":""},{"$f":"IF(C29=0,\"\",IF(OR(CU29<>0,CT29=1),CU29,\" -\"))","v":""},{"$f":"IF(C29=0,\"\",IF(OR(DF29<>0,DE29=1),DF29,\" -\"))","v":""},{"$f":"IF(C29=0,\"\",IF(OR(DQ29<>0,DP29=1),DQ29,\" -\"))","v":""},{"$f":"IF(C29=0,\"\",IF(OR(EB29<>0,EA29=1),EB29,\" -\"))","v":""},{"$f":"IF(C29=0,\"\",IF(OR(EM29<>0,EL29=1),EM29,\" -\"))","v":""},{"$f":"IF(C29=0,\"\",IF(OR(EX29<>0,EW29=1),EX29,\" -\"))","v":""},{"$f":"IF(C29=0,\"\",IF(OR(FI29<>0,FH29=1),FI29,\" -\"))","v":""},{"$f":"IF(C29=0,\"\",IF(OR(FT29<>0,FS29=1),FT29,\" -\"))","v":""},{"$f":"IF(C29=0,\"\",IF(OR(GE29<>0,GD29=1),GE29,\" -\"))","v":""},{"$f":"IF(C29=0,\"\",IF(OR(GP29<>0,GO29=1),GP29,\" -\"))","v":""},{"$f":"IF(C29=0,\"\",IF(OR(HA29<>0,GZ29=1),HA29,\" -\"))","v":""},{"$f":"IF(C29=0,\"\",IF(OR(HL29<>0,HK29=1),HL29,\" -\"))","v":""},{"$f":"IF(C29=0,\"\",IF(AJ29<>0,AJ29,\" -\"))","v":""},{"$f":"IF(C29=0,\"\",IF(OR(HW29<>0,HV29=1),HW29,\" -\"))","v":""},{"$f":"IF(C29=0,\"\",IF(OR(IH29<>0,IG29=1),IH29,\" -\"))","v":""},{"$f":"IF(C29=0,\"\",IF(AL29=1,\"DNF\",IF(AL29=2,\"DSQ\",IF(AM29<>1,\"~ \"&ROUND(SUM(H29:X29),3),ROUND(SUM(H29:X29),3)))))","v":""},null,null,{"$f":"IF(C29<>\"\",C29,\"\")","v":""},{"$f":"IF(AD29<>\"\",3,\"\")","v":""},null,null,{"$f":"IF(AD29<>\"\",(AF29/1000*AG29/1000)/2,\"\")","v":""},null,null,null,null,null,null,null,{"$f":"IF(C29=0,99999,IF(AL29>0,9999,SUM(H29:X29)-AN29))","v":99999},{"$f":"IF(C29=0,99999,IF(AL29=1,9999,SUM(Y29:Z29)))","v":99999},null,null,{"$f":"IF(C29<>\"\",C29,\"\")","v":""},null,null,null,null,null,null,null,null,{"$f":"IF($C29=\"\",\"\", IF(BB29=1,0,IF(AZ29<>0,500,AU29*$AE29/$AH29+AV29/$AH29*5+AW29/$AH29*25+AX29*50+AY29*50)))","v":""},null,{"$f":"IF(C29<>\"\",C29,\"\")","v":""},null,null,null,null,null,null,null,null,{"$f":"IF($C29=\"\",\"\", IF(BM29=1,0,IF(BK29<>0,500,BF29*$AE29/$AH29+BG29/$AH29*5+BH29/$AH29*25+BI29*50+BJ29*50)))","v":""},null,{"$f":"IF(C29<>\"\",C29,\"\")","v":""},null,null,null,null,null,null,null,null,{"$f":"IF($C29=\"\",\"\", IF(BX29=1,0,IF(BV29<>0,500,BQ29*$AE29/$AH29+BR29/$AH29*5+BS29/$AH29*25+BT29*50+BU29*50)))","v":""},null,{"$f":"IF(C29<>\"\",C29,\"\")","v":""},null,null,null,null,null,null,null,null,{"$f":"IF($C29=\"\",\"\", IF(CI29=1,0,IF(CG29<>0,500,CB29*$AE29/$AH29+CC29/$AH29*5+CD29/$AH29*25+CE29*50+CF29*50)))","v":""},null,{"$f":"IF(C29<>\"\",C29,\"\")","v":""},null,null,null,null,null,null,null,null,{"$f":"IF($C29=\"\",\"\", IF(CT29=1,0,IF(CR29<>0,500,CM29*$AE29/$AH29+CN29/$AH29*5+CO29/$AH29*25+CP29*50+CQ29*50)))","v":""},null,{"$f":"IF(C29<>\"\",C29,\"\")","v":""},null,null,null,null,null,null,null,null,{"$f":"IF($C29=\"\",\"\", IF(DE29=1,0,IF(DC29<>0,500,CX29*$AE29/$AH29+CY29/$AH29*5+CZ29/$AH29*25+DA29*50+DB29*50)))","v":""},null,{"$f":"IF(C29<>\"\",C29,\"\")","v":""},null,null,null,null,null,null,null,null,{"$f":"IF($C29=\"\",\"\", IF(DP29=1,0,IF(DN29<>0,500,DI29*$AE29/$AH29+DJ29/$AH29*5+DK29/$AH29*25+DL29*50+DM29*50)))","v":""},null,{"$f":"IF(C29<>\"\",C29,\"\")","v":""},null,null,null,null,null,null,null,null,{"$f":"IF($C29=\"\",\"\", IF(EA29=1,0,IF(DY29<>0,500,DT29*$AE29/$AH29+DU29/$AH29*5+DV29/$AH29*25+DW29*50+DX29*50)))","v":""},null,{"$f":"IF(C29<>\"\",C29,\"\")","v":""},null,null,null,null,null,null,null,null,{"$f":"IF($C29=\"\",\"\", IF(EL29=1,0,IF(EJ29<>0,500,EE29*$AE29/$AH29+EF29/$AH29*5+EG29/$AH29*25+EH29*50+EI29*50)))","v":""},null,{"$f":"IF(C29<>\"\",C29,\"\")","v":""},null,null,null,null,null,null,null,null,{"$f":"IF($C29=\"\",\"\", IF(EW29=1,0,IF(EU29<>0,500,EP29*$AE29/$AH29+EQ29/$AH29*5+ER29/$AH29*25+ES29*50+ET29*50)))","v":""},null,{"$f":"IF(C29<>\"\",C29,\"\")","v":""},null,null,null,null,null,null,null,null,{"$f":"IF($C29=\"\",\"\", IF(FH29=1,0,IF(FF29<>0,500,FA29*$AE29/$AH29+FB29/$AH29*5+FC29/$AH29*25+FD29*50+FE29*50)))","v":""},null,{"$f":"IF(C29<>\"\",C29,\"\")","v":""},null,null,null,null,null,null,null,null,{"$f":"IF($C29=\"\",\"\", IF(FS29=1,0,IF(FQ29<>0,500,FL29*$AE29/$AH29+FM29/$AH29*5+FN29/$AH29*25+FO29*50+FP29*50)))","v":""},null,{"$f":"IF(C29<>\"\",C29,\"\")","v":""},null,null,null,null,null,null,null,null,{"$f":"IF($C29=\"\",\"\", IF(GD29=1,0,IF(GB29<>0,500,FW29*$AE29/$AH29+FX29/$AH29*5+FY29/$AH29*25+FZ29*50+GA29*50)))","v":""},null,{"$f":"IF(C29<>\"\",C29,\"\")","v":""},null,null,null,null,null,null,null,null,{"$f":"IF($C29=\"\",\"\", IF(GO29=1,0,IF(GM29<>0,500,GH29*$AE29/$AH29+GI29/$AH29*5+GJ29/$AH29*25+GK29*50+GL29*50)))","v":""},null,{"$f":"IF(C29<>\"\",C29,\"\")","v":""},null,null,null,null,null,null,null,null,{"$f":"IF($C29=\"\",\"\", IF(GZ29=1,0,IF(GX29<>0,500,GS29*$AE29/$AH29+GT29/$AH29*5+GU29/$AH29*25+GV29*50+GW29*50)))","v":""},null,{"$f":"IF(C29<>\"\",C29,\"\")","v":""},null,null,null,null,null,null,null,null,{"$f":"IF($C29=\"\",\"\", IF(HK29=1,0,IF(HI29<>0,500,HD29*$AE29/$AH29+HE29/$AH29*5+HF29/$AH29*25+HG29*50+HH29*50)))","v":""},null,{"$f":"IF(C29<>\"\",C29,\"\")","v":""},null,null,null,null,null,null,null,null,{"$f":"IF($C29=\"\",\"\", IF(HV29=1,0,IF(HT29<>0,500,HO29*$AE29/$AH29+HP29/$AH29*5+HQ29/$AH29*25+HR29*50+HS29*50)))","v":""},null,{"$f":"IF(C29<>\"\",C29,\"\")","v":""},null,null,null,null,null,null,null,null,{"$f":"IF($C29=\"\",\"\", IF(IG29=1,0,IF(IE29<>0,500,HZ29*$AE29/$AH29+IA29/$AH29*5+IB29/$AH29*25+IC29*50+ID29*50)))","v":""}]
[null,{"$f":"IF(C30=0,\"\",ROW(C30)-4)","v":""},null,null,null,null,null,{"$f":"IF(C30=0,\"\",IF(OR(BB30=1,BC30<>0),BC30,\"-\"))","v":""},{"$f":"IF(C30=0,\"\",IF(OR(BM30=1,BN30<>0),BN30,\"-\"))","v":""},{"$f":"IF(C30=0,\"\",IF(OR(BX30=1,BY30<>0),BY30,\" -\"))","v":""},{"$f":"IF(C30=0,\"\",IF(OR(CJ30<>0,CI30=1),CJ30,\" -\"))","v":""},{"$f":"IF(C30=0,\"\",IF(OR(CU30<>0,CT30=1),CU30,\" -\"))","v":""},{"$f":"IF(C30=0,\"\",IF(OR(DF30<>0,DE30=1),DF30,\" -\"))","v":""},{"$f":"IF(C30=0,\"\",IF(OR(DQ30<>0,DP30=1),DQ30,\" -\"))","v":""},{"$f":"IF(C30=0,\"\",IF(OR(EB30<>0,EA30=1),EB30,\" -\"))","v":""},{"$f":"IF(C30=0,\"\",IF(OR(EM30<>0,EL30=1),EM30,\" -\"))","v":""},{"$f":"IF(C30=0,\"\",IF(OR(EX30<>0,EW30=1),EX30,\" -\"))","v":""},{"$f":"IF(C30=0,\"\",IF(OR(FI30<>0,FH30=1),FI30,\" -\"))","v":""},{"$f":"IF(C30=0,\"\",IF(OR(FT30<>0,FS30=1),FT30,\" -\"))","v":""},{"$f":"IF(C30=0,\"\",IF(OR(GE30<>0,GD30=1),GE30,\" -\"))","v":""},{"$f":"IF(C30=0,\"\",IF(OR(GP30<>0,GO30=1),GP30,\" -\"))","v":""},{"$f":"IF(C30=0,\"\",IF(OR(HA30<>0,GZ30=1),HA30,\" -\"))","v":""},{"$f":"IF(C30=0,\"\",IF(OR(HL30<>0,HK30=1),HL30,\" -\"))","v":""},{"$f":"IF(C30=0,\"\",IF(AJ30<>0,AJ30,\" -\"))","v":""},{"$f":"IF(C30=0,\"\",IF(OR(HW30<>0,HV30=1),HW30,\" -\"))","v":""},{"$f":"IF(C30=0,\"\",IF(OR(IH30<>0,IG30=1),IH30,\" -\"))","v":""},{"$f":"IF(C30=0,\"\",IF(AL30=1,\"DNF\",IF(AL30=2,\"DSQ\",IF(AM30<>1,\"~ \"&ROUND(SUM(H30:X30),3),ROUND(SUM(H30:X30),3)))))","v":""},null,null,{"$f":"IF(C30<>\"\",C30,\"\")","v":""},{"$f":"IF(AD30<>\"\",3,\"\")","v":""},null,null,{"$f":"IF(AD30<>\"\",(AF30/1000*AG30/1000)/2,\"\")","v":""},null,null,null,null,null,null,null,{"$f":"IF(C30=0,99999,IF(AL30>0,9999,SUM(H30:X30)-AN30))","v":99999},{"$f":"IF(C30=0,99999,IF(AL30=1,9999,SUM(Y30:Z30)))","v":99999},null,null,{"$f":"IF(C30<>\"\",C30,\"\")","v":""},null,null,null,null,null,null,null,null,{"$f":"IF($C30=\"\",\"\", IF(BB30=1,0,IF(AZ30<>0,500,AU30*$AE30/$AH30+AV30/$AH30*5+AW30/$AH30*25+AX30*50+AY30*50)))","v":""},null,{"$f":"IF(C30<>\"\",C30,\"\")","v":""},null,null,null,null,null,null,null,null,{"$f":"IF($C30=\"\",\"\", IF(BM30=1,0,IF(BK30<>0,500,BF30*$AE30/$AH30+BG30/$AH30*5+BH30/$AH30*25+BI30*50+BJ30*50)))","v":""},null,{"$f":"IF(C30<>\"\",C30,\"\")","v":""},null,null,null,null,null,null,null,null,{"$f":"IF($C30=\"\",\"\", IF(BX30=1,0,IF(BV30<>0,500,BQ30*$AE30/$AH30+BR30/$AH30*5+BS30/$AH30*25+BT30*50+BU30*50)))","v":""},null,{"$f":"IF(C30<>\"\",C30,\"\")","v":""},null,null,null,null,null,null,null,null,{"$f":"IF($C30=\"\",\"\", IF(CI30=1,0,IF(CG30<>0,500,CB30*$AE30/$AH30+CC30/$AH30*5+CD30/$AH30*25+CE30*50+CF30*50)))","v":""},null,{"$f":"IF(C30<>\"\",C30,\"\")","v":""},null,null,null,null,null,null,null,null,{"$f":"IF($C30=\"\",\"\", IF(CT30=1,0,IF(CR30<>0,500,CM30*$AE30/$AH30+CN30/$AH30*5+CO30/$AH30*25+CP30*50+CQ30*50)))","v":""},null,{"$f":"IF(C30<>\"\",C30,\"\")","v":""},null,null,null,null,null,null,null,null,{"$f":"IF($C30=\"\",\"\", IF(DE30=1,0,IF(DC30<>0,500,CX30*$AE30/$AH30+CY30/$AH30*5+CZ30/$AH30*25+DA30*50+DB30*50)))","v":""},null,{"$f":"IF(C30<>\"\",C30,\"\")","v":""},null,null,null,null,null,null,null,null,{"$f":"IF($C30=\"\",\"\", IF(DP30=1,0,IF(DN30<>0,500,DI30*$AE30/$AH30+DJ30/$AH30*5+DK30/$AH30*25+DL30*50+DM30*50)))","v":""},null,{"$f":"IF(C30<>\"\",C30,\"\")","v":""},null,null,null,null,null,null,null,null,{"$f":"IF($C30=\"\",\"\", IF(EA30=1,0,IF(DY30<>0,500,DT30*$AE30/$AH30+DU30/$AH30*5+DV30/$AH30*25+DW30*50+DX30*50)))","v":""},null,{"$f":"IF(C30<>\"\",C30,\"\")","v":""},null,null,null,null,null,null,null,null,{"$f":"IF($C30=\"\",\"\", IF(EL30=1,0,IF(EJ30<>0,500,EE30*$AE30/$AH30+EF30/$AH30*5+EG30/$AH30*25+EH30*50+EI30*50)))","v":""},null,{"$f":"IF(C30<>\"\",C30,\"\")","v":""},null,null,null,null,null,null,null,null,{"$f":"IF($C30=\"\",\"\", IF(EW30=1,0,IF(EU30<>0,500,EP30*$AE30/$AH30+EQ30/$AH30*5+ER30/$AH30*25+ES30*50+ET30*50)))","v":""},null,{"$f":"IF(C30<>\"\",C30,\"\")","v":""},null,null,null,null,null,null,null,null,{"$f":"IF($C30=\"\",\"\", IF(FH30=1,0,IF(FF30<>0,500,FA30*$AE30/$AH30+FB30/$AH30*5+FC30/$AH30*25+FD30*50+FE30*50)))","v":""},null,{"$f":"IF(C30<>\"\",C30,\"\")","v":""},null,null,null,null,null,null,null,null,{"$f":"IF($C30=\"\",\"\", IF(FS30=1,0,IF(FQ30<>0,500,FL30*$AE30/$AH30+FM30/$AH30*5+FN30/$AH30*25+FO30*50+FP30*50)))","v":""},null,{"$f":"IF(C30<>\"\",C30,\"\")","v":""},null,null,null,null,null,null,null,null,{"$f":"IF($C30=\"\",\"\", IF(GD30=1,0,IF(GB30<>0,500,FW30*$AE30/$AH30+FX30/$AH30*5+FY30/$AH30*25+FZ30*50+GA30*50)))","v":""},null,{"$f":"IF(C30<>\"\",C30,\"\")","v":""},null,null,null,null,null,null,null,null,{"$f":"IF($C30=\"\",\"\", IF(GO30=1,0,IF(GM30<>0,500,GH30*$AE30/$AH30+GI30/$AH30*5+GJ30/$AH30*25+GK30*50+GL30*50)))","v":""},null,{"$f":"IF(C30<>\"\",C30,\"\")","v":""},null,null,null,null,null,null,null,null,{"$f":"IF($C30=\"\",\"\", IF(GZ30=1,0,IF(GX30<>0,500,GS30*$AE30/$AH30+GT30/$AH30*5+GU30/$AH30*25+GV30*50+GW30*50)))","v":""},null,{"$f":"IF(C30<>\"\",C30,\"\")","v":""},null,null,null,null,null,null,null,null,{"$f":"IF($C30=\"\",\"\", IF(HK30=1,0,IF(HI30<>0,500,HD30*$AE30/$AH30+HE30/$AH30*5+HF30/$AH30*25+HG30*50+HH30*50)))","v":""},null,{"$f":"IF(C30<>\"\",C30,\"\")","v":""},null,null,null,null,null,null,null,null,{"$f":"IF($C30=\"\",\"\", IF(HV30=1,0,IF(HT30<>0,500,HO30*$AE30/$AH30+HP30/$AH30*5+HQ30/$AH30*25+HR30*50+HS30*50)))","v":""},null,{"$f":"IF(C30<>\"\",C30,\"\")","v":""},null,null,null,null,null,null,null,null,{"$f":"IF($C30=\"\",\"\", IF(IG30=1,0,IF(IE30<>0,500,HZ30*$AE30/$AH30+IA30/$AH30*5+IB30/$AH30*25+IC30*50+ID30*50)))","v":""}]
[null,{"$f":"IF(C31=0,\"\",ROW(C31)-4)","v":""},null,null,null,null,null,{"$f":"IF(C31=0,\"\",IF(OR(BB31=1,BC31<>0),BC31,\"-\"))","v":""},{"$f":"IF(C31=0,\"\",IF(OR(BM31=1,BN31<>0),BN31,\"-\"))","v":""},{"$f":"IF(C31=0,\"\",IF(OR(BX31=1,BY31<>0),BY31,\" -\"))","v":""},{"$f":"IF(C31=0,\"\",IF(OR(CJ31<>0,CI31=1),CJ31,\" -\"))","v":""},{"$f":"IF(C31=0,\"\",IF(OR(CU31<>0,CT31=1),CU31,\" -\"))","v":""},{"$f":"IF(C31=0,\"\",IF(OR(DF31<>0,DE31=1),DF31,\" -\"))","v":""},{"$f":"IF(C31=0,\"\",IF(OR(DQ31<>0,DP31=1),DQ31,\" -\"))","v":""},{"$f":"IF(C31=0,\"\",IF(OR(EB31<>0,EA31=1),EB31,\" -\"))","v":""},{"$f":"IF(C31=0,\"\",IF(OR(EM31<>0,EL31=1),EM31,\" -\"))","v":""},{"$f":"IF(C31=0,\"\",IF(OR(EX31<>0,EW31=1),EX31,\" -\"))","v":""},{"$f":"IF(C31=0,\"\",IF(OR(FI31<>0,FH31=1),FI31,\" -\"))","v":""},{"$f":"IF(C31=0,\"\",IF(OR(FT31<>0,FS31=1),FT31,\" -\"))","v":""},{"$f":"IF(C31=0,\"\",IF(OR(GE31<>0,GD31=1),GE31,\" -\"))","v":""},{"$f":"IF(C31=0,\"\",IF(OR(GP31<>0,GO31=1),GP31,\" -\"))","v":""},{"$f":"IF(C31=0,\"\",IF(OR(HA31<>0,GZ31=1),HA31,\" -\"))","v":""},{"$f":"IF(C31=0,\"\",IF(OR(HL31<>0,HK31=1),HL31,\" -\"))","v":""},{"$f":"IF(C31=0,\"\",IF(AJ31<>0,AJ31,\" -\"))","v":""},{"$f":"IF(C31=0,\"\",IF(OR(HW31<>0,HV31=1),HW31,\" -\"))","v":""},{"$f":"IF(C31=0,\"\",IF(OR(IH31<>0,IG31=1),IH31,\" -\"))","v":""},{"$f":"IF(C31=0,\"\",IF(AL31=1,\"DNF\",IF(AL31=2,\"DSQ\",IF(AM31<>1,\"~ \"&ROUND(SUM(H31:X31),3),ROUND(SUM(H31:X31),3)))))","v":""},null,null,{"$f":"IF(C31<>\"\",C31,\"\")","v":""},{"$f":"IF(AD31<>\"\",3,\"\")","v":""},null,null,{"$f":"IF(AD31<>\"\",(AF31/1000*AG31/1000)/2,\"\")","v":""},null,null,null,null,null,null,null,{"$f":"IF(C31=0,99999,IF(AL31>0,9999,SUM(H31:X31)-AN31))","v":99999},{"$f":"IF(C31=0,99999,IF(AL31=1,9999,SUM(Y31:Z31)))","v":99999},null,null,{"$f":"IF(C31<>\"\",C31,\"\")","v":""},null,null,null,null,null,null,null,null,{"$f":"IF($C31=\"\",\"\", IF(BB31=1,0,IF(AZ31<>0,500,AU31*$AE31/$AH31+AV31/$AH31*5+AW31/$AH31*25+AX31*50+AY31*50)))","v":""},null,{"$f":"IF(C31<>\"\",C31,\"\")","v":""},null,null,null,null,null,null,null,null,{"$f":"IF($C31=\"\",\"\", IF(BM31=1,0,IF(BK31<>0,500,BF31*$AE31/$AH31+BG31/$AH31*5+BH31/$AH31*25+BI31*50+BJ31*50)))","v":""},null,{"$f":"IF(C31<>\"\",C31,\"\")","v":""},null,null,null,null,null,null,null,null,{"$f":"IF($C31=\"\",\"\", IF(BX31=1,0,IF(BV31<>0,500,BQ31*$AE31/$AH31+BR31/$AH31*5+BS31/$AH31*25+BT31*50+BU31*50)))","v":""},null,{"$f":"IF(C31<>\"\",C31,\"\")","v":""},null,null,null,null,null,null,null,null,{"$f":"IF($C31=\"\",\"\", IF(CI31=1,0,IF(CG31<>0,500,CB31*$AE31/$AH31+CC31/$AH31*5+CD31/$AH31*25+CE31*50+CF31*50)))","v":""},null,{"$f":"IF(C31<>\"\",C31,\"\")","v":""},null,null,null,null,null,null,null,null,{"$f":"IF($C31=\"\",\"\", IF(CT31=1,0,IF(CR31<>0,500,CM31*$AE31/$AH31+CN31/$AH31*5+CO31/$AH31*25+CP31*50+CQ31*50)))","v":""},null,{"$f":"IF(C31<>\"\",C31,\"\")","v":""},null,null,null,null,null,null,null,null,{"$f":"IF($C31=\"\",\"\", IF(DE31=1,0,IF(DC31<>0,500,CX31*$AE31/$AH31+CY31/$AH31*5+CZ31/$AH31*25+DA31*50+DB31*50)))","v":""},null,{"$f":"IF(C31<>\"\",C31,\"\")","v":""},null,null,null,null,null,null,null,null,{"$f":"IF($C31=\"\",\"\", IF(DP31=1,0,IF(DN31<>0,500,DI31*$AE31/$AH31+DJ31/$AH31*5+DK31/$AH31*25+DL31*50+DM31*50)))","v":""},null,{"$f":"IF(C31<>\"\",C31,\"\")","v":""},null,null,null,null,null,null,null,null,{"$f":"IF($C31=\"\",\"\", IF(EA31=1,0,IF(DY31<>0,500,DT31*$AE31/$AH31+DU31/$AH31*5+DV31/$AH31*25+DW31*50+DX31*50)))","v":""},null,{"$f":"IF(C31<>\"\",C31,\"\")","v":""},null,null,null,null,null,null,null,null,{"$f":"IF($C31=\"\",\"\", IF(EL31=1,0,IF(EJ31<>0,500,EE31*$AE31/$AH31+EF31/$AH31*5+EG31/$AH31*25+EH31*50+EI31*50)))","v":""},null,{"$f":"IF(C31<>\"\",C31,\"\")","v":""},null,null,null,null,null,null,null,null,{"$f":"IF($C31=\"\",\"\", IF(EW31=1,0,IF(EU31<>0,500,EP31*$AE31/$AH31+EQ31/$AH31*5+ER31/$AH31*25+ES31*50+ET31*50)))","v":""},null,{"$f":"IF(C31<>\"\",C31,\"\")","v":""},null,null,null,null,null,null,null,null,{"$f":"IF($C31=\"\",\"\", IF(FH31=1,0,IF(FF31<>0,500,FA31*$AE31/$AH31+FB31/$AH31*5+FC31/$AH31*25+FD31*50+FE31*50)))","v":""},null,{"$f":"IF(C31<>\"\",C31,\"\")","v":""},null,null,null,null,null,null,null,null,{"$f":"IF($C31=\"\",\"\", IF(FS31=1,0,IF(FQ31<>0,500,FL31*$AE31/$AH31+FM31/$AH31*5+FN31/$AH31*25+FO31*50+FP31*50)))","v":""},null,{"$f":"IF(C31<>\"\",C31,\"\")","v":""},null,null,null,null,null,null,null,null,{"$f":"IF($C31=\"\",\"\", IF(GD31=1,0,IF(GB31<>0,500,FW31*$AE31/$AH31+FX31/$AH31*5+FY31/$AH31*25+FZ31*50+GA31*50)))","v":""},null,{"$f":"IF(C31<>\"\",C31,\"\")","v":""},null,null,null,null,null,null,null,null,{"$f":"IF($C31=\"\",\"\", IF(GO31=1,0,IF(GM31<>0,500,GH31*$AE31/$AH31+GI31/$AH31*5+GJ31/$AH31*25+GK31*50+GL31*50)))","v":""},null,{"$f":"IF(C31<>\"\",C31,\"\")","v":""},null,null,null,null,null,null,null,null,{"$f":"IF($C31=\"\",\"\", IF(GZ31=1,0,IF(GX31<>0,500,GS31*$AE31/$AH31+GT31/$AH31*5+GU31/$AH31*25+GV31*50+GW31*50)))","v":""},null,{"$f":"IF(C31<>\"\",C31,\"\")","v":""},null,null,null,null,null,null,null,null,{"$f":"IF($C31=\"\",\"\", IF(HK31=1,0,IF(HI31<>0,500,HD31*$AE31/$AH31+HE31/$AH31*5+HF31/$AH31*25+HG31*50+HH31*50)))","v":""},null,{"$f":"IF(C31<>\"\",C31,\"\")","v":""},null,null,null,null,null,null,null,null,{"$f":"IF($C31=\"\",\"\", IF(HV31=1,0,IF(HT31<>0,500,HO31*$AE31/$AH31+HP31/$AH31*5+HQ31/$AH31*25+HR31*50+HS31*50)))","v":""},null,{"$f":"IF(C31<>\"\",C31,\"\")","v":""},null,null,null,null,null,null,null,null,{"$f":"IF($C31=\"\",\"\", IF(IG31=1,0,IF(IE31<>0,500,HZ31*$AE31/$AH31+IA31/$AH31*5+IB31/$AH31*25+IC31*50+ID31*50)))","v":""}]
[null,{"$f":"IF(C32=0,\"\",ROW(C32)-4)","v":""},null,null,null,null,null,{"$f":"IF(C32=0,\"\",IF(OR(BB32=1,BC32<>0),BC32,\"-\"))","v":""},{"$f":"IF(C32=0,\"\",IF(OR(BM32=1,BN32<>0),BN32,\"-\"))","v":""},{"$f":"IF(C32=0,\"\",IF(OR(BX32=1,BY32<>0),BY32,\" -\"))","v":""},{"$f":"IF(C32=0,\"\",IF(OR(CJ32<>0,CI32=1),CJ32,\" -\"))","v":""},{"$f":"IF(C32=0,\"\",IF(OR(CU32<>0,CT32=1),CU32,\" -\"))","v":""},{"$f":"IF(C32=0,\"\",IF(OR(DF32<>0,DE32=1),DF32,\" -\"))","v":""},{"$f":"IF(C32=0,\"\",IF(OR(DQ32<>0,DP32=1),DQ32,\" -\"))","v":""},{"$f":"IF(C32=0,\"\",IF(OR(EB32<>0,EA32=1),EB32,\" -\"))","v":""},{"$f":"IF(C32=0,\"\",IF(OR(EM32<>0,EL32=1),EM32,\" -\"))","v":""},{"$f":"IF(C32=0,\"\",IF(OR(EX32<>0,EW32=1),EX32,\" -\"))","v":""},{"$f":"IF(C32=0,\"\",IF(OR(FI32<>0,FH32=1),FI32,\" -\"))","v":""},{"$f":"IF(C32=0,\"\",IF(OR(FT32<>0,FS32=1),FT32,\" -\"))","v":""},{"$f":"IF(C32=0,\"\",IF(OR(GE32<>0,GD32=1),GE32,\" -\"))","v":""},{"$f":"IF(C32=0,\"\",IF(OR(GP32<>0,GO32=1),GP32,\" -\"))","v":""},{"$f":"IF(C32=0,\"\",IF(OR(HA32<>0,GZ32=1),HA32,\" -\"))","v":""},{"$f":"IF(C32=0,\"\",IF(OR(HL32<>0,HK32=1),HL32,\" -\"))","v":""},{"$f":"IF(C32=0,\"\",IF(AJ32<>0,AJ32,\" -\"))","v":""},{"$f":"IF(C32=0,\"\",IF(OR(HW32<>0,HV32=1),HW32,\" -\"))","v":""},{"$f":"IF(C32=0,\"\",IF(OR(IH32<>0,IG32=1),IH32,\" -\"))","v":""},{"$f":"IF(C32=0,\"\",IF(AL32=1,\"DNF\",IF(AL32=2,\"DSQ\",IF(AM32<>1,\"~ \"&ROUND(SUM(H32:X32),3),ROUND(SUM(H32:X32),3)))))","v":""},null,null,{"$f":"IF(C32<>\"\",C32,\"\")","v":""},{"$f":"IF(AD32<>\"\",3,\"\")","v":""},null,null,{"$f":"IF(AD32<>\"\",(AF32/1000*AG32/1000)/2,\"\")","v":""},null,null,null,null,null,null,null,{"$f":"IF(C32=0,99999,IF(AL32>0,9999,SUM(H32:X32)-AN32))","v":99999},{"$f":"IF(C32=0,99999,IF(AL32=1,9999,SUM(Y32:Z32)))","v":99999},null,null,{"$f":"IF(C32<>\"\",C32,\"\")","v":""},null,null,null,null,null,null,null,null,{"$f":"IF($C32=\"\",\"\", IF(BB32=1,0,IF(AZ32<>0,500,AU32*$AE32/$AH32+AV32/$AH32*5+AW32/$AH32*25+AX32*50+AY32*50)))","v":""},null,{"$f":"IF(C32<>\"\",C32,\"\")","v":""},null,null,null,null,null,null,null,null,{"$f":"IF($C32=\"\",\"\", IF(BM32=1,0,IF(BK32<>0,500,BF32*$AE32/$AH32+BG32/$AH32*5+BH32/$AH32*25+BI32*50+BJ32*50)))","v":""},null,{"$f":"IF(C32<>\"\",C32,\"\")","v":""},null,null,null,null,null,null,null,null,{"$f":"IF($C32=\"\",\"\", IF(BX32=1,0,IF(BV32<>0,500,BQ32*$AE32/$AH32+BR32/$AH32*5+BS32/$AH32*25+BT32*50+BU32*50)))","v":""},null,{"$f":"IF(C32<>\"\",C32,\"\")","v":""},null,null,null,null,null,null,null,null,{"$f":"IF($C32=\"\",\"\", IF(CI32=1,0,IF(CG32<>0,500,CB32*$AE32/$AH32+CC32/$AH32*5+CD32/$AH32*25+CE32*50+CF32*50)))","v":""},null,{"$f":"IF(C32<>\"\",C32,\"\")","v":""},null,null,null,null,null,null,null,null,{"$f":"IF($C32=\"\",\"\", IF(CT32=1,0,IF(CR32<>0,500,CM32*$AE32/$AH32+CN32/$AH32*5+CO32/$AH32*25+CP32*50+CQ32*50)))","v":""},null,{"$f":"IF(C32<>\"\",C32,\"\")","v":""},null,null,null,null,null,null,null,null,{"$f":"IF($C32=\"\",\"\", IF(DE32=1,0,IF(DC32<>0,500,CX32*$AE32/$AH32+CY32/$AH32*5+CZ32/$AH32*25+DA32*50+DB32*50)))","v":""},null,{"$f":"IF(C32<>\"\",C32,\"\")","v":""},null,null,null,null,null,null,null,null,{"$f":"IF($C32=\"\",\"\", IF(DP32=1,0,IF(DN32<>0,500,DI32*$AE32/$AH32+DJ32/$AH32*5+DK32/$AH32*25+DL32*50+DM32*50)))","v":""},null,{"$f":"IF(C32<>\"\",C32,\"\")","v":""},null,null,null,null,null,null,null,null,{"$f":"IF($C32=\"\",\"\", IF(EA32=1,0,IF(DY32<>0,500,DT32*$AE32/$AH32+DU32/$AH32*5+DV32/$AH32*25+DW32*50+DX32*50)))","v":""},null,{"$f":"IF(C32<>\"\",C32,\"\")","v":""},null,null,null,null,null,null,null,null,{"$f":"IF($C32=\"\",\"\", IF(EL32=1,0,IF(EJ32<>0,500,EE32*$AE32/$AH32+EF32/$AH32*5+EG32/$AH32*25+EH32*50+EI32*50)))","v":""},null,{"$f":"IF(C32<>\"\",C32,\"\")","v":""},null,null,null,null,null,null,null,null,{"$f":"IF($C32=\"\",\"\", IF(EW32=1,0,IF(EU32<>0,500,EP32*$AE32/$AH32+EQ32/$AH32*5+ER32/$AH32*25+ES32*50+ET32*50)))","v":""},null,{"$f":"IF(C32<>\"\",C32,\"\")","v":""},null,null,null,null,null,null,null,null,{"$f":"IF($C32=\"\",\"\", IF(FH32=1,0,IF(FF32<>0,500,FA32*$AE32/$AH32+FB32/$AH32*5+FC32/$AH32*25+FD32*50+FE32*50)))","v":""},null,{"$f":"IF(C32<>\"\",C32,\"\")","v":""},null,null,null,null,null,null,null,null,{"$f":"IF($C32=\"\",\"\", IF(FS32=1,0,IF(FQ32<>0,500,FL32*$AE32/$AH32+FM32/$AH32*5+FN32/$AH32*25+FO32*50+FP32*50)))","v":""},null,{"$f":"IF(C32<>\"\",C32,\"\")","v":""},null,null,null,null,null,null,null,null,{"$f":"IF($C32=\"\",\"\", IF(GD32=1,0,IF(GB32<>0,500,FW32*$AE32/$AH32+FX32/$AH32*5+FY32/$AH32*25+FZ32*50+GA32*50)))","v":""},null,{"$f":"IF(C32<>\"\",C32,\"\")","v":""},null,null,null,null,null,null,null,null,{"$f":"IF($C32=\"\",\"\", IF(GO32=1,0,IF(GM32<>0,500,GH32*$AE32/$AH32+GI32/$AH32*5+GJ32/$AH32*25+GK32*50+GL32*50)))","v":""},null,{"$f":"IF(C32<>\"\",C32,\"\")","v":""},null,null,null,null,null,null,null,null,{"$f":"IF($C32=\"\",\"\", IF(GZ32=1,0,IF(GX32<>0,500,GS32*$AE32/$AH32+GT32/$AH32*5+GU32/$AH32*25+GV32*50+GW32*50)))","v":""},null,{"$f":"IF(C32<>\"\",C32,\"\")","v":""},null,null,null,null,null,null,null,null,{"$f":"IF($C32=\"\",\"\", IF(HK32=1,0,IF(HI32<>0,500,HD32*$AE32/$AH32+HE32/$AH32*5+HF32/$AH32*25+HG32*50+HH32*50)))","v":""},null,{"$f":"IF(C32<>\"\",C32,\"\")","v":""},null,null,null,null,null,null,null,null,{"$f":"IF($C32=\"\",\"\", IF(HV32=1,0,IF(HT32<>0,500,HO32*$AE32/$AH32+HP32/$AH32*5+HQ32/$AH32*25+HR32*50+HS32*50)))","v":""},null,{"$f":"IF(C32<>\"\",C32,\"\")","v":""},null,null,null,null,null,null,null,null,{"$f":"IF($C32=\"\",\"\", IF(IG32=1,0,IF(IE32<>0,500,HZ32*$AE32/$AH32+IA32/$AH32*5+IB32/$AH32*25+IC32*50+ID32*50)))","v":""}]
[null,{"$f":"IF(C33=0,\"\",ROW(C33)-4)","v":""},null,null,null,null,null,{"$f":"IF(C33=0,\"\",IF(OR(BB33=1,BC33<>0),BC33,\"-\"))","v":""},{"$f":"IF(C33=0,\"\",IF(OR(BM33=1,BN33<>0),BN33,\"-\"))","v":""},{"$f":"IF(C33=0,\"\",IF(OR(BX33=1,BY33<>0),BY33,\" -\"))","v":""},{"$f":"IF(C33=0,\"\",IF(OR(CJ33<>0,CI33=1),CJ33,\" -\"))","v":""},{"$f":"IF(C33=0,\"\",IF(OR(CU33<>0,CT33=1),CU33,\" -\"))","v":""},{"$f":"IF(C33=0,\"\",IF(OR(DF33<>0,DE33=1),DF33,\" -\"))","v":""},{"$f":"IF(C33=0,\"\",IF(OR(DQ33<>0,DP33=1),DQ33,\" -\"))","v":""},{"$f":"IF(C33=0,\"\",IF(OR(EB33<>0,EA33=1),EB33,\" -\"))","v":""},{"$f":"IF(C33=0,\"\",IF(OR(EM33<>0,EL33=1),EM33,\" -\"))","v":""},{"$f":"IF(C33=0,\"\",IF(OR(EX33<>0,EW33=1),EX33,\" -\"))","v":""},{"$f":"IF(C33=0,\"\",IF(OR(FI33<>0,FH33=1),FI33,\" -\"))","v":""},{"$f":"IF(C33=0,\"\",IF(OR(FT33<>0,FS33=1),FT33,\" -\"))","v":""},{"$f":"IF(C33=0,\"\",IF(OR(GE33<>0,GD33=1),GE33,\" -\"))","v":""},{"$f":"IF(C33=0,\"\",IF(OR(GP33<>0,GO33=1),GP33,\" -\"))","v":""},{"$f":"IF(C33=0,\"\",IF(OR(HA33<>0,GZ33=1),HA33,\" -\"))","v":""},{"$f":"IF(C33=0,\"\",IF(OR(HL33<>0,HK33=1),HL33,\" -\"))","v":""},{"$f":"IF(C33=0,\"\",IF(AJ33<>0,AJ33,\" -\"))","v":""},{"$f":"IF(C33=0,\"\",IF(OR(HW33<>0,HV33=1),HW33,\" -\"))","v":""},{"$f":"IF(C33=0,\"\",IF(OR(IH33<>0,IG33=1),IH33,\" -\"))","v":""},{"$f":"IF(C33=0,\"\",IF(AL33=1,\"DNF\",IF(AL33=2,\"DSQ\",IF(AM33<>1,\"~ \"&ROUND(SUM(H33:X33),3),ROUND(SUM(H33:X33),3)))))","v":""},null,null,{"$f":"IF(C33<>\"\",C33,\"\")","v":""},{"$f":"IF(AD33<>\"\",3,\"\")","v":""},null,null,{"$f":"IF(AD33<>\"\",(AF33/1000*AG33/1000)/2,\"\")","v":""},null,null,null,null,null,null,null,{"$f":"IF(C33=0,99999,IF(AL33>0,9999,SUM(H33:X33)-AN33))","v":99999},{"$f":"IF(C33=0,99999,IF(AL33=1,9999,SUM(Y33:Z33)))","v":99999},null,null,{"$f":"IF(C33<>\"\",C33,\"\")","v":""},null,null,null,null,null,null,null,null,{"$f":"IF($C33=\"\",\"\", IF(BB33=1,0,IF(AZ33<>0,500,AU33*$AE33/$AH33+AV33/$AH33*5+AW33/$AH33*25+AX33*50+AY33*50)))","v":""},null,{"$f":"IF(C33<>\"\",C33,\"\")","v":""},null,null,null,null,null,null,null,null,{"$f":"IF($C33=\"\",\"\", IF(BM33=1,0,IF(BK33<>0,500,BF33*$AE33/$AH33+BG33/$AH33*5+BH33/$AH33*25+BI33*50+BJ33*50)))","v":""},null,{"$f":"IF(C33<>\"\",C33,\"\")","v":""},null,null,null,null,null,null,null,null,{"$f":"IF($C33=\"\",\"\", IF(BX33=1,0,IF(BV33<>0,500,BQ33*$AE33/$AH33+BR33/$AH33*5+BS33/$AH33*25+BT33*50+BU33*50)))","v":""},null,{"$f":"IF(C33<>\"\",C33,\"\")","v":""},null,null,null,null,null,null,null,null,{"$f":"IF($C33=\"\",\"\", IF(CI33=1,0,IF(CG33<>0,500,CB33*$AE33/$AH33+CC33/$AH33*5+CD33/$AH33*25+CE33*50+CF33*50)))","v":""},null,{"$f":"IF(C33<>\"\",C33,\"\")","v":""},null,null,null,null,null,null,null,null,{"$f":"IF($C33=\"\",\"\", IF(CT33=1,0,IF(CR33<>0,500,CM33*$AE33/$AH33+CN33/$AH33*5+CO33/$AH33*25+CP33*50+CQ33*50)))","v":""},null,{"$f":"IF(C33<>\"\",C33,\"\")","v":""},null,null,null,null,null,null,null,null,{"$f":"IF($C33=\"\",\"\", IF(DE33=1,0,IF(DC33<>0,500,CX33*$AE33/$AH33+CY33/$AH33*5+CZ33/$AH33*25+DA33*50+DB33*50)))","v":""},null,{"$f":"IF(C33<>\"\",C33,\"\")","v":""},null,null,null,null,null,null,null,null,{"$f":"IF($C33=\"\",\"\", IF(DP33=1,0,IF(DN33<>0,500,DI33*$AE33/$AH33+DJ33/$AH33*5+DK33/$AH33*25+DL33*50+DM33*50)))","v":""},null,{"$f":"IF(C33<>\"\",C33,\"\")","v":""},null,null,null,null,null,null,null,null,{"$f":"IF($C33=\"\",\"\", IF(EA33=1,0,IF(DY33<>0,500,DT33*$AE33/$AH33+DU33/$AH33*5+DV33/$AH33*25+DW33*50+DX33*50)))","v":""},null,{"$f":"IF(C33<>\"\",C33,\"\")","v":""},null,null,null,null,null,null,null,null,{"$f":"IF($C33=\"\",\"\", IF(EL33=1,0,IF(EJ33<>0,500,EE33*$AE33/$AH33+EF33/$AH33*5+EG33/$AH33*25+EH33*50+EI33*50)))","v":""},null,{"$f":"IF(C33<>\"\",C33,\"\")","v":""},null,null,null,null,null,null,null,null,{"$f":"IF($C33=\"\",\"\", IF(EW33=1,0,IF(EU33<>0,500,EP33*$AE33/$AH33+EQ33/$AH33*5+ER33/$AH33*25+ES33*50+ET33*50)))","v":""},null,{"$f":"IF(C33<>\"\",C33,\"\")","v":""},null,null,null,null,null,null,null,null,{"$f":"IF($C33=\"\",\"\", IF(FH33=1,0,IF(FF33<>0,500,FA33*$AE33/$AH33+FB33/$AH33*5+FC33/$AH33*25+FD33*50+FE33*50)))","v":""},null,{"$f":"IF(C33<>\"\",C33,\"\")","v":""},null,null,null,null,null,null,null,null,{"$f":"IF($C33=\"\",\"\", IF(FS33=1,0,IF(FQ33<>0,500,FL33*$AE33/$AH33+FM33/$AH33*5+FN33/$AH33*25+FO33*50+FP33*50)))","v":""},null,{"$f":"IF(C33<>\"\",C33,\"\")","v":""},null,null,null,null,null,null,null,null,{"$f":"IF($C33=\"\",\"\", IF(GD33=1,0,IF(GB33<>0,500,FW33*$AE33/$AH33+FX33/$AH33*5+FY33/$AH33*25+FZ33*50+GA33*50)))","v":""},null,{"$f":"IF(C33<>\"\",C33,\"\")","v":""},null,null,null,null,null,null,null,null,{"$f":"IF($C33=\"\",\"\", IF(GO33=1,0,IF(GM33<>0,500,GH33*$AE33/$AH33+GI33/$AH33*5+GJ33/$AH33*25+GK33*50+GL33*50)))","v":""},null,{"$f":"IF(C33<>\"\",C33,\"\")","v":""},null,null,null,null,null,null,null,null,{"$f":"IF($C33=\"\",\"\", IF(GZ33=1,0,IF(GX33<>0,500,GS33*$AE33/$AH33+GT33/$AH33*5+GU33/$AH33*25+GV33*50+GW33*50)))","v":""},null,{"$f":"IF(C33<>\"\",C33,\"\")","v":""},null,null,null,null,null,null,null,null,{"$f":"IF($C33=\"\",\"\", IF(HK33=1,0,IF(HI33<>0,500,HD33*$AE33/$AH33+HE33/$AH33*5+HF33/$AH33*25+HG33*50+HH33*50)))","v":""},null,{"$f":"IF(C33<>\"\",C33,\"\")","v":""},null,null,null,null,null,null,null,null,{"$f":"IF($C33=\"\",\"\", IF(HV33=1,0,IF(HT33<>0,500,HO33*$AE33/$AH33+HP33/$AH33*5+HQ33/$AH33*25+HR33*50+HS33*50)))","v":""},null,{"$f":"IF(C33<>\"\",C33,\"\")","v":""},null,null,null,null,null,null,null,null,{"$f":"IF($C33=\"\",\"\", IF(IG33=1,0,IF(IE33<>0,500,HZ33*$AE33/$AH33+IA33/$AH33*5+IB33/$AH33*25+IC33*50+ID33*50)))","v":""}]
[null,{"$f":"IF(C34=0,\"\",ROW(C34)-4)","v":""},null,null,null,null,null,{"$f":"IF(C34=0,\"\",IF(OR(BB34=1,BC34<>0),BC34,\"-\"))","v":""},{"$f":"IF(C34=0,\"\",IF(OR(BM34=1,BN34<>0),BN34,\"-\"))","v":""},{"$f":"IF(C34=0,\"\",IF(OR(BX34=1,BY34<>0),BY34,\" -\"))","v":""},{"$f":"IF(C34=0,\"\",IF(OR(CJ34<>0,CI34=1),CJ34,\" -\"))","v":""},{"$f":"IF(C34=0,\"\",IF(OR(CU34<>0,CT34=1),CU34,\" -\"))","v":""},{"$f":"IF(C34=0,\"\",IF(OR(DF34<>0,DE34=1),DF34,\" -\"))","v":""},{"$f":"IF(C34=0,\"\",IF(OR(DQ34<>0,DP34=1),DQ34,\" -\"))","v":""},{"$f":"IF(C34=0,\"\",IF(OR(EB34<>0,EA34=1),EB34,\" -\"))","v":""},{"$f":"IF(C34=0,\"\",IF(OR(EM34<>0,EL34=1),EM34,\" -\"))","v":""},{"$f":"IF(C34=0,\"\",IF(OR(EX34<>0,EW34=1),EX34,\" -\"))","v":""},{"$f":"IF(C34=0,\"\",IF(OR(FI34<>0,FH34=1),FI34,\" -\"))","v":""},{"$f":"IF(C34=0,\"\",IF(OR(FT34<>0,FS34=1),FT34,\" -\"))","v":""},{"$f":"IF(C34=0,\"\",IF(OR(GE34<>0,GD34=1),GE34,\" -\"))","v":""},{"$f":"IF(C34=0,\"\",IF(OR(GP34<>0,GO34=1),GP34,\" -\"))","v":""},{"$f":"IF(C34=0,\"\",IF(OR(HA34<>0,GZ34=1),HA34,\" -\"))","v":""},{"$f":"IF(C34=0,\"\",IF(OR(HL34<>0,HK34=1),HL34,\" -\"))","v":""},{"$f":"IF(C34=0,\"\",IF(AJ34<>0,AJ34,\" -\"))","v":""},{"$f":"IF(C34=0,\"\",IF(OR(HW34<>0,HV34=1),HW34,\" -\"))","v":""},{"$f":"IF(C34=0,\"\",IF(OR(IH34<>0,IG34=1),IH34,\" -\"))","v":""},{"$f":"IF(C34=0,\"\",IF(AL34=1,\"DNF\",IF(AL34=2,\"DSQ\",IF(AM34<>1,\"~ \"&ROUND(SUM(H34:X34),3),ROUND(SUM(H34:X34),3)))))","v":""},null,null,{"$f":"IF(C34<>\"\",C34,\"\")","v":""},{"$f":"IF(AD34<>\"\",3,\"\")","v":""},null,null,{"$f":"IF(AD34<>\"\",(AF34/1000*AG34/1000)/2,\"\")","v":""},null,null,null,null,null,null,null,{"$f":"IF(C34=0,99999,IF(AL34>0,9999,SUM(H34:X34)-AN34))","v":99999},{"$f":"IF(C34=0,99999,IF(AL34=1,9999,SUM(Y34:Z34)))","v":99999},null,null,{"$f":"IF(C34<>\"\",C34,\"\")","v":""},null,null,null,null,null,null,null,null,{"$f":"IF($C34=\"\",\"\", IF(BB34=1,0,IF(AZ34<>0,500,AU34*$AE34/$AH34+AV34/$AH34*5+AW34/$AH34*25+AX34*50+AY34*50)))","v":""},null,{"$f":"IF(C34<>\"\",C34,\"\")","v":""},null,null,null,null,null,null,null,null,{"$f":"IF($C34=\"\",\"\", IF(BM34=1,0,IF(BK34<>0,500,BF34*$AE34/$AH34+BG34/$AH34*5+BH34/$AH34*25+BI34*50+BJ34*50)))","v":""},null,{"$f":"IF(C34<>\"\",C34,\"\")","v":""},null,null,null,null,null,null,null,null,{"$f":"IF($C34=\"\",\"\", IF(BX34=1,0,IF(BV34<>0,500,BQ34*$AE34/$AH34+BR34/$AH34*5+BS34/$AH34*25+BT34*50+BU34*50)))","v":""},null,{"$f":"IF(C34<>\"\",C34,\"\")","v":""},null,null,null,null,null,null,null,null,{"$f":"IF($C34=\"\",\"\", IF(CI34=1,0,IF(CG34<>0,500,CB34*$AE34/$AH34+CC34/$AH34*5+CD34/$AH34*25+CE34*50+CF34*50)))","v":""},null,{"$f":"IF(C34<>\"\",C34,\"\")","v":""},null,null,null,null,null,null,null,null,{"$f":"IF($C34=\"\",\"\", IF(CT34=1,0,IF(CR34<>0,500,CM34*$AE34/$AH34+CN34/$AH34*5+CO34/$AH34*25+CP34*50+CQ34*50)))","v":""},null,{"$f":"IF(C34<>\"\",C34,\"\")","v":""},null,null,null,null,null,null,null,null,{"$f":"IF($C34=\"\",\"\", IF(DE34=1,0,IF(DC34<>0,500,CX34*$AE34/$AH34+CY34/$AH34*5+CZ34/$AH34*25+DA34*50+DB34*50)))","v":""},null,{"$f":"IF(C34<>\"\",C34,\"\")","v":""},null,null,null,null,null,null,null,null,{"$f":"IF($C34=\"\",\"\", IF(DP34=1,0,IF(DN34<>0,500,DI34*$AE34/$AH34+DJ34/$AH34*5+DK34/$AH34*25+DL34*50+DM34*50)))","v":""},null,{"$f":"IF(C34<>\"\",C34,\"\")","v":""},null,null,null,null,null,null,null,null,{"$f":"IF($C34=\"\",\"\", IF(EA34=1,0,IF(DY34<>0,500,DT34*$AE34/$AH34+DU34/$AH34*5+DV34/$AH34*25+DW34*50+DX34*50)))","v":""},null,{"$f":"IF(C34<>\"\",C34,\"\")","v":""},null,null,null,null,null,null,null,null,{"$f":"IF($C34=\"\",\"\", IF(EL34=1,0,IF(EJ34<>0,500,EE34*$AE34/$AH34+EF34/$AH34*5+EG34/$AH34*25+EH34*50+EI34*50)))","v":""},null,{"$f":"IF(C34<>\"\",C34,\"\")","v":""},null,null,null,null,null,null,null,null,{"$f":"IF($C34=\"\",\"\", IF(EW34=1,0,IF(EU34<>0,500,EP34*$AE34/$AH34+EQ34/$AH34*5+ER34/$AH34*25+ES34*50+ET34*50)))","v":""},null,{"$f":"IF(C34<>\"\",C34,\"\")","v":""},null,null,null,null,null,null,null,null,{"$f":"IF($C34=\"\",\"\", IF(FH34=1,0,IF(FF34<>0,500,FA34*$AE34/$AH34+FB34/$AH34*5+FC34/$AH34*25+FD34*50+FE34*50)))","v":""},null,{"$f":"IF(C34<>\"\",C34,\"\")","v":""},null,null,null,null,null,null,null,null,{"$f":"IF($C34=\"\",\"\", IF(FS34=1,0,IF(FQ34<>0,500,FL34*$AE34/$AH34+FM34/$AH34*5+FN34/$AH34*25+FO34*50+FP34*50)))","v":""},null,{"$f":"IF(C34<>\"\",C34,\"\")","v":""},null,null,null,null,null,null,null,null,{"$f":"IF($C34=\"\",\"\", IF(GD34=1,0,IF(GB34<>0,500,FW34*$AE34/$AH34+FX34/$AH34*5+FY34/$AH34*25+FZ34*50+GA34*50)))","v":""},null,{"$f":"IF(C34<>\"\",C34,\"\")","v":""},null,null,null,null,null,null,null,null,{"$f":"IF($C34=\"\",\"\", IF(GO34=1,0,IF(GM34<>0,500,GH34*$AE34/$AH34+GI34/$AH34*5+GJ34/$AH34*25+GK34*50+GL34*50)))","v":""},null,{"$f":"IF(C34<>\"\",C34,\"\")","v":""},null,null,null,null,null,null,null,null,{"$f":"IF($C34=\"\",\"\", IF(GZ34=1,0,IF(GX34<>0,500,GS34*$AE34/$AH34+GT34/$AH34*5+GU34/$AH34*25+GV34*50+GW34*50)))","v":""},null,{"$f":"IF(C34<>\"\",C34,\"\")","v":""},null,null,null,null,null,null,null,null,{"$f":"IF($C34=\"\",\"\", IF(HK34=1,0,IF(HI34<>0,500,HD34*$AE34/$AH34+HE34/$AH34*5+HF34/$AH34*25+HG34*50+HH34*50)))","v":""},null,{"$f":"IF(C34<>\"\",C34,\"\")","v":""},null,null,null,null,null,null,null,null,{"$f":"IF($C34=\"\",\"\", IF(HV34=1,0,IF(HT34<>0,500,HO34*$AE34/$AH34+HP34/$AH34*5+HQ34/$AH34*25+HR34*50+HS34*50)))","v":""},null,{"$f":"IF(C34<>\"\",C34,\"\")","v":""},null,null,null,null,null,null,null,null,{"$f":"IF($C34=\"\",\"\", IF(IG34=1,0,IF(IE34<>0,500,HZ34*$AE34/$AH34+IA34/$AH34*5+IB34/$AH34*25+IC34*50+ID34*50)))","v":""}]
[null,{"$f":"IF(C35=0,\"\",ROW(C35)-4)","v":""},null,null,null,null,null,{"$f":"IF(C35=0,\"\",IF(OR(BB35=1,BC35<>0),BC35,\"-\"))","v":""},{"$f":"IF(C35=0,\"\",IF(OR(BM35=1,BN35<>0),BN35,\"-\"))","v":""},{"$f":"IF(C35=0,\"\",IF(OR(BX35=1,BY35<>0),BY35,\" -\"))","v":""},{"$f":"IF(C35=0,\"\",IF(OR(CJ35<>0,CI35=1),CJ35,\" -\"))","v":""},{"$f":"IF(C35=0,\"\",IF(OR(CU35<>0,CT35=1),CU35,\" -\"))","v":""},{"$f":"IF(C35=0,\"\",IF(OR(DF35<>0,DE35=1),DF35,\" -\"))","v":""},{"$f":"IF(C35=0,\"\",IF(OR(DQ35<>0,DP35=1),DQ35,\" -\"))","v":""},{"$f":"IF(C35=0,\"\",IF(OR(EB35<>0,EA35=1),EB35,\" -\"))","v":""},{"$f":"IF(C35=0,\"\",IF(OR(EM35<>0,EL35=1),EM35,\" -\"))","v":""},{"$f":"IF(C35=0,\"\",IF(OR(EX35<>0,EW35=1),EX35,\" -\"))","v":""},{"$f":"IF(C35=0,\"\",IF(OR(FI35<>0,FH35=1),FI35,\" -\"))","v":""},{"$f":"IF(C35=0,\"\",IF(OR(FT35<>0,FS35=1),FT35,\" -\"))","v":""},{"$f":"IF(C35=0,\"\",IF(OR(GE35<>0,GD35=1),GE35,\" -\"))","v":""},{"$f":"IF(C35=0,\"\",IF(OR(GP35<>0,GO35=1),GP35,\" -\"))","v":""},{"$f":"IF(C35=0,\"\",IF(OR(HA35<>0,GZ35=1),HA35,\" -\"))","v":""},{"$f":"IF(C35=0,\"\",IF(OR(HL35<>0,HK35=1),HL35,\" -\"))","v":""},{"$f":"IF(C35=0,\"\",IF(AJ35<>0,AJ35,\" -\"))","v":""},{"$f":"IF(C35=0,\"\",IF(OR(HW35<>0,HV35=1),HW35,\" -\"))","v":""},{"$f":"IF(C35=0,\"\",IF(OR(IH35<>0,IG35=1),IH35,\" -\"))","v":""},{"$f":"IF(C35=0,\"\",IF(AL35=1,\"DNF\",IF(AL35=2,\"DSQ\",IF(AM35<>1,\"~ \"&ROUND(SUM(H35:X35),3),ROUND(SUM(H35:X35),3)))))","v":""},null,null,{"$f":"IF(C35<>\"\",C35,\"\")","v":""},{"$f":"IF(AD35<>\"\",3,\"\")","v":""},null,null,{"$f":"IF(AD35<>\"\",(AF35/1000*AG35/1000)/2,\"\")","v":""},null,null,null,null,null,null,null,{"$f":"IF(C35=0,99999,IF(AL35>0,9999,SUM(H35:X35)-AN35))","v":99999},{"$f":"IF(C35=0,99999,IF(AL35=1,9999,SUM(Y35:Z35)))","v":99999},null,null,{"$f":"IF(C35<>\"\",C35,\"\")","v":""},null,null,null,null,null,null,null,null,{"$f":"IF($C35=\"\",\"\", IF(BB35=1,0,IF(AZ35<>0,500,AU35*$AE35/$AH35+AV35/$AH35*5+AW35/$AH35*25+AX35*50+AY35*50)))","v":""},null,{"$f":"IF(C35<>\"\",C35,\"\")","v":""},null,null,null,null,null,null,null,null,{"$f":"IF($C35=\"\",\"\", IF(BM35=1,0,IF(BK35<>0,500,BF35*$AE35/$AH35+BG35/$AH35*5+BH35/$AH35*25+BI35*50+BJ35*50)))","v":""},null,{"$f":"IF(C35<>\"\",C35,\"\")","v":""},null,null,null,null,null,null,null,null,{"$f":"IF($C35=\"\",\"\", IF(BX35=1,0,IF(BV35<>0,500,BQ35*$AE35/$AH35+BR35/$AH35*5+BS35/$AH35*25+BT35*50+BU35*50)))","v":""},null,{"$f":"IF(C35<>\"\",C35,\"\")","v":""},null,null,null,null,null,null,null,null,{"$f":"IF($C35=\"\",\"\", IF(CI35=1,0,IF(CG35<>0,500,CB35*$AE35/$AH35+CC35/$AH35*5+CD35/$AH35*25+CE35*50+CF35*50)))","v":""},null,{"$f":"IF(C35<>\"\",C35,\"\")","v":""},null,null,null,null,null,null,null,null,{"$f":"IF($C35=\"\",\"\", IF(CT35=1,0,IF(CR35<>0,500,CM35*$AE35/$AH35+CN35/$AH35*5+CO35/$AH35*25+CP35*50+CQ35*50)))","v":""},null,{"$f":"IF(C35<>\"\",C35,\"\")","v":""},null,null,null,null,null,null,null,null,{"$f":"IF($C35=\"\",\"\", IF(DE35=1,0,IF(DC35<>0,500,CX35*$AE35/$AH35+CY35/$AH35*5+CZ35/$AH35*25+DA35*50+DB35*50)))","v":""},null,{"$f":"IF(C35<>\"\",C35,\"\")","v":""},null,null,null,null,null,null,null,null,{"$f":"IF($C35=\"\",\"\", IF(DP35=1,0,IF(DN35<>0,500,DI35*$AE35/$AH35+DJ35/$AH35*5+DK35/$AH35*25+DL35*50+DM35*50)))","v":""},null,{"$f":"IF(C35<>\"\",C35,\"\")","v":""},null,null,null,null,null,null,null,null,{"$f":"IF($C35=\"\",\"\", IF(EA35=1,0,IF(DY35<>0,500,DT35*$AE35/$AH35+DU35/$AH35*5+DV35/$AH35*25+DW35*50+DX35*50)))","v":""},null,{"$f":"IF(C35<>\"\",C35,\"\")","v":""},null,null,null,null,null,null,null,null,{"$f":"IF($C35=\"\",\"\", IF(EL35=1,0,IF(EJ35<>0,500,EE35*$AE35/$AH35+EF35/$AH35*5+EG35/$AH35*25+EH35*50+EI35*50)))","v":""},null,{"$f":"IF(C35<>\"\",C35,\"\")","v":""},null,null,null,null,null,null,null,null,{"$f":"IF($C35=\"\",\"\", IF(EW35=1,0,IF(EU35<>0,500,EP35*$AE35/$AH35+EQ35/$AH35*5+ER35/$AH35*25+ES35*50+ET35*50)))","v":""},null,{"$f":"IF(C35<>\"\",C35,\"\")","v":""},null,null,null,null,null,null,null,null,{"$f":"IF($C35=\"\",\"\", IF(FH35=1,0,IF(FF35<>0,500,FA35*$AE35/$AH35+FB35/$AH35*5+FC35/$AH35*25+FD35*50+FE35*50)))","v":""},null,{"$f":"IF(C35<>\"\",C35,\"\")","v":""},null,null,null,null,null,null,null,null,{"$f":"IF($C35=\"\",\"\", IF(FS35=1,0,IF(FQ35<>0,500,FL35*$AE35/$AH35+FM35/$AH35*5+FN35/$AH35*25+FO35*50+FP35*50)))","v":""},null,{"$f":"IF(C35<>\"\",C35,\"\")","v":""},null,null,null,null,null,null,null,null,{"$f":"IF($C35=\"\",\"\", IF(GD35=1,0,IF(GB35<>0,500,FW35*$AE35/$AH35+FX35/$AH35*5+FY35/$AH35*25+FZ35*50+GA35*50)))","v":""},null,{"$f":"IF(C35<>\"\",C35,\"\")","v":""},null,null,null,null,null,null,null,null,{"$f":"IF($C35=\"\",\"\", IF(GO35=1,0,IF(GM35<>0,500,GH35*$AE35/$AH35+GI35/$AH35*5+GJ35/$AH35*25+GK35*50+GL35*50)))","v":""},null,{"$f":"IF(C35<>\"\",C35,\"\")","v":""},null,null,null,null,null,null,null,null,{"$f":"IF($C35=\"\",\"\", IF(GZ35=1,0,IF(GX35<>0,500,GS35*$AE35/$AH35+GT35/$AH35*5+GU35/$AH35*25+GV35*50+GW35*50)))","v":""},null,{"$f":"IF(C35<>\"\",C35,\"\")","v":""},null,null,null,null,null,null,null,null,{"$f":"IF($C35=\"\",\"\", IF(HK35=1,0,IF(HI35<>0,500,HD35*$AE35/$AH35+HE35/$AH35*5+HF35/$AH35*25+HG35*50+HH35*50)))","v":""},null,{"$f":"IF(C35<>\"\",C35,\"\")","v":""},null,null,null,null,null,null,null,null,{"$f":"IF($C35=\"\",\"\", IF(HV35=1,0,IF(HT35<>0,500,HO35*$AE35/$AH35+HP35/$AH35*5+HQ35/$AH35*25+HR35*50+HS35*50)))","v":""},null,{"$f":"IF(C35<>\"\",C35,\"\")","v":""},null,null,null,null,null,null,null,null,{"$f":"IF($C35=\"\",\"\", IF(IG35=1,0,IF(IE35<>0,500,HZ35*$AE35/$AH35+IA35/$AH35*5+IB35/$AH35*25+IC35*50+ID35*50)))","v":""}]
[null,{"$f":"IF(C36=0,\"\",ROW(C36)-4)","v":""},null,null,null,null,null,{"$f":"IF(C36=0,\"\",IF(OR(BB36=1,BC36<>0),BC36,\"-\"))","v":""},{"$f":"IF(C36=0,\"\",IF(OR(BM36=1,BN36<>0),BN36,\"-\"))","v":""},{"$f":"IF(C36=0,\"\",IF(OR(BX36=1,BY36<>0),BY36,\" -\"))","v":""},{"$f":"IF(C36=0,\"\",IF(OR(CJ36<>0,CI36=1),CJ36,\" -\"))","v":""},{"$f":"IF(C36=0,\"\",IF(OR(CU36<>0,CT36=1),CU36,\" -\"))","v":""},{"$f":"IF(C36=0,\"\",IF(OR(DF36<>0,DE36=1),DF36,\" -\"))","v":""},{"$f":"IF(C36=0,\"\",IF(OR(DQ36<>0,DP36=1),DQ36,\" -\"))","v":""},{"$f":"IF(C36=0,\"\",IF(OR(EB36<>0,EA36=1),EB36,\" -\"))","v":""},{"$f":"IF(C36=0,\"\",IF(OR(EM36<>0,EL36=1),EM36,\" -\"))","v":""},{"$f":"IF(C36=0,\"\",IF(OR(EX36<>0,EW36=1),EX36,\" -\"))","v":""},{"$f":"IF(C36=0,\"\",IF(OR(FI36<>0,FH36=1),FI36,\" -\"))","v":""},{"$f":"IF(C36=0,\"\",IF(OR(FT36<>0,FS36=1),FT36,\" -\"))","v":""},{"$f":"IF(C36=0,\"\",IF(OR(GE36<>0,GD36=1),GE36,\" -\"))","v":""},{"$f":"IF(C36=0,\"\",IF(OR(GP36<>0,GO36=1),GP36,\" -\"))","v":""},{"$f":"IF(C36=0,\"\",IF(OR(HA36<>0,GZ36=1),HA36,\" -\"))","v":""},{"$f":"IF(C36=0,\"\",IF(OR(HL36<>0,HK36=1),HL36,\" -\"))","v":""},{"$f":"IF(C36=0,\"\",IF(AJ36<>0,AJ36,\" -\"))","v":""},{"$f":"IF(C36=0,\"\",IF(OR(HW36<>0,HV36=1),HW36,\" -\"))","v":""},{"$f":"IF(C36=0,\"\",IF(OR(IH36<>0,IG36=1),IH36,\" -\"))","v":""},{"$f":"IF(C36=0,\"\",IF(AL36=1,\"DNF\",IF(AL36=2,\"DSQ\",IF(AM36<>1,\"~ \"&ROUND(SUM(H36:X36),3),ROUND(SUM(H36:X36),3)))))","v":""},null,null,{"$f":"IF(C36<>\"\",C36,\"\")","v":""},{"$f":"IF(AD36<>\"\",3,\"\")","v":""},null,null,{"$f":"IF(AD36<>\"\",(AF36/1000*AG36/1000)/2,\"\")","v":""},null,null,null,null,null,null,null,{"$f":"IF(C36=0,99999,IF(AL36>0,9999,SUM(H36:X36)-AN36))","v":99999},{"$f":"IF(C36=0,99999,IF(AL36=1,9999,SUM(Y36:Z36)))","v":99999},null,null,{"$f":"IF(C36<>\"\",C36,\"\")","v":""},null,null,null,null,null,null,null,null,{"$f":"IF($C36=\"\",\"\", IF(BB36=1,0,IF(AZ36<>0,500,AU36*$AE36/$AH36+AV36/$AH36*5+AW36/$AH36*25+AX36*50+AY36*50)))","v":""},null,{"$f":"IF(C36<>\"\",C36,\"\")","v":""},null,null,null,null,null,null,null,null,{"$f":"IF($C36=\"\",\"\", IF(BM36=1,0,IF(BK36<>0,500,BF36*$AE36/$AH36+BG36/$AH36*5+BH36/$AH36*25+BI36*50+BJ36*50)))","v":""},null,{"$f":"IF(C36<>\"\",C36,\"\")","v":""},null,null,null,null,null,null,null,null,{"$f":"IF($C36=\"\",\"\", IF(BX36=1,0,IF(BV36<>0,500,BQ36*$AE36/$AH36+BR36/$AH36*5+BS36/$AH36*25+BT36*50+BU36*50)))","v":""},null,{"$f":"IF(C36<>\"\",C36,\"\")","v":""},null,null,null,null,null,null,null,null,{"$f":"IF($C36=\"\",\"\", IF(CI36=1,0,IF(CG36<>0,500,CB36*$AE36/$AH36+CC36/$AH36*5+CD36/$AH36*25+CE36*50+CF36*50)))","v":""},null,{"$f":"IF(C36<>\"\",C36,\"\")","v":""},null,null,null,null,null,null,null,null,{"$f":"IF($C36=\"\",\"\", IF(CT36=1,0,IF(CR36<>0,500,CM36*$AE36/$AH36+CN36/$AH36*5+CO36/$AH36*25+CP36*50+CQ36*50)))","v":""},null,{"$f":"IF(C36<>\"\",C36,\"\")","v":""},null,null,null,null,null,null,null,null,{"$f":"IF($C36=\"\",\"\", IF(DE36=1,0,IF(DC36<>0,500,CX36*$AE36/$AH36+CY36/$AH36*5+CZ36/$AH36*25+DA36*50+DB36*50)))","v":""},null,{"$f":"IF(C36<>\"\",C36,\"\")","v":""},null,null,null,null,null,null,null,null,{"$f":"IF($C36=\"\",\"\", IF(DP36=1,0,IF(DN36<>0,500,DI36*$AE36/$AH36+DJ36/$AH36*5+DK36/$AH36*25+DL36*50+DM36*50)))","v":""},null,{"$f":"IF(C36<>\"\",C36,\"\")","v":""},null,null,null,null,null,null,null,null,{"$f":"IF($C36=\"\",\"\", IF(EA36=1,0,IF(DY36<>0,500,DT36*$AE36/$AH36+DU36/$AH36*5+DV36/$AH36*25+DW36*50+DX36*50)))","v":""},null,{"$f":"IF(C36<>\"\",C36,\"\")","v":""},null,null,null,null,null,null,null,null,{"$f":"IF($C36=\"\",\"\", IF(EL36=1,0,IF(EJ36<>0,500,EE36*$AE36/$AH36+EF36/$AH36*5+EG36/$AH36*25+EH36*50+EI36*50)))","v":""},null,{"$f":"IF(C36<>\"\",C36,\"\")","v":""},null,null,null,null,null,null,null,null,{"$f":"IF($C36=\"\",\"\", IF(EW36=1,0,IF(EU36<>0,500,EP36*$AE36/$AH36+EQ36/$AH36*5+ER36/$AH36*25+ES36*50+ET36*50)))","v":""},null,{"$f":"IF(C36<>\"\",C36,\"\")","v":""},null,null,null,null,null,null,null,null,{"$f":"IF($C36=\"\",\"\", IF(FH36=1,0,IF(FF36<>0,500,FA36*$AE36/$AH36+FB36/$AH36*5+FC36/$AH36*25+FD36*50+FE36*50)))","v":""},null,{"$f":"IF(C36<>\"\",C36,\"\")","v":""},null,null,null,null,null,null,null,null,{"$f":"IF($C36=\"\",\"\", IF(FS36=1,0,IF(FQ36<>0,500,FL36*$AE36/$AH36+FM36/$AH36*5+FN36/$AH36*25+FO36*50+FP36*50)))","v":""},null,{"$f":"IF(C36<>\"\",C36,\"\")","v":""},null,null,null,null,null,null,null,null,{"$f":"IF($C36=\"\",\"\", IF(GD36=1,0,IF(GB36<>0,500,FW36*$AE36/$AH36+FX36/$AH36*5+FY36/$AH36*25+FZ36*50+GA36*50)))","v":""},null,{"$f":"IF(C36<>\"\",C36,\"\")","v":""},null,null,null,null,null,null,null,null,{"$f":"IF($C36=\"\",\"\", IF(GO36=1,0,IF(GM36<>0,500,GH36*$AE36/$AH36+GI36/$AH36*5+GJ36/$AH36*25+GK36*50+GL36*50)))","v":""},null,{"$f":"IF(C36<>\"\",C36,\"\")","v":""},null,null,null,null,null,null,null,null,{"$f":"IF($C36=\"\",\"\", IF(GZ36=1,0,IF(GX36<>0,500,GS36*$AE36/$AH36+GT36/$AH36*5+GU36/$AH36*25+GV36*50+GW36*50)))","v":""},null,{"$f":"IF(C36<>\"\",C36,\"\")","v":""},null,null,null,null,null,null,null,null,{"$f":"IF($C36=\"\",\"\", IF(HK36=1,0,IF(HI36<>0,500,HD36*$AE36/$AH36+HE36/$AH36*5+HF36/$AH36*25+HG36*50+HH36*50)))","v":""},null,{"$f":"IF(C36<>\"\",C36,\"\")","v":""},null,null,null,null,null,null,null,null,{"$f":"IF($C36=\"\",\"\", IF(HV36=1,0,IF(HT36<>0,500,HO36*$AE36/$AH36+HP36/$AH36*5+HQ36/$AH36*25+HR36*50+HS36*50)))","v":""},null,{"$f":"IF(C36<>\"\",C36,\"\")","v":""},null,null,null,null,null,null,null,null,{"$f":"IF($C36=\"\",\"\", IF(IG36=1,0,IF(IE36<>0,500,HZ36*$AE36/$AH36+IA36/$AH36*5+IB36/$AH36*25+IC36*50+ID36*50)))","v":""}]
[null,{"$f":"IF(C37=0,\"\",ROW(C37)-4)","v":""},null,null,null,null,null,{"$f":"IF(C37=0,\"\",IF(OR(BB37=1,BC37<>0),BC37,\"-\"))","v":""},{"$f":"IF(C37=0,\"\",IF(OR(BM37=1,BN37<>0),BN37,\"-\"))","v":""},{"$f":"IF(C37=0,\"\",IF(OR(BX37=1,BY37<>0),BY37,\" -\"))","v":""},{"$f":"IF(C37=0,\"\",IF(OR(CJ37<>0,CI37=1),CJ37,\" -\"))","v":""},{"$f":"IF(C37=0,\"\",IF(OR(CU37<>0,CT37=1),CU37,\" -\"))","v":""},{"$f":"IF(C37=0,\"\",IF(OR(DF37<>0,DE37=1),DF37,\" -\"))","v":""},{"$f":"IF(C37=0,\"\",IF(OR(DQ37<>0,DP37=1),DQ37,\" -\"))","v":""},{"$f":"IF(C37=0,\"\",IF(OR(EB37<>0,EA37=1),EB37,\" -\"))","v":""},{"$f":"IF(C37=0,\"\",IF(OR(EM37<>0,EL37=1),EM37,\" -\"))","v":""},{"$f":"IF(C37=0,\"\",IF(OR(EX37<>0,EW37=1),EX37,\" -\"))","v":""},{"$f":"IF(C37=0,\"\",IF(OR(FI37<>0,FH37=1),FI37,\" -\"))","v":""},{"$f":"IF(C37=0,\"\",IF(OR(FT37<>0,FS37=1),FT37,\" -\"))","v":""},{"$f":"IF(C37=0,\"\",IF(OR(GE37<>0,GD37=1),GE37,\" -\"))","v":""},{"$f":"IF(C37=0,\"\",IF(OR(GP37<>0,GO37=1),GP37,\" -\"))","v":""},{"$f":"IF(C37=0,\"\",IF(OR(HA37<>0,GZ37=1),HA37,\" -\"))","v":""},{"$f":"IF(C37=0,\"\",IF(OR(HL37<>0,HK37=1),HL37,\" -\"))","v":""},{"$f":"IF(C37=0,\"\",IF(AJ37<>0,AJ37,\" -\"))","v":""},{"$f":"IF(C37=0,\"\",IF(OR(HW37<>0,HV37=1),HW37,\" -\"))","v":""},{"$f":"IF(C37=0,\"\",IF(OR(IH37<>0,IG37=1),IH37,\" -\"))","v":""},{"$f":"IF(C37=0,\"\",IF(AL37=1,\"DNF\",IF(AL37=2,\"DSQ\",IF(AM37<>1,\"~ \"&ROUND(SUM(H37:X37),3),ROUND(SUM(H37:X37),3)))))","v":""},null,null,{"$f":"IF(C37<>\"\",C37,\"\")","v":""},{"$f":"IF(AD37<>\"\",3,\"\")","v":""},null,null,{"$f":"IF(AD37<>\"\",(AF37/1000*AG37/1000)/2,\"\")","v":""},null,null,null,null,null,null,null,{"$f":"IF(C37=0,99999,IF(AL37>0,9999,SUM(H37:X37)-AN37))","v":99999},{"$f":"IF(C37=0,99999,IF(AL37=1,9999,SUM(Y37:Z37)))","v":99999},null,null,{"$f":"IF(C37<>\"\",C37,\"\")","v":""},null,null,null,null,null,null,null,null,{"$f":"IF($C37=\"\",\"\", IF(BB37=1,0,IF(AZ37<>0,500,AU37*$AE37/$AH37+AV37/$AH37*5+AW37/$AH37*25+AX37*50+AY37*50)))","v":""},null,{"$f":"IF(C37<>\"\",C37,\"\")","v":""},null,null,null,null,null,null,null,null,{"$f":"IF($C37=\"\",\"\", IF(BM37=1,0,IF(BK37<>0,500,BF37*$AE37/$AH37+BG37/$AH37*5+BH37/$AH37*25+BI37*50+BJ37*50)))","v":""},null,{"$f":"IF(C37<>\"\",C37,\"\")","v":""},null,null,null,null,null,null,null,null,{"$f":"IF($C37=\"\",\"\", IF(BX37=1,0,IF(BV37<>0,500,BQ37*$AE37/$AH37+BR37/$AH37*5+BS37/$AH37*25+BT37*50+BU37*50)))","v":""},null,{"$f":"IF(C37<>\"\",C37,\"\")","v":""},null,null,null,null,null,null,null,null,{"$f":"IF($C37=\"\",\"\", IF(CI37=1,0,IF(CG37<>0,500,CB37*$AE37/$AH37+CC37/$AH37*5+CD37/$AH37*25+CE37*50+CF37*50)))","v":""},null,{"$f":"IF(C37<>\"\",C37,\"\")","v":""},null,null,null,null,null,null,null,null,{"$f":"IF($C37=\"\",\"\", IF(CT37=1,0,IF(CR37<>0,500,CM37*$AE37/$AH37+CN37/$AH37*5+CO37/$AH37*25+CP37*50+CQ37*50)))","v":""},null,{"$f":"IF(C37<>\"\",C37,\"\")","v":""},null,null,null,null,null,null,null,null,{"$f":"IF($C37=\"\",\"\", IF(DE37=1,0,IF(DC37<>0,500,CX37*$AE37/$AH37+CY37/$AH37*5+CZ37/$AH37*25+DA37*50+DB37*50)))","v":""},null,{"$f":"IF(C37<>\"\",C37,\"\")","v":""},null,null,null,null,null,null,null,null,{"$f":"IF($C37=\"\",\"\", IF(DP37=1,0,IF(DN37<>0,500,DI37*$AE37/$AH37+DJ37/$AH37*5+DK37/$AH37*25+DL37*50+DM37*50)))","v":""},null,{"$f":"IF(C37<>\"\",C37,\"\")","v":""},null,null,null,null,null,null,null,null,{"$f":"IF($C37=\"\",\"\", IF(EA37=1,0,IF(DY37<>0,500,DT37*$AE37/$AH37+DU37/$AH37*5+DV37/$AH37*25+DW37*50+DX37*50)))","v":""},null,{"$f":"IF(C37<>\"\",C37,\"\")","v":""},null,null,null,null,null,null,null,null,{"$f":"IF($C37=\"\",\"\", IF(EL37=1,0,IF(EJ37<>0,500,EE37*$AE37/$AH37+EF37/$AH37*5+EG37/$AH37*25+EH37*50+EI37*50)))","v":""},null,{"$f":"IF(C37<>\"\",C37,\"\")","v":""},null,null,null,null,null,null,null,null,{"$f":"IF($C37=\"\",\"\", IF(EW37=1,0,IF(EU37<>0,500,EP37*$AE37/$AH37+EQ37/$AH37*5+ER37/$AH37*25+ES37*50+ET37*50)))","v":""},null,{"$f":"IF(C37<>\"\",C37,\"\")","v":""},null,null,null,null,null,null,null,null,{"$f":"IF($C37=\"\",\"\", IF(FH37=1,0,IF(FF37<>0,500,FA37*$AE37/$AH37+FB37/$AH37*5+FC37/$AH37*25+FD37*50+FE37*50)))","v":""},null,{"$f":"IF(C37<>\"\",C37,\"\")","v":""},null,null,null,null,null,null,null,null,{"$f":"IF($C37=\"\",\"\", IF(FS37=1,0,IF(FQ37<>0,500,FL37*$AE37/$AH37+FM37/$AH37*5+FN37/$AH37*25+FO37*50+FP37*50)))","v":""},null,{"$f":"IF(C37<>\"\",C37,\"\")","v":""},null,null,null,null,null,null,null,null,{"$f":"IF($C37=\"\",\"\", IF(GD37=1,0,IF(GB37<>0,500,FW37*$AE37/$AH37+FX37/$AH37*5+FY37/$AH37*25+FZ37*50+GA37*50)))","v":""},null,{"$f":"IF(C37<>\"\",C37,\"\")","v":""},null,null,null,null,null,null,null,null,{"$f":"IF($C37=\"\",\"\", IF(GO37=1,0,IF(GM37<>0,500,GH37*$AE37/$AH37+GI37/$AH37*5+GJ37/$AH37*25+GK37*50+GL37*50)))","v":""},null,{"$f":"IF(C37<>\"\",C37,\"\")","v":""},null,null,null,null,null,null,null,null,{"$f":"IF($C37=\"\",\"\", IF(GZ37=1,0,IF(GX37<>0,500,GS37*$AE37/$AH37+GT37/$AH37*5+GU37/$AH37*25+GV37*50+GW37*50)))","v":""},null,{"$f":"IF(C37<>\"\",C37,\"\")","v":""},null,null,null,null,null,null,null,null,{"$f":"IF($C37=\"\",\"\", IF(HK37=1,0,IF(HI37<>0,500,HD37*$AE37/$AH37+HE37/$AH37*5+HF37/$AH37*25+HG37*50+HH37*50)))","v":""},null,{"$f":"IF(C37<>\"\",C37,\"\")","v":""},null,null,null,null,null,null,null,null,{"$f":"IF($C37=\"\",\"\", IF(HV37=1,0,IF(HT37<>0,500,HO37*$AE37/$AH37+HP37/$AH37*5+HQ37/$AH37*25+HR37*50+HS37*50)))","v":""},null,{"$f":"IF(C37<>\"\",C37,\"\")","v":""},null,null,null,null,null,null,null,null,{"$f":"IF($C37=\"\",\"\", IF(IG37=1,0,IF(IE37<>0,500,HZ37*$AE37/$AH37+IA37/$AH37*5+IB37/$AH37*25+IC37*50+ID37*50)))","v":""}]
[null,{"$f":"IF(C38=0,\"\",ROW(C38)-4)","v":""},null,null,null,null,null,{"$f":"IF(C38=0,\"\",IF(OR(BB38=1,BC38<>0),BC38,\"-\"))","v":""},{"$f":"IF(C38=0,\"\",IF(OR(BM38=1,BN38<>0),BN38,\"-\"))","v":""},{"$f":"IF(C38=0,\"\",IF(OR(BX38=1,BY38<>0),BY38,\" -\"))","v":""},{"$f":"IF(C38=0,\"\",IF(OR(CJ38<>0,CI38=1),CJ38,\" -\"))","v":""},{"$f":"IF(C38=0,\"\",IF(OR(CU38<>0,CT38=1),CU38,\" -\"))","v":""},{"$f":"IF(C38=0,\"\",IF(OR(DF38<>0,DE38=1),DF38,\" -\"))","v":""},{"$f":"IF(C38=0,\"\",IF(OR(DQ38<>0,DP38=1),DQ38,\" -\"))","v":""},{"$f":"IF(C38=0,\"\",IF(OR(EB38<>0,EA38=1),EB38,\" -\"))","v":""},{"$f":"IF(C38=0,\"\",IF(OR(EM38<>0,EL38=1),EM38,\" -\"))","v":""},{"$f":"IF(C38=0,\"\",IF(OR(EX38<>0,EW38=1),EX38,\" -\"))","v":""},{"$f":"IF(C38=0,\"\",IF(OR(FI38<>0,FH38=1),FI38,\" -\"))","v":""},{"$f":"IF(C38=0,\"\",IF(OR(FT38<>0,FS38=1),FT38,\" -\"))","v":""},{"$f":"IF(C38=0,\"\",IF(OR(GE38<>0,GD38=1),GE38,\" -\"))","v":""},{"$f":"IF(C38=0,\"\",IF(OR(GP38<>0,GO38=1),GP38,\" -\"))","v":""},{"$f":"IF(C38=0,\"\",IF(OR(HA38<>0,GZ38=1),HA38,\" -\"))","v":""},{"$f":"IF(C38=0,\"\",IF(OR(HL38<>0,HK38=1),HL38,\" -\"))","v":""},{"$f":"IF(C38=0,\"\",IF(AJ38<>0,AJ38,\" -\"))","v":""},{"$f":"IF(C38=0,\"\",IF(OR(HW38<>0,HV38=1),HW38,\" -\"))","v":""},{"$f":"IF(C38=0,\"\",IF(OR(IH38<>0,IG38=1),IH38,\" -\"))","v":""},{"$f":"IF(C38=0,\"\",IF(AL38=1,\"DNF\",IF(AL38=2,\"DSQ\",IF(AM38<>1,\"~ \"&ROUND(SUM(H38:X38),3),ROUND(SUM(H38:X38),3)))))","v":""},null,null,{"$f":"IF(C38<>\"\",C38,\"\")","v":""},{"$f":"IF(AD38<>\"\",3,\"\")","v":""},null,null,{"$f":"IF(AD38<>\"\",(AF38/1000*AG38/1000)/2,\"\")","v":""},null,null,null,null,null,null,null,{"$f":"IF(C38=0,99999,IF(AL38>0,9999,SUM(H38:X38)-AN38))","v":99999},{"$f":"IF(C38=0,99999,IF(AL38=1,9999,SUM(Y38:Z38)))","v":99999},null,null,{"$f":"IF(C38<>\"\",C38,\"\")","v":""},null,null,null,null,null,null,null,null,{"$f":"IF($C38=\"\",\"\", IF(BB38=1,0,IF(AZ38<>0,500,AU38*$AE38/$AH38+AV38/$AH38*5+AW38/$AH38*25+AX38*50+AY38*50)))","v":""},null,{"$f":"IF(C38<>\"\",C38,\"\")","v":""},null,null,null,null,null,null,null,null,{"$f":"IF($C38=\"\",\"\", IF(BM38=1,0,IF(BK38<>0,500,BF38*$AE38/$AH38+BG38/$AH38*5+BH38/$AH38*25+BI38*50+BJ38*50)))","v":""},null,{"$f":"IF(C38<>\"\",C38,\"\")","v":""},null,null,null,null,null,null,null,null,{"$f":"IF($C38=\"\",\"\", IF(BX38=1,0,IF(BV38<>0,500,BQ38*$AE38/$AH38+BR38/$AH38*5+BS38/$AH38*25+BT38*50+BU38*50)))","v":""},null,{"$f":"IF(C38<>\"\",C38,\"\")","v":""},null,null,null,null,null,null,null,null,{"$f":"IF($C38=\"\",\"\", IF(CI38=1,0,IF(CG38<>0,500,CB38*$AE38/$AH38+CC38/$AH38*5+CD38/$AH38*25+CE38*50+CF38*50)))","v":""},null,{"$f":"IF(C38<>\"\",C38,\"\")","v":""},null,null,null,null,null,null,null,null,{"$f":"IF($C38=\"\",\"\", IF(CT38=1,0,IF(CR38<>0,500,CM38*$AE38/$AH38+CN38/$AH38*5+CO38/$AH38*25+CP38*50+CQ38*50)))","v":""},null,{"$f":"IF(C38<>\"\",C38,\"\")","v":""},null,null,null,null,null,null,null,null,{"$f":"IF($C38=\"\",\"\", IF(DE38=1,0,IF(DC38<>0,500,CX38*$AE38/$AH38+CY38/$AH38*5+CZ38/$AH38*25+DA38*50+DB38*50)))","v":""},null,{"$f":"IF(C38<>\"\",C38,\"\")","v":""},null,null,null,null,null,null,null,null,{"$f":"IF($C38=\"\",\"\", IF(DP38=1,0,IF(DN38<>0,500,DI38*$AE38/$AH38+DJ38/$AH38*5+DK38/$AH38*25+DL38*50+DM38*50)))","v":""},null,{"$f":"IF(C38<>\"\",C38,\"\")","v":""},null,null,null,null,null,null,null,null,{"$f":"IF($C38=\"\",\"\", IF(EA38=1,0,IF(DY38<>0,500,DT38*$AE38/$AH38+DU38/$AH38*5+DV38/$AH38*25+DW38*50+DX38*50)))","v":""},null,{"$f":"IF(C38<>\"\",C38,\"\")","v":""},null,null,null,null,null,null,null,null,{"$f":"IF($C38=\"\",\"\", IF(EL38=1,0,IF(EJ38<>0,500,EE38*$AE38/$AH38+EF38/$AH38*5+EG38/$AH38*25+EH38*50+EI38*50)))","v":""},null,{"$f":"IF(C38<>\"\",C38,\"\")","v":""},null,null,null,null,null,null,null,null,{"$f":"IF($C38=\"\",\"\", IF(EW38=1,0,IF(EU38<>0,500,EP38*$AE38/$AH38+EQ38/$AH38*5+ER38/$AH38*25+ES38*50+ET38*50)))","v":""},null,{"$f":"IF(C38<>\"\",C38,\"\")","v":""},null,null,null,null,null,null,null,null,{"$f":"IF($C38=\"\",\"\", IF(FH38=1,0,IF(FF38<>0,500,FA38*$AE38/$AH38+FB38/$AH38*5+FC38/$AH38*25+FD38*50+FE38*50)))","v":""},null,{"$f":"IF(C38<>\"\",C38,\"\")","v":""},null,null,null,null,null,null,null,null,{"$f":"IF($C38=\"\",\"\", IF(FS38=1,0,IF(FQ38<>0,500,FL38*$AE38/$AH38+FM38/$AH38*5+FN38/$AH38*25+FO38*50+FP38*50)))","v":""},null,{"$f":"IF(C38<>\"\",C38,\"\")","v":""},null,null,null,null,null,null,null,null,{"$f":"IF($C38=\"\",\"\", IF(GD38=1,0,IF(GB38<>0,500,FW38*$AE38/$AH38+FX38/$AH38*5+FY38/$AH38*25+FZ38*50+GA38*50)))","v":""},null,{"$f":"IF(C38<>\"\",C38,\"\")","v":""},null,null,null,null,null,null,null,null,{"$f":"IF($C38=\"\",\"\", IF(GO38=1,0,IF(GM38<>0,500,GH38*$AE38/$AH38+GI38/$AH38*5+GJ38/$AH38*25+GK38*50+GL38*50)))","v":""},null,{"$f":"IF(C38<>\"\",C38,\"\")","v":""},null,null,null,null,null,null,null,null,{"$f":"IF($C38=\"\",\"\", IF(GZ38=1,0,IF(GX38<>0,500,GS38*$AE38/$AH38+GT38/$AH38*5+GU38/$AH38*25+GV38*50+GW38*50)))","v":""},null,{"$f":"IF(C38<>\"\",C38,\"\")","v":""},null,null,null,null,null,null,null,null,{"$f":"IF($C38=\"\",\"\", IF(HK38=1,0,IF(HI38<>0,500,HD38*$AE38/$AH38+HE38/$AH38*5+HF38/$AH38*25+HG38*50+HH38*50)))","v":""},null,{"$f":"IF(C38<>\"\",C38,\"\")","v":""},null,null,null,null,null,null,null,null,{"$f":"IF($C38=\"\",\"\", IF(HV38=1,0,IF(HT38<>0,500,HO38*$AE38/$AH38+HP38/$AH38*5+HQ38/$AH38*25+HR38*50+HS38*50)))","v":""},null,{"$f":"IF(C38<>\"\",C38,\"\")","v":""},null,null,null,null,null,null,null,null,{"$f":"IF($C38=\"\",\"\", IF(IG38=1,0,IF(IE38<>0,500,HZ38*$AE38/$AH38+IA38/$AH38*5+IB38/$AH38*25+IC38*50+ID38*50)))","v":""}]
[null,{"$f":"IF(C39=0,\"\",ROW(C39)-4)","v":""},null,null,null,null,null,{"$f":"IF(C39=0,\"\",IF(OR(BB39=1,BC39<>0),BC39,\"-\"))","v":""},{"$f":"IF(C39=0,\"\",IF(OR(BM39=1,BN39<>0),BN39,\"-\"))","v":""},{"$f":"IF(C39=0,\"\",IF(OR(BX39=1,BY39<>0),BY39,\" -\"))","v":""},{"$f":"IF(C39=0,\"\",IF(OR(CJ39<>0,CI39=1),CJ39,\" -\"))","v":""},{"$f":"IF(C39=0,\"\",IF(OR(CU39<>0,CT39=1),CU39,\" -\"))","v":""},{"$f":"IF(C39=0,\"\",IF(OR(DF39<>0,DE39=1),DF39,\" -\"))","v":""},{"$f":"IF(C39=0,\"\",IF(OR(DQ39<>0,DP39=1),DQ39,\" -\"))","v":""},{"$f":"IF(C39=0,\"\",IF(OR(EB39<>0,EA39=1),EB39,\" -\"))","v":""},{"$f":"IF(C39=0,\"\",IF(OR(EM39<>0,EL39=1),EM39,\" -\"))","v":""},{"$f":"IF(C39=0,\"\",IF(OR(EX39<>0,EW39=1),EX39,\" -\"))","v":""},{"$f":"IF(C39=0,\"\",IF(OR(FI39<>0,FH39=1),FI39,\" -\"))","v":""},{"$f":"IF(C39=0,\"\",IF(OR(FT39<>0,FS39=1),FT39,\" -\"))","v":""},{"$f":"IF(C39=0,\"\",IF(OR(GE39<>0,GD39=1),GE39,\" -\"))","v":""},{"$f":"IF(C39=0,\"\",IF(OR(GP39<>0,GO39=1),GP39,\" -\"))","v":""},{"$f":"IF(C39=0,\"\",IF(OR(HA39<>0,GZ39=1),HA39,\" -\"))","v":""},{"$f":"IF(C39=0,\"\",IF(OR(HL39<>0,HK39=1),HL39,\" -\"))","v":""},{"$f":"IF(C39=0,\"\",IF(AJ39<>0,AJ39,\" -\"))","v":""},{"$f":"IF(C39=0,\"\",IF(OR(HW39<>0,HV39=1),HW39,\" -\"))","v":""},{"$f":"IF(C39=0,\"\",IF(OR(IH39<>0,IG39=1),IH39,\" -\"))","v":""},{"$f":"IF(C39=0,\"\",IF(AL39=1,\"DNF\",IF(AL39=2,\"DSQ\",IF(AM39<>1,\"~ \"&ROUND(SUM(H39:X39),3),ROUND(SUM(H39:X39),3)))))","v":""},null,null,{"$f":"IF(C39<>\"\",C39,\"\")","v":""},{"$f":"IF(AD39<>\"\",3,\"\")","v":""},null,null,{"$f":"IF(AD39<>\"\",(AF39/1000*AG39/1000)/2,\"\")","v":""},null,null,null,null,null,null,null,{"$f":"IF(C39=0,99999,IF(AL39>0,9999,SUM(H39:X39)-AN39))","v":99999},{"$f":"IF(C39=0,99999,IF(AL39=1,9999,SUM(Y39:Z39)))","v":99999},null,null,{"$f":"IF(C39<>\"\",C39,\"\")","v":""},null,null,null,null,null,null,null,null,{"$f":"IF($C39=\"\",\"\", IF(BB39=1,0,IF(AZ39<>0,500,AU39*$AE39/$AH39+AV39/$AH39*5+AW39/$AH39*25+AX39*50+AY39*50)))","v":""},null,{"$f":"IF(C39<>\"\",C39,\"\")","v":""},null,null,null,null,null,null,null,null,{"$f":"IF($C39=\"\",\"\", IF(BM39=1,0,IF(BK39<>0,500,BF39*$AE39/$AH39+BG39/$AH39*5+BH39/$AH39*25+BI39*50+BJ39*50)))","v":""},null,{"$f":"IF(C39<>\"\",C39,\"\")","v":""},null,null,null,null,null,null,null,null,{"$f":"IF($C39=\"\",\"\", IF(BX39=1,0,IF(BV39<>0,500,BQ39*$AE39/$AH39+BR39/$AH39*5+BS39/$AH39*25+BT39*50+BU39*50)))","v":""},null,{"$f":"IF(C39<>\"\",C39,\"\")","v":""},null,null,null,null,null,null,null,null,{"$f":"IF($C39=\"\",\"\", IF(CI39=1,0,IF(CG39<>0,500,CB39*$AE39/$AH39+CC39/$AH39*5+CD39/$AH39*25+CE39*50+CF39*50)))","v":""},null,{"$f":"IF(C39<>\"\",C39,\"\")","v":""},null,null,null,null,null,null,null,null,{"$f":"IF($C39=\"\",\"\", IF(CT39=1,0,IF(CR39<>0,500,CM39*$AE39/$AH39+CN39/$AH39*5+CO39/$AH39*25+CP39*50+CQ39*50)))","v":""},null,{"$f":"IF(C39<>\"\",C39,\"\")","v":""},null,null,null,null,null,null,null,null,{"$f":"IF($C39=\"\",\"\", IF(DE39=1,0,IF(DC39<>0,500,CX39*$AE39/$AH39+CY39/$AH39*5+CZ39/$AH39*25+DA39*50+DB39*50)))","v":""},null,{"$f":"IF(C39<>\"\",C39,\"\")","v":""},null,null,null,null,null,null,null,null,{"$f":"IF($C39=\"\",\"\", IF(DP39=1,0,IF(DN39<>0,500,DI39*$AE39/$AH39+DJ39/$AH39*5+DK39/$AH39*25+DL39*50+DM39*50)))","v":""},null,{"$f":"IF(C39<>\"\",C39,\"\")","v":""},null,null,null,null,null,null,null,null,{"$f":"IF($C39=\"\",\"\", IF(EA39=1,0,IF(DY39<>0,500,DT39*$AE39/$AH39+DU39/$AH39*5+DV39/$AH39*25+DW39*50+DX39*50)))","v":""},null,{"$f":"IF(C39<>\"\",C39,\"\")","v":""},null,null,null,null,null,null,null,null,{"$f":"IF($C39=\"\",\"\", IF(EL39=1,0,IF(EJ39<>0,500,EE39*$AE39/$AH39+EF39/$AH39*5+EG39/$AH39*25+EH39*50+EI39*50)))","v":""},null,{"$f":"IF(C39<>\"\",C39,\"\")","v":""},null,null,null,null,null,null,null,null,{"$f":"IF($C39=\"\",\"\", IF(EW39=1,0,IF(EU39<>0,500,EP39*$AE39/$AH39+EQ39/$AH39*5+ER39/$AH39*25+ES39*50+ET39*50)))","v":""},null,{"$f":"IF(C39<>\"\",C39,\"\")","v":""},null,null,null,null,null,null,null,null,{"$f":"IF($C39=\"\",\"\", IF(FH39=1,0,IF(FF39<>0,500,FA39*$AE39/$AH39+FB39/$AH39*5+FC39/$AH39*25+FD39*50+FE39*50)))","v":""},null,{"$f":"IF(C39<>\"\",C39,\"\")","v":""},null,null,null,null,null,null,null,null,{"$f":"IF($C39=\"\",\"\", IF(FS39=1,0,IF(FQ39<>0,500,FL39*$AE39/$AH39+FM39/$AH39*5+FN39/$AH39*25+FO39*50+FP39*50)))","v":""},null,{"$f":"IF(C39<>\"\",C39,\"\")","v":""},null,null,null,null,null,null,null,null,{"$f":"IF($C39=\"\",\"\", IF(GD39=1,0,IF(GB39<>0,500,FW39*$AE39/$AH39+FX39/$AH39*5+FY39/$AH39*25+FZ39*50+GA39*50)))","v":""},null,{"$f":"IF(C39<>\"\",C39,\"\")","v":""},null,null,null,null,null,null,null,null,{"$f":"IF($C39=\"\",\"\", IF(GO39=1,0,IF(GM39<>0,500,GH39*$AE39/$AH39+GI39/$AH39*5+GJ39/$AH39*25+GK39*50+GL39*50)))","v":""},null,{"$f":"IF(C39<>\"\",C39,\"\")","v":""},null,null,null,null,null,null,null,null,{"$f":"IF($C39=\"\",\"\", IF(GZ39=1,0,IF(GX39<>0,500,GS39*$AE39/$AH39+GT39/$AH39*5+GU39/$AH39*25+GV39*50+GW39*50)))","v":""},null,{"$f":"IF(C39<>\"\",C39,\"\")","v":""},null,null,null,null,null,null,null,null,{"$f":"IF($C39=\"\",\"\", IF(HK39=1,0,IF(HI39<>0,500,HD39*$AE39/$AH39+HE39/$AH39*5+HF39/$AH39*25+HG39*50+HH39*50)))","v":""},null,{"$f":"IF(C39<>\"\",C39,\"\")","v":""},null,null,null,null,null,null,null,null,{"$f":"IF($C39=\"\",\"\", IF(HV39=1,0,IF(HT39<>0,500,HO39*$AE39/$AH39+HP39/$AH39*5+HQ39/$AH39*25+HR39*50+HS39*50)))","v":""},null,{"$f":"IF(C39<>\"\",C39,\"\")","v":""},null,null,null,null,null,null,null,null,{"$f":"IF($C39=\"\",\"\", IF(IG39=1,0,IF(IE39<>0,500,HZ39*$AE39/$AH39+IA39/$AH39*5+IB39/$AH39*25+IC39*50+ID39*50)))","v":""}]
[]
[]
[]
[null,null,null,null,null," "]

{"sheet":"Pro-Modified","index":4,"n_rows":43,"n_cols":242,"rows_kept":43,"cut":false,"hidden":false,"merged":[[0,21,0,26]]}
[null,{"$f":"Settings!C2","v":"Eurotrial Finland 2025 : 18-20.7.2025 - Results"},null,null,null,null,null,null,null,null,null,null,null,null,null,null,null,null,null,null,null,{"$f":"NOW()","v":"2025-07-20T20:32:14.320"},null,null,null,null,null,null,null,{"$f":"B1","v":"Eurotrial Finland 2025 : 18-20.7.2025 - Results"},null,null,null,null,null,null,null,null,null,null,null,null,null,null,null,{"$f":"B1","v":"Eurotrial Finland 2025 : 18-20.7.2025 - Results"},null,null,null,null,null,null,null,null,null,null,{"$f":"B1","v":"Eurotrial Finland 2025 : 18-20.7.2025 - Results"},null,null,null,null,null,null,null,null,null,null,{"$f":"B1","v":"Eurotrial Finland 2025 : 18-20.7.2025 - Results"},null,null,null,null,null,null,null,null,null,null,{"$f":"B1","v":"Eurotrial Finland 2025 : 18-20.7.2025 - Results"},null,null,null,null,null,null,null,null,null,null,{"$f":"B1","v":"Eurotrial Finland 2025 : 18-20.7.2025 - Results"},null,null,null,null,null,null,null,null,null,null,{"$f":"B1","v":"Eurotrial Finland 2025 : 18-20.7.2025 - Results"},null,null,null,null,null,null,null,null,null,null,{"$f":"B1","v":"Eurotrial Finland 2025 : 18-20.7.2025 - Results"},null,null,null,null,null,null,null,null,null,null,{"$f":"B1","v":"Eurotrial Finland 2025 : 18-20.7.2025 - Results"},null,null,null,null,null,null,null,null,null,null,{"$f":"B1","v":"Eurotrial Finland 2025 : 18-20.7.2025 - Results"},null,null,null,null,null,null,null,null,null,null,{"$f":"B1","v":"Eurotrial Finland 2025 : 18-20.7.2025 - Results"},null,null,null,null,null,null,null,null,null,null,{"$f":"B1","v":"Eurotrial Finland 2025 : 18-20.7.2025 - Results"},null,null,null,null,null,null,null,null,null,null,{"$f":"B1","v":"Eurotrial Finland 2025 : 18-20.7.2025 - Results"},null,null,null,null,null,null,null,null,null,null,{"$f":"B1","v":"Eurotrial Finland 2025 : 18-20.7.2025 - Results"},null,null,null,null,null,null,null,null,null,null,{"$f":"B1","v":"Eurotrial Finland 2025 : 18-20.7.2025 - Results"},null,null,null,null,null,null,null,null,null,null,{"$f":"B1","v":"Eurotrial Finland 2025 : 18-20.7.2025 - Results"},null,null,null,null,null,null,null,null,null,null,{"$f":"B1","v":"Eurotrial Finland 2025 : 18-20.7.2025 - Results"},null,null,null,null,null,null,null,null,null,null,{"$f":"B1","v":"Eurotrial Finland 2025 : 18-20.7.2025 - Results"},null,null,null,null,null,null,null,null,null,null,{"$f":"B1","v":"Eurotrial Finland 2025 : 18-20.7.2025 - Results"}]
[null,"Class: Pro-Modified",null,null,null,null,null,null,null,null,null,null,null,null,null,null,null,null,null,null,null,null,null,null,null,null,null,null,null,{"$f":"B2","v":"Class: Pro-Modified"},null,null,null,null,null,null,null,null,null,null,null,null,null,null,null,{"$f":"B2","v":"Class: Pro-Modified"},null,null,null,null,null,null,null,null,{"$f":"AT3","v":"Section L1"},null,{"$f":"B2","v":"Class: Pro-Modified"},null,null,null,null,null,null,null,null,{"$f":"BE3","v":"Section L3"},null,{"$f":"B2","v":"Class: Pro-Modified"},null,null,null,null,null,null,null,null,{"$f":"BP3","v":"Section L4"},null,{"$f":"B2","v":"Class: Pro-Modified"},null,null,null,null,null,null,null,null,{"$f":"CA3","v":"Section L6"},null,{"$f":"B2","v":"Class: Pro-Modified"},null,null,null,null,null,null,null,null,{"$f":"CL3","v":"Section L7"},null,{"$f":"B2","v":"Class: Pro-Modified"},null,null,null,null,null,null,null,null,{"$f":"CW3","v":"Section L8"},null,{"$f":"B2","v":"Class: Pro-Modified"},null,null,null,null,null,null,null,null,{"$f":"DH3","v":"Section L9"},null,{"$f":"B2","v":"Class: Pro-Modified"},null,null,null,null,null,null,null,null,{"$f":"DS3","v":"Section L10"},null,{"$f":"B2","v":"Class: Pro-Modified"},null,null,null,null,null,null,null,null,{"$f":"ED3","v":"Section S1"},null,{"$f":"B2","v":"Class: Pro-Modified"},null,null,null,null,null,null,null,null,{"$f":"EO3","v":"Section S3"},null,{"$f":"B2","v":"Class: Pro-Modified"},null,null,null,null,null,null,null,null,{"$f":"EZ3","v":"Section S4"},null,{"$f":"B2","v":"Class: Pro-Modified"},null,null,null,null,null,null,null,null,{"$f":"FK3","v":"Section S6"},null,{"$f":"B2","v":"Class: Pro-Modified"},null,null,null,null,null,null,null,null,{"$f":"FV3","v":"Section S7"},null,{"$f":"B2","v":"Class: Pro-Modified"},null,null,null,null,null,null,null,null,{"$f":"GG3","v":"Section S8"},null,{"$f":"B2","v":"Class: Pro-Modified"},null,null,null,null,null,null,null,null,{"$f":"GR3","v":"Section S9"},null,{"$f":"B2","v":"Class: Pro-Modified"},null,null,null,null,null,null,null,null,{"$f":"HC3","v":"Section S10"},null,{"$f":"B2","v":"Class: Pro-Modified"},null,null,null,null,null,null,null,null,{"$f":"HN3","v":"Run-off section 1"},null,{"$f":"B2","v":"Class: Pro-Modified"},null,null,null,null,null,null,null,null,{"$f":"HY3","v":"Run-off section 2"}]
[null,null,null,null,null,null,null,null,null,null,null,null,null,null,null,null,null,null,null,null,null,null,null,null,null,null,null,null,null,null,null,null,null,null,null,null,null,null,null,null,null,"Helper columns for ordering",null,null,null,"Section L1",null,{"$f":"AT3","v":"Section L1"},null,{"$f":"AT3","v":"Section L1"},null,{"$f":"AT3","v":"Section L1"},null,{"$f":"AT3","v":"Section L1"},null,null,"Section L3",null,{"$f":"BE3","v":"Section L3"},null,{"$f":"BE3","v":"Section L3"},null,{"$f":"BE3","v":"Section L3"},null,{"$f":"BE3","v":"Section L3"},null,null,"Section L4",null,{"$f":"BP3","v":"Section L4"},null,{"$f":"BP3","v":"Section L4"},null,{"$f":"BP3","v":"Section L4"},null,{"$f":"BP3","v":"Section L4"},null,null,"Section L6",null,{"$f":"CA3","v":"Section L6"},null,{"$f":"CA3","v":"Section L6"},null,{"$f":"CA3","v":"Section L6"},null,{"$f":"CA3","v":"Section L6"},null,null,"Section L7",null,{"$f":"CL3","v":"Section L7"},null,{"$f":"CL3","v":"Section L7"},null,{"$f":"CL3","v":"Section L7"},null,{"$f":"CL3","v":"Section L7"},null,null,"Section L8",null,{"$f":"CW3","v":"Section L8"},null,{"$f":"CW3","v":"Section L8"},null,{"$f":"CW3","v":"Section L8"},null,{"$f":"CW3","v":"Section L8"},null,null,"Section L9",null,{"$f":"DH3","v":"Section L9"},null,{"$f":"DH3","v":"Section L9"},null,{"$f":"DH3","v":"Section L9"},null,{"$f":"DH3","v":"Section L9"},null,null,"Section L10",null,{"$f":"DS3","v":"Section L10"},null,{"$f":"DS3","v":"Section L10"},null,{"$f":"DS3","v":"Section L10"},null,{"$f":"DS3","v":"Section L10"},null,null,"Section S1",null,{"$f":"ED3","v":"Section S1"},null,{"$f":"ED3","v":"Section S1"},null,{"$f":"ED3","v":"Section S1"},null,{"$f":"ED3","v":"Section S1"},null,null,"Section S3",null,{"$f":"EO3","v":"Section S3"},null,{"$f":"EO3","v":"Section S3"},null,{"$f":"EO3","v":"Section S3"},null,{"$f":"EO3","v":"Section S3"},null,null,"Section S4",null,{"$f":"EZ3","v":"Section S4"},null,{"$f":"EZ3","v":"Section S4"},null,{"$f":"EZ3","v":"Section S4"},null,{"$f":"EZ3","v":"Section S4"},null,null,"Section S6",null,{"$f":"FK3","v":"Section S6"},null,{"$f":"FK3","v":"Section S6"},null,{"$f":"FK3","v":"Section S6"},null,{"$f":"FK3","v":"Section S6"},null,null,"Section S7",null,{"$f":"FV3","v":"Section S7"},null,{"$f":"FV3","v":"Section S7"},null,{"$f":"FV3","v":"Section S7"},null,{"$f":"FV3","v":"Section S7"},null,null,"Section S8",null,{"$f":"GG3","v":"Section S8"},null,{"$f":"GG3","v":"Section S8"},null,{"$f":"GG3","v":"Section S8"},null,{"$f":"GG3","v":"Section S8"},null,null,"Section S9",null,{"$f":"GR3","v":"Section S9"},null,{"$f":"GR3","v":"Section S9"},null,{"$f":"GR3","v":"Section S9"},null,{"$f":"GR3","v":"Section S9"},null,null,"Section S10",null,{"$f":"HC3","v":"Section S10"},null,{"$f":"HC3","v":"Section S10"},null,{"$f":"HC3","v":"Section S10"},null,{"$f":"HC3","v":"Section S10"},null,null,"Run-off section 1",null,"Run-off section 1",null,"Run-off section 1",null,"Run-off section 1",null,"Run-off section 1",null,null,"Run-off section 2",null,"Run-off section 2",null,"Run-off section 2",null,"Run-off section 2",null,"Run-off section 2"]
[null,"Pos.","Race #"," Team","Car","Driver","Co-Driver","L1","L3","L4","L6","L7","L8","L9","L10","S1","S3","S4","S6","S7","S8","S9","S10","Extra penalty","Run-off 1","Run-off 2","Total",null,null,"Race #","Car base reverse points","Car width (mm)","Car wheelbase (mm)","\"Magic Number\" ","Traditional reverse points","Extra penalty","Extra penalty reason","DNF = 1 DSQ = 2","Ended race (1 if ok)","Order change (1 = go higher)",null,"Result points, do not change","Run-off points do not change",null,null,"Race #","Reverse","Touching / Driving under (5)","Broken post / stick (25)","Not Passed Gate (50)","Section not completed (50)","Not driven section (500)","Comment","Clean (1 = ok)","Total",null,"Race #","Reverse","Touching / Driving under (5)","Broken post / stick (25)","Not Passed Gate (50)","Section not completed (50)","Not driven section (500)","Comment","Clean (1 = ok)","Total",null,"Race #","Reverse","Touching / Driving under (5)","Broken post / stick (25)","Not Passed Gate (50)","Section not completed (50)","Not driven section (500)","Comment","Clean (1 = ok)","Total",null,"Race #","Reverse","Touching / Driving under (5)","Broken post / stick (25)","Not Passed Gate (50)","Section not completed (50)","Not driven section (500)","Comment","Clean (1 = ok)","Total",null,"Race #","Reverse","Touching / Driving under (5)","Broken post / stick (25)","Not Passed Gate (50)","Section not completed (50)","Not driven section (500)","Comment","Clean (1 = ok)","Total",null,"Race #","Reverse","Touching / Driving under (5)","Broken post / stick (25)","Not Passed Gate (50)","Section not completed (50)","Not driven section (500)","Comment","Clean (1 = ok)","Total",null,"Race #","Reverse","Touching / Driving under (5)","Broken post / stick (25)","Not Passed Gate (50)","Section not completed (50)","Not driven section (500)","Comment","Clean (1 = ok)","Total",null,"Race #","Reverse","Touching / Driving under (5)","Broken post / stick (25)","Not Passed Gate (50)","Section not completed (50)","Not driven section (500)","Comment","Clean (1 = ok)","Total",null,"Race #","Reverse","Touching / Driving under (5)","Broken post / stick (25)","Not Passed Gate (50)","Section not completed (50)","Not driven section (500)","Comment","Clean (1 = ok)","Total",null,"Race #","Reverse","Touching / Driving under (5)","Broken post / stick (25)","Not Passed Gate (50)","Section not completed (50)","Not driven section (500)","Comment","Clean (1 = ok)","Total",null,"Race #","Reverse","Touching / Driving under (5)","Broken post / stick (25)","Not Passed Gate (50)","Section not completed (50)","Not driven section (500)","Comment","Clean (1 = ok)","Total",null,"Race #","Reverse","Touching / Driving under (5)","Broken post / stick (25)","Not Passed Gate (50)","Section not completed (50)","Not driven section (500)","Comment","Clean (1 = ok)","Total",null,"Race #","Reverse","Touching / Driving under (5)","Broken post / stick (25)","Not Passed Gate (50)","Section not completed (50)","Not driven section (500)","Comment","Clean (1 = ok)","Total",null,"Race #","Reverse","Touching / Driving under (5)","Broken post / stick (25)","Not Passed Gate (50)","Section not completed (50)","Not driven section (500)","Comment","Clean (1 = ok)","Total",null,"Race #","Reverse","Touching / Driving under (5)","Broken post / stick (25)","Not Passed Gate (50)","Section not completed (50)","Not driven section (500)","Comment","Clean (1 = ok)","Total",null,"Race #","Reverse","Touching / Driving under (5)","Broken post / stick (25)","Not Passed Gate (50)","Section not completed (50)","Not driven section (500)","Comment","Clean (1 = ok)","Total",null,"Race #","Reverse","Touching / Driving under (5)","Broken post / stick (25)","Not Passed Gate (50)","Section not completed (50)","Not driven section (500)","Comment","Clean (1 = ok)","Total",null,"Race #","Reverse","Touching / Driving under (5)","Broken post / stick (25)","Not Passed Gate (50)","Section not completed (50)","Not driven section (500)","Comment","Clean (1 = ok)","Total"]
[null,{"$f":"IF(C5=0,\"\",ROW(C5)-4)","v":1},413,"Norway","ProMod Buggy","Brynjar Eriksen","Peter Skelcher",{"$f":"IF(C5=0,\"\",IF(OR(BB5=1,BC5<>0),BC5,\"-\"))","v":0},{"$f":"IF(C5=0,\"\",IF(OR(BM5=1,BN5<>0),BN5,\"-\"))","v":0},{"$f":"IF(C5=0,\"\",IF(OR(BX5=1,BY5<>0),BY5,\" -\"))","v":5},{"$f":"IF(C5=0,\"\",IF(OR(CJ5<>0,CI5=1),CJ5,\" -\"))","v":0},{"$f":"IF(C5=0,\"\",IF(OR(CU5<>0,CT5=1),CU5,\" -\"))","v":30},{"$f":"IF(C5=0,\"\",IF(OR(DF5<>0,DE5=1),DF5,\" -\"))","v":0},{"$f":"IF(C5=0,\"\",IF(OR(DQ5<>0,DP5=1),DQ5,\" -\"))","v":25},{"$f":"IF(C5=0,\"\",IF(OR(EB5<>0,EA5=1),EB5,\" -\"))","v":6},{"$f":"IF(C5=0,\"\",IF(OR(EM5<>0,EL5=1),EM5,\" -\"))","v":11},{"$f":"IF(C5=0,\"\",IF(OR(EX5<>0,EW5=1),EX5,\" -\"))","v":3},{"$f":"IF(C5=0,\"\",IF(OR(FI5<>0,FH5=1),FI5,\" -\"))","v":3},{"$f":"IF(C5=0,\"\",IF(OR(FT5<>0,FS5=1),FT5,\" -\"))","v":5},{"$f":"IF(C5=0,\"\",IF(OR(GE5<>0,GD5=1),GE5,\" -\"))","v":18},{"$f":"IF(C5=0,\"\",IF(OR(GP5<>0,GO5=1),GP5,\" -\"))","v":25},{"$f":"IF(C5=0,\"\",IF(OR(HA5<>0,GZ5=1),HA5,\" -\"))","v":5},{"$f":"IF(C5=0,\"\",IF(OR(HL5<>0,HK5=1),HL5,\" -\"))","v":8},{"$f":"IF(C5=0,\"\",IF(AJ5<>0,AJ5,\" -\"))","v":" -"},{"$f":"IF(C5=0,\"\",IF(OR(HW5<>0,HV5=1),HW5,\" -\"))","v":" -"},{"$f":"IF(C5=0,\"\",IF(OR(IH5<>0,IG5=1),IH5,\" -\"))","v":" -"},{"$f":"IF(C5=0,\"\",IF(AL5=1,\"DNF\",IF(AL5=2,\"DSQ\",IF(AM5<>1,\"~ \"&ROUND(SUM(H5:X5),3),ROUND(SUM(H5:X5),3)))))","v":144},null,null,{"$f":"IF(C5<>\"\",C5,\"\")","v":413},{"$f":"IF(AD5<>\"\",3,\"\")","v":3},1000,2000,{"$f":"IF(AD5<>\"\",(AF5/1000*AG5/1000)/2,\"\")","v":1},3,null,null,null,1,null,null,{"$f":"IF(C5=0,99999,IF(AL5>0,9999,SUM(H5:X5)-AN5))","v":144},{"$f":"IF(C5=0,99999,IF(AL5=1,9999,SUM(Y5:Z5)))","v":0},null,null,{"$f":"IF(C5<>\"\",C5,\"\")","v":413},null,null,null,null,null,null,null,1,{"$f":"IF($C5=\"\",\"\", IF(BB5=1,0,IF(AZ5<>0,500,AU5*$AE5/$AH5+AV5/$AH5*5+AW5/$AH5*25+AX5*50+AY5*50)))","v":0},null,{"$f":"IF(C5<>\"\",C5,\"\")","v":413},null,null,null,null,null,null,null,1,{"$f":"IF($C5=\"\",\"\", IF(BM5=1,0,IF(BK5<>0,500,BF5*$AE5/$AH5+BG5/$AH5*5+BH5/$AH5*25+BI5*50+BJ5*50)))","v":0},null,{"$f":"IF(C5<>\"\",C5,\"\")","v":413},null,1,null,null,null,null,null,null,{"$f":"IF($C5=\"\",\"\", IF(BX5=1,0,IF(BV5<>0,500,BQ5*$AE5/$AH5+BR5/$AH5*5+BS5/$AH5*25+BT5*50+BU5*50)))","v":5},null,{"$f":"IF(C5<>\"\",C5,\"\")","v":413},null,null,null,null,null,null,null,1,{"$f":"IF($C5=\"\",\"\", IF(CI5=1,0,IF(CG5<>0,500,CB5*$AE5/$AH5+CC5/$AH5*5+CD5/$AH5*25+CE5*50+CF5*50)))","v":0},null,{"$f":"IF(C5<>\"\",C5,\"\")","v":413},null,1,1,null,null,null,null,null,{"$f":"IF($C5=\"\",\"\", IF(CT5=1,0,IF(CR5<>0,500,CM5*$AE5/$AH5+CN5/$AH5*5+CO5/$AH5*25+CP5*50+CQ5*50)))","v":30},null,{"$f":"IF(C5<>\"\",C5,\"\")","v":413},null,null,null,null,null,null,null,1,{"$f":"IF($C5=\"\",\"\", IF(DE5=1,0,IF(DC5<>0,500,CX5*$AE5/$AH5+CY5/$AH5*5+CZ5/$AH5*25+DA5*50+DB5*50)))","v":0},null,{"$f":"IF(C5<>\"\",C5,\"\")","v":413},null,null,1,null,null,null,null,null,{"$f":"IF($C5=\"\",\"\", IF(DP5=1,0,IF(DN5<>0,500,DI5*$AE5/$AH5+DJ5/$AH5*5+DK5/$AH5*25+DL5*50+DM5*50)))","v":25},null,{"$f":"IF(C5<>\"\",C5,\"\")","v":413},2,null,null,null,null,null,null,null,{"$f":"IF($C5=\"\",\"\", IF(EA5=1,0,IF(DY5<>0,500,DT5*$AE5/$AH5+DU5/$AH5*5+DV5/$AH5*25+DW5*50+DX5*50)))","v":6},null,{"$f":"IF(C5<>\"\",C5,\"\")","v":413},2,1,null,null,null,null,null,null,{"$f":"IF($C5=\"\",\"\", IF(EL5=1,0,IF(EJ5<>0,500,EE5*$AE5/$AH5+EF5/$AH5*5+EG5/$AH5*25+EH5*50+EI5*50)))","v":11},null,{"$f":"IF(C5<>\"\",C5,\"\")","v":413},1,null,null,null,null,null,null,null,{"$f":"IF($C5=\"\",\"\", IF(EW5=1,0,IF(EU5<>0,500,EP5*$AE5/$AH5+EQ5/$AH5*5+ER5/$AH5*25+ES5*50+ET5*50)))","v":3},null,{"$f":"IF(C5<>\"\",C5,\"\")","v":413},1,null,null,null,null,null,null,null,{"$f":"IF($C5=\"\",\"\", IF(FH5=1,0,IF(FF5<>0,500,FA5*$AE5/$AH5+FB5/$AH5*5+FC5/$AH5*25+FD5*50+FE5*50)))","v":3},null,{"$f":"IF(C5<>\"\",C5,\"\")","v":413},null,1,null,null,null,null,null,null,{"$f":"IF($C5=\"\",\"\", IF(FS5=1,0,IF(FQ5<>0,500,FL5*$AE5/$AH5+FM5/$AH5*5+FN5/$AH5*25+FO5*50+FP5*50)))","v":5},null,{"$f":"IF(C5<>\"\",C5,\"\")","v":413},1,3,null,null,null,null,null,null,{"$f":"IF($C5=\"\",\"\", IF(GD5=1,0,IF(GB5<>0,500,FW5*$AE5/$AH5+FX5/$AH5*5+FY5/$AH5*25+FZ5*50+GA5*50)))","v":18},null,{"$f":"IF(C5<>\"\",C5,\"\")","v":413},null,null,1,null,null,null,null,null,{"$f":"IF($C5=\"\",\"\", IF(GO5=1,0,IF(GM5<>0,500,GH5*$AE5/$AH5+GI5/$AH5*5+GJ5/$AH5*25+GK5*50+GL5*50)))","v":25},null,{"$f":"IF(C5<>\"\",C5,\"\")","v":413},null,1,null,null,null,null,null,null,{"$f":"IF($C5=\"\",\"\", IF(GZ5=1,0,IF(GX5<>0,500,GS5*$AE5/$AH5+GT5/$AH5*5+GU5/$AH5*25+GV5*50+GW5*50)))","v":5},null,{"$f":"IF(C5<>\"\",C5,\"\")","v":413},1,1,null,null,null,null,null,null,{"$f":"IF($C5=\"\",\"\", IF(HK5=1,0,IF(HI5<>0,500,HD5*$AE5/$AH5+HE5/$AH5*5+HF5/$AH5*25+HG5*50+HH5*50)))","v":8},null,{"$f":"IF(C5<>\"\",C5,\"\")","v":413},null,null,null,null,null,null,null,null,{"$f":"IF($C5=\"\",\"\", IF(HV5=1,0,IF(HT5<>0,500,HO5*$AE5/$AH5+HP5/$AH5*5+HQ5/$AH5*25+HR5*50+HS5*50)))","v":0},null,{"$f":"IF(C5<>\"\",C5,\"\")","v":413},null,null,null,null,null,null,null,null,{"$f":"IF($C5=\"\",\"\", IF(IG5=1,0,IF(IE5<>0,500,HZ5*$AE5/$AH5+IA5/$AH5*5+IB5/$AH5*25+IC5*50+ID5*50)))","v":0}]
[null,{"$f":"IF(C6=0,\"\",ROW(C6)-4)","v":2},402,"Germany","Pro Modi Nissan Patrol","Jacky Englemann","Annalena Stoppa",{"$f":"IF(C6=0,\"\",IF(OR(BB6=1,BC6<>0),BC6,\"-\"))","v":30},{"$f":"IF(C6=0,\"\",IF(OR(BM6=1,BN6<>0),BN6,\"-\"))","v":3},{"$f":"IF(C6=0,\"\",IF(OR(BX6=1,BY6<>0),BY6,\" -\"))","v":42},{"$f":"IF(C6=0,\"\",IF(OR(CJ6<>0,CI6=1),CJ6,\" -\"))","v":0},{"$f":"IF(C6=0,\"\",IF(OR(CU6<>0,CT6=1),CU6,\" -\"))","v":25},{"$f":"IF(C6=0,\"\",IF(OR(DF6<>0,DE6=1),DF6,\" -\"))","v":0},{"$f":"IF(C6=0,\"\",IF(OR(DQ6<>0,DP6=1),DQ6,\" -\"))","v":25},{"$f":"IF(C6=0,\"\",IF(OR(EB6<>0,EA6=1),EB6,\" -\"))","v":3},{"$f":"IF(C6=0,\"\",IF(OR(EM6<>0,EL6=1),EM6,\" -\"))","v":25},{"$f":"IF(C6=0,\"\",IF(OR(EX6<>0,EW6=1),EX6,\" -\"))","v":3},{"$f":"IF(C6=0,\"\",IF(OR(FI6<>0,FH6=1),FI6,\" -\"))","v":3},{"$f":"IF(C6=0,\"\",IF(OR(FT6<>0,FS6=1),FT6,\" -\"))","v":0},{"$f":"IF(C6=0,\"\",IF(OR(GE6<>0,GD6=1),GE6,\" -\"))","v":33},{"$f":"IF(C6=0,\"\",IF(OR(GP6<>0,GO6=1),GP6,\" -\"))","v":0},{"$f":"IF(C6=0,\"\",IF(OR(HA6<>0,GZ6=1),HA6,\" -\"))","v":0},{"$f":"IF(C6=0,\"\",IF(OR(HL6<>0,HK6=1),HL6,\" -\"))","v":0},{"$f":"IF(C6=0,\"\",IF(AJ6<>0,AJ6,\" -\"))","v":" -"},{"$f":"IF(C6=0,\"\",IF(OR(HW6<>0,HV6=1),HW6,\" -\"))","v":" -"},{"$f":"IF(C6=0,\"\",IF(OR(IH6<>0,IG6=1),IH6,\" -\"))","v":" -"},{"$f":"IF(C6=0,\"\",IF(AL6=1,\"DNF\",IF(AL6=2,\"DSQ\",IF(AM6<>1,\"~ \"&ROUND(SUM(H6:X6),3),ROUND(SUM(H6:X6),3)))))","v":192},null,null,{"$f":"IF(C6<>\"\",C6,\"\")","v":402},{"$f":"IF(AD6<>\"\",3,\"\")","v":3},1000,2000,{"$f":"IF(AD6<>\"\",(AF6/1000*AG6/1000)/2,\"\")","v":1},3,null,null,null,1,null,null,{"$f":"IF(C6=0,99999,IF(AL6>0,9999,SUM(H6:X6)-AN6))","v":192},{"$f":"IF(C6=0,99999,IF(AL6=1,9999,SUM(Y6:Z6)))","v":0},null,null,{"$f":"IF(C6<>\"\",C6,\"\")","v":402},null,1,1,null,null,null,null,null,{"$f":"IF($C6=\"\",\"\", IF(BB6=1,0,IF(AZ6<>0,500,AU6*$AE6/$AH6+AV6/$AH6*5+AW6/$AH6*25+AX6*50+AY6*50)))","v":30},null,{"$f":"IF(C6<>\"\",C6,\"\")","v":402},1,null,null,null,null,null,null,null,{"$f":"IF($C6=\"\",\"\", IF(BM6=1,0,IF(BK6<>0,500,BF6*$AE6/$AH6+BG6/$AH6*5+BH6/$AH6*25+BI6*50+BJ6*50)))","v":3},null,{"$f":"IF(C6<>\"\",C6,\"\")","v":402},4,1,1,null,null,null,null,null,{"$f":"IF($C6=\"\",\"\", IF(BX6=1,0,IF(BV6<>0,500,BQ6*$AE6/$AH6+BR6/$AH6*5+BS6/$AH6*25+BT6*50+BU6*50)))","v":42},null,{"$f":"IF(C6<>\"\",C6,\"\")","v":402},null,null,null,null,null,null,null,1,{"$f":"IF($C6=\"\",\"\", IF(CI6=1,0,IF(CG6<>0,500,CB6*$AE6/$AH6+CC6/$AH6*5+CD6/$AH6*25+CE6*50+CF6*50)))","v":0},null,{"$f":"IF(C6<>\"\",C6,\"\")","v":402},null,null,1,null,null,null,null,null,{"$f":"IF($C6=\"\",\"\", IF(CT6=1,0,IF(CR6<>0,500,CM6*$AE6/$AH6+CN6/$AH6*5+CO6/$AH6*25+CP6*50+CQ6*50)))","v":25},null,{"$f":"IF(C6<>\"\",C6,\"\")","v":402},null,null,null,null,null,null,null,1,{"$f":"IF($C6=\"\",\"\", IF(DE6=1,0,IF(DC6<>0,500,CX6*$AE6/$AH6+CY6/$AH6*5+CZ6/$AH6*25+DA6*50+DB6*50)))","v":0},null,{"$f":"IF(C6<>\"\",C6,\"\")","v":402},null,null,1,null,null,null,null,null,{"$f":"IF($C6=\"\",\"\", IF(DP6=1,0,IF(DN6<>0,500,DI6*$AE6/$AH6+DJ6/$AH6*5+DK6/$AH6*25+DL6*50+DM6*50)))","v":25},null,{"$f":"IF(C6<>\"\",C6,\"\")","v":402},1,null,null,null,null,null,null,null,{"$f":"IF($C6=\"\",\"\", IF(EA6=1,0,IF(DY6<>0,500,DT6*$AE6/$AH6+DU6/$AH6*5+DV6/$AH6*25+DW6*50+DX6*50)))","v":3},null,{"$f":"IF(C6<>\"\",C6,\"\")","v":402},null,null,1,null,null,null,null,null,{"$f":"IF($C6=\"\",\"\", IF(EL6=1,0,IF(EJ6<>0,500,EE6*$AE6/$AH6+EF6/$AH6*5+EG6/$AH6*25+EH6*50+EI6*50)))","v":25},null,{"$f":"IF(C6<>\"\",C6,\"\")","v":402},1,null,null,null,null,null,null,null,{"$f":"IF($C6=\"\",\"\", IF(EW6=1,0,IF(EU6<>0,500,EP6*$AE6/$AH6+EQ6/$AH6*5+ER6/$AH6*25+ES6*50+ET6*50)))","v":3},null,{"$f":"IF(C6<>\"\",C6,\"\")","v":402},1,null,null,null,null,null,null,null,{"$f":"IF($C6=\"\",\"\", IF(FH6=1,0,IF(FF6<>0,500,FA6*$AE6/$AH6+FB6/$AH6*5+FC6/$AH6*25+FD6*50+FE6*50)))","v":3},null,{"$f":"IF(C6<>\"\",C6,\"\")","v":402},null,null,null,null,null,null,null,1,{"$f":"IF($C6=\"\",\"\", IF(FS6=1,0,IF(FQ6<>0,500,FL6*$AE6/$AH6+FM6/$AH6*5+FN6/$AH6*25+FO6*50+FP6*50)))","v":0},null,{"$f":"IF(C6<>\"\",C6,\"\")","v":402},1,1,1,null,null,null,null,null,{"$f":"IF($C6=\"\",\"\", IF(GD6=1,0,IF(GB6<>0,500,FW6*$AE6/$AH6+FX6/$AH6*5+FY6/$AH6*25+FZ6*50+GA6*50)))","v":33},null,{"$f":"IF(C6<>\"\",C6,\"\")","v":402},null,null,null,null,null,null,null,1,{"$f":"IF($C6=\"\",\"\", IF(GO6=1,0,IF(GM6<>0,500,GH6*$AE6/$AH6+GI6/$AH6*5+GJ6/$AH6*25+GK6*50+GL6*50)))","v":0},null,{"$f":"IF(C6<>\"\",C6,\"\")","v":402},null,null,null,null,null,null,null,1,{"$f":"IF($C6=\"\",\"\", IF(GZ6=1,0,IF(GX6<>0,500,GS6*$AE6/$AH6+GT6/$AH6*5+GU6/$AH6*25+GV6*50+GW6*50)))","v":0},null,{"$f":"IF(C6<>\"\",C6,\"\")","v":402},null,null,null,null,null,null,null,1,{"$f":"IF($C6=\"\",\"\", IF(HK6=1,0,IF(HI6<>0,500,HD6*$AE6/$AH6+HE6/$AH6*5+HF6/$AH6*25+HG6*50+HH6*50)))","v":0},null,{"$f":"IF(C6<>\"\",C6,\"\")","v":402},null,null,null,null,null,null,null,null,{"$f":"IF($C6=\"\",\"\", IF(HV6=1,0,IF(HT6<>0,500,HO6*$AE6/$AH6+HP6/$AH6*5+HQ6/$AH6*25+HR6*50+HS6*50)))","v":0},null,{"$f":"IF(C6<>\"\",C6,\"\")","v":402},null,null,null,null,null,null,null,null,{"$f":"IF($C6=\"\",\"\", IF(IG6=1,0,IF(IE6<>0,500,HZ6*$AE6/$AH6+IA6/$AH6*5+IB6/$AH6*25+IC6*50+ID6*50)))","v":0}]
[null,{"$f":"IF(C7=0,\"\",ROW(C7)-4)","v":3},401,"San Marino","Jeep","Davide Carattoni","Lorenzo Cevenini",{"$f":"IF(C7=0,\"\",IF(OR(BB7=1,BC7<>0),BC7,\"-\"))","v":0},{"$f":"IF(C7=0,\"\",IF(OR(BM7=1,BN7<>0),BN7,\"-\"))","v":78},{"$f":"IF(C7=0,\"\",IF(OR(BX7=1,BY7<>0),BY7,\" -\"))","v":3},{"$f":"IF(C7=0,\"\",IF(OR(CJ7<>0,CI7=1),CJ7,\" -\"))","v":0},{"$f":"IF(C7=0,\"\",IF(OR(CU7<>0,CT7=1),CU7,\" -\"))","v":61},{"$f":"IF(C7=0,\"\",IF(OR(DF7<>0,DE7=1),DF7,\" -\"))","v":0},{"$f":"IF(C7=0,\"\",IF(OR(DQ7<>0,DP7=1),DQ7,\" -\"))","v":0},{"$f":"IF(C7=0,\"\",IF(OR(EB7<>0,EA7=1),EB7,\" -\"))","v":8},{"$f":"IF(C7=0,\"\",IF(OR(EM7<>0,EL7=1),EM7,\" -\"))","v":0},{"$f":"IF(C7=0,\"\",IF(OR(EX7<>0,EW7=1),EX7,\" -\"))","v":50},{"$f":"IF(C7=0,\"\",IF(OR(FI7<>0,FH7=1),FI7,\" -\"))","v":0},{"$f":"IF(C7=0,\"\",IF(OR(FT7<>0,FS7=1),FT7,\" -\"))","v":0},{"$f":"IF(C7=0,\"\",IF(OR(GE7<>0,GD7=1),GE7,\" -\"))","v":17},{"$f":"IF(C7=0,\"\",IF(OR(GP7<>0,GO7=1),GP7,\" -\"))","v":0},{"$f":"IF(C7=0,\"\",IF(OR(HA7<>0,GZ7=1),HA7,\" -\"))","v":0},{"$f":"IF(C7=0,\"\",IF(OR(HL7<>0,HK7=1),HL7,\" -\"))","v":5},{"$f":"IF(C7=0,\"\",IF(AJ7<>0,AJ7,\" -\"))","v":" -"},{"$f":"IF(C7=0,\"\",IF(OR(HW7<>0,HV7=1),HW7,\" -\"))","v":" -"},{"$f":"IF(C7=0,\"\",IF(OR(IH7<>0,IG7=1),IH7,\" -\"))","v":" -"},{"$f":"IF(C7=0,\"\",IF(AL7=1,\"DNF\",IF(AL7=2,\"DSQ\",IF(AM7<>1,\"~ \"&ROUND(SUM(H7:X7),3),ROUND(SUM(H7:X7),3)))))","v":222},null,null,{"$f":"IF(C7<>\"\",C7,\"\")","v":401},{"$f":"IF(AD7<>\"\",3,\"\")","v":3},1000,2000,{"$f":"IF(AD7<>\"\",(AF7/1000*AG7/1000)/2,\"\")","v":1},3,null,null,null,1,null,null,{"$f":"IF(C7=0,99999,IF(AL7>0,9999,SUM(H7:X7)-AN7))","v":222},{"$f":"IF(C7=0,99999,IF(AL7=1,9999,SUM(Y7:Z7)))","v":0},null,null,{"$f":"IF(C7<>\"\",C7,\"\")","v":401},null,null,null,null,null,null,null,1,{"$f":"IF($C7=\"\",\"\", IF(BB7=1,0,IF(AZ7<>0,500,AU7*$AE7/$AH7+AV7/$AH7*5+AW7/$AH7*25+AX7*50+AY7*50)))","v":0},null,{"$f":"IF(C7<>\"\",C7,\"\")","v":401},1,null,1,null,1,null,null,null,{"$f":"IF($C7=\"\",\"\", IF(BM7=1,0,IF(BK7<>0,500,BF7*$AE7/$AH7+BG7/$AH7*5+BH7/$AH7*25+BI7*50+BJ7*50)))","v":78},null,{"$f":"IF(C7<>\"\",C7,\"\")","v":401},1,null,null,null,null,null,null,null,{"$f":"IF($C7=\"\",\"\", IF(BX7=1,0,IF(BV7<>0,500,BQ7*$AE7/$AH7+BR7/$AH7*5+BS7/$AH7*25+BT7*50+BU7*50)))","v":3},null,{"$f":"IF(C7<>\"\",C7,\"\")","v":401},null,null,null,null,null,null,null,1,{"$f":"IF($C7=\"\",\"\", IF(CI7=1,0,IF(CG7<>0,500,CB7*$AE7/$AH7+CC7/$AH7*5+CD7/$AH7*25+CE7*50+CF7*50)))","v":0},null,{"$f":"IF(C7<>\"\",C7,\"\")","v":401},2,1,null,null,1,null,"Winched out",null,{"$f":"IF($C7=\"\",\"\", IF(CT7=1,0,IF(CR7<>0,500,CM7*$AE7/$AH7+CN7/$AH7*5+CO7/$AH7*25+CP7*50+CQ7*50)))","v":61},null,{"$f":"IF(C7<>\"\",C7,\"\")","v":401},null,null,null,null,null,null,null,1,{"$f":"IF($C7=\"\",\"\", IF(DE7=1,0,IF(DC7<>0,500,CX7*$AE7/$AH7+CY7/$AH7*5+CZ7/$AH7*25+DA7*50+DB7*50)))","v":0},null,{"$f":"IF(C7<>\"\",C7,\"\")","v":401},null,null,null,null,null,null,null,1,{"$f":"IF($C7=\"\",\"\", IF(DP7=1,0,IF(DN7<>0,500,DI7*$AE7/$AH7+DJ7/$AH7*5+DK7/$AH7*25+DL7*50+DM7*50)))","v":0},null,{"$f":"IF(C7<>\"\",C7,\"\")","v":401},1,1,null,null,null,null,null,null,{"$f":"IF($C7=\"\",\"\", IF(EA7=1,0,IF(DY7<>0,500,DT7*$AE7/$AH7+DU7/$AH7*5+DV7/$AH7*25+DW7*50+DX7*50)))","v":8},null,{"$f":"IF(C7<>\"\",C7,\"\")","v":401},null,null,null,null,null,null,null,1,{"$f":"IF($C7=\"\",\"\", IF(EL7=1,0,IF(EJ7<>0,500,EE7*$AE7/$AH7+EF7/$AH7*5+EG7/$AH7*25+EH7*50+EI7*50)))","v":0},null,{"$f":"IF(C7<>\"\",C7,\"\")","v":401},null,null,null,null,1,null,"roll over",null,{"$f":"IF($C7=\"\",\"\", IF(EW7=1,0,IF(EU7<>0,500,EP7*$AE7/$AH7+EQ7/$AH7*5+ER7/$AH7*25+ES7*50+ET7*50)))","v":50},null,{"$f":"IF(C7<>\"\",C7,\"\")","v":401},null,null,null,null,null,null,null,1,{"$f":"IF($C7=\"\",\"\", IF(FH7=1,0,IF(FF7<>0,500,FA7*$AE7/$AH7+FB7/$AH7*5+FC7/$AH7*25+FD7*50+FE7*50)))","v":0},null,{"$f":"IF(C7<>\"\",C7,\"\")","v":401},null,null,null,null,null,null,null,1,{"$f":"IF($C7=\"\",\"\", IF(FS7=1,0,IF(FQ7<>0,500,FL7*$AE7/$AH7+FM7/$AH7*5+FN7/$AH7*25+FO7*50+FP7*50)))","v":0},null,{"$f":"IF(C7<>\"\",C7,\"\")","v":401},4,1,null,null,null,null,null,null,{"$f":"IF($C7=\"\",\"\", IF(GD7=1,0,IF(GB7<>0,500,FW7*$AE7/$AH7+FX7/$AH7*5+FY7/$AH7*25+FZ7*50+GA7*50)))","v":17},null,{"$f":"IF(C7<>\"\",C7,\"\")","v":401},null,null,null,null,null,null,null,1,{"$f":"IF($C7=\"\",\"\", IF(GO7=1,0,IF(GM7<>0,500,GH7*$AE7/$AH7+GI7/$AH7*5+GJ7/$AH7*25+GK7*50+GL7*50)))","v":0},null,{"$f":"IF(C7<>\"\",C7,\"\")","v":401},null,null,null,null,null,null,null,1,{"$f":"IF($C7=\"\",\"\", IF(GZ7=1,0,IF(GX7<>0,500,GS7*$AE7/$AH7+GT7/$AH7*5+GU7/$AH7*25+GV7*50+GW7*50)))","v":0},null,{"$f":"IF(C7<>\"\",C7,\"\")","v":401},null,1,null,null,null,null,null,null,{"$f":"IF($C7=\"\",\"\", IF(HK7=1,0,IF(HI7<>0,500,HD7*$AE7/$AH7+HE7/$AH7*5+HF7/$AH7*25+HG7*50+HH7*50)))","v":5},null,{"$f":"IF(C7<>\"\",C7,\"\")","v":401},null,null,null,null,null,null,null,null,{"$f":"IF($C7=\"\",\"\", IF(HV7=1,0,IF(HT7<>0,500,HO7*$AE7/$AH7+HP7/$AH7*5+HQ7/$AH7*25+HR7*50+HS7*50)))","v":0},null,{"$f":"IF(C7<>\"\",C7,\"\")","v":401},null,null,null,null,null,null,null,null,{"$f":"IF($C7=\"\",\"\", IF(IG7=1,0,IF(IE7<>0,500,HZ7*$AE7/$AH7+IA7/$AH7*5+IB7/$AH7*25+IC7*50+ID7*50)))","v":0}]
[null,{"$f":"IF(C8=0,\"\",ROW(C8)-4)","v":4},410,"Norway","Jeep CJ-5","Andreas Rognes","Øystein Rognes",{"$f":"IF(C8=0,\"\",IF(OR(BB8=1,BC8<>0),BC8,\"-\"))","v":0},{"$f":"IF(C8=0,\"\",IF(OR(BM8=1,BN8<>0),BN8,\"-\"))","v":8},{"$f":"IF(C8=0,\"\",IF(OR(BX8=1,BY8<>0),BY8,\" -\"))","v":13},{"$f":"IF(C8=0,\"\",IF(OR(CJ8<>0,CI8=1),CJ8,\" -\"))","v":25},{"$f":"IF(C8=0,\"\",IF(OR(CU8<>0,CT8=1),CU8,\" -\"))","v":34},{"$f":"IF(C8=0,\"\",IF(OR(DF8<>0,DE8=1),DF8,\" -\"))","v":3},{"$f":"IF(C8=0,\"\",IF(OR(DQ8<>0,DP8=1),DQ8,\" -\"))","v":34},{"$f":"IF(C8=0,\"\",IF(OR(EB8<>0,EA8=1),EB8,\" -\"))","v":39},{"$f":"IF(C8=0,\"\",IF(OR(EM8<>0,EL8=1),EM8,\" -\"))","v":3},{"$f":"IF(C8=0,\"\",IF(OR(EX8<>0,EW8=1),EX8,\" -\"))","v":12},{"$f":"IF(C8=0,\"\",IF(OR(FI8<>0,FH8=1),FI8,\" -\"))","v":0},{"$f":"IF(C8=0,\"\",IF(OR(FT8<>0,FS8=1),FT8,\" -\"))","v":9},{"$f":"IF(C8=0,\"\",IF(OR(GE8<>0,GD8=1),GE8,\" -\"))","v":30},{"$f":"IF(C8=0,\"\",IF(OR(GP8<>0,GO8=1),GP8,\" -\"))","v":3},{"$f":"IF(C8=0,\"\",IF(OR(HA8<>0,GZ8=1),HA8,\" -\"))","v":3},{"$f":"IF(C8=0,\"\",IF(OR(HL8<>0,HK8=1),HL8,\" -\"))","v":11},{"$f":"IF(C8=0,\"\",IF(AJ8<>0,AJ8,\" -\"))","v":" -"},{"$f":"IF(C8=0,\"\",IF(OR(HW8<>0,HV8=1),HW8,\" -\"))","v":" -"},{"$f":"IF(C8=0,\"\",IF(OR(IH8<>0,IG8=1),IH8,\" -\"))","v":" -"},{"$f":"IF(C8=0,\"\",IF(AL8=1,\"DNF\",IF(AL8=2,\"DSQ\",IF(AM8<>1,\"~ \"&ROUND(SUM(H8:X8),3),ROUND(SUM(H8:X8),3)))))","v":227},null,null,{"$f":"IF(C8<>\"\",C8,\"\")","v":410},{"$f":"IF(AD8<>\"\",3,\"\")","v":3},1000,2000,{"$f":"IF(AD8<>\"\",(AF8/1000*AG8/1000)/2,\"\")","v":1},3,null,null,null,1,null,null,{"$f":"IF(C8=0,99999,IF(AL8>0,9999,SUM(H8:X8)-AN8))","v":227},{"$f":"IF(C8=0,99999,IF(AL8=1,9999,SUM(Y8:Z8)))","v":0},null,null,{"$f":"IF(C8<>\"\",C8,\"\")","v":410},null,null,null,null,null,null,null,1,{"$f":"IF($C8=\"\",\"\", IF(BB8=1,0,IF(AZ8<>0,500,AU8*$AE8/$AH8+AV8/$AH8*5+AW8/$AH8*25+AX8*50+AY8*50)))","v":0},null,{"$f":"IF(C8<>\"\",C8,\"\")","v":410},1,1,null,null,null,null,null,null,{"$f":"IF($C8=\"\",\"\", IF(BM8=1,0,IF(BK8<>0,500,BF8*$AE8/$AH8+BG8/$AH8*5+BH8/$AH8*25+BI8*50+BJ8*50)))","v":8},null,{"$f":"IF(C8<>\"\",C8,\"\")","v":410},1,2,null,null,null,null,null,null,{"$f":"IF($C8=\"\",\"\", IF(BX8=1,0,IF(BV8<>0,500,BQ8*$AE8/$AH8+BR8/$AH8*5+BS8/$AH8*25+BT8*50+BU8*50)))","v":13},null,{"$f":"IF(C8<>\"\",C8,\"\")","v":410},null,null,1,null,null,null,null,null,{"$f":"IF($C8=\"\",\"\", IF(CI8=1,0,IF(CG8<>0,500,CB8*$AE8/$AH8+CC8/$AH8*5+CD8/$AH8*25+CE8*50+CF8*50)))","v":25},null,{"$f":"IF(C8<>\"\",C8,\"\")","v":410},3,null,1,null,null,null,null,null,{"$f":"IF($C8=\"\",\"\", IF(CT8=1,0,IF(CR8<>0,500,CM8*$AE8/$AH8+CN8/$AH8*5+CO8/$AH8*25+CP8*50+CQ8*50)))","v":34},null,{"$f":"IF(C8<>\"\",C8,\"\")","v":410},1,null,null,null,null,null,null,null,{"$f":"IF($C8=\"\",\"\", IF(DE8=1,0,IF(DC8<>0,500,CX8*$AE8/$AH8+CY8/$AH8*5+CZ8/$AH8*25+DA8*50+DB8*50)))","v":3},null,{"$f":"IF(C8<>\"\",C8,\"\")","v":410},3,null,1,null,null,null,"Disagree (stick inside car)",null,{"$f":"IF($C8=\"\",\"\", IF(DP8=1,0,IF(DN8<>0,500,DI8*$AE8/$AH8+DJ8/$AH8*5+DK8/$AH8*25+DL8*50+DM8*50)))","v":34},null,{"$f":"IF(C8<>\"\",C8,\"\")","v":410},3,1,1,null,null,null,null,null,{"$f":"IF($C8=\"\",\"\", IF(EA8=1,0,IF(DY8<>0,500,DT8*$AE8/$AH8+DU8/$AH8*5+DV8/$AH8*25+DW8*50+DX8*50)))","v":39},null,{"$f":"IF(C8<>\"\",C8,\"\")","v":410},1,null,null,null,null,null,null,null,{"$f":"IF($C8=\"\",\"\", IF(EL8=1,0,IF(EJ8<>0,500,EE8*$AE8/$AH8+EF8/$AH8*5+EG8/$AH8*25+EH8*50+EI8*50)))","v":3},null,{"$f":"IF(C8<>\"\",C8,\"\")","v":410},4,null,null,null,null,null,null,null,{"$f":"IF($C8=\"\",\"\", IF(EW8=1,0,IF(EU8<>0,500,EP8*$AE8/$AH8+EQ8/$AH8*5+ER8/$AH8*25+ES8*50+ET8*50)))","v":12},null,{"$f":"IF(C8<>\"\",C8,\"\")","v":410},null,null,null,null,null,null,null,1,{"$f":"IF($C8=\"\",\"\", IF(FH8=1,0,IF(FF8<>0,500,FA8*$AE8/$AH8+FB8/$AH8*5+FC8/$AH8*25+FD8*50+FE8*50)))","v":0},null,{"$f":"IF(C8<>\"\",C8,\"\")","v":410},3,null,null,null,null,null,null,null,{"$f":"IF($C8=\"\",\"\", IF(FS8=1,0,IF(FQ8<>0,500,FL8*$AE8/$AH8+FM8/$AH8*5+FN8/$AH8*25+FO8*50+FP8*50)))","v":9},null,{"$f":"IF(C8<>\"\",C8,\"\")","v":410},null,1,1,null,null,null,null,null,{"$f":"IF($C8=\"\",\"\", IF(GD8=1,0,IF(GB8<>0,500,FW8*$AE8/$AH8+FX8/$AH8*5+FY8/$AH8*25+FZ8*50+GA8*50)))","v":30},null,{"$f":"IF(C8<>\"\",C8,\"\")","v":410},1,null,null,null,null,null,null,null,{"$f":"IF($C8=\"\",\"\", IF(GO8=1,0,IF(GM8<>0,500,GH8*$AE8/$AH8+GI8/$AH8*5+GJ8/$AH8*25+GK8*50+GL8*50)))","v":3},null,{"$f":"IF(C8<>\"\",C8,\"\")","v":410},1,null,null,null,null,null,null,null,{"$f":"IF($C8=\"\",\"\", IF(GZ8=1,0,IF(GX8<>0,500,GS8*$AE8/$AH8+GT8/$AH8*5+GU8/$AH8*25+GV8*50+GW8*50)))","v":3},null,{"$f":"IF(C8<>\"\",C8,\"\")","v":410},2,1,null,null,null,null,null,null,{"$f":"IF($C8=\"\",\"\", IF(HK8=1,0,IF(HI8<>0,500,HD8*$AE8/$AH8+HE8/$AH8*5+HF8/$AH8*25+HG8*50+HH8*50)))","v":11},null,{"$f":"IF(C8<>\"\",C8,\"\")","v":410},null,null,null,null,null,null,null,null,{"$f":"IF($C8=\"\",\"\", IF(HV8=1,0,IF(HT8<>0,500,HO8*$AE8/$AH8+HP8/$AH8*5+HQ8/$AH8*25+HR8*50+HS8*50)))","v":0},null,{"$f":"IF(C8<>\"\",C8,\"\")","v":410},null,null,null,null,null,null,null,null,{"$f":"IF($C8=\"\",\"\", IF(IG8=1,0,IF(IE8<>0,500,HZ8*$AE8/$AH8+IA8/$AH8*5+IB8/$AH8*25+IC8*50+ID8*50)))","v":0}]
[null,{"$f":"IF(C9=0,\"\",ROW(C9)-4)","v":5},412,"Bulgaria","Lada Niva","Tsvetan Naydenov","Kaloyan Naydenov",{"$f":"IF(C9=0,\"\",IF(OR(BB9=1,BC9<>0),BC9,\"-\"))","v":0},{"$f":"IF(C9=0,\"\",IF(OR(BM9=1,BN9<>0),BN9,\"-\"))","v":17},{"$f":"IF(C9=0,\"\",IF(OR(BX9=1,BY9<>0),BY9,\" -\"))","v":3},{"$f":"IF(C9=0,\"\",IF(OR(CJ9<>0,CI9=1),CJ9,\" -\"))","v":0},{"$f":"IF(C9=0,\"\",IF(OR(CU9<>0,CT9=1),CU9,\" -\"))","v":39},{"$f":"IF(C9=0,\"\",IF(OR(DF9<>0,DE9=1),DF9,\" -\"))","v":6},{"$f":"IF(C9=0,\"\",IF(OR(DQ9<>0,DP9=1),DQ9,\" -\"))","v":15},{"$f":"IF(C9=0,\"\",IF(OR(EB9<>0,EA9=1),EB9,\" -\"))","v":16},{"$f":"IF(C9=0,\"\",IF(OR(EM9<>0,EL9=1),EM9,\" -\"))","v":3},{"$f":"IF(C9=0,\"\",IF(OR(EX9<>0,EW9=1),EX9,\" -\"))","v":9},{"$f":"IF(C9=0,\"\",IF(OR(FI9<>0,FH9=1),FI9,\" -\"))","v":43},{"$f":"IF(C9=0,\"\",IF(OR(FT9<>0,FS9=1),FT9,\" -\"))","v":3},{"$f":"IF(C9=0,\"\",IF(OR(GE9<>0,GD9=1),GE9,\" -\"))","v":31},{"$f":"IF(C9=0,\"\",IF(OR(GP9<>0,GO9=1),GP9,\" -\"))","v":31},{"$f":"IF(C9=0,\"\",IF(OR(HA9<>0,GZ9=1),HA9,\" -\"))","v":0},{"$f":"IF(C9=0,\"\",IF(OR(HL9<>0,HK9=1),HL9,\" -\"))","v":19},{"$f":"IF(C9=0,\"\",IF(AJ9<>0,AJ9,\" -\"))","v":" -"},{"$f":"IF(C9=0,\"\",IF(OR(HW9<>0,HV9=1),HW9,\" -\"))","v":" -"},{"$f":"IF(C9=0,\"\",IF(OR(IH9<>0,IG9=1),IH9,\" -\"))","v":" -"},{"$f":"IF(C9=0,\"\",IF(AL9=1,\"DNF\",IF(AL9=2,\"DSQ\",IF(AM9<>1,\"~ \"&ROUND(SUM(H9:X9),3),ROUND(SUM(H9:X9),3)))))","v":235},null,null,{"$f":"IF(C9<>\"\",C9,\"\")","v":412},{"$f":"IF(AD9<>\"\",3,\"\")","v":3},1000,2000,{"$f":"IF(AD9<>\"\",(AF9/1000*AG9/1000)/2,\"\")","v":1},3,null,null,null,1,null,null,{"$f":"IF(C9=0,99999,IF(AL9>0,9999,SUM(H9:X9)-AN9))","v":235},{"$f":"IF(C9=0,99999,IF(AL9=1,9999,SUM(Y9:Z9)))","v":0},null,null,{"$f":"IF(C9<>\"\",C9,\"\")","v":412},null,null,null,null,null,null,null,1,{"$f":"IF($C9=\"\",\"\", IF(BB9=1,0,IF(AZ9<>0,500,AU9*$AE9/$AH9+AV9/$AH9*5+AW9/$AH9*25+AX9*50+AY9*50)))","v":0},null,{"$f":"IF(C9<>\"\",C9,\"\")","v":412},4,1,null,null,null,null,null,null,{"$f":"IF($C9=\"\",\"\", IF(BM9=1,0,IF(BK9<>0,500,BF9*$AE9/$AH9+BG9/$AH9*5+BH9/$AH9*25+BI9*50+BJ9*50)))","v":17},null,{"$f":"IF(C9<>\"\",C9,\"\")","v":412},1,null,null,null,null,null,null,null,{"$f":"IF($C9=\"\",\"\", IF(BX9=1,0,IF(BV9<>0,500,BQ9*$AE9/$AH9+BR9/$AH9*5+BS9/$AH9*25+BT9*50+BU9*50)))","v":3},null,{"$f":"IF(C9<>\"\",C9,\"\")","v":412},null,null,null,null,null,null,null,1,{"$f":"IF($C9=\"\",\"\", IF(CI9=1,0,IF(CG9<>0,500,CB9*$AE9/$AH9+CC9/$AH9*5+CD9/$AH9*25+CE9*50+CF9*50)))","v":0},null,{"$f":"IF(C9<>\"\",C9,\"\")","v":412},3,1,1,null,null,null,null,null,{"$f":"IF($C9=\"\",\"\", IF(CT9=1,0,IF(CR9<>0,500,CM9*$AE9/$AH9+CN9/$AH9*5+CO9/$AH9*25+CP9*50+CQ9*50)))","v":39},null,{"$f":"IF(C9<>\"\",C9,\"\")","v":412},2,null,null,null,null,null,null,null,{"$f":"IF($C9=\"\",\"\", IF(DE9=1,0,IF(DC9<>0,500,CX9*$AE9/$AH9+CY9/$AH9*5+CZ9/$AH9*25+DA9*50+DB9*50)))","v":6},null,{"$f":"IF(C9<>\"\",C9,\"\")","v":412},5,null,null,null,null,null,null,null,{"$f":"IF($C9=\"\",\"\", IF(DP9=1,0,IF(DN9<>0,500,DI9*$AE9/$AH9+DJ9/$AH9*5+DK9/$AH9*25+DL9*50+DM9*50)))","v":15},null,{"$f":"IF(C9<>\"\",C9,\"\")","v":412},2,2,null,null,null,null,null,null,{"$f":"IF($C9=\"\",\"\", IF(EA9=1,0,IF(DY9<>0,500,DT9*$AE9/$AH9+DU9/$AH9*5+DV9/$AH9*25+DW9*50+DX9*50)))","v":16},null,{"$f":"IF(C9<>\"\",C9,\"\")","v":412},1,null,null,null,null,null,null,null,{"$f":"IF($C9=\"\",\"\", IF(EL9=1,0,IF(EJ9<>0,500,EE9*$AE9/$AH9+EF9/$AH9*5+EG9/$AH9*25+EH9*50+EI9*50)))","v":3},null,{"$f":"IF(C9<>\"\",C9,\"\")","v":412},3,null,null,null,null,null,null,null,{"$f":"IF($C9=\"\",\"\", IF(EW9=1,0,IF(EU9<>0,500,EP9*$AE9/$AH9+EQ9/$AH9*5+ER9/$AH9*25+ES9*50+ET9*50)))","v":9},null,{"$f":"IF(C9<>\"\",C9,\"\")","v":412},6,null,1,null,null,null,null,null,{"$f":"IF($C9=\"\",\"\", IF(FH9=1,0,IF(FF9<>0,500,FA9*$AE9/$AH9+FB9/$AH9*5+FC9/$AH9*25+FD9*50+FE9*50)))","v":43},null,{"$f":"IF(C9<>\"\",C9,\"\")","v":412},1,null,null,null,null,null,null,null,{"$f":"IF($C9=\"\",\"\", IF(FS9=1,0,IF(FQ9<>0,500,FL9*$AE9/$AH9+FM9/$AH9*5+FN9/$AH9*25+FO9*50+FP9*50)))","v":3},null,{"$f":"IF(C9<>\"\",C9,\"\")","v":412},2,null,1,null,null,null,null,null,{"$f":"IF($C9=\"\",\"\", IF(GD9=1,0,IF(GB9<>0,500,FW9*$AE9/$AH9+FX9/$AH9*5+FY9/$AH9*25+FZ9*50+GA9*50)))","v":31},null,{"$f":"IF(C9<>\"\",C9,\"\")","v":412},2,null,1,null,null,null,null,null,{"$f":"IF($C9=\"\",\"\", IF(GO9=1,0,IF(GM9<>0,500,GH9*$AE9/$AH9+GI9/$AH9*5+GJ9/$AH9*25+GK9*50+GL9*50)))","v":31},null,{"$f":"IF(C9<>\"\",C9,\"\")","v":412},null,null,null,null,null,null,null,1,{"$f":"IF($C9=\"\",\"\", IF(GZ9=1,0,IF(GX9<>0,500,GS9*$AE9/$AH9+GT9/$AH9*5+GU9/$AH9*25+GV9*50+GW9*50)))","v":0},null,{"$f":"IF(C9<>\"\",C9,\"\")","v":412},3,2,null,null,null,null,null,null,{"$f":"IF($C9=\"\",\"\", IF(HK9=1,0,IF(HI9<>0,500,HD9*$AE9/$AH9+HE9/$AH9*5+HF9/$AH9*25+HG9*50+HH9*50)))","v":19},null,{"$f":"IF(C9<>\"\",C9,\"\")","v":412},null,null,null,null,null,null,null,null,{"$f":"IF($C9=\"\",\"\", IF(HV9=1,0,IF(HT9<>0,500,HO9*$AE9/$AH9+HP9/$AH9*5+HQ9/$AH9*25+HR9*50+HS9*50)))","v":0},null,{"$f":"IF(C9<>\"\",C9,\"\")","v":412},null,null,null,null,null,null,null,null,{"$f":"IF($C9=\"\",\"\", IF(IG9=1,0,IF(IE9<>0,500,HZ9*$AE9/$AH9+IA9/$AH9*5+IB9/$AH9*25+IC9*50+ID9*50)))","v":0}]
[null,{"$f":"IF(C10=0,\"\",ROW(C10)-4)","v":6},415,"Norway","Pro-modified","Svein Jarle Hovland","Anne Marit Hovland",{"$f":"IF(C10=0,\"\",IF(OR(BB10=1,BC10<>0),BC10,\"-\"))","v":0},{"$f":"IF(C10=0,\"\",IF(OR(BM10=1,BN10<>0),BN10,\"-\"))","v":3},{"$f":"IF(C10=0,\"\",IF(OR(BX10=1,BY10<>0),BY10,\" -\"))","v":0},{"$f":"IF(C10=0,\"\",IF(OR(CJ10<>0,CI10=1),CJ10,\" -\"))","v":0},{"$f":"IF(C10=0,\"\",IF(OR(CU10<>0,CT10=1),CU10,\" -\"))","v":8},{"$f":"IF(C10=0,\"\",IF(OR(DF10<>0,DE10=1),DF10,\" -\"))","v":6},{"$f":"IF(C10=0,\"\",IF(OR(DQ10<>0,DP10=1),DQ10,\" -\"))","v":0},{"$f":"IF(C10=0,\"\",IF(OR(EB10<>0,EA10=1),EB10,\" -\"))","v":11},{"$f":"IF(C10=0,\"\",IF(OR(EM10<>0,EL10=1),EM10,\" -\"))","v":25},{"$f":"IF(C10=0,\"\",IF(OR(EX10<>0,EW10=1),EX10,\" -\"))","v":6},{"$f":"IF(C10=0,\"\",IF(OR(FI10<>0,FH10=1),FI10,\" -\"))","v":9},{"$f":"IF(C10=0,\"\",IF(OR(FT10<>0,FS10=1),FT10,\" -\"))","v":0},{"$f":"IF(C10=0,\"\",IF(OR(GE10<>0,GD10=1),GE10,\" -\"))","v":43},{"$f":"IF(C10=0,\"\",IF(OR(GP10<>0,GO10=1),GP10,\" -\"))","v":0},{"$f":"IF(C10=0,\"\",IF(OR(HA10<>0,GZ10=1),HA10,\" -\"))","v":105},{"$f":"IF(C10=0,\"\",IF(OR(HL10<>0,HK10=1),HL10,\" -\"))","v":39},{"$f":"IF(C10=0,\"\",IF(AJ10<>0,AJ10,\" -\"))","v":" -"},{"$f":"IF(C10=0,\"\",IF(OR(HW10<>0,HV10=1),HW10,\" -\"))","v":" -"},{"$f":"IF(C10=0,\"\",IF(OR(IH10<>0,IG10=1),IH10,\" -\"))","v":" -"},{"$f":"IF(C10=0,\"\",IF(AL10=1,\"DNF\",IF(AL10=2,\"DSQ\",IF(AM10<>1,\"~ \"&ROUND(SUM(H10:X10),3),ROUND(SUM(H10:X10),3)))))","v":255},null,null,{"$f":"IF(C10<>\"\",C10,\"\")","v":415},{"$f":"IF(AD10<>\"\",3,\"\")","v":3},1000,2000,{"$f":"IF(AD10<>\"\",(AF10/1000*AG10/1000)/2,\"\")","v":1},3,null,null,null,1,null,null,{"$f":"IF(C10=0,99999,IF(AL10>0,9999,SUM(H10:X10)-AN10))","v":255},{"$f":"IF(C10=0,99999,IF(AL10=1,9999,SUM(Y10:Z10)))","v":0},null,null,{"$f":"IF(C10<>\"\",C10,\"\")","v":415},null,null,null,null,null,null,null,1,{"$f":"IF($C10=\"\",\"\", IF(BB10=1,0,IF(AZ10<>0,500,AU10*$AE10/$AH10+AV10/$AH10*5+AW10/$AH10*25+AX10*50+AY10*50)))","v":0},null,{"$f":"IF(C10<>\"\",C10,\"\")","v":415},1,null,null,null,null,null,null,null,{"$f":"IF($C10=\"\",\"\", IF(BM10=1,0,IF(BK10<>0,500,BF10*$AE10/$AH10+BG10/$AH10*5+BH10/$AH10*25+BI10*50+BJ10*50)))","v":3},null,{"$f":"IF(C10<>\"\",C10,\"\")","v":415},null,null,null,null,null,null,null,1,{"$f":"IF($C10=\"\",\"\", IF(BX10=1,0,IF(BV10<>0,500,BQ10*$AE10/$AH10+BR10/$AH10*5+BS10/$AH10*25+BT10*50+BU10*50)))","v":0},null,{"$f":"IF(C10<>\"\",C10,\"\")","v":415},null,null,null,null,null,null,null,1,{"$f":"IF($C10=\"\",\"\", IF(CI10=1,0,IF(CG10<>0,500,CB10*$AE10/$AH10+CC10/$AH10*5+CD10/$AH10*25+CE10*50+CF10*50)))","v":0},null,{"$f":"IF(C10<>\"\",C10,\"\")","v":415},1,1,null,null,null,null,null,null,{"$f":"IF($C10=\"\",\"\", IF(CT10=1,0,IF(CR10<>0,500,CM10*$AE10/$AH10+CN10/$AH10*5+CO10/$AH10*25+CP10*50+CQ10*50)))","v":8},null,{"$f":"IF(C10<>\"\",C10,\"\")","v":415},2,null,null,null,null,null,null,null,{"$f":"IF($C10=\"\",\"\", IF(DE10=1,0,IF(DC10<>0,500,CX10*$AE10/$AH10+CY10/$AH10*5+CZ10/$AH10*25+DA10*50+DB10*50)))","v":6},null,{"$f":"IF(C10<>\"\",C10,\"\")","v":415},null,null,null,null,null,null,null,1,{"$f":"IF($C10=\"\",\"\", IF(DP10=1,0,IF(DN10<>0,500,DI10*$AE10/$AH10+DJ10/$AH10*5+DK10/$AH10*25+DL10*50+DM10*50)))","v":0},null,{"$f":"IF(C10<>\"\",C10,\"\")","v":415},2,1,null,null,null,null,null,null,{"$f":"IF($C10=\"\",\"\", IF(EA10=1,0,IF(DY10<>0,500,DT10*$AE10/$AH10+DU10/$AH10*5+DV10/$AH10*25+DW10*50+DX10*50)))","v":11},null,{"$f":"IF(C10<>\"\",C10,\"\")","v":415},null,null,1,null,null,null,null,null,{"$f":"IF($C10=\"\",\"\", IF(EL10=1,0,IF(EJ10<>0,500,EE10*$AE10/$AH10+EF10/$AH10*5+EG10/$AH10*25+EH10*50+EI10*50)))","v":25},null,{"$f":"IF(C10<>\"\",C10,\"\")","v":415},2,null,null,null,null,null,null,null,{"$f":"IF($C10=\"\",\"\", IF(EW10=1,0,IF(EU10<>0,500,EP10*$AE10/$AH10+EQ10/$AH10*5+ER10/$AH10*25+ES10*50+ET10*50)))","v":6},null,{"$f":"IF(C10<>\"\",C10,\"\")","v":415},3,null,null,null,null,null,null,null,{"$f":"IF($C10=\"\",\"\", IF(FH10=1,0,IF(FF10<>0,500,FA10*$AE10/$AH10+FB10/$AH10*5+FC10/$AH10*25+FD10*50+FE10*50)))","v":9},null,{"$f":"IF(C10<>\"\",C10,\"\")","v":415},null,null,null,null,null,null,null,1,{"$f":"IF($C10=\"\",\"\", IF(FS10=1,0,IF(FQ10<>0,500,FL10*$AE10/$AH10+FM10/$AH10*5+FN10/$AH10*25+FO10*50+FP10*50)))","v":0},null,{"$f":"IF(C10<>\"\",C10,\"\")","v":415},1,3,1,null,null,null,null,null,{"$f":"IF($C10=\"\",\"\", IF(GD10=1,0,IF(GB10<>0,500,FW10*$AE10/$AH10+FX10/$AH10*5+FY10/$AH10*25+FZ10*50+GA10*50)))","v":43},null,{"$f":"IF(C10<>\"\",C10,\"\")","v":415},null,null,null,null,null,null,null,1,{"$f":"IF($C10=\"\",\"\", IF(GO10=1,0,IF(GM10<>0,500,GH10*$AE10/$AH10+GI10/$AH10*5+GJ10/$AH10*25+GK10*50+GL10*50)))","v":0},null,{"$f":"IF(C10<>\"\",C10,\"\")","v":415},null,1,null,1,1,null,"didn’t drive port 4",null,{"$f":"IF($C10=\"\",\"\", IF(GZ10=1,0,IF(GX10<>0,500,GS10*$AE10/$AH10+GT10/$AH10*5+GU10/$AH10*25+GV10*50+GW10*50)))","v":105},null,{"$f":"IF(C10<>\"\",C10,\"\")","v":415},3,1,1,null,null,null,null,null,{"$f":"IF($C10=\"\",\"\", IF(HK10=1,0,IF(HI10<>0,500,HD10*$AE10/$AH10+HE10/$AH10*5+HF10/$AH10*25+HG10*50+HH10*50)))","v":39},null,{"$f":"IF(C10<>\"\",C10,\"\")","v":415},null,null,null,null,null,null,null,null,{"$f":"IF($C10=\"\",\"\", IF(HV10=1,0,IF(HT10<>0,500,HO10*$AE10/$AH10+HP10/$AH10*5+HQ10/$AH10*25+HR10*50+HS10*50)))","v":0},null,{"$f":"IF(C10<>\"\",C10,\"\")","v":415},null,null,null,null,null,null,null,null,{"$f":"IF($C10=\"\",\"\", IF(IG10=1,0,IF(IE10<>0,500,HZ10*$AE10/$AH10+IA10/$AH10*5+IB10/$AH10*25+IC10*50+ID10*50)))","v":0}]
[null,{"$f":"IF(C11=0,\"\",ROW(C11)-4)","v":7},407,"Switzerland","Jeep CJ 5","Daniel Halter","Ramon Kneubuehler",{"$f":"IF(C11=0,\"\",IF(OR(BB11=1,BC11<>0),BC11,\"-\"))","v":58},{"$f":"IF(C11=0,\"\",IF(OR(BM11=1,BN11<>0),BN11,\"-\"))","v":5},{"$f":"IF(C11=0,\"\",IF(OR(BX11=1,BY11<>0),BY11,\" -\"))","v":0},{"$f":"IF(C11=0,\"\",IF(OR(CJ11<>0,CI11=1),CJ11,\" -\"))","v":25},{"$f":"IF(C11=0,\"\",IF(OR(CU11<>0,CT11=1),CU11,\" -\"))","v":64},{"$f":"IF(C11=0,\"\",IF(OR(DF11<>0,DE11=1),DF11,\" -\"))","v":0},{"$f":"IF(C11=0,\"\",IF(OR(DQ11<>0,DP11=1),DQ11,\" -\"))","v":5},{"$f":"IF(C11=0,\"\",IF(OR(EB11<>0,EA11=1),EB11,\" -\"))","v":46},{"$f":"IF(C11=0,\"\",IF(OR(EM11<>0,EL11=1),EM11,\" -\"))","v":0},{"$f":"IF(C11=0,\"\",IF(OR(EX11<>0,EW11=1),EX11,\" -\"))","v":33},{"$f":"IF(C11=0,\"\",IF(OR(FI11<>0,FH11=1),FI11,\" -\"))","v":0},{"$f":"IF(C11=0,\"\",IF(OR(FT11<>0,FS11=1),FT11,\" -\"))","v":25},{"$f":"IF(C11=0,\"\",IF(OR(GE11<>0,GD11=1),GE11,\" -\"))","v":10},{"$f":"IF(C11=0,\"\",IF(OR(GP11<>0,GO11=1),GP11,\" -\"))","v":3},{"$f":"IF(C11=0,\"\",IF(OR(HA11<>0,GZ11=1),HA11,\" -\"))","v":0},{"$f":"IF(C11=0,\"\",IF(OR(HL11<>0,HK11=1),HL11,\" -\"))","v":0},{"$f":"IF(C11=0,\"\",IF(AJ11<>0,AJ11,\" -\"))","v":" -"},{"$f":"IF(C11=0,\"\",IF(OR(HW11<>0,HV11=1),HW11,\" -\"))","v":" -"},{"$f":"IF(C11=0,\"\",IF(OR(IH11<>0,IG11=1),IH11,\" -\"))","v":" -"},{"$f":"IF(C11=0,\"\",IF(AL11=1,\"DNF\",IF(AL11=2,\"DSQ\",IF(AM11<>1,\"~ \"&ROUND(SUM(H11:X11),3),ROUND(SUM(H11:X11),3)))))","v":274},null,null,{"$f":"IF(C11<>\"\",C11,\"\")","v":407},{"$f":"IF(AD11<>\"\",3,\"\")","v":3},1000,2000,{"$f":"IF(AD11<>\"\",(AF11/1000*AG11/1000)/2,\"\")","v":1},3,null,null,null,1,null,null,{"$f":"IF(C11=0,99999,IF(AL11>0,9999,SUM(H11:X11)-AN11))","v":274},{"$f":"IF(C11=0,99999,IF(AL11=1,9999,SUM(Y11:Z11)))","v":0},null,null,{"$f":"IF(C11<>\"\",C11,\"\")","v":407},1,1,2,null,null,null,null,null,{"$f":"IF($C11=\"\",\"\", IF(BB11=1,0,IF(AZ11<>0,500,AU11*$AE11/$AH11+AV11/$AH11*5+AW11/$AH11*25+AX11*50+AY11*50)))","v":58},null,{"$f":"IF(C11<>\"\",C11,\"\")","v":407},null,1,null,null,null,null,null,null,{"$f":"IF($C11=\"\",\"\", IF(BM11=1,0,IF(BK11<>0,500,BF11*$AE11/$AH11+BG11/$AH11*5+BH11/$AH11*25+BI11*50+BJ11*50)))","v":5},null,{"$f":"IF(C11<>\"\",C11,\"\")","v":407},null,null,null,null,null,null,null,1,{"$f":"IF($C11=\"\",\"\", IF(BX11=1,0,IF(BV11<>0,500,BQ11*$AE11/$AH11+BR11/$AH11*5+BS11/$AH11*25+BT11*50+BU11*50)))","v":0},null,{"$f":"IF(C11<>\"\",C11,\"\")","v":407},null,null,1,null,null,null,null,null,{"$f":"IF($C11=\"\",\"\", IF(CI11=1,0,IF(CG11<>0,500,CB11*$AE11/$AH11+CC11/$AH11*5+CD11/$AH11*25+CE11*50+CF11*50)))","v":25},null,{"$f":"IF(C11<>\"\",C11,\"\")","v":407},3,1,2,null,null,null,null,null,{"$f":"IF($C11=\"\",\"\", IF(CT11=1,0,IF(CR11<>0,500,CM11*$AE11/$AH11+CN11/$AH11*5+CO11/$AH11*25+CP11*50+CQ11*50)))","v":64},null,{"$f":"IF(C11<>\"\",C11,\"\")","v":407},null,null,null,null,null,null,null,1,{"$f":"IF($C11=\"\",\"\", IF(DE11=1,0,IF(DC11<>0,500,CX11*$AE11/$AH11+CY11/$AH11*5+CZ11/$AH11*25+DA11*50+DB11*50)))","v":0},null,{"$f":"IF(C11<>\"\",C11,\"\")","v":407},null,1,null,null,null,null,null,null,{"$f":"IF($C11=\"\",\"\", IF(DP11=1,0,IF(DN11<>0,500,DI11*$AE11/$AH11+DJ11/$AH11*5+DK11/$AH11*25+DL11*50+DM11*50)))","v":5},null,{"$f":"IF(C11<>\"\",C11,\"\")","v":407},2,3,1,null,null,null,null,null,{"$f":"IF($C11=\"\",\"\", IF(EA11=1,0,IF(DY11<>0,500,DT11*$AE11/$AH11+DU11/$AH11*5+DV11/$AH11*25+DW11*50+DX11*50)))","v":46},null,{"$f":"IF(C11<>\"\",C11,\"\")","v":407},null,null,null,null,null,null,null,1,{"$f":"IF($C11=\"\",\"\", IF(EL11=1,0,IF(EJ11<>0,500,EE11*$AE11/$AH11+EF11/$AH11*5+EG11/$AH11*25+EH11*50+EI11*50)))","v":0},null,{"$f":"IF(C11<>\"\",C11,\"\")","v":407},1,1,1,null,null,null,null,null,{"$f":"IF($C11=\"\",\"\", IF(EW11=1,0,IF(EU11<>0,500,EP11*$AE11/$AH11+EQ11/$AH11*5+ER11/$AH11*25+ES11*50+ET11*50)))","v":33},null,{"$f":"IF(C11<>\"\",C11,\"\")","v":407},null,null,null,null,null,null,null,1,{"$f":"IF($C11=\"\",\"\", IF(FH11=1,0,IF(FF11<>0,500,FA11*$AE11/$AH11+FB11/$AH11*5+FC11/$AH11*25+FD11*50+FE11*50)))","v":0},null,{"$f":"IF(C11<>\"\",C11,\"\")","v":407},null,null,1,null,null,null,null,null,{"$f":"IF($C11=\"\",\"\", IF(FS11=1,0,IF(FQ11<>0,500,FL11*$AE11/$AH11+FM11/$AH11*5+FN11/$AH11*25+FO11*50+FP11*50)))","v":25},null,{"$f":"IF(C11<>\"\",C11,\"\")","v":407},null,2,null,null,null,null,null,null,{"$f":"IF($C11=\"\",\"\", IF(GD11=1,0,IF(GB11<>0,500,FW11*$AE11/$AH11+FX11/$AH11*5+FY11/$AH11*25+FZ11*50+GA11*50)))","v":10},null,{"$f":"IF(C11<>\"\",C11,\"\")","v":407},1,null,null,null,null,null,null,null,{"$f":"IF($C11=\"\",\"\", IF(GO11=1,0,IF(GM11<>0,500,GH11*$AE11/$AH11+GI11/$AH11*5+GJ11/$AH11*25+GK11*50+GL11*50)))","v":3},null,{"$f":"IF(C11<>\"\",C11,\"\")","v":407},null,null,null,null,null,null,null,1,{"$f":"IF($C11=\"\",\"\", IF(GZ11=1,0,IF(GX11<>0,500,GS11*$AE11/$AH11+GT11/$AH11*5+GU11/$AH11*25+GV11*50+GW11*50)))","v":0},null,{"$f":"IF(C11<>\"\",C11,\"\")","v":407},null,null,null,null,null,null,null,1,{"$f":"IF($C11=\"\",\"\", IF(HK11=1,0,IF(HI11<>0,500,HD11*$AE11/$AH11+HE11/$AH11*5+HF11/$AH11*25+HG11*50+HH11*50)))","v":0},null,{"$f":"IF(C11<>\"\",C11,\"\")","v":407},null,null,null,null,null,null,null,null,{"$f":"IF($C11=\"\",\"\", IF(HV11=1,0,IF(HT11<>0,500,HO11*$AE11/$AH11+HP11/$AH11*5+HQ11/$AH11*25+HR11*50+HS11*50)))","v":0},null,{"$f":"IF(C11<>\"\",C11,\"\")","v":407},null,null,null,null,null,null,null,null,{"$f":"IF($C11=\"\",\"\", IF(IG11=1,0,IF(IE11<>0,500,HZ11*$AE11/$AH11+IA11/$AH11*5+IB11/$AH11*25+IC11*50+ID11*50)))","v":0}]
[null,{"$f":"IF(C12=0,\"\",ROW(C12)-4)","v":8},419,"Sweden","Mosquito","Mikael Svensson","Marie Löthman",{"$f":"IF(C12=0,\"\",IF(OR(BB12=1,BC12<>0),BC12,\"-\"))","v":8},{"$f":"IF(C12=0,\"\",IF(OR(BM12=1,BN12<>0),BN12,\"-\"))","v":3},{"$f":"IF(C12=0,\"\",IF(OR(BX12=1,BY12<>0),BY12,\" -\"))","v":39},{"$f":"IF(C12=0,\"\",IF(OR(CJ12<>0,CI12=1),CJ12,\" -\"))","v":0},{"$f":"IF(C12=0,\"\",IF(OR(CU12<>0,CT12=1),CU12,\" -\"))","v":35},{"$f":"IF(C12=0,\"\",IF(OR(DF12<>0,DE12=1),DF12,\" -\"))","v":25},{"$f":"IF(C12=0,\"\",IF(OR(DQ12<>0,DP12=1),DQ12,\" -\"))","v":9},{"$f":"IF(C12=0,\"\",IF(OR(EB12<>0,EA12=1),EB12,\" -\"))","v":3},{"$f":"IF(C12=0,\"\",IF(OR(EM12<>0,EL12=1),EM12,\" -\"))","v":8},{"$f":"IF(C12=0,\"\",IF(OR(EX12<>0,EW12=1),EX12,\" -\"))","v":30},{"$f":"IF(C12=0,\"\",IF(OR(FI12<>0,FH12=1),FI12,\" -\"))","v":5},{"$f":"IF(C12=0,\"\",IF(OR(FT12<>0,FS12=1),FT12,\" -\"))","v":28},{"$f":"IF(C12=0,\"\",IF(OR(GE12<>0,GD12=1),GE12,\" -\"))","v":36},{"$f":"IF(C12=0,\"\",IF(OR(GP12<>0,GO12=1),GP12,\" -\"))","v":28},{"$f":"IF(C12=0,\"\",IF(OR(HA12<>0,GZ12=1),HA12,\" -\"))","v":30},{"$f":"IF(C12=0,\"\",IF(OR(HL12<>0,HK12=1),HL12,\" -\"))","v":0},{"$f":"IF(C12=0,\"\",IF(AJ12<>0,AJ12,\" -\"))","v":" -"},{"$f":"IF(C12=0,\"\",IF(OR(HW12<>0,HV12=1),HW12,\" -\"))","v":" -"},{"$f":"IF(C12=0,\"\",IF(OR(IH12<>0,IG12=1),IH12,\" -\"))","v":" -"},{"$f":"IF(C12=0,\"\",IF(AL12=1,\"DNF\",IF(AL12=2,\"DSQ\",IF(AM12<>1,\"~ \"&ROUND(SUM(H12:X12),3),ROUND(SUM(H12:X12),3)))))","v":287},null,null,{"$f":"IF(C12<>\"\",C12,\"\")","v":419},{"$f":"IF(AD12<>\"\",3,\"\")","v":3},1000,2000,{"$f":"IF(AD12<>\"\",(AF12/1000*AG12/1000)/2,\"\")","v":1},3,null,null,null,1,null,null,{"$f":"IF(C12=0,99999,IF(AL12>0,9999,SUM(H12:X12)-AN12))","v":287},{"$f":"IF(C12=0,99999,IF(AL12=1,9999,SUM(Y12:Z12)))","v":0},null,null,{"$f":"IF(C12<>\"\",C12,\"\")","v":419},1,1,null,null,null,null,null,null,{"$f":"IF($C12=\"\",\"\", IF(BB12=1,0,IF(AZ12<>0,500,AU12*$AE12/$AH12+AV12/$AH12*5+AW12/$AH12*25+AX12*50+AY12*50)))","v":8},null,{"$f":"IF(C12<>\"\",C12,\"\")","v":419},1,null,null,null,null,null,null,null,{"$f":"IF($C12=\"\",\"\", IF(BM12=1,0,IF(BK12<>0,500,BF12*$AE12/$AH12+BG12/$AH12*5+BH12/$AH12*25+BI12*50+BJ12*50)))","v":3},null,{"$f":"IF(C12<>\"\",C12,\"\")","v":419},3,1,1,null,null,null,null,null,{"$f":"IF($C12=\"\",\"\", IF(BX12=1,0,IF(BV12<>0,500,BQ12*$AE12/$AH12+BR12/$AH12*5+BS12/$AH12*25+BT12*50+BU12*50)))","v":39},null,{"$f":"IF(C12<>\"\",C12,\"\")","v":419},null,null,null,null,null,null,null,1,{"$f":"IF($C12=\"\",\"\", IF(CI12=1,0,IF(CG12<>0,500,CB12*$AE12/$AH12+CC12/$AH12*5+CD12/$AH12*25+CE12*50+CF12*50)))","v":0},null,{"$f":"IF(C12<>\"\",C12,\"\")","v":419},null,2,1,null,null,null,null,null,{"$f":"IF($C12=\"\",\"\", IF(CT12=1,0,IF(CR12<>0,500,CM12*$AE12/$AH12+CN12/$AH12*5+CO12/$AH12*25+CP12*50+CQ12*50)))","v":35},null,{"$f":"IF(C12<>\"\",C12,\"\")","v":419},null,null,1,null,null,null,null,null,{"$f":"IF($C12=\"\",\"\", IF(DE12=1,0,IF(DC12<>0,500,CX12*$AE12/$AH12+CY12/$AH12*5+CZ12/$AH12*25+DA12*50+DB12*50)))","v":25},null,{"$f":"IF(C12<>\"\",C12,\"\")","v":419},3,null,null,null,null,null,null,null,{"$f":"IF($C12=\"\",\"\", IF(DP12=1,0,IF(DN12<>0,500,DI12*$AE12/$AH12+DJ12/$AH12*5+DK12/$AH12*25+DL12*50+DM12*50)))","v":9},null,{"$f":"IF(C12<>\"\",C12,\"\")","v":419},1,null,null,null,null,null,null,null,{"$f":"IF($C12=\"\",\"\", IF(EA12=1,0,IF(DY12<>0,500,DT12*$AE12/$AH12+DU12/$AH12*5+DV12/$AH12*25+DW12*50+DX12*50)))","v":3},null,{"$f":"IF(C12<>\"\",C12,\"\")","v":419},1,1,null,null,null,null,null,null,{"$f":"IF($C12=\"\",\"\", IF(EL12=1,0,IF(EJ12<>0,500,EE12*$AE12/$AH12+EF12/$AH12*5+EG12/$AH12*25+EH12*50+EI12*50)))","v":8},null,{"$f":"IF(C12<>\"\",C12,\"\")","v":419},null,1,1,null,null,null,null,null,{"$f":"IF($C12=\"\",\"\", IF(EW12=1,0,IF(EU12<>0,500,EP12*$AE12/$AH12+EQ12/$AH12*5+ER12/$AH12*25+ES12*50+ET12*50)))","v":30},null,{"$f":"IF(C12<>\"\",C12,\"\")","v":419},null,1,null,null,null,null,null,null,{"$f":"IF($C12=\"\",\"\", IF(FH12=1,0,IF(FF12<>0,500,FA12*$AE12/$AH12+FB12/$AH12*5+FC12/$AH12*25+FD12*50+FE12*50)))","v":5},null,{"$f":"IF(C12<>\"\",C12,\"\")","v":419},1,null,1,null,null,null,null,null,{"$f":"IF($C12=\"\",\"\", IF(FS12=1,0,IF(FQ12<>0,500,FL12*$AE12/$AH12+FM12/$AH12*5+FN12/$AH12*25+FO12*50+FP12*50)))","v":28},null,{"$f":"IF(C12<>\"\",C12,\"\")","v":419},2,1,1,null,null,null,null,null,{"$f":"IF($C12=\"\",\"\", IF(GD12=1,0,IF(GB12<>0,500,FW12*$AE12/$AH12+FX12/$AH12*5+FY12/$AH12*25+FZ12*50+GA12*50)))","v":36},null,{"$f":"IF(C12<>\"\",C12,\"\")","v":419},1,null,1,null,null,null,null,null,{"$f":"IF($C12=\"\",\"\", IF(GO12=1,0,IF(GM12<>0,500,GH12*$AE12/$AH12+GI12/$AH12*5+GJ12/$AH12*25+GK12*50+GL12*50)))","v":28},null,{"$f":"IF(C12<>\"\",C12,\"\")","v":419},null,1,1,null,null,null,null,null,{"$f":"IF($C12=\"\",\"\", IF(GZ12=1,0,IF(GX12<>0,500,GS12*$AE12/$AH12+GT12/$AH12*5+GU12/$AH12*25+GV12*50+GW12*50)))","v":30},null,{"$f":"IF(C12<>\"\",C12,\"\")","v":419},null,null,null,null,null,null,null,1,{"$f":"IF($C12=\"\",\"\", IF(HK12=1,0,IF(HI12<>0,500,HD12*$AE12/$AH12+HE12/$AH12*5+HF12/$AH12*25+HG12*50+HH12*50)))","v":0},null,{"$f":"IF(C12<>\"\",C12,\"\")","v":419},null,null,null,null,null,null,null,null,{"$f":"IF($C12=\"\",\"\", IF(HV12=1,0,IF(HT12<>0,500,HO12*$AE12/$AH12+HP12/$AH12*5+HQ12/$AH12*25+HR12*50+HS12*50)))","v":0},null,{"$f":"IF(C12<>\"\",C12,\"\")","v":419},null,null,null,null,null,null,null,null,{"$f":"IF($C12=\"\",\"\", IF(IG12=1,0,IF(IE12<>0,500,HZ12*$AE12/$AH12+IA12/$AH12*5+IB12/$AH12*25+IC12*50+ID12*50)))","v":0}]
[null,{"$f":"IF(C13=0,\"\",ROW(C13)-4)","v":9},404,"Slovakia","ToyToy","Robert Kral","Lukas Delincak",{"$f":"IF(C13=0,\"\",IF(OR(BB13=1,BC13<>0),BC13,\"-\"))","v":5},{"$f":"IF(C13=0,\"\",IF(OR(BM13=1,BN13<>0),BN13,\"-\"))","v":3},{"$f":"IF(C13=0,\"\",IF(OR(BX13=1,BY13<>0),BY13,\" -\"))","v":33},{"$f":"IF(C13=0,\"\",IF(OR(CJ13<>0,CI13=1),CJ13,\" -\"))","v":0},{"$f":"IF(C13=0,\"\",IF(OR(CU13<>0,CT13=1),CU13,\" -\"))","v":58},{"$f":"IF(C13=0,\"\",IF(OR(DF13<>0,DE13=1),DF13,\" -\"))","v":0},{"$f":"IF(C13=0,\"\",IF(OR(DQ13<>0,DP13=1),DQ13,\" -\"))","v":0},{"$f":"IF(C13=0,\"\",IF(OR(EB13<>0,EA13=1),EB13,\" -\"))","v":0},{"$f":"IF(C13=0,\"\",IF(OR(EM13<>0,EL13=1),EM13,\" -\"))","v":25},{"$f":"IF(C13=0,\"\",IF(OR(EX13<>0,EW13=1),EX13,\" -\"))","v":0},{"$f":"IF(C13=0,\"\",IF(OR(FI13<>0,FH13=1),FI13,\" -\"))","v":3},{"$f":"IF(C13=0,\"\",IF(OR(FT13<>0,FS13=1),FT13,\" -\"))","v":0},{"$f":"IF(C13=0,\"\",IF(OR(GE13<>0,GD13=1),GE13,\" -\"))","v":53},{"$f":"IF(C13=0,\"\",IF(OR(GP13<>0,GO13=1),GP13,\" -\"))","v":3},{"$f":"IF(C13=0,\"\",IF(OR(HA13<>0,GZ13=1),HA13,\" -\"))","v":108},{"$f":"IF(C13=0,\"\",IF(OR(HL13<>0,HK13=1),HL13,\" -\"))","v":0},{"$f":"IF(C13=0,\"\",IF(AJ13<>0,AJ13,\" -\"))","v":" -"},{"$f":"IF(C13=0,\"\",IF(OR(HW13<>0,HV13=1),HW13,\" -\"))","v":" -"},{"$f":"IF(C13=0,\"\",IF(OR(IH13<>0,IG13=1),IH13,\" -\"))","v":" -"},{"$f":"IF(C13=0,\"\",IF(AL13=1,\"DNF\",IF(AL13=2,\"DSQ\",IF(AM13<>1,\"~ \"&ROUND(SUM(H13:X13),3),ROUND(SUM(H13:X13),3)))))","v":291},null,null,{"$f":"IF(C13<>\"\",C13,\"\")","v":404},{"$f":"IF(AD13<>\"\",3,\"\")","v":3},1000,2000,{"$f":"IF(AD13<>\"\",(AF13/1000*AG13/1000)/2,\"\")","v":1},3,null,null,null,1,null,null,{"$f":"IF(C13=0,99999,IF(AL13>0,9999,SUM(H13:X13)-AN13))","v":291},{"$f":"IF(C13=0,99999,IF(AL13=1,9999,SUM(Y13:Z13)))","v":0},null,null,{"$f":"IF(C13<>\"\",C13,\"\")","v":404},null,1,null,null,null,null,null,null,{"$f":"IF($C13=\"\",\"\", IF(BB13=1,0,IF(AZ13<>0,500,AU13*$AE13/$AH13+AV13/$AH13*5+AW13/$AH13*25+AX13*50+AY13*50)))","v":5},null,{"$f":"IF(C13<>\"\",C13,\"\")","v":404},1,null,null,null,null,null,null,null,{"$f":"IF($C13=\"\",\"\", IF(BM13=1,0,IF(BK13<>0,500,BF13*$AE13/$AH13+BG13/$AH13*5+BH13/$AH13*25+BI13*50+BJ13*50)))","v":3},null,{"$f":"IF(C13<>\"\",C13,\"\")","v":404},1,1,1,null,null,null,null,null,{"$f":"IF($C13=\"\",\"\", IF(BX13=1,0,IF(BV13<>0,500,BQ13*$AE13/$AH13+BR13/$AH13*5+BS13/$AH13*25+BT13*50+BU13*50)))","v":33},null,{"$f":"IF(C13<>\"\",C13,\"\")","v":404},null,null,null,null,null,null,null,1,{"$f":"IF($C13=\"\",\"\", IF(CI13=1,0,IF(CG13<>0,500,CB13*$AE13/$AH13+CC13/$AH13*5+CD13/$AH13*25+CE13*50+CF13*50)))","v":0},null,{"$f":"IF(C13<>\"\",C13,\"\")","v":404},1,1,2,null,null,null,null,null,{"$f":"IF($C13=\"\",\"\", IF(CT13=1,0,IF(CR13<>0,500,CM13*$AE13/$AH13+CN13/$AH13*5+CO13/$AH13*25+CP13*50+CQ13*50)))","v":58},null,{"$f":"IF(C13<>\"\",C13,\"\")","v":404},null,null,null,null,null,null,null,1,{"$f":"IF($C13=\"\",\"\", IF(DE13=1,0,IF(DC13<>0,500,CX13*$AE13/$AH13+CY13/$AH13*5+CZ13/$AH13*25+DA13*50+DB13*50)))","v":0},null,{"$f":"IF(C13<>\"\",C13,\"\")","v":404},null,null,null,null,null,null,null,1,{"$f":"IF($C13=\"\",\"\", IF(DP13=1,0,IF(DN13<>0,500,DI13*$AE13/$AH13+DJ13/$AH13*5+DK13/$AH13*25+DL13*50+DM13*50)))","v":0},null,{"$f":"IF(C13<>\"\",C13,\"\")","v":404},null,null,null,null,null,null,null,1,{"$f":"IF($C13=\"\",\"\", IF(EA13=1,0,IF(DY13<>0,500,DT13*$AE13/$AH13+DU13/$AH13*5+DV13/$AH13*25+DW13*50+DX13*50)))","v":0},null,{"$f":"IF(C13<>\"\",C13,\"\")","v":404},null,null,1,null,null,null,null,null,{"$f":"IF($C13=\"\",\"\", IF(EL13=1,0,IF(EJ13<>0,500,EE13*$AE13/$AH13+EF13/$AH13*5+EG13/$AH13*25+EH13*50+EI13*50)))","v":25},null,{"$f":"IF(C13<>\"\",C13,\"\")","v":404},null,null,null,null,null,null,null,1,{"$f":"IF($C13=\"\",\"\", IF(EW13=1,0,IF(EU13<>0,500,EP13*$AE13/$AH13+EQ13/$AH13*5+ER13/$AH13*25+ES13*50+ET13*50)))","v":0},null,{"$f":"IF(C13<>\"\",C13,\"\")","v":404},1,null,null,null,null,null,null,null,{"$f":"IF($C13=\"\",\"\", IF(FH13=1,0,IF(FF13<>0,500,FA13*$AE13/$AH13+FB13/$AH13*5+FC13/$AH13*25+FD13*50+FE13*50)))","v":3},null,{"$f":"IF(C13<>\"\",C13,\"\")","v":404},null,null,null,null,null,null,null,1,{"$f":"IF($C13=\"\",\"\", IF(FS13=1,0,IF(FQ13<>0,500,FL13*$AE13/$AH13+FM13/$AH13*5+FN13/$AH13*25+FO13*50+FP13*50)))","v":0},null,{"$f":"IF(C13<>\"\",C13,\"\")","v":404},1,null,2,null,null,null,null,null,{"$f":"IF($C13=\"\",\"\", IF(GD13=1,0,IF(GB13<>0,500,FW13*$AE13/$AH13+FX13/$AH13*5+FY13/$AH13*25+FZ13*50+GA13*50)))","v":53},null,{"$f":"IF(C13<>\"\",C13,\"\")","v":404},1,null,null,null,null,null,null,null,{"$f":"IF($C13=\"\",\"\", IF(GO13=1,0,IF(GM13<>0,500,GH13*$AE13/$AH13+GI13/$AH13*5+GJ13/$AH13*25+GK13*50+GL13*50)))","v":3},null,{"$f":"IF(C13<>\"\",C13,\"\")","v":404},1,1,null,1,1,null,"touched port 3 when driving 4",null,{"$f":"IF($C13=\"\",\"\", IF(GZ13=1,0,IF(GX13<>0,500,GS13*$AE13/$AH13+GT13/$AH13*5+GU13/$AH13*25+GV13*50+GW13*50)))","v":108},null,{"$f":"IF(C13<>\"\",C13,\"\")","v":404},null,null,null,null,null,null,null,1,{"$f":"IF($C13=\"\",\"\", IF(HK13=1,0,IF(HI13<>0,500,HD13*$AE13/$AH13+HE13/$AH13*5+HF13/$AH13*25+HG13*50+HH13*50)))","v":0},null,{"$f":"IF(C13<>\"\",C13,\"\")","v":404},null,null,null,null,null,null,null,null,{"$f":"IF($C13=\"\",\"\", IF(HV13=1,0,IF(HT13<>0,500,HO13*$AE13/$AH13+HP13/$AH13*5+HQ13/$AH13*25+HR13*50+HS13*50)))","v":0},null,{"$f":"IF(C13<>\"\",C13,\"\")","v":404},null,null,null,null,null,null,null,null,{"$f":"IF($C13=\"\",\"\", IF(IG13=1,0,IF(IE13<>0,500,HZ13*$AE13/$AH13+IA13/$AH13*5+IB13/$AH13*25+IC13*50+ID13*50)))","v":0}]
[null,{"$f":"IF(C14=0,\"\",ROW(C14)-4)","v":10},420,"Slovakia","Sunimog","Lubomis Stano","Milan Hanecak",{"$f":"IF(C14=0,\"\",IF(OR(BB14=1,BC14<>0),BC14,\"-\"))","v":3},{"$f":"IF(C14=0,\"\",IF(OR(BM14=1,BN14<>0),BN14,\"-\"))","v":5},{"$f":"IF(C14=0,\"\",IF(OR(BX14=1,BY14<>0),BY14,\" -\"))","v":0},{"$f":"IF(C14=0,\"\",IF(OR(CJ14<>0,CI14=1),CJ14,\" -\"))","v":0},{"$f":"IF(C14=0,\"\",IF(OR(CU14<>0,CT14=1),CU14,\" -\"))","v":9},{"$f":"IF(C14=0,\"\",IF(OR(DF14<>0,DE14=1),DF14,\" -\"))","v":10},{"$f":"IF(C14=0,\"\",IF(OR(DQ14<>0,DP14=1),DQ14,\" -\"))","v":25},{"$f":"IF(C14=0,\"\",IF(OR(EB14<>0,EA14=1),EB14,\" -\"))","v":0},{"$f":"IF(C14=0,\"\",IF(OR(EM14<>0,EL14=1),EM14,\" -\"))","v":3},{"$f":"IF(C14=0,\"\",IF(OR(EX14<>0,EW14=1),EX14,\" -\"))","v":0},{"$f":"IF(C14=0,\"\",IF(OR(FI14<>0,FH14=1),FI14,\" -\"))","v":11},{"$f":"IF(C14=0,\"\",IF(OR(FT14<>0,FS14=1),FT14,\" -\"))","v":0},{"$f":"IF(C14=0,\"\",IF(OR(GE14<>0,GD14=1),GE14,\" -\"))","v":262},{"$f":"IF(C14=0,\"\",IF(OR(GP14<>0,GO14=1),GP14,\" -\"))","v":0},{"$f":"IF(C14=0,\"\",IF(OR(HA14<>0,GZ14=1),HA14,\" -\"))","v":25},{"$f":"IF(C14=0,\"\",IF(OR(HL14<>0,HK14=1),HL14,\" -\"))","v":0},{"$f":"IF(C14=0,\"\",IF(AJ14<>0,AJ14,\" -\"))","v":" -"},{"$f":"IF(C14=0,\"\",IF(OR(HW14<>0,HV14=1),HW14,\" -\"))","v":" -"},{"$f":"IF(C14=0,\"\",IF(OR(IH14<>0,IG14=1),IH14,\" -\"))","v":" -"},{"$f":"IF(C14=0,\"\",IF(AL14=1,\"DNF\",IF(AL14=2,\"DSQ\",IF(AM14<>1,\"~ \"&ROUND(SUM(H14:X14),3),ROUND(SUM(H14:X14),3)))))","v":353},null,null,{"$f":"IF(C14<>\"\",C14,\"\")","v":420},{"$f":"IF(AD14<>\"\",3,\"\")","v":3},1000,2000,{"$f":"IF(AD14<>\"\",(AF14/1000*AG14/1000)/2,\"\")","v":1},3,null,null,null,1,null,null,{"$f":"IF(C14=0,99999,IF(AL14>0,9999,SUM(H14:X14)-AN14))","v":353},{"$f":"IF(C14=0,99999,IF(AL14=1,9999,SUM(Y14:Z14)))","v":0},null,null,{"$f":"IF(C14<>\"\",C14,\"\")","v":420},1,null,null,null,null,null,null,null,{"$f":"IF($C14=\"\",\"\", IF(BB14=1,0,IF(AZ14<>0,500,AU14*$AE14/$AH14+AV14/$AH14*5+AW14/$AH14*25+AX14*50+AY14*50)))","v":3},null,{"$f":"IF(C14<>\"\",C14,\"\")","v":420},null,1,null,null,null,null,null,null,{"$f":"IF($C14=\"\",\"\", IF(BM14=1,0,IF(BK14<>0,500,BF14*$AE14/$AH14+BG14/$AH14*5+BH14/$AH14*25+BI14*50+BJ14*50)))","v":5},null,{"$f":"IF(C14<>\"\",C14,\"\")","v":420},null,null,null,null,null,null,null,1,{"$f":"IF($C14=\"\",\"\", IF(BX14=1,0,IF(BV14<>0,500,BQ14*$AE14/$AH14+BR14/$AH14*5+BS14/$AH14*25+BT14*50+BU14*50)))","v":0},null,{"$f":"IF(C14<>\"\",C14,\"\")","v":420},null,null,null,null,null,null,null,1,{"$f":"IF($C14=\"\",\"\", IF(CI14=1,0,IF(CG14<>0,500,CB14*$AE14/$AH14+CC14/$AH14*5+CD14/$AH14*25+CE14*50+CF14*50)))","v":0},null,{"$f":"IF(C14<>\"\",C14,\"\")","v":420},3,null,null,null,null,null,null,null,{"$f":"IF($C14=\"\",\"\", IF(CT14=1,0,IF(CR14<>0,500,CM14*$AE14/$AH14+CN14/$AH14*5+CO14/$AH14*25+CP14*50+CQ14*50)))","v":9},null,{"$f":"IF(C14<>\"\",C14,\"\")","v":420},null,2,null,null,null,null,null,null,{"$f":"IF($C14=\"\",\"\", IF(DE14=1,0,IF(DC14<>0,500,CX14*$AE14/$AH14+CY14/$AH14*5+CZ14/$AH14*25+DA14*50+DB14*50)))","v":10},null,{"$f":"IF(C14<>\"\",C14,\"\")","v":420},null,null,1,null,null,null,null,null,{"$f":"IF($C14=\"\",\"\", IF(DP14=1,0,IF(DN14<>0,500,DI14*$AE14/$AH14+DJ14/$AH14*5+DK14/$AH14*25+DL14*50+DM14*50)))","v":25},null,{"$f":"IF(C14<>\"\",C14,\"\")","v":420},null,null,null,null,null,null,null,1,{"$f":"IF($C14=\"\",\"\", IF(EA14=1,0,IF(DY14<>0,500,DT14*$AE14/$AH14+DU14/$AH14*5+DV14/$AH14*25+DW14*50+DX14*50)))","v":0},null,{"$f":"IF(C14<>\"\",C14,\"\")","v":420},1,null,null,null,null,null,null,null,{"$f":"IF($C14=\"\",\"\", IF(EL14=1,0,IF(EJ14<>0,500,EE14*$AE14/$AH14+EF14/$AH14*5+EG14/$AH14*25+EH14*50+EI14*50)))","v":3},null,{"$f":"IF(C14<>\"\",C14,\"\")","v":420},null,null,null,null,null,null,null,1,{"$f":"IF($C14=\"\",\"\", IF(EW14=1,0,IF(EU14<>0,500,EP14*$AE14/$AH14+EQ14/$AH14*5+ER14/$AH14*25+ES14*50+ET14*50)))","v":0},null,{"$f":"IF(C14<>\"\",C14,\"\")","v":420},2,1,null,null,null,null,null,null,{"$f":"IF($C14=\"\",\"\", IF(FH14=1,0,IF(FF14<>0,500,FA14*$AE14/$AH14+FB14/$AH14*5+FC14/$AH14*25+FD14*50+FE14*50)))","v":11},null,{"$f":"IF(C14<>\"\",C14,\"\")","v":420},null,null,null,null,null,null,null,1,{"$f":"IF($C14=\"\",\"\", IF(FS14=1,0,IF(FQ14<>0,500,FL14*$AE14/$AH14+FM14/$AH14*5+FN14/$AH14*25+FO14*50+FP14*50)))","v":0},null,{"$f":"IF(C14<>\"\",C14,\"\")","v":420},4,null,2,3,1,null,"after 1 drive directly to finish",null,{"$f":"IF($C14=\"\",\"\", IF(GD14=1,0,IF(GB14<>0,500,FW14*$AE14/$AH14+FX14/$AH14*5+FY14/$AH14*25+FZ14*50+GA14*50)))","v":262},null,{"$f":"IF(C14<>\"\",C14,\"\")","v":420},null,null,null,null,null,null,null,1,{"$f":"IF($C14=\"\",\"\", IF(GO14=1,0,IF(GM14<>0,500,GH14*$AE14/$AH14+GI14/$AH14*5+GJ14/$AH14*25+GK14*50+GL14*50)))","v":0},null,{"$f":"IF(C14<>\"\",C14,\"\")","v":420},null,null,1,null,null,null,null,null,{"$f":"IF($C14=\"\",\"\", IF(GZ14=1,0,IF(GX14<>0,500,GS14*$AE14/$AH14+GT14/$AH14*5+GU14/$AH14*25+GV14*50+GW14*50)))","v":25},null,{"$f":"IF(C14<>\"\",C14,\"\")","v":420},null,null,null,null,null,null,null,1,{"$f":"IF($C14=\"\",\"\", IF(HK14=1,0,IF(HI14<>0,500,HD14*$AE14/$AH14+HE14/$AH14*5+HF14/$AH14*25+HG14*50+HH14*50)))","v":0},null,{"$f":"IF(C14<>\"\",C14,\"\")","v":420},null,null,null,null,null,null,null,null,{"$f":"IF($C14=\"\",\"\", IF(HV14=1,0,IF(HT14<>0,500,HO14*$AE14/$AH14+HP14/$AH14*5+HQ14/$AH14*25+HR14*50+HS14*50)))","v":0},null,{"$f":"IF(C14<>\"\",C14,\"\")","v":420},null,null,null,null,null,null,null,null,{"$f":"IF($C14=\"\",\"\", IF(IG14=1,0,IF(IE14<>0,500,HZ14*$AE14/$AH14+IA14/$AH14*5+IB14/$AH14*25+IC14*50+ID14*50)))","v":0}]
[null,{"$f":"IF(C15=0,\"\",ROW(C15)-4)","v":11},406,"Czech Republic","Olaff","Jiří Dufek","Ondřej Dufek",{"$f":"IF(C15=0,\"\",IF(OR(BB15=1,BC15<>0),BC15,\"-\"))","v":31},{"$f":"IF(C15=0,\"\",IF(OR(BM15=1,BN15<>0),BN15,\"-\"))","v":28},{"$f":"IF(C15=0,\"\",IF(OR(BX15=1,BY15<>0),BY15,\" -\"))","v":11},{"$f":"IF(C15=0,\"\",IF(OR(CJ15<>0,CI15=1),CJ15,\" -\"))","v":25},{"$f":"IF(C15=0,\"\",IF(OR(CU15<>0,CT15=1),CU15,\" -\"))","v":39},{"$f":"IF(C15=0,\"\",IF(OR(DF15<>0,DE15=1),DF15,\" -\"))","v":3},{"$f":"IF(C15=0,\"\",IF(OR(DQ15<>0,DP15=1),DQ15,\" -\"))","v":0},{"$f":"IF(C15=0,\"\",IF(OR(EB15<>0,EA15=1),EB15,\" -\"))","v":0},{"$f":"IF(C15=0,\"\",IF(OR(EM15<>0,EL15=1),EM15,\" -\"))","v":181},{"$f":"IF(C15=0,\"\",IF(OR(EX15<>0,EW15=1),EX15,\" -\"))","v":0},{"$f":"IF(C15=0,\"\",IF(OR(FI15<>0,FH15=1),FI15,\" -\"))","v":0},{"$f":"IF(C15=0,\"\",IF(OR(FT15<>0,FS15=1),FT15,\" -\"))","v":3},{"$f":"IF(C15=0,\"\",IF(OR(GE15<>0,GD15=1),GE15,\" -\"))","v":41},{"$f":"IF(C15=0,\"\",IF(OR(GP15<>0,GO15=1),GP15,\" -\"))","v":0},{"$f":"IF(C15=0,\"\",IF(OR(HA15<>0,GZ15=1),HA15,\" -\"))","v":0},{"$f":"IF(C15=0,\"\",IF(OR(HL15<>0,HK15=1),HL15,\" -\"))","v":0},{"$f":"IF(C15=0,\"\",IF(AJ15<>0,AJ15,\" -\"))","v":" -"},{"$f":"IF(C15=0,\"\",IF(OR(HW15<>0,HV15=1),HW15,\" -\"))","v":" -"},{"$f":"IF(C15=0,\"\",IF(OR(IH15<>0,IG15=1),IH15,\" -\"))","v":" -"},{"$f":"IF(C15=0,\"\",IF(AL15=1,\"DNF\",IF(AL15=2,\"DSQ\",IF(AM15<>1,\"~ \"&ROUND(SUM(H15:X15),3),ROUND(SUM(H15:X15),3)))))","v":362},null,null,{"$f":"IF(C15<>\"\",C15,\"\")","v":406},{"$f":"IF(AD15<>\"\",3,\"\")","v":3},1000,2000,{"$f":"IF(AD15<>\"\",(AF15/1000*AG15/1000)/2,\"\")","v":1},3,null,null,null,1,null,null,{"$f":"IF(C15=0,99999,IF(AL15>0,9999,SUM(H15:X15)-AN15))","v":362},{"$f":"IF(C15=0,99999,IF(AL15=1,9999,SUM(Y15:Z15)))","v":0},null,null,{"$f":"IF(C15<>\"\",C15,\"\")","v":406},2,null,1,null,null,null,null,null,{"$f":"IF($C15=\"\",\"\", IF(BB15=1,0,IF(AZ15<>0,500,AU15*$AE15/$AH15+AV15/$AH15*5+AW15/$AH15*25+AX15*50+AY15*50)))","v":31},null,{"$f":"IF(C15<>\"\",C15,\"\")","v":406},1,null,1,null,null,null,null,null,{"$f":"IF($C15=\"\",\"\", IF(BM15=1,0,IF(BK15<>0,500,BF15*$AE15/$AH15+BG15/$AH15*5+BH15/$AH15*25+BI15*50+BJ15*50)))","v":28},null,{"$f":"IF(C15<>\"\",C15,\"\")","v":406},2,1,null,null,null,null,null,null,{"$f":"IF($C15=\"\",\"\", IF(BX15=1,0,IF(BV15<>0,500,BQ15*$AE15/$AH15+BR15/$AH15*5+BS15/$AH15*25+BT15*50+BU15*50)))","v":11},null,{"$f":"IF(C15<>\"\",C15,\"\")","v":406},null,null,1,null,null,null,null,null,{"$f":"IF($C15=\"\",\"\", IF(CI15=1,0,IF(CG15<>0,500,CB15*$AE15/$AH15+CC15/$AH15*5+CD15/$AH15*25+CE15*50+CF15*50)))","v":25},null,{"$f":"IF(C15<>\"\",C15,\"\")","v":406},3,1,1,null,null,null,null,null,{"$f":"IF($C15=\"\",\"\", IF(CT15=1,0,IF(CR15<>0,500,CM15*$AE15/$AH15+CN15/$AH15*5+CO15/$AH15*25+CP15*50+CQ15*50)))","v":39},null,{"$f":"IF(C15<>\"\",C15,\"\")","v":406},1,null,null,null,null,null,null,null,{"$f":"IF($C15=\"\",\"\", IF(DE15=1,0,IF(DC15<>0,500,CX15*$AE15/$AH15+CY15/$AH15*5+CZ15/$AH15*25+DA15*50+DB15*50)))","v":3},null,{"$f":"IF(C15<>\"\",C15,\"\")","v":406},null,null,null,null,null,null,null,1,{"$f":"IF($C15=\"\",\"\", IF(DP15=1,0,IF(DN15<>0,500,DI15*$AE15/$AH15+DJ15/$AH15*5+DK15/$AH15*25+DL15*50+DM15*50)))","v":0},null,{"$f":"IF(C15<>\"\",C15,\"\")","v":406},null,null,null,null,null,null,null,1,{"$f":"IF($C15=\"\",\"\", IF(EA15=1,0,IF(DY15<>0,500,DT15*$AE15/$AH15+DU15/$AH15*5+DV15/$AH15*25+DW15*50+DX15*50)))","v":0},null,{"$f":"IF(C15<>\"\",C15,\"\")","v":406},2,null,1,2,1,null,"broken gate",null,{"$f":"IF($C15=\"\",\"\", IF(EL15=1,0,IF(EJ15<>0,500,EE15*$AE15/$AH15+EF15/$AH15*5+EG15/$AH15*25+EH15*50+EI15*50)))","v":181},null,{"$f":"IF(C15<>\"\",C15,\"\")","v":406},null,null,null,null,null,null,null,1,{"$f":"IF($C15=\"\",\"\", IF(EW15=1,0,IF(EU15<>0,500,EP15*$AE15/$AH15+EQ15/$AH15*5+ER15/$AH15*25+ES15*50+ET15*50)))","v":0},null,{"$f":"IF(C15<>\"\",C15,\"\")","v":406},null,null,null,null,null,null,null,1,{"$f":"IF($C15=\"\",\"\", IF(FH15=1,0,IF(FF15<>0,500,FA15*$AE15/$AH15+FB15/$AH15*5+FC15/$AH15*25+FD15*50+FE15*50)))","v":0},null,{"$f":"IF(C15<>\"\",C15,\"\")","v":406},1,null,null,null,null,null,null,null,{"$f":"IF($C15=\"\",\"\", IF(FS15=1,0,IF(FQ15<>0,500,FL15*$AE15/$AH15+FM15/$AH15*5+FN15/$AH15*25+FO15*50+FP15*50)))","v":3},null,{"$f":"IF(C15<>\"\",C15,\"\")","v":406},2,2,1,null,null,null,null,null,{"$f":"IF($C15=\"\",\"\", IF(GD15=1,0,IF(GB15<>0,500,FW15*$AE15/$AH15+FX15/$AH15*5+FY15/$AH15*25+FZ15*50+GA15*50)))","v":41},null,{"$f":"IF(C15<>\"\",C15,\"\")","v":406},null,null,null,null,null,null,null,1,{"$f":"IF($C15=\"\",\"\", IF(GO15=1,0,IF(GM15<>0,500,GH15*$AE15/$AH15+GI15/$AH15*5+GJ15/$AH15*25+GK15*50+GL15*50)))","v":0},null,{"$f":"IF(C15<>\"\",C15,\"\")","v":406},null,null,null,null,null,null,null,1,{"$f":"IF($C15=\"\",\"\", IF(GZ15=1,0,IF(GX15<>0,500,GS15*$AE15/$AH15+GT15/$AH15*5+GU15/$AH15*25+GV15*50+GW15*50)))","v":0},null,{"$f":"IF(C15<>\"\",C15,\"\")","v":406},null,null,null,null,null,null,null,1,{"$f":"IF($C15=\"\",\"\", IF(HK15=1,0,IF(HI15<>0,500,HD15*$AE15/$AH15+HE15/$AH15*5+HF15/$AH15*25+HG15*50+HH15*50)))","v":0},null,{"$f":"IF(C15<>\"\",C15,\"\")","v":406},null,null,null,null,null,null,null,null,{"$f":"IF($C15=\"\",\"\", IF(HV15=1,0,IF(HT15<>0,500,HO15*$AE15/$AH15+HP15/$AH15*5+HQ15/$AH15*25+HR15*50+HS15*50)))","v":0},null,{"$f":"IF(C15<>\"\",C15,\"\")","v":406},null,null,null,null,null,null,null,null,{"$f":"IF($C15=\"\",\"\", IF(IG15=1,0,IF(IE15<>0,500,HZ15*$AE15/$AH15+IA15/$AH15*5+IB15/$AH15*25+IC15*50+ID15*50)))","v":0}]
[null,{"$f":"IF(C16=0,\"\",ROW(C16)-4)","v":12},411,"Norway","Jeep","Trygve Scanholm",null,{"$f":"IF(C16=0,\"\",IF(OR(BB16=1,BC16<>0),BC16,\"-\"))","v":25},{"$f":"IF(C16=0,\"\",IF(OR(BM16=1,BN16<>0),BN16,\"-\"))","v":31},{"$f":"IF(C16=0,\"\",IF(OR(BX16=1,BY16<>0),BY16,\" -\"))","v":0},{"$f":"IF(C16=0,\"\",IF(OR(CJ16<>0,CI16=1),CJ16,\" -\"))","v":0},{"$f":"IF(C16=0,\"\",IF(OR(CU16<>0,CT16=1),CU16,\" -\"))","v":86},{"$f":"IF(C16=0,\"\",IF(OR(DF16<>0,DE16=1),DF16,\" -\"))","v":0},{"$f":"IF(C16=0,\"\",IF(OR(DQ16<>0,DP16=1),DQ16,\" -\"))","v":14},{"$f":"IF(C16=0,\"\",IF(OR(EB16<>0,EA16=1),EB16,\" -\"))","v":156},{"$f":"IF(C16=0,\"\",IF(OR(EM16<>0,EL16=1),EM16,\" -\"))","v":25},{"$f":"IF(C16=0,\"\",IF(OR(EX16<>0,EW16=1),EX16,\" -\"))","v":3},{"$f":"IF(C16=0,\"\",IF(OR(FI16<>0,FH16=1),FI16,\" -\"))","v":6},{"$f":"IF(C16=0,\"\",IF(OR(FT16<>0,FS16=1),FT16,\" -\"))","v":9},{"$f":"IF(C16=0,\"\",IF(OR(GE16<>0,GD16=1),GE16,\" -\"))","v":25},{"$f":"IF(C16=0,\"\",IF(OR(GP16<>0,GO16=1),GP16,\" -\"))","v":0},{"$f":"IF(C16=0,\"\",IF(OR(HA16<>0,GZ16=1),HA16,\" -\"))","v":3},{"$f":"IF(C16=0,\"\",IF(OR(HL16<>0,HK16=1),HL16,\" -\"))","v":0},{"$f":"IF(C16=0,\"\",IF(AJ16<>0,AJ16,\" -\"))","v":" -"},{"$f":"IF(C16=0,\"\",IF(OR(HW16<>0,HV16=1),HW16,\" -\"))","v":" -"},{"$f":"IF(C16=0,\"\",IF(OR(IH16<>0,IG16=1),IH16,\" -\"))","v":" -"},{"$f":"IF(C16=0,\"\",IF(AL16=1,\"DNF\",IF(AL16=2,\"DSQ\",IF(AM16<>1,\"~ \"&ROUND(SUM(H16:X16),3),ROUND(SUM(H16:X16),3)))))","v":383},null,null,{"$f":"IF(C16<>\"\",C16,\"\")","v":411},{"$f":"IF(AD16<>\"\",3,\"\")","v":3},1000,2000,{"$f":"IF(AD16<>\"\",(AF16/1000*AG16/1000)/2,\"\")","v":1},3,null,null,null,1,null,null,{"$f":"IF(C16=0,99999,IF(AL16>0,9999,SUM(H16:X16)-AN16))","v":383},{"$f":"IF(C16=0,99999,IF(AL16=1,9999,SUM(Y16:Z16)))","v":0},null,null,{"$f":"IF(C16<>\"\",C16,\"\")","v":411},null,null,1,null,null,null,null,null,{"$f":"IF($C16=\"\",\"\", IF(BB16=1,0,IF(AZ16<>0,500,AU16*$AE16/$AH16+AV16/$AH16*5+AW16/$AH16*25+AX16*50+AY16*50)))","v":25},null,{"$f":"IF(C16<>\"\",C16,\"\")","v":411},2,null,1,null,null,null,null,null,{"$f":"IF($C16=\"\",\"\", IF(BM16=1,0,IF(BK16<>0,500,BF16*$AE16/$AH16+BG16/$AH16*5+BH16/$AH16*25+BI16*50+BJ16*50)))","v":31},null,{"$f":"IF(C16<>\"\",C16,\"\")","v":411},null,null,null,null,null,null,null,1,{"$f":"IF($C16=\"\",\"\", IF(BX16=1,0,IF(BV16<>0,500,BQ16*$AE16/$AH16+BR16/$AH16*5+BS16/$AH16*25+BT16*50+BU16*50)))","v":0},null,{"$f":"IF(C16<>\"\",C16,\"\")","v":411},null,null,null,null,null,null,null,1,{"$f":"IF($C16=\"\",\"\", IF(CI16=1,0,IF(CG16<>0,500,CB16*$AE16/$AH16+CC16/$AH16*5+CD16/$AH16*25+CE16*50+CF16*50)))","v":0},null,{"$f":"IF(C16<>\"\",C16,\"\")","v":411},2,1,1,null,1,null,"towed",null,{"$f":"IF($C16=\"\",\"\", IF(CT16=1,0,IF(CR16<>0,500,CM16*$AE16/$AH16+CN16/$AH16*5+CO16/$AH16*25+CP16*50+CQ16*50)))","v":86},null,{"$f":"IF(C16<>\"\",C16,\"\")","v":411},null,null,null,null,null,null,null,1,{"$f":"IF($C16=\"\",\"\", IF(DE16=1,0,IF(DC16<>0,500,CX16*$AE16/$AH16+CY16/$AH16*5+CZ16/$AH16*25+DA16*50+DB16*50)))","v":0},null,{"$f":"IF(C16<>\"\",C16,\"\")","v":411},3,1,null,null,null,null,null,null,{"$f":"IF($C16=\"\",\"\", IF(DP16=1,0,IF(DN16<>0,500,DI16*$AE16/$AH16+DJ16/$AH16*5+DK16/$AH16*25+DL16*50+DM16*50)))","v":14},null,{"$f":"IF(C16<>\"\",C16,\"\")","v":411},2,null,2,1,1,null,"broken stick",null,{"$f":"IF($C16=\"\",\"\", IF(EA16=1,0,IF(DY16<>0,500,DT16*$AE16/$AH16+DU16/$AH16*5+DV16/$AH16*25+DW16*50+DX16*50)))","v":156},null,{"$f":"IF(C16<>\"\",C16,\"\")","v":411},null,null,1,null,null,null,null,null,{"$f":"IF($C16=\"\",\"\", IF(EL16=1,0,IF(EJ16<>0,500,EE16*$AE16/$AH16+EF16/$AH16*5+EG16/$AH16*25+EH16*50+EI16*50)))","v":25},null,{"$f":"IF(C16<>\"\",C16,\"\")","v":411},1,null,null,null,null,null,null,null,{"$f":"IF($C16=\"\",\"\", IF(EW16=1,0,IF(EU16<>0,500,EP16*$AE16/$AH16+EQ16/$AH16*5+ER16/$AH16*25+ES16*50+ET16*50)))","v":3},null,{"$f":"IF(C16<>\"\",C16,\"\")","v":411},2,null,null,null,null,null,null,null,{"$f":"IF($C16=\"\",\"\", IF(FH16=1,0,IF(FF16<>0,500,FA16*$AE16/$AH16+FB16/$AH16*5+FC16/$AH16*25+FD16*50+FE16*50)))","v":6},null,{"$f":"IF(C16<>\"\",C16,\"\")","v":411},3,null,null,null,null,null,null,null,{"$f":"IF($C16=\"\",\"\", IF(FS16=1,0,IF(FQ16<>0,500,FL16*$AE16/$AH16+FM16/$AH16*5+FN16/$AH16*25+FO16*50+FP16*50)))","v":9},null,{"$f":"IF(C16<>\"\",C16,\"\")","v":411},null,null,1,null,null,null,null,null,{"$f":"IF($C16=\"\",\"\", IF(GD16=1,0,IF(GB16<>0,500,FW16*$AE16/$AH16+FX16/$AH16*5+FY16/$AH16*25+FZ16*50+GA16*50)))","v":25},null,{"$f":"IF(C16<>\"\",C16,\"\")","v":411},null,null,null,null,null,null,null,1,{"$f":"IF($C16=\"\",\"\", IF(GO16=1,0,IF(GM16<>0,500,GH16*$AE16/$AH16+GI16/$AH16*5+GJ16/$AH16*25+GK16*50+GL16*50)))","v":0},null,{"$f":"IF(C16<>\"\",C16,\"\")","v":411},1,null,null,null,null,null,null,null,{"$f":"IF($C16=\"\",\"\", IF(GZ16=1,0,IF(GX16<>0,500,GS16*$AE16/$AH16+GT16/$AH16*5+GU16/$AH16*25+GV16*50+GW16*50)))","v":3},null,{"$f":"IF(C16<>\"\",C16,\"\")","v":411},null,null,null,null,null,null,null,1,{"$f":"IF($C16=\"\",\"\", IF(HK16=1,0,IF(HI16<>0,500,HD16*$AE16/$AH16+HE16/$AH16*5+HF16/$AH16*25+HG16*50+HH16*50)))","v":0},null,{"$f":"IF(C16<>\"\",C16,\"\")","v":411},null,null,null,null,null,null,null,null,{"$f":"IF($C16=\"\",\"\", IF(HV16=1,0,IF(HT16<>0,500,HO16*$AE16/$AH16+HP16/$AH16*5+HQ16/$AH16*25+HR16*50+HS16*50)))","v":0},null,{"$f":"IF(C16<>\"\",C16,\"\")","v":411},null,null,null,null,null,null,null,null,{"$f":"IF($C16=\"\",\"\", IF(IG16=1,0,IF(IE16<>0,500,HZ16*$AE16/$AH16+IA16/$AH16*5+IB16/$AH16*25+IC16*50+ID16*50)))","v":0}]
[null,{"$f":"IF(C17=0,\"\",ROW(C17)-4)","v":13},405,"Germany","ProModi","Jochen Neumann","Theresa neumann",{"$f":"IF(C17=0,\"\",IF(OR(BB17=1,BC17<>0),BC17,\"-\"))","v":8},{"$f":"IF(C17=0,\"\",IF(OR(BM17=1,BN17<>0),BN17,\"-\"))","v":9},{"$f":"IF(C17=0,\"\",IF(OR(BX17=1,BY17<>0),BY17,\" -\"))","v":36},{"$f":"IF(C17=0,\"\",IF(OR(CJ17<>0,CI17=1),CJ17,\" -\"))","v":38},{"$f":"IF(C17=0,\"\",IF(OR(CU17<>0,CT17=1),CU17,\" -\"))","v":81},{"$f":"IF(C17=0,\"\",IF(OR(DF17<>0,DE17=1),DF17,\" -\"))","v":81},{"$f":"IF(C17=0,\"\",IF(OR(DQ17<>0,DP17=1),DQ17,\" -\"))","v":35},{"$f":"IF(C17=0,\"\",IF(OR(EB17<>0,EA17=1),EB17,\" -\"))","v":11},{"$f":"IF(C17=0,\"\",IF(OR(EM17<>0,EL17=1),EM17,\" -\"))","v":6},{"$f":"IF(C17=0,\"\",IF(OR(EX17<>0,EW17=1),EX17,\" -\"))","v":0},{"$f":"IF(C17=0,\"\",IF(OR(FI17<>0,FH17=1),FI17,\" -\"))","v":3},{"$f":"IF(C17=0,\"\",IF(OR(FT17<>0,FS17=1),FT17,\" -\"))","v":0},{"$f":"IF(C17=0,\"\",IF(OR(GE17<>0,GD17=1),GE17,\" -\"))","v":25},{"$f":"IF(C17=0,\"\",IF(OR(GP17<>0,GO17=1),GP17,\" -\"))","v":3},{"$f":"IF(C17=0,\"\",IF(OR(HA17<>0,GZ17=1),HA17,\" -\"))","v":31},{"$f":"IF(C17=0,\"\",IF(OR(HL17<>0,HK17=1),HL17,\" -\"))","v":30},{"$f":"IF(C17=0,\"\",IF(AJ17<>0,AJ17,\" -\"))","v":" -"},{"$f":"IF(C17=0,\"\",IF(OR(HW17<>0,HV17=1),HW17,\" -\"))","v":" -"},{"$f":"IF(C17=0,\"\",IF(OR(IH17<>0,IG17=1),IH17,\" -\"))","v":" -"},{"$f":"IF(C17=0,\"\",IF(AL17=1,\"DNF\",IF(AL17=2,\"DSQ\",IF(AM17<>1,\"~ \"&ROUND(SUM(H17:X17),3),ROUND(SUM(H17:X17),3)))))","v":397},null,null,{"$f":"IF(C17<>\"\",C17,\"\")","v":405},{"$f":"IF(AD17<>\"\",3,\"\")","v":3},1000,2000,{"$f":"IF(AD17<>\"\",(AF17/1000*AG17/1000)/2,\"\")","v":1},3,null,null,null,1,null,null,{"$f":"IF(C17=0,99999,IF(AL17>0,9999,SUM(H17:X17)-AN17))","v":397},{"$f":"IF(C17=0,99999,IF(AL17=1,9999,SUM(Y17:Z17)))","v":0},null,null,{"$f":"IF(C17<>\"\",C17,\"\")","v":405},1,1,null,null,null,null,null,null,{"$f":"IF($C17=\"\",\"\", IF(BB17=1,0,IF(AZ17<>0,500,AU17*$AE17/$AH17+AV17/$AH17*5+AW17/$AH17*25+AX17*50+AY17*50)))","v":8},null,{"$f":"IF(C17<>\"\",C17,\"\")","v":405},3,null,null,null,null,null,null,null,{"$f":"IF($C17=\"\",\"\", IF(BM17=1,0,IF(BK17<>0,500,BF17*$AE17/$AH17+BG17/$AH17*5+BH17/$AH17*25+BI17*50+BJ17*50)))","v":9},null,{"$f":"IF(C17<>\"\",C17,\"\")","v":405},2,1,1,null,null,null,null,null,{"$f":"IF($C17=\"\",\"\", IF(BX17=1,0,IF(BV17<>0,500,BQ17*$AE17/$AH17+BR17/$AH17*5+BS17/$AH17*25+BT17*50+BU17*50)))","v":36},null,{"$f":"IF(C17<>\"\",C17,\"\")","v":405},1,2,1,null,null,null,null,null,{"$f":"IF($C17=\"\",\"\", IF(CI17=1,0,IF(CG17<>0,500,CB17*$AE17/$AH17+CC17/$AH17*5+CD17/$AH17*25+CE17*50+CF17*50)))","v":38},null,{"$f":"IF(C17<>\"\",C17,\"\")","v":405},2,null,3,null,null,null,null,null,{"$f":"IF($C17=\"\",\"\", IF(CT17=1,0,IF(CR17<>0,500,CM17*$AE17/$AH17+CN17/$AH17*5+CO17/$AH17*25+CP17*50+CQ17*50)))","v":81},null,{"$f":"IF(C17<>\"\",C17,\"\")","v":405},2,null,1,null,1,null,"car broke down",null,{"$f":"IF($C17=\"\",\"\", IF(DE17=1,0,IF(DC17<>0,500,CX17*$AE17/$AH17+CY17/$AH17*5+CZ17/$AH17*25+DA17*50+DB17*50)))","v":81},null,{"$f":"IF(C17<>\"\",C17,\"\")","v":405},null,2,1,null,null,null,null,null,{"$f":"IF($C17=\"\",\"\", IF(DP17=1,0,IF(DN17<>0,500,DI17*$AE17/$AH17+DJ17/$AH17*5+DK17/$AH17*25+DL17*50+DM17*50)))","v":35},null,{"$f":"IF(C17<>\"\",C17,\"\")","v":405},2,1,null,null,null,null,null,null,{"$f":"IF($C17=\"\",\"\", IF(EA17=1,0,IF(DY17<>0,500,DT17*$AE17/$AH17+DU17/$AH17*5+DV17/$AH17*25+DW17*50+DX17*50)))","v":11},null,{"$f":"IF(C17<>\"\",C17,\"\")","v":405},2,null,null,null,null,null,null,null,{"$f":"IF($C17=\"\",\"\", IF(EL17=1,0,IF(EJ17<>0,500,EE17*$AE17/$AH17+EF17/$AH17*5+EG17/$AH17*25+EH17*50+EI17*50)))","v":6},null,{"$f":"IF(C17<>\"\",C17,\"\")","v":405},null,null,null,null,null,null,null,1,{"$f":"IF($C17=\"\",\"\", IF(EW17=1,0,IF(EU17<>0,500,EP17*$AE17/$AH17+EQ17/$AH17*5+ER17/$AH17*25+ES17*50+ET17*50)))","v":0},null,{"$f":"IF(C17<>\"\",C17,\"\")","v":405},1,null,null,null,null,null,null,null,{"$f":"IF($C17=\"\",\"\", IF(FH17=1,0,IF(FF17<>0,500,FA17*$AE17/$AH17+FB17/$AH17*5+FC17/$AH17*25+FD17*50+FE17*50)))","v":3},null,{"$f":"IF(C17<>\"\",C17,\"\")","v":405},null,null,null,null,null,null,null,1,{"$f":"IF($C17=\"\",\"\", IF(FS17=1,0,IF(FQ17<>0,500,FL17*$AE17/$AH17+FM17/$AH17*5+FN17/$AH17*25+FO17*50+FP17*50)))","v":0},null,{"$f":"IF(C17<>\"\",C17,\"\")","v":405},null,null,1,null,null,null,null,null,{"$f":"IF($C17=\"\",\"\", IF(GD17=1,0,IF(GB17<>0,500,FW17*$AE17/$AH17+FX17/$AH17*5+FY17/$AH17*25+FZ17*50+GA17*50)))","v":25},null,{"$f":"IF(C17<>\"\",C17,\"\")","v":405},1,null,null,null,null,null,null,null,{"$f":"IF($C17=\"\",\"\", IF(GO17=1,0,IF(GM17<>0,500,GH17*$AE17/$AH17+GI17/$AH17*5+GJ17/$AH17*25+GK17*50+GL17*50)))","v":3},null,{"$f":"IF(C17<>\"\",C17,\"\")","v":405},2,null,1,null,null,null,null,null,{"$f":"IF($C17=\"\",\"\", IF(GZ17=1,0,IF(GX17<>0,500,GS17*$AE17/$AH17+GT17/$AH17*5+GU17/$AH17*25+GV17*50+GW17*50)))","v":31},null,{"$f":"IF(C17<>\"\",C17,\"\")","v":405},null,1,1,null,null,null,null,null,{"$f":"IF($C17=\"\",\"\", IF(HK17=1,0,IF(HI17<>0,500,HD17*$AE17/$AH17+HE17/$AH17*5+HF17/$AH17*25+HG17*50+HH17*50)))","v":30},null,{"$f":"IF(C17<>\"\",C17,\"\")","v":405},null,null,null,null,null,null,null,null,{"$f":"IF($C17=\"\",\"\", IF(HV17=1,0,IF(HT17<>0,500,HO17*$AE17/$AH17+HP17/$AH17*5+HQ17/$AH17*25+HR17*50+HS17*50)))","v":0},null,{"$f":"IF(C17<>\"\",C17,\"\")","v":405},null,null,null,null,null,null,null,null,{"$f":"IF($C17=\"\",\"\", IF(IG17=1,0,IF(IE17<>0,500,HZ17*$AE17/$AH17+IA17/$AH17*5+IB17/$AH17*25+IC17*50+ID17*50)))","v":0}]
[null,{"$f":"IF(C18=0,\"\",ROW(C18)-4)","v":14},416,"Finland","Big Suzuki","Miika Oksanen","Tommi Löytynoja",{"$f":"IF(C18=0,\"\",IF(OR(BB18=1,BC18<>0),BC18,\"-\"))","v":0},{"$f":"IF(C18=0,\"\",IF(OR(BM18=1,BN18<>0),BN18,\"-\"))","v":8},{"$f":"IF(C18=0,\"\",IF(OR(BX18=1,BY18<>0),BY18,\" -\"))","v":0},{"$f":"IF(C18=0,\"\",IF(OR(CJ18<>0,CI18=1),CJ18,\" -\"))","v":0},{"$f":"IF(C18=0,\"\",IF(OR(CU18<>0,CT18=1),CU18,\" -\"))","v":63},{"$f":"IF(C18=0,\"\",IF(OR(DF18<>0,DE18=1),DF18,\" -\"))","v":0},{"$f":"IF(C18=0,\"\",IF(OR(DQ18<>0,DP18=1),DQ18,\" -\"))","v":0},{"$f":"IF(C18=0,\"\",IF(OR(EB18<>0,EA18=1),EB18,\" -\"))","v":3},{"$f":"IF(C18=0,\"\",IF(OR(EM18<>0,EL18=1),EM18,\" -\"))","v":3},{"$f":"IF(C18=0,\"\",IF(OR(EX18<>0,EW18=1),EX18,\" -\"))","v":103},{"$f":"IF(C18=0,\"\",IF(OR(FI18<>0,FH18=1),FI18,\" -\"))","v":31},{"$f":"IF(C18=0,\"\",IF(OR(FT18<>0,FS18=1),FT18,\" -\"))","v":203},{"$f":"IF(C18=0,\"\",IF(OR(GE18<>0,GD18=1),GE18,\" -\"))","v":50},{"$f":"IF(C18=0,\"\",IF(OR(GP18<>0,GO18=1),GP18,\" -\"))","v":0},{"$f":"IF(C18=0,\"\",IF(OR(HA18<>0,GZ18=1),HA18,\" -\"))","v":28},{"$f":"IF(C18=0,\"\",IF(OR(HL18<>0,HK18=1),HL18,\" -\"))","v":0},{"$f":"IF(C18=0,\"\",IF(AJ18<>0,AJ18,\" -\"))","v":" -"},{"$f":"IF(C18=0,\"\",IF(OR(HW18<>0,HV18=1),HW18,\" -\"))","v":" -"},{"$f":"IF(C18=0,\"\",IF(OR(IH18<>0,IG18=1),IH18,\" -\"))","v":" -"},{"$f":"IF(C18=0,\"\",IF(AL18=1,\"DNF\",IF(AL18=2,\"DSQ\",IF(AM18<>1,\"~ \"&ROUND(SUM(H18:X18),3),ROUND(SUM(H18:X18),3)))))","v":492},null,null,{"$f":"IF(C18<>\"\",C18,\"\")","v":416},{"$f":"IF(AD18<>\"\",3,\"\")","v":3},1000,2000,{"$f":"IF(AD18<>\"\",(AF18/1000*AG18/1000)/2,\"\")","v":1},3,null,null,null,1,null,null,{"$f":"IF(C18=0,99999,IF(AL18>0,9999,SUM(H18:X18)-AN18))","v":492},{"$f":"IF(C18=0,99999,IF(AL18=1,9999,SUM(Y18:Z18)))","v":0},null,null,{"$f":"IF(C18<>\"\",C18,\"\")","v":416},null,null,null,null,null,null,null,1,{"$f":"IF($C18=\"\",\"\", IF(BB18=1,0,IF(AZ18<>0,500,AU18*$AE18/$AH18+AV18/$AH18*5+AW18/$AH18*25+AX18*50+AY18*50)))","v":0},null,{"$f":"IF(C18<>\"\",C18,\"\")","v":416},1,1,null,null,null,null,null,null,{"$f":"IF($C18=\"\",\"\", IF(BM18=1,0,IF(BK18<>0,500,BF18*$AE18/$AH18+BG18/$AH18*5+BH18/$AH18*25+BI18*50+BJ18*50)))","v":8},null,{"$f":"IF(C18<>\"\",C18,\"\")","v":416},null,null,null,null,null,null,null,1,{"$f":"IF($C18=\"\",\"\", IF(BX18=1,0,IF(BV18<>0,500,BQ18*$AE18/$AH18+BR18/$AH18*5+BS18/$AH18*25+BT18*50+BU18*50)))","v":0},null,{"$f":"IF(C18<>\"\",C18,\"\")","v":416},null,null,null,null,null,null,null,1,{"$f":"IF($C18=\"\",\"\", IF(CI18=1,0,IF(CG18<>0,500,CB18*$AE18/$AH18+CC18/$AH18*5+CD18/$AH18*25+CE18*50+CF18*50)))","v":0},null,{"$f":"IF(C18<>\"\",C18,\"\")","v":416},1,2,2,null,null,null,null,null,{"$f":"IF($C18=\"\",\"\", IF(CT18=1,0,IF(CR18<>0,500,CM18*$AE18/$AH18+CN18/$AH18*5+CO18/$AH18*25+CP18*50+CQ18*50)))","v":63},null,{"$f":"IF(C18<>\"\",C18,\"\")","v":416},null,null,null,null,null,null,null,1,{"$f":"IF($C18=\"\",\"\", IF(DE18=1,0,IF(DC18<>0,500,CX18*$AE18/$AH18+CY18/$AH18*5+CZ18/$AH18*25+DA18*50+DB18*50)))","v":0},null,{"$f":"IF(C18<>\"\",C18,\"\")","v":416},null,null,null,null,null,null,null,1,{"$f":"IF($C18=\"\",\"\", IF(DP18=1,0,IF(DN18<>0,500,DI18*$AE18/$AH18+DJ18/$AH18*5+DK18/$AH18*25+DL18*50+DM18*50)))","v":0},null,{"$f":"IF(C18<>\"\",C18,\"\")","v":416},1,null,null,null,null,null,null,null,{"$f":"IF($C18=\"\",\"\", IF(EA18=1,0,IF(DY18<>0,500,DT18*$AE18/$AH18+DU18/$AH18*5+DV18/$AH18*25+DW18*50+DX18*50)))","v":3},null,{"$f":"IF(C18<>\"\",C18,\"\")","v":416},1,null,null,null,null,null,null,null,{"$f":"IF($C18=\"\",\"\", IF(EL18=1,0,IF(EJ18<>0,500,EE18*$AE18/$AH18+EF18/$AH18*5+EG18/$AH18*25+EH18*50+EI18*50)))","v":3},null,{"$f":"IF(C18<>\"\",C18,\"\")","v":416},1,null,null,1,1,null,"fronttire took down stick nro 4",null,{"$f":"IF($C18=\"\",\"\", IF(EW18=1,0,IF(EU18<>0,500,EP18*$AE18/$AH18+EQ18/$AH18*5+ER18/$AH18*25+ES18*50+ET18*50)))","v":103},null,{"$f":"IF(C18<>\"\",C18,\"\")","v":416},2,null,1,null,null,null,null,null,{"$f":"IF($C18=\"\",\"\", IF(FH18=1,0,IF(FF18<>0,500,FA18*$AE18/$AH18+FB18/$AH18*5+FC18/$AH18*25+FD18*50+FE18*50)))","v":31},null,{"$f":"IF(C18<>\"\",C18,\"\")","v":416},1,null,null,3,1,null,"technical problme",null,{"$f":"IF($C18=\"\",\"\", IF(FS18=1,0,IF(FQ18<>0,500,FL18*$AE18/$AH18+FM18/$AH18*5+FN18/$AH18*25+FO18*50+FP18*50)))","v":203},null,{"$f":"IF(C18<>\"\",C18,\"\")","v":416},null,null,2,null,null,null,null,null,{"$f":"IF($C18=\"\",\"\", IF(GD18=1,0,IF(GB18<>0,500,FW18*$AE18/$AH18+FX18/$AH18*5+FY18/$AH18*25+FZ18*50+GA18*50)))","v":50},null,{"$f":"IF(C18<>\"\",C18,\"\")","v":416},null,null,null,null,null,null,null,1,{"$f":"IF($C18=\"\",\"\", IF(GO18=1,0,IF(GM18<>0,500,GH18*$AE18/$AH18+GI18/$AH18*5+GJ18/$AH18*25+GK18*50+GL18*50)))","v":0},null,{"$f":"IF(C18<>\"\",C18,\"\")","v":416},1,null,1,null,null,null,null,null,{"$f":"IF($C18=\"\",\"\", IF(GZ18=1,0,IF(GX18<>0,500,GS18*$AE18/$AH18+GT18/$AH18*5+GU18/$AH18*25+GV18*50+GW18*50)))","v":28},null,{"$f":"IF(C18<>\"\",C18,\"\")","v":416},null,null,null,null,null,null,null,1,{"$f":"IF($C18=\"\",\"\", IF(HK18=1,0,IF(HI18<>0,500,HD18*$AE18/$AH18+HE18/$AH18*5+HF18/$AH18*25+HG18*50+HH18*50)))","v":0},null,{"$f":"IF(C18<>\"\",C18,\"\")","v":416},null,null,null,null,null,null,null,null,{"$f":"IF($C18=\"\",\"\", IF(HV18=1,0,IF(HT18<>0,500,HO18*$AE18/$AH18+HP18/$AH18*5+HQ18/$AH18*25+HR18*50+HS18*50)))","v":0},null,{"$f":"IF(C18<>\"\",C18,\"\")","v":416},null,null,null,null,null,null,null,null,{"$f":"IF($C18=\"\",\"\", IF(IG18=1,0,IF(IE18<>0,500,HZ18*$AE18/$AH18+IA18/$AH18*5+IB18/$AH18*25+IC18*50+ID18*50)))","v":0}]
[null,{"$f":"IF(C19=0,\"\",ROW(C19)-4)","v":15},421,"Norway","Jeep CJ-5","Morten Slåen","Tomasz Gorski",{"$f":"IF(C19=0,\"\",IF(OR(BB19=1,BC19<>0),BC19,\"-\"))","v":5},{"$f":"IF(C19=0,\"\",IF(OR(BM19=1,BN19<>0),BN19,\"-\"))","v":103},{"$f":"IF(C19=0,\"\",IF(OR(BX19=1,BY19<>0),BY19,\" -\"))","v":3},{"$f":"IF(C19=0,\"\",IF(OR(CJ19<>0,CI19=1),CJ19,\" -\"))","v":0},{"$f":"IF(C19=0,\"\",IF(OR(CU19<>0,CT19=1),CU19,\" -\"))","v":64},{"$f":"IF(C19=0,\"\",IF(OR(DF19<>0,DE19=1),DF19,\" -\"))","v":105},{"$f":"IF(C19=0,\"\",IF(OR(DQ19<>0,DP19=1),DQ19,\" -\"))","v":38},{"$f":"IF(C19=0,\"\",IF(OR(EB19<>0,EA19=1),EB19,\" -\"))","v":11},{"$f":"IF(C19=0,\"\",IF(OR(EM19<>0,EL19=1),EM19,\" -\"))","v":36},{"$f":"IF(C19=0,\"\",IF(OR(EX19<>0,EW19=1),EX19,\" -\"))","v":0},{"$f":"IF(C19=0,\"\",IF(OR(FI19<>0,FH19=1),FI19,\" -\"))","v":5},{"$f":"IF(C19=0,\"\",IF(OR(FT19<>0,FS19=1),FT19,\" -\"))","v":146},{"$f":"IF(C19=0,\"\",IF(OR(GE19<>0,GD19=1),GE19,\" -\"))","v":44},{"$f":"IF(C19=0,\"\",IF(OR(GP19<>0,GO19=1),GP19,\" -\"))","v":11},{"$f":"IF(C19=0,\"\",IF(OR(HA19<>0,GZ19=1),HA19,\" -\"))","v":25},{"$f":"IF(C19=0,\"\",IF(OR(HL19<>0,HK19=1),HL19,\" -\"))","v":0},{"$f":"IF(C19=0,\"\",IF(AJ19<>0,AJ19,\" -\"))","v":" -"},{"$f":"IF(C19=0,\"\",IF(OR(HW19<>0,HV19=1),HW19,\" -\"))","v":" -"},{"$f":"IF(C19=0,\"\",IF(OR(IH19<>0,IG19=1),IH19,\" -\"))","v":" -"},{"$f":"IF(C19=0,\"\",IF(AL19=1,\"DNF\",IF(AL19=2,\"DSQ\",IF(AM19<>1,\"~ \"&ROUND(SUM(H19:X19),3),ROUND(SUM(H19:X19),3)))))","v":596},null,null,{"$f":"IF(C19<>\"\",C19,\"\")","v":421},{"$f":"IF(AD19<>\"\",3,\"\")","v":3},1000,2000,{"$f":"IF(AD19<>\"\",(AF19/1000*AG19/1000)/2,\"\")","v":1},3,null,null,null,1,null,null,{"$f":"IF(C19=0,99999,IF(AL19>0,9999,SUM(H19:X19)-AN19))","v":596},{"$f":"IF(C19=0,99999,IF(AL19=1,9999,SUM(Y19:Z19)))","v":0},null,null,{"$f":"IF(C19<>\"\",C19,\"\")","v":421},null,1,null,null,null,null,null,null,{"$f":"IF($C19=\"\",\"\", IF(BB19=1,0,IF(AZ19<>0,500,AU19*$AE19/$AH19+AV19/$AH19*5+AW19/$AH19*25+AX19*50+AY19*50)))","v":5},null,{"$f":"IF(C19<>\"\",C19,\"\")","v":421},1,null,null,1,1,null,"time",null,{"$f":"IF($C19=\"\",\"\", IF(BM19=1,0,IF(BK19<>0,500,BF19*$AE19/$AH19+BG19/$AH19*5+BH19/$AH19*25+BI19*50+BJ19*50)))","v":103},null,{"$f":"IF(C19<>\"\",C19,\"\")","v":421},1,null,null,null,null,null,null,null,{"$f":"IF($C19=\"\",\"\", IF(BX19=1,0,IF(BV19<>0,500,BQ19*$AE19/$AH19+BR19/$AH19*5+BS19/$AH19*25+BT19*50+BU19*50)))","v":3},null,{"$f":"IF(C19<>\"\",C19,\"\")","v":421},null,null,null,null,null,null,null,1,{"$f":"IF($C19=\"\",\"\", IF(CI19=1,0,IF(CG19<>0,500,CB19*$AE19/$AH19+CC19/$AH19*5+CD19/$AH19*25+CE19*50+CF19*50)))","v":0},null,{"$f":"IF(C19<>\"\",C19,\"\")","v":421},3,1,2,null,null,null,null,null,{"$f":"IF($C19=\"\",\"\", IF(CT19=1,0,IF(CR19<>0,500,CM19*$AE19/$AH19+CN19/$AH19*5+CO19/$AH19*25+CP19*50+CQ19*50)))","v":64},null,{"$f":"IF(C19<>\"\",C19,\"\")","v":421},null,1,null,1,1,null,"Roll over",null,{"$f":"IF($C19=\"\",\"\", IF(DE19=1,0,IF(DC19<>0,500,CX19*$AE19/$AH19+CY19/$AH19*5+CZ19/$AH19*25+DA19*50+DB19*50)))","v":105},null,{"$f":"IF(C19<>\"\",C19,\"\")","v":421},1,2,1,null,null,null,null,null,{"$f":"IF($C19=\"\",\"\", IF(DP19=1,0,IF(DN19<>0,500,DI19*$AE19/$AH19+DJ19/$AH19*5+DK19/$AH19*25+DL19*50+DM19*50)))","v":38},null,{"$f":"IF(C19<>\"\",C19,\"\")","v":421},2,1,null,null,null,null,null,null,{"$f":"IF($C19=\"\",\"\", IF(EA19=1,0,IF(DY19<>0,500,DT19*$AE19/$AH19+DU19/$AH19*5+DV19/$AH19*25+DW19*50+DX19*50)))","v":11},null,{"$f":"IF(C19<>\"\",C19,\"\")","v":421},2,1,1,null,null,null,null,null,{"$f":"IF($C19=\"\",\"\", IF(EL19=1,0,IF(EJ19<>0,500,EE19*$AE19/$AH19+EF19/$AH19*5+EG19/$AH19*25+EH19*50+EI19*50)))","v":36},null,{"$f":"IF(C19<>\"\",C19,\"\")","v":421},null,null,null,null,null,null,null,1,{"$f":"IF($C19=\"\",\"\", IF(EW19=1,0,IF(EU19<>0,500,EP19*$AE19/$AH19+EQ19/$AH19*5+ER19/$AH19*25+ES19*50+ET19*50)))","v":0},null,{"$f":"IF(C19<>\"\",C19,\"\")","v":421},null,1,null,null,null,null,null,null,{"$f":"IF($C19=\"\",\"\", IF(FH19=1,0,IF(FF19<>0,500,FA19*$AE19/$AH19+FB19/$AH19*5+FC19/$AH19*25+FD19*50+FE19*50)))","v":5},null,{"$f":"IF(C19<>\"\",C19,\"\")","v":421},7,null,1,1,1,null,"time",null,{"$f":"IF($C19=\"\",\"\", IF(FS19=1,0,IF(FQ19<>0,500,FL19*$AE19/$AH19+FM19/$AH19*5+FN19/$AH19*25+FO19*50+FP19*50)))","v":146},null,{"$f":"IF(C19<>\"\",C19,\"\")","v":421},3,2,1,null,null,null,null,null,{"$f":"IF($C19=\"\",\"\", IF(GD19=1,0,IF(GB19<>0,500,FW19*$AE19/$AH19+FX19/$AH19*5+FY19/$AH19*25+FZ19*50+GA19*50)))","v":44},null,{"$f":"IF(C19<>\"\",C19,\"\")","v":421},2,1,null,null,null,null,null,null,{"$f":"IF($C19=\"\",\"\", IF(GO19=1,0,IF(GM19<>0,500,GH19*$AE19/$AH19+GI19/$AH19*5+GJ19/$AH19*25+GK19*50+GL19*50)))","v":11},null,{"$f":"IF(C19<>\"\",C19,\"\")","v":421},null,null,1,null,null,null,null,null,{"$f":"IF($C19=\"\",\"\", IF(GZ19=1,0,IF(GX19<>0,500,GS19*$AE19/$AH19+GT19/$AH19*5+GU19/$AH19*25+GV19*50+GW19*50)))","v":25},null,{"$f":"IF(C19<>\"\",C19,\"\")","v":421},null,null,null,null,null,null,null,1,{"$f":"IF($C19=\"\",\"\", IF(HK19=1,0,IF(HI19<>0,500,HD19*$AE19/$AH19+HE19/$AH19*5+HF19/$AH19*25+HG19*50+HH19*50)))","v":0},null,{"$f":"IF(C19<>\"\",C19,\"\")","v":421},null,null,null,null,null,null,null,null,{"$f":"IF($C19=\"\",\"\", IF(HV19=1,0,IF(HT19<>0,500,HO19*$AE19/$AH19+HP19/$AH19*5+HQ19/$AH19*25+HR19*50+HS19*50)))","v":0},null,{"$f":"IF(C19<>\"\",C19,\"\")","v":421},null,null,null,null,null,null,null,null,{"$f":"IF($C19=\"\",\"\", IF(IG19=1,0,IF(IE19<>0,500,HZ19*$AE19/$AH19+IA19/$AH19*5+IB19/$AH19*25+IC19*50+ID19*50)))","v":0}]
[null,{"$f":"IF(C20=0,\"\",ROW(C20)-4)","v":16},409,"Germany","Mecedes G 460 ProModi","Sven Schmidt","Jessica Bausch",{"$f":"IF(C20=0,\"\",IF(OR(BB20=1,BC20<>0),BC20,\"-\"))","v":5},{"$f":"IF(C20=0,\"\",IF(OR(BM20=1,BN20<>0),BN20,\"-\"))","v":0},{"$f":"IF(C20=0,\"\",IF(OR(BX20=1,BY20<>0),BY20,\" -\"))","v":44},{"$f":"IF(C20=0,\"\",IF(OR(CJ20<>0,CI20=1),CJ20,\" -\"))","v":0},{"$f":"IF(C20=0,\"\",IF(OR(CU20<>0,CT20=1),CU20,\" -\"))","v":38},{"$f":"IF(C20=0,\"\",IF(OR(DF20<>0,DE20=1),DF20,\" -\"))","v":5},{"$f":"IF(C20=0,\"\",IF(OR(DQ20<>0,DP20=1),DQ20,\" -\"))","v":108},{"$f":"IF(C20=0,\"\",IF(OR(EB20<>0,EA20=1),EB20,\" -\"))","v":250},{"$f":"IF(C20=0,\"\",IF(OR(EM20<>0,EL20=1),EM20,\" -\"))","v":153},{"$f":"IF(C20=0,\"\",IF(OR(EX20<>0,EW20=1),EX20,\" -\"))","v":0},{"$f":"IF(C20=0,\"\",IF(OR(FI20<>0,FH20=1),FI20,\" -\"))","v":0},{"$f":"IF(C20=0,\"\",IF(OR(FT20<>0,FS20=1),FT20,\" -\"))","v":53},{"$f":"IF(C20=0,\"\",IF(OR(GE20<>0,GD20=1),GE20,\" -\"))","v":28},{"$f":"IF(C20=0,\"\",IF(OR(GP20<>0,GO20=1),GP20,\" -\"))","v":5},{"$f":"IF(C20=0,\"\",IF(OR(HA20<>0,GZ20=1),HA20,\" -\"))","v":5},{"$f":"IF(C20=0,\"\",IF(OR(HL20<>0,HK20=1),HL20,\" -\"))","v":5},{"$f":"IF(C20=0,\"\",IF(AJ20<>0,AJ20,\" -\"))","v":" -"},{"$f":"IF(C20=0,\"\",IF(OR(HW20<>0,HV20=1),HW20,\" -\"))","v":" -"},{"$f":"IF(C20=0,\"\",IF(OR(IH20<>0,IG20=1),IH20,\" -\"))","v":" -"},{"$f":"IF(C20=0,\"\",IF(AL20=1,\"DNF\",IF(AL20=2,\"DSQ\",IF(AM20<>1,\"~ \"&ROUND(SUM(H20:X20),3),ROUND(SUM(H20:X20),3)))))","v":699},null,null,{"$f":"IF(C20<>\"\",C20,\"\")","v":409},{"$f":"IF(AD20<>\"\",3,\"\")","v":3},1000,2000,{"$f":"IF(AD20<>\"\",(AF20/1000*AG20/1000)/2,\"\")","v":1},3,null,null,null,1,null,null,{"$f":"IF(C20=0,99999,IF(AL20>0,9999,SUM(H20:X20)-AN20))","v":699},{"$f":"IF(C20=0,99999,IF(AL20=1,9999,SUM(Y20:Z20)))","v":0},null,null,{"$f":"IF(C20<>\"\",C20,\"\")","v":409},null,1,null,null,null,null,null,null,{"$f":"IF($C20=\"\",\"\", IF(BB20=1,0,IF(AZ20<>0,500,AU20*$AE20/$AH20+AV20/$AH20*5+AW20/$AH20*25+AX20*50+AY20*50)))","v":5},null,{"$f":"IF(C20<>\"\",C20,\"\")","v":409},null,null,null,null,null,null,null,1,{"$f":"IF($C20=\"\",\"\", IF(BM20=1,0,IF(BK20<>0,500,BF20*$AE20/$AH20+BG20/$AH20*5+BH20/$AH20*25+BI20*50+BJ20*50)))","v":0},null,{"$f":"IF(C20<>\"\",C20,\"\")","v":409},3,2,1,null,null,null,null,null,{"$f":"IF($C20=\"\",\"\", IF(BX20=1,0,IF(BV20<>0,500,BQ20*$AE20/$AH20+BR20/$AH20*5+BS20/$AH20*25+BT20*50+BU20*50)))","v":44},null,{"$f":"IF(C20<>\"\",C20,\"\")","v":409},null,null,null,null,null,null,null,1,{"$f":"IF($C20=\"\",\"\", IF(CI20=1,0,IF(CG20<>0,500,CB20*$AE20/$AH20+CC20/$AH20*5+CD20/$AH20*25+CE20*50+CF20*50)))","v":0},null,{"$f":"IF(C20<>\"\",C20,\"\")","v":409},1,2,1,null,null,null,null,null,{"$f":"IF($C20=\"\",\"\", IF(CT20=1,0,IF(CR20<>0,500,CM20*$AE20/$AH20+CN20/$AH20*5+CO20/$AH20*25+CP20*50+CQ20*50)))","v":38},null,{"$f":"IF(C20<>\"\",C20,\"\")","v":409},null,1,null,null,null,null,null,null,{"$f":"IF($C20=\"\",\"\", IF(DE20=1,0,IF(DC20<>0,500,CX20*$AE20/$AH20+CY20/$AH20*5+CZ20/$AH20*25+DA20*50+DB20*50)))","v":5},null,{"$f":"IF(C20<>\"\",C20,\"\")","v":409},1,1,null,1,1,null,"broken",null,{"$f":"IF($C20=\"\",\"\", IF(DP20=1,0,IF(DN20<>0,500,DI20*$AE20/$AH20+DJ20/$AH20*5+DK20/$AH20*25+DL20*50+DM20*50)))","v":108},null,{"$f":"IF(C20<>\"\",C20,\"\")","v":409},null,null,null,4,1,null,null,null,{"$f":"IF($C20=\"\",\"\", IF(EA20=1,0,IF(DY20<>0,500,DT20*$AE20/$AH20+DU20/$AH20*5+DV20/$AH20*25+DW20*50+DX20*50)))","v":250},null,{"$f":"IF(C20<>\"\",C20,\"\")","v":409},1,null,null,2,1,null,"broken gate",null,{"$f":"IF($C20=\"\",\"\", IF(EL20=1,0,IF(EJ20<>0,500,EE20*$AE20/$AH20+EF20/$AH20*5+EG20/$AH20*25+EH20*50+EI20*50)))","v":153},null,{"$f":"IF(C20<>\"\",C20,\"\")","v":409},null,null,null,null,null,null,null,1,{"$f":"IF($C20=\"\",\"\", IF(EW20=1,0,IF(EU20<>0,500,EP20*$AE20/$AH20+EQ20/$AH20*5+ER20/$AH20*25+ES20*50+ET20*50)))","v":0},null,{"$f":"IF(C20<>\"\",C20,\"\")","v":409},null,null,null,null,null,null,null,1,{"$f":"IF($C20=\"\",\"\", IF(FH20=1,0,IF(FF20<>0,500,FA20*$AE20/$AH20+FB20/$AH20*5+FC20/$AH20*25+FD20*50+FE20*50)))","v":0},null,{"$f":"IF(C20<>\"\",C20,\"\")","v":409},1,null,2,null,null,null,null,null,{"$f":"IF($C20=\"\",\"\", IF(FS20=1,0,IF(FQ20<>0,500,FL20*$AE20/$AH20+FM20/$AH20*5+FN20/$AH20*25+FO20*50+FP20*50)))","v":53},null,{"$f":"IF(C20<>\"\",C20,\"\")","v":409},1,null,1,null,null,null,null,null,{"$f":"IF($C20=\"\",\"\", IF(GD20=1,0,IF(GB20<>0,500,FW20*$AE20/$AH20+FX20/$AH20*5+FY20/$AH20*25+FZ20*50+GA20*50)))","v":28},null,{"$f":"IF(C20<>\"\",C20,\"\")","v":409},null,1,null,null,null,null,null,null,{"$f":"IF($C20=\"\",\"\", IF(GO20=1,0,IF(GM20<>0,500,GH20*$AE20/$AH20+GI20/$AH20*5+GJ20/$AH20*25+GK20*50+GL20*50)))","v":5},null,{"$f":"IF(C20<>\"\",C20,\"\")","v":409},null,1,null,null,null,null,null,null,{"$f":"IF($C20=\"\",\"\", IF(GZ20=1,0,IF(GX20<>0,500,GS20*$AE20/$AH20+GT20/$AH20*5+GU20/$AH20*25+GV20*50+GW20*50)))","v":5},null,{"$f":"IF(C20<>\"\",C20,\"\")","v":409},null,1,null,null,null,null,null,null,{"$f":"IF($C20=\"\",\"\", IF(HK20=1,0,IF(HI20<>0,500,HD20*$AE20/$AH20+HE20/$AH20*5+HF20/$AH20*25+HG20*50+HH20*50)))","v":5},null,{"$f":"IF(C20<>\"\",C20,\"\")","v":409},null,null,null,null,null,null,null,null,{"$f":"IF($C20=\"\",\"\", IF(HV20=1,0,IF(HT20<>0,500,HO20*$AE20/$AH20+HP20/$AH20*5+HQ20/$AH20*25+HR20*50+HS20*50)))","v":0},null,{"$f":"IF(C20<>\"\",C20,\"\")","v":409},null,null,null,null,null,null,null,null,{"$f":"IF($C20=\"\",\"\", IF(IG20=1,0,IF(IE20<>0,500,HZ20*$AE20/$AH20+IA20/$AH20*5+IB20/$AH20*25+IC20*50+ID20*50)))","v":0}]
[null,{"$f":"IF(C21=0,\"\",ROW(C21)-4)","v":17},408,"Norway","Jeep","Ken Thomas Topel","Line Marum",{"$f":"IF(C21=0,\"\",IF(OR(BB21=1,BC21<>0),BC21,\"-\"))","v":36},{"$f":"IF(C21=0,\"\",IF(OR(BM21=1,BN21<>0),BN21,\"-\"))","v":75},{"$f":"IF(C21=0,\"\",IF(OR(BX21=1,BY21<>0),BY21,\" -\"))","v":3},{"$f":"IF(C21=0,\"\",IF(OR(CJ21<>0,CI21=1),CJ21,\" -\"))","v":3},{"$f":"IF(C21=0,\"\",IF(OR(CU21<>0,CT21=1),CU21,\" -\"))","v":46},{"$f":"IF(C21=0,\"\",IF(OR(DF21<>0,DE21=1),DF21,\" -\"))","v":0},{"$f":"IF(C21=0,\"\",IF(OR(DQ21<>0,DP21=1),DQ21,\" -\"))","v":0},{"$f":"IF(C21=0,\"\",IF(OR(EB21<>0,EA21=1),EB21,\" -\"))","v":6},{"$f":"IF(C21=0,\"\",IF(OR(EM21<>0,EL21=1),EM21,\" -\"))","v":0},{"$f":"IF(C21=0,\"\",IF(OR(EX21<>0,EW21=1),EX21,\" -\"))","v":109},{"$f":"IF(C21=0,\"\",IF(OR(FI21<>0,FH21=1),FI21,\" -\"))","v":25},{"$f":"IF(C21=0,\"\",IF(OR(FT21<>0,FS21=1),FT21,\" -\"))","v":203},{"$f":"IF(C21=0,\"\",IF(OR(GE21<>0,GD21=1),GE21,\" -\"))","v":265},{"$f":"IF(C21=0,\"\",IF(OR(GP21<>0,GO21=1),GP21,\" -\"))","v":28},{"$f":"IF(C21=0,\"\",IF(OR(HA21<>0,GZ21=1),HA21,\" -\"))","v":8},{"$f":"IF(C21=0,\"\",IF(OR(HL21<>0,HK21=1),HL21,\" -\"))","v":45},{"$f":"IF(C21=0,\"\",IF(AJ21<>0,AJ21,\" -\"))","v":" -"},{"$f":"IF(C21=0,\"\",IF(OR(HW21<>0,HV21=1),HW21,\" -\"))","v":" -"},{"$f":"IF(C21=0,\"\",IF(OR(IH21<>0,IG21=1),IH21,\" -\"))","v":" -"},{"$f":"IF(C21=0,\"\",IF(AL21=1,\"DNF\",IF(AL21=2,\"DSQ\",IF(AM21<>1,\"~ \"&ROUND(SUM(H21:X21),3),ROUND(SUM(H21:X21),3)))))","v":852},null,null,{"$f":"IF(C21<>\"\",C21,\"\")","v":408},{"$f":"IF(AD21<>\"\",3,\"\")","v":3},1000,2000,{"$f":"IF(AD21<>\"\",(AF21/1000*AG21/1000)/2,\"\")","v":1},3,null,null,null,1,null,null,{"$f":"IF(C21=0,99999,IF(AL21>0,9999,SUM(H21:X21)-AN21))","v":852},{"$f":"IF(C21=0,99999,IF(AL21=1,9999,SUM(Y21:Z21)))","v":0},null,null,{"$f":"IF(C21<>\"\",C21,\"\")","v":408},2,1,1,null,null,null,null,null,{"$f":"IF($C21=\"\",\"\", IF(BB21=1,0,IF(AZ21<>0,500,AU21*$AE21/$AH21+AV21/$AH21*5+AW21/$AH21*25+AX21*50+AY21*50)))","v":36},null,{"$f":"IF(C21<>\"\",C21,\"\")","v":408},null,null,3,null,null,null,null,null,{"$f":"IF($C21=\"\",\"\", IF(BM21=1,0,IF(BK21<>0,500,BF21*$AE21/$AH21+BG21/$AH21*5+BH21/$AH21*25+BI21*50+BJ21*50)))","v":75},null,{"$f":"IF(C21<>\"\",C21,\"\")","v":408},1,null,null,null,null,null,null,null,{"$f":"IF($C21=\"\",\"\", IF(BX21=1,0,IF(BV21<>0,500,BQ21*$AE21/$AH21+BR21/$AH21*5+BS21/$AH21*25+BT21*50+BU21*50)))","v":3},null,{"$f":"IF(C21<>\"\",C21,\"\")","v":408},1,null,null,null,null,null,null,null,{"$f":"IF($C21=\"\",\"\", IF(CI21=1,0,IF(CG21<>0,500,CB21*$AE21/$AH21+CC21/$AH21*5+CD21/$AH21*25+CE21*50+CF21*50)))","v":3},null,{"$f":"IF(C21<>\"\",C21,\"\")","v":408},2,3,1,null,null,null,null,null,{"$f":"IF($C21=\"\",\"\", IF(CT21=1,0,IF(CR21<>0,500,CM21*$AE21/$AH21+CN21/$AH21*5+CO21/$AH21*25+CP21*50+CQ21*50)))","v":46},null,{"$f":"IF(C21<>\"\",C21,\"\")","v":408},null,null,null,null,null,null,null,1,{"$f":"IF($C21=\"\",\"\", IF(DE21=1,0,IF(DC21<>0,500,CX21*$AE21/$AH21+CY21/$AH21*5+CZ21/$AH21*25+DA21*50+DB21*50)))","v":0},null,{"$f":"IF(C21<>\"\",C21,\"\")","v":408},null,null,null,null,null,null,null,1,{"$f":"IF($C21=\"\",\"\", IF(DP21=1,0,IF(DN21<>0,500,DI21*$AE21/$AH21+DJ21/$AH21*5+DK21/$AH21*25+DL21*50+DM21*50)))","v":0},null,{"$f":"IF(C21<>\"\",C21,\"\")","v":408},2,null,null,null,null,null,null,null,{"$f":"IF($C21=\"\",\"\", IF(EA21=1,0,IF(DY21<>0,500,DT21*$AE21/$AH21+DU21/$AH21*5+DV21/$AH21*25+DW21*50+DX21*50)))","v":6},null,{"$f":"IF(C21<>\"\",C21,\"\")","v":408},null,null,null,null,null,null,null,1,{"$f":"IF($C21=\"\",\"\", IF(EL21=1,0,IF(EJ21<>0,500,EE21*$AE21/$AH21+EF21/$AH21*5+EG21/$AH21*25+EH21*50+EI21*50)))","v":0},null,{"$f":"IF(C21<>\"\",C21,\"\")","v":408},3,null,null,1,1,null,"time",null,{"$f":"IF($C21=\"\",\"\", IF(EW21=1,0,IF(EU21<>0,500,EP21*$AE21/$AH21+EQ21/$AH21*5+ER21/$AH21*25+ES21*50+ET21*50)))","v":109},null,{"$f":"IF(C21<>\"\",C21,\"\")","v":408},null,null,1,null,null,null,null,null,{"$f":"IF($C21=\"\",\"\", IF(FH21=1,0,IF(FF21<>0,500,FA21*$AE21/$AH21+FB21/$AH21*5+FC21/$AH21*25+FD21*50+FE21*50)))","v":25},null,{"$f":"IF(C21<>\"\",C21,\"\")","v":408},1,null,null,3,1,null,"technical problem",null,{"$f":"IF($C21=\"\",\"\", IF(FS21=1,0,IF(FQ21<>0,500,FL21*$AE21/$AH21+FM21/$AH21*5+FN21/$AH21*25+FO21*50+FP21*50)))","v":203},null,{"$f":"IF(C21<>\"\",C21,\"\")","v":408},5,null,2,3,1,null,"roll over",null,{"$f":"IF($C21=\"\",\"\", IF(GD21=1,0,IF(GB21<>0,500,FW21*$AE21/$AH21+FX21/$AH21*5+FY21/$AH21*25+FZ21*50+GA21*50)))","v":265},null,{"$f":"IF(C21<>\"\",C21,\"\")","v":408},1,null,1,null,null,null,null,null,{"$f":"IF($C21=\"\",\"\", IF(GO21=1,0,IF(GM21<>0,500,GH21*$AE21/$AH21+GI21/$AH21*5+GJ21/$AH21*25+GK21*50+GL21*50)))","v":28},null,{"$f":"IF(C21<>\"\",C21,\"\")","v":408},1,1,null,null,null,null,null,null,{"$f":"IF($C21=\"\",\"\", IF(GZ21=1,0,IF(GX21<>0,500,GS21*$AE21/$AH21+GT21/$AH21*5+GU21/$AH21*25+GV21*50+GW21*50)))","v":8},null,{"$f":"IF(C21<>\"\",C21,\"\")","v":408},5,1,1,null,null,null,null,null,{"$f":"IF($C21=\"\",\"\", IF(HK21=1,0,IF(HI21<>0,500,HD21*$AE21/$AH21+HE21/$AH21*5+HF21/$AH21*25+HG21*50+HH21*50)))","v":45},null,{"$f":"IF(C21<>\"\",C21,\"\")","v":408},null,null,null,null,null,null,null,null,{"$f":"IF($C21=\"\",\"\", IF(HV21=1,0,IF(HT21<>0,500,HO21*$AE21/$AH21+HP21/$AH21*5+HQ21/$AH21*25+HR21*50+HS21*50)))","v":0},null,{"$f":"IF(C21<>\"\",C21,\"\")","v":408},null,null,null,null,null,null,null,null,{"$f":"IF($C21=\"\",\"\", IF(IG21=1,0,IF(IE21<>0,500,HZ21*$AE21/$AH21+IA21/$AH21*5+IB21/$AH21*25+IC21*50+ID21*50)))","v":0}]
[null,{"$f":"IF(C22=0,\"\",ROW(C22)-4)","v":18},417,"Finland","Toyota Hilux","Tero Frondelius","Malin Mäntylä",{"$f":"IF(C22=0,\"\",IF(OR(BB22=1,BC22<>0),BC22,\"-\"))","v":41},{"$f":"IF(C22=0,\"\",IF(OR(BM22=1,BN22<>0),BN22,\"-\"))","v":256},{"$f":"IF(C22=0,\"\",IF(OR(BX22=1,BY22<>0),BY22,\" -\"))","v":56},{"$f":"IF(C22=0,\"\",IF(OR(CJ22<>0,CI22=1),CJ22,\" -\"))","v":59},{"$f":"IF(C22=0,\"\",IF(OR(CU22<>0,CT22=1),CU22,\" -\"))","v":47},{"$f":"IF(C22=0,\"\",IF(OR(DF22<>0,DE22=1),DF22,\" -\"))","v":200},{"$f":"IF(C22=0,\"\",IF(OR(DQ22<>0,DP22=1),DQ22,\" -\"))","v":137},{"$f":"IF(C22=0,\"\",IF(OR(EB22<>0,EA22=1),EB22,\" -\"))","v":73},{"$f":"IF(C22=0,\"\",IF(OR(EM22<>0,EL22=1),EM22,\" -\"))","v":53},{"$f":"IF(C22=0,\"\",IF(OR(EX22<>0,EW22=1),EX22,\" -\"))","v":42},{"$f":"IF(C22=0,\"\",IF(OR(FI22<>0,FH22=1),FI22,\" -\"))","v":58},{"$f":"IF(C22=0,\"\",IF(OR(FT22<>0,FS22=1),FT22,\" -\"))","v":140},{"$f":"IF(C22=0,\"\",IF(OR(GE22<>0,GD22=1),GE22,\" -\"))","v":52},{"$f":"IF(C22=0,\"\",IF(OR(GP22<>0,GO22=1),GP22,\" -\"))","v":234},{"$f":"IF(C22=0,\"\",IF(OR(HA22<>0,GZ22=1),HA22,\" -\"))","v":95},{"$f":"IF(C22=0,\"\",IF(OR(HL22<>0,HK22=1),HL22,\" -\"))","v":17},{"$f":"IF(C22=0,\"\",IF(AJ22<>0,AJ22,\" -\"))","v":" -"},{"$f":"IF(C22=0,\"\",IF(OR(HW22<>0,HV22=1),HW22,\" -\"))","v":" -"},{"$f":"IF(C22=0,\"\",IF(OR(IH22<>0,IG22=1),IH22,\" -\"))","v":" -"},{"$f":"IF(C22=0,\"\",IF(AL22=1,\"DNF\",IF(AL22=2,\"DSQ\",IF(AM22<>1,\"~ \"&ROUND(SUM(H22:X22),3),ROUND(SUM(H22:X22),3)))))","v":1560},null,null,{"$f":"IF(C22<>\"\",C22,\"\")","v":417},{"$f":"IF(AD22<>\"\",3,\"\")","v":3},1000,2000,{"$f":"IF(AD22<>\"\",(AF22/1000*AG22/1000)/2,\"\")","v":1},3,null,null,null,1,null,null,{"$f":"IF(C22=0,99999,IF(AL22>0,9999,SUM(H22:X22)-AN22))","v":1560},{"$f":"IF(C22=0,99999,IF(AL22=1,9999,SUM(Y22:Z22)))","v":0},null,null,{"$f":"IF(C22<>\"\",C22,\"\")","v":417},2,2,1,null,null,null,null,null,{"$f":"IF($C22=\"\",\"\", IF(BB22=1,0,IF(AZ22<>0,500,AU22*$AE22/$AH22+AV22/$AH22*5+AW22/$AH22*25+AX22*50+AY22*50)))","v":41},null,{"$f":"IF(C22<>\"\",C22,\"\")","v":417},2,null,null,4,1,null,"time",null,{"$f":"IF($C22=\"\",\"\", IF(BM22=1,0,IF(BK22<>0,500,BF22*$AE22/$AH22+BG22/$AH22*5+BH22/$AH22*25+BI22*50+BJ22*50)))","v":256},null,{"$f":"IF(C22<>\"\",C22,\"\")","v":417},2,null,2,null,null,null,null,null,{"$f":"IF($C22=\"\",\"\", IF(BX22=1,0,IF(BV22<>0,500,BQ22*$AE22/$AH22+BR22/$AH22*5+BS22/$AH22*25+BT22*50+BU22*50)))","v":56},null,{"$f":"IF(C22<>\"\",C22,\"\")","v":417},3,null,null,null,1,null,"time",null,{"$f":"IF($C22=\"\",\"\", IF(CI22=1,0,IF(CG22<>0,500,CB22*$AE22/$AH22+CC22/$AH22*5+CD22/$AH22*25+CE22*50+CF22*50)))","v":59},null,{"$f":"IF(C22<>\"\",C22,\"\")","v":417},4,2,1,null,null,null,null,null,{"$f":"IF($C22=\"\",\"\", IF(CT22=1,0,IF(CR22<>0,500,CM22*$AE22/$AH22+CN22/$AH22*5+CO22/$AH22*25+CP22*50+CQ22*50)))","v":47},null,{"$f":"IF(C22<>\"\",C22,\"\")","v":417},null,null,null,3,1,null,"roll over",null,{"$f":"IF($C22=\"\",\"\", IF(DE22=1,0,IF(DC22<>0,500,CX22*$AE22/$AH22+CY22/$AH22*5+CZ22/$AH22*25+DA22*50+DB22*50)))","v":200},null,{"$f":"IF(C22<>\"\",C22,\"\")","v":417},4,null,1,1,1,null,"Car stucked, in the tree",null,{"$f":"IF($C22=\"\",\"\", IF(DP22=1,0,IF(DN22<>0,500,DI22*$AE22/$AH22+DJ22/$AH22*5+DK22/$AH22*25+DL22*50+DM22*50)))","v":137},null,{"$f":"IF(C22<>\"\",C22,\"\")","v":417},6,1,null,null,1,null,"Broke end gate",null,{"$f":"IF($C22=\"\",\"\", IF(EA22=1,0,IF(DY22<>0,500,DT22*$AE22/$AH22+DU22/$AH22*5+DV22/$AH22*25+DW22*50+DX22*50)))","v":73},null,{"$f":"IF(C22<>\"\",C22,\"\")","v":417},6,2,1,null,null,null,null,null,{"$f":"IF($C22=\"\",\"\", IF(EL22=1,0,IF(EJ22<>0,500,EE22*$AE22/$AH22+EF22/$AH22*5+EG22/$AH22*25+EH22*50+EI22*50)))","v":53},null,{"$f":"IF(C22<>\"\",C22,\"\")","v":417},4,1,1,null,null,null,null,null,{"$f":"IF($C22=\"\",\"\", IF(EW22=1,0,IF(EU22<>0,500,EP22*$AE22/$AH22+EQ22/$AH22*5+ER22/$AH22*25+ES22*50+ET22*50)))","v":42},null,{"$f":"IF(C22<>\"\",C22,\"\")","v":417},6,3,1,null,null,null,null,null,{"$f":"IF($C22=\"\",\"\", IF(FH22=1,0,IF(FF22<>0,500,FA22*$AE22/$AH22+FB22/$AH22*5+FC22/$AH22*25+FD22*50+FE22*50)))","v":58},null,{"$f":"IF(C22<>\"\",C22,\"\")","v":417},5,null,1,1,1,null,"time",null,{"$f":"IF($C22=\"\",\"\", IF(FS22=1,0,IF(FQ22<>0,500,FL22*$AE22/$AH22+FM22/$AH22*5+FN22/$AH22*25+FO22*50+FP22*50)))","v":140},null,{"$f":"IF(C22<>\"\",C22,\"\")","v":417},4,3,1,null,null,null,null,null,{"$f":"IF($C22=\"\",\"\", IF(GD22=1,0,IF(GB22<>0,500,FW22*$AE22/$AH22+FX22/$AH22*5+FY22/$AH22*25+FZ22*50+GA22*50)))","v":52},null,{"$f":"IF(C22<>\"\",C22,\"\")","v":417},3,null,1,3,1,null,null,null,{"$f":"IF($C22=\"\",\"\", IF(GO22=1,0,IF(GM22<>0,500,GH22*$AE22/$AH22+GI22/$AH22*5+GJ22/$AH22*25+GK22*50+GL22*50)))","v":234},null,{"$f":"IF(C22<>\"\",C22,\"\")","v":417},5,1,1,null,1,null,"time",null,{"$f":"IF($C22=\"\",\"\", IF(GZ22=1,0,IF(GX22<>0,500,GS22*$AE22/$AH22+GT22/$AH22*5+GU22/$AH22*25+GV22*50+GW22*50)))","v":95},null,{"$f":"IF(C22<>\"\",C22,\"\")","v":417},4,1,null,null,null,null,null,null,{"$f":"IF($C22=\"\",\"\", IF(HK22=1,0,IF(HI22<>0,500,HD22*$AE22/$AH22+HE22/$AH22*5+HF22/$AH22*25+HG22*50+HH22*50)))","v":17},null,{"$f":"IF(C22<>\"\",C22,\"\")","v":417},null,null,null,null,null,null,null,null,{"$f":"IF($C22=\"\",\"\", IF(HV22=1,0,IF(HT22<>0,500,HO22*$AE22/$AH22+HP22/$AH22*5+HQ22/$AH22*25+HR22*50+HS22*50)))","v":0},null,{"$f":"IF(C22<>\"\",C22,\"\")","v":417},null,null,null,null,null,null,null,null,{"$f":"IF($C22=\"\",\"\", IF(IG22=1,0,IF(IE22<>0,500,HZ22*$AE22/$AH22+IA22/$AH22*5+IB22/$AH22*25+IC22*50+ID22*50)))","v":0}]
[null,{"$f":"IF(C23=0,\"\",ROW(C23)-4)","v":19},418,"Finland","Rover","Jari-Pekka Pöyry","Iida Pöyry",{"$f":"IF(C23=0,\"\",IF(OR(BB23=1,BC23<>0),BC23,\"-\"))","v":0},{"$f":"IF(C23=0,\"\",IF(OR(BM23=1,BN23<>0),BN23,\"-\"))","v":500},{"$f":"IF(C23=0,\"\",IF(OR(BX23=1,BY23<>0),BY23,\" -\"))","v":3},{"$f":"IF(C23=0,\"\",IF(OR(CJ23<>0,CI23=1),CJ23,\" -\"))","v":500},{"$f":"IF(C23=0,\"\",IF(OR(CU23<>0,CT23=1),CU23,\" -\"))","v":38},{"$f":"IF(C23=0,\"\",IF(OR(DF23<>0,DE23=1),DF23,\" -\"))","v":3},{"$f":"IF(C23=0,\"\",IF(OR(DQ23<>0,DP23=1),DQ23,\" -\"))","v":500},{"$f":"IF(C23=0,\"\",IF(OR(EB23<>0,EA23=1),EB23,\" -\"))","v":500},{"$f":"IF(C23=0,\"\",IF(OR(EM23<>0,EL23=1),EM23,\" -\"))","v":3},{"$f":"IF(C23=0,\"\",IF(OR(EX23<>0,EW23=1),EX23,\" -\"))","v":500},{"$f":"IF(C23=0,\"\",IF(OR(FI23<>0,FH23=1),FI23,\" -\"))","v":8},{"$f":"IF(C23=0,\"\",IF(OR(FT23<>0,FS23=1),FT23,\" -\"))","v":500},{"$f":"IF(C23=0,\"\",IF(OR(GE23<>0,GD23=1),GE23,\" -\"))","v":500},{"$f":"IF(C23=0,\"\",IF(OR(GP23<>0,GO23=1),GP23,\" -\"))","v":25},{"$f":"IF(C23=0,\"\",IF(OR(HA23<>0,GZ23=1),HA23,\" -\"))","v":500},{"$f":"IF(C23=0,\"\",IF(OR(HL23<>0,HK23=1),HL23,\" -\"))","v":500},{"$f":"IF(C23=0,\"\",IF(AJ23<>0,AJ23,\" -\"))","v":" -"},{"$f":"IF(C23=0,\"\",IF(OR(HW23<>0,HV23=1),HW23,\" -\"))","v":" -"},{"$f":"IF(C23=0,\"\",IF(OR(IH23<>0,IG23=1),IH23,\" -\"))","v":" -"},{"$f":"IF(C23=0,\"\",IF(AL23=1,\"DNF\",IF(AL23=2,\"DSQ\",IF(AM23<>1,\"~ \"&ROUND(SUM(H23:X23),3),ROUND(SUM(H23:X23),3)))))","v":4580},null,null,{"$f":"IF(C23<>\"\",C23,\"\")","v":418},{"$f":"IF(AD23<>\"\",3,\"\")","v":3},1000,2000,{"$f":"IF(AD23<>\"\",(AF23/1000*AG23/1000)/2,\"\")","v":1},3,null,null,null,1,null,null,{"$f":"IF(C23=0,99999,IF(AL23>0,9999,SUM(H23:X23)-AN23))","v":4580},{"$f":"IF(C23=0,99999,IF(AL23=1,9999,SUM(Y23:Z23)))","v":0},null,null,{"$f":"IF(C23<>\"\",C23,\"\")","v":418},null,null,null,null,null,null,null,1,{"$f":"IF($C23=\"\",\"\", IF(BB23=1,0,IF(AZ23<>0,500,AU23*$AE23/$AH23+AV23/$AH23*5+AW23/$AH23*25+AX23*50+AY23*50)))","v":0},null,{"$f":"IF(C23<>\"\",C23,\"\")","v":418},null,null,null,null,null,1,null,null,{"$f":"IF($C23=\"\",\"\", IF(BM23=1,0,IF(BK23<>0,500,BF23*$AE23/$AH23+BG23/$AH23*5+BH23/$AH23*25+BI23*50+BJ23*50)))","v":500},null,{"$f":"IF(C23<>\"\",C23,\"\")","v":418},1,null,null,null,null,null,null,null,{"$f":"IF($C23=\"\",\"\", IF(BX23=1,0,IF(BV23<>0,500,BQ23*$AE23/$AH23+BR23/$AH23*5+BS23/$AH23*25+BT23*50+BU23*50)))","v":3},null,{"$f":"IF(C23<>\"\",C23,\"\")","v":418},null,null,null,null,null,1,null,null,{"$f":"IF($C23=\"\",\"\", IF(CI23=1,0,IF(CG23<>0,500,CB23*$AE23/$AH23+CC23/$AH23*5+CD23/$AH23*25+CE23*50+CF23*50)))","v":500},null,{"$f":"IF(C23<>\"\",C23,\"\")","v":418},1,2,1,null,null,null,null,null,{"$f":"IF($C23=\"\",\"\", IF(CT23=1,0,IF(CR23<>0,500,CM23*$AE23/$AH23+CN23/$AH23*5+CO23/$AH23*25+CP23*50+CQ23*50)))","v":38},null,{"$f":"IF(C23<>\"\",C23,\"\")","v":418},1,null,null,null,null,null,null,null,{"$f":"IF($C23=\"\",\"\", IF(DE23=1,0,IF(DC23<>0,500,CX23*$AE23/$AH23+CY23/$AH23*5+CZ23/$AH23*25+DA23*50+DB23*50)))","v":3},null,{"$f":"IF(C23<>\"\",C23,\"\")","v":418},null,null,null,null,null,1,null,null,{"$f":"IF($C23=\"\",\"\", IF(DP23=1,0,IF(DN23<>0,500,DI23*$AE23/$AH23+DJ23/$AH23*5+DK23/$AH23*25+DL23*50+DM23*50)))","v":500},null,{"$f":"IF(C23<>\"\",C23,\"\")","v":418},null,null,null,null,null,1,null,null,{"$f":"IF($C23=\"\",\"\", IF(EA23=1,0,IF(DY23<>0,500,DT23*$AE23/$AH23+DU23/$AH23*5+DV23/$AH23*25+DW23*50+DX23*50)))","v":500},null,{"$f":"IF(C23<>\"\",C23,\"\")","v":418},1,null,null,null,null,null,null,null,{"$f":"IF($C23=\"\",\"\", IF(EL23=1,0,IF(EJ23<>0,500,EE23*$AE23/$AH23+EF23/$AH23*5+EG23/$AH23*25+EH23*50+EI23*50)))","v":3},null,{"$f":"IF(C23<>\"\",C23,\"\")","v":418},null,null,null,null,null,1,null,null,{"$f":"IF($C23=\"\",\"\", IF(EW23=1,0,IF(EU23<>0,500,EP23*$AE23/$AH23+EQ23/$AH23*5+ER23/$AH23*25+ES23*50+ET23*50)))","v":500},null,{"$f":"IF(C23<>\"\",C23,\"\")","v":418},1,1,null,null,null,null,null,null,{"$f":"IF($C23=\"\",\"\", IF(FH23=1,0,IF(FF23<>0,500,FA23*$AE23/$AH23+FB23/$AH23*5+FC23/$AH23*25+FD23*50+FE23*50)))","v":8},null,{"$f":"IF(C23<>\"\",C23,\"\")","v":418},null,null,null,null,null,1,null,null,{"$f":"IF($C23=\"\",\"\", IF(FS23=1,0,IF(FQ23<>0,500,FL23*$AE23/$AH23+FM23/$AH23*5+FN23/$AH23*25+FO23*50+FP23*50)))","v":500},null,{"$f":"IF(C23<>\"\",C23,\"\")","v":418},null,null,null,null,null,1,null,null,{"$f":"IF($C23=\"\",\"\", IF(GD23=1,0,IF(GB23<>0,500,FW23*$AE23/$AH23+FX23/$AH23*5+FY23/$AH23*25+FZ23*50+GA23*50)))","v":500},null,{"$f":"IF(C23<>\"\",C23,\"\")","v":418},null,null,1,null,null,null,null,null,{"$f":"IF($C23=\"\",\"\", IF(GO23=1,0,IF(GM23<>0,500,GH23*$AE23/$AH23+GI23/$AH23*5+GJ23/$AH23*25+GK23*50+GL23*50)))","v":25},null,{"$f":"IF(C23<>\"\",C23,\"\")","v":418},null,null,null,null,null,1,null,null,{"$f":"IF($C23=\"\",\"\", IF(GZ23=1,0,IF(GX23<>0,500,GS23*$AE23/$AH23+GT23/$AH23*5+GU23/$AH23*25+GV23*50+GW23*50)))","v":500},null,{"$f":"IF(C23<>\"\",C23,\"\")","v":418},null,null,null,null,null,1,null,null,{"$f":"IF($C23=\"\",\"\", IF(HK23=1,0,IF(HI23<>0,500,HD23*$AE23/$AH23+HE23/$AH23*5+HF23/$AH23*25+HG23*50+HH23*50)))","v":500},null,{"$f":"IF(C23<>\"\",C23,\"\")","v":418},null,null,null,null,null,null,null,null,{"$f":"IF($C23=\"\",\"\", IF(HV23=1,0,IF(HT23<>0,500,HO23*$AE23/$AH23+HP23/$AH23*5+HQ23/$AH23*25+HR23*50+HS23*50)))","v":0},null,{"$f":"IF(C23<>\"\",C23,\"\")","v":418},null,null,null,null,null,null,null,null,{"$f":"IF($C23=\"\",\"\", IF(IG23=1,0,IF(IE23<>0,500,HZ23*$AE23/$AH23+IA23/$AH23*5+IB23/$AH23*25+IC23*50+ID23*50)))","v":0}]
[null,{"$f":"IF(C24=0,\"\",ROW(C24)-4)","v":""},null,null,null,null,null,{"$f":"IF(C24=0,\"\",IF(OR(BB24=1,BC24<>0),BC24,\"-\"))","v":""},{"$f":"IF(C24=0,\"\",IF(OR(BM24=1,BN24<>0),BN24,\"-\"))","v":""},{"$f":"IF(C24=0,\"\",IF(OR(BX24=1,BY24<>0),BY24,\" -\"))","v":""},{"$f":"IF(C24=0,\"\",IF(OR(CJ24<>0,CI24=1),CJ24,\" -\"))","v":""},{"$f":"IF(C24=0,\"\",IF(OR(CU24<>0,CT24=1),CU24,\" -\"))","v":""},{"$f":"IF(C24=0,\"\",IF(OR(DF24<>0,DE24=1),DF24,\" -\"))","v":""},{"$f":"IF(C24=0,\"\",IF(OR(DQ24<>0,DP24=1),DQ24,\" -\"))","v":""},{"$f":"IF(C24=0,\"\",IF(OR(EB24<>0,EA24=1),EB24,\" -\"))","v":""},{"$f":"IF(C24=0,\"\",IF(OR(EM24<>0,EL24=1),EM24,\" -\"))","v":""},{"$f":"IF(C24=0,\"\",IF(OR(EX24<>0,EW24=1),EX24,\" -\"))","v":""},{"$f":"IF(C24=0,\"\",IF(OR(FI24<>0,FH24=1),FI24,\" -\"))","v":""},{"$f":"IF(C24=0,\"\",IF(OR(FT24<>0,FS24=1),FT24,\" -\"))","v":""},{"$f":"IF(C24=0,\"\",IF(OR(GE24<>0,GD24=1),GE24,\" -\"))","v":""},{"$f":"IF(C24=0,\"\",IF(OR(GP24<>0,GO24=1),GP24,\" -\"))","v":""},{"$f":"IF(C24=0,\"\",IF(OR(HA24<>0,GZ24=1),HA24,\" -\"))","v":""},{"$f":"IF(C24=0,\"\",IF(OR(HL24<>0,HK24=1),HL24,\" -\"))","v":""},{"$f":"IF(C24=0,\"\",IF(AJ24<>0,AJ24,\" -\"))","v":""},{"$f":"IF(C24=0,\"\",IF(OR(HW24<>0,HV24=1),HW24,\" -\"))","v":""},{"$f":"IF(C24=0,\"\",IF(OR(IH24<>0,IG24=1),IH24,\" -\"))","v":""},{"$f":"IF(C24=0,\"\",IF(AL24=1,\"DNF\",IF(AL24=2,\"DSQ\",IF(AM24<>1,\"~ \"&ROUND(SUM(H24:X24),3),ROUND(SUM(H24:X24),3)))))","v":""},null,null,{"$f":"IF(C24<>\"\",C24,\"\")","v":""},{"$f":"IF(AD24<>\"\",3,\"\")","v":""},null,null,{"$f":"IF(AD24<>\"\",(AF24/1000*AG24/1000)/2,\"\")","v":""},null,null,null,null,null,null,null,{"$f":"IF(C24=0,99999,IF(AL24>0,9999,SUM(H24:X24)-AN24))","v":99999},{"$f":"IF(C24=0,99999,IF(AL24=1,9999,SUM(Y24:Z24)))","v":99999},null,null,{"$f":"IF(C24<>\"\",C24,\"\")","v":""},null,null,null,null,null,null,null,null,{"$f":"IF($C24=\"\",\"\", IF(BB24=1,0,IF(AZ24<>0,500,AU24*$AE24/$AH24+AV24/$AH24*5+AW24/$AH24*25+AX24*50+AY24*50)))","v":""},null,{"$f":"IF(C24<>\"\",C24,\"\")","v":""},null,null,null,null,null,null,null,null,{"$f":"IF($C24=\"\",\"\", IF(BM24=1,0,IF(BK24<>0,500,BF24*$AE24/$AH24+BG24/$AH24*5+BH24/$AH24*25+BI24*50+BJ24*50)))","v":""},null,{"$f":"IF(C24<>\"\",C24,\"\")","v":""},null,null,null,null,null,null,null,null,{"$f":"IF($C24=\"\",\"\", IF(BX24=1,0,IF(BV24<>0,500,BQ24*$AE24/$AH24+BR24/$AH24*5+BS24/$AH24*25+BT24*50+BU24*50)))","v":""},null,{"$f":"IF(C24<>\"\",C24,\"\")","v":""},null,null,null,null,null,null,null,null,{"$f":"IF($C24=\"\",\"\", IF(CI24=1,0,IF(CG24<>0,500,CB24*$AE24/$AH24+CC24/$AH24*5+CD24/$AH24*25+CE24*50+CF24*50)))","v":""},null,{"$f":"IF(C24<>\"\",C24,\"\")","v":""},null,null,null,null,null,null,null,null,{"$f":"IF($C24=\"\",\"\", IF(CT24=1,0,IF(CR24<>0,500,CM24*$AE24/$AH24+CN24/$AH24*5+CO24/$AH24*25+CP24*50+CQ24*50)))","v":""},null,{"$f":"IF(C24<>\"\",C24,\"\")","v":""},null,null,null,null,null,null,null,null,{"$f":"IF($C24=\"\",\"\", IF(DE24=1,0,IF(DC24<>0,500,CX24*$AE24/$AH24+CY24/$AH24*5+CZ24/$AH24*25+DA24*50+DB24*50)))","v":""},null,{"$f":"IF(C24<>\"\",C24,\"\")","v":""},null,null,null,null,null,null,null,null,{"$f":"IF($C24=\"\",\"\", IF(DP24=1,0,IF(DN24<>0,500,DI24*$AE24/$AH24+DJ24/$AH24*5+DK24/$AH24*25+DL24*50+DM24*50)))","v":""},null,{"$f":"IF(C24<>\"\",C24,\"\")","v":""},null,null,null,null,null,null,null,null,{"$f":"IF($C24=\"\",\"\", IF(EA24=1,0,IF(DY24<>0,500,DT24*$AE24/$AH24+DU24/$AH24*5+DV24/$AH24*25+DW24*50+DX24*50)))","v":""},null,{"$f":"IF(C24<>\"\",C24,\"\")","v":""},null,null,null,null,null,null,null,null,{"$f":"IF($C24=\"\",\"\", IF(EL24=1,0,IF(EJ24<>0,500,EE24*$AE24/$AH24+EF24/$AH24*5+EG24/$AH24*25+EH24*50+EI24*50)))","v":""},null,{"$f":"IF(C24<>\"\",C24,\"\")","v":""},null,null,null,null,null,null,null,null,{"$f":"IF($C24=\"\",\"\", IF(EW24=1,0,IF(EU24<>0,500,EP24*$AE24/$AH24+EQ24/$AH24*5+ER24/$AH24*25+ES24*50+ET24*50)))","v":""},null,{"$f":"IF(C24<>\"\",C24,\"\")","v":""},null,null,null,null,null,null,null,null,{"$f":"IF($C24=\"\",\"\", IF(FH24=1,0,IF(FF24<>0,500,FA24*$AE24/$AH24+FB24/$AH24*5+FC24/$AH24*25+FD24*50+FE24*50)))","v":""},null,{"$f":"IF(C24<>\"\",C24,\"\")","v":""},null,null,null,null,null,null,null,null,{"$f":"IF($C24=\"\",\"\", IF(FS24=1,0,IF(FQ24<>0,500,FL24*$AE24/$AH24+FM24/$AH24*5+FN24/$AH24*25+FO24*50+FP24*50)))","v":""},null,{"$f":"IF(C24<>\"\",C24,\"\")","v":""},null,null,null,null,null,null,null,null,{"$f":"IF($C24=\"\",\"\", IF(GD24=1,0,IF(GB24<>0,500,FW24*$AE24/$AH24+FX24/$AH24*5+FY24/$AH24*25+FZ24*50+GA24*50)))","v":""},null,{"$f":"IF(C24<>\"\",C24,\"\")","v":""},null,null,null,null,null,null,null,null,{"$f":"IF($C24=\"\",\"\", IF(GO24=1,0,IF(GM24<>0,500,GH24*$AE24/$AH24+GI24/$AH24*5+GJ24/$AH24*25+GK24*50+GL24*50)))","v":""},null,{"$f":"IF(C24<>\"\",C24,\"\")","v":""},null,null,null,null,null,null,null,null,{"$f":"IF($C24=\"\",\"\", IF(GZ24=1,0,IF(GX24<>0,500,GS24*$AE24/$AH24+GT24/$AH24*5+GU24/$AH24*25+GV24*50+GW24*50)))","v":""},null,{"$f":"IF(C24<>\"\",C24,\"\")","v":""},null,null,null,null,null,null,null,null,{"$f":"IF($C24=\"\",\"\", IF(HK24=1,0,IF(HI24<>0,500,HD24*$AE24/$AH24+HE24/$AH24*5+HF24/$AH24*25+HG24*50+HH24*50)))","v":""},null,{"$f":"IF(C24<>\"\",C24,\"\")","v":""},null,null,null,null,null,null,null,null,{"$f":"IF($C24=\"\",\"\", IF(HV24=1,0,IF(HT24<>0,500,HO24*$AE24/$AH24+HP24/$AH24*5+HQ24/$AH24*25+HR24*50+HS24*50)))","v":""},null,{"$f":"IF(C24<>\"\",C24,\"\")","v":""},null,null,null,null,null,null,null,null,{"$f":"IF($C24=\"\",\"\", IF(IG24=1,0,IF(IE24<>0,500,HZ24*$AE24/$AH24+IA24/$AH24*5+IB24/$AH24*25+IC24*50+ID24*50)))","v":""}]
[null,{"$f":"IF(C25=0,\"\",ROW(C25)-4)","v":""},null,null,null,null,null,{"$f":"IF(C25=0,\"\",IF(OR(BB25=1,BC25<>0),BC25,\"-\"))","v":""},{"$f":"IF(C25=0,\"\",IF(OR(BM25=1,BN25<>0),BN25,\"-\"))","v":""},{"$f":"IF(C25=0,\"\",IF(OR(BX25=1,BY25<>0),BY25,\" -\"))","v":""},{"$f":"IF(C25=0,\"\",IF(OR(CJ25<>0,CI25=1),CJ25,\" -\"))","v":""},{"$f":"IF(C25=0,\"\",IF(OR(CU25<>0,CT25=1),CU25,\" -\"))","v":""},{"$f":"IF(C25=0,\"\",IF(OR(DF25<>0,DE25=1),DF25,\" -\"))","v":""},{"$f":"IF(C25=0,\"\",IF(OR(DQ25<>0,DP25=1),DQ25,\" -\"))","v":""},{"$f":"IF(C25=0,\"\",IF(OR(EB25<>0,EA25=1),EB25,\" -\"))","v":""},{"$f":"IF(C25=0,\"\",IF(OR(EM25<>0,EL25=1),EM25,\" -\"))","v":""},{"$f":"IF(C25=0,\"\",IF(OR(EX25<>0,EW25=1),EX25,\" -\"))","v":""},{"$f":"IF(C25=0,\"\",IF(OR(FI25<>0,FH25=1),FI25,\" -\"))","v":""},{"$f":"IF(C25=0,\"\",IF(OR(FT25<>0,FS25=1),FT25,\" -\"))","v":""},{"$f":"IF(C25=0,\"\",IF(OR(GE25<>0,GD25=1),GE25,\" -\"))","v":""},{"$f":"IF(C25=0,\"\",IF(OR(GP25<>0,GO25=1),GP25,\" -\"))","v":""},{"$f":"IF(C25=0,\"\",IF(OR(HA25<>0,GZ25=1),HA25,\" -\"))","v":""},{"$f":"IF(C25=0,\"\",IF(OR(HL25<>0,HK25=1),HL25,\" -\"))","v":""},{"$f":"IF(C25=0,\"\",IF(AJ25<>0,AJ25,\" -\"))","v":""},{"$f":"IF(C25=0,\"\",IF(OR(HW25<>0,HV25=1),HW25,\" -\"))","v":""},{"$f":"IF(C25=0,\"\",IF(OR(IH25<>0,IG25=1),IH25,\" -\"))","v":""},{"$f":"IF(C25=0,\"\",IF(AL25=1,\"DNF\",IF(AL25=2,\"DSQ\",IF(AM25<>1,\"~ \"&ROUND(SUM(H25:X25),3),ROUND(SUM(H25:X25),3)))))","v":""},null,null,{"$f":"IF(C25<>\"\",C25,\"\")","v":""},{"$f":"IF(AD25<>\"\",3,\"\")","v":""},null,null,{"$f":"IF(AD25<>\"\",(AF25/1000*AG25/1000)/2,\"\")","v":""},null,null,null,null,null,null,null,{"$f":"IF(C25=0,99999,IF(AL25>0,9999,SUM(H25:X25)-AN25))","v":99999},{"$f":"IF(C25=0,99999,IF(AL25=1,9999,SUM(Y25:Z25)))","v":99999},null,null,{"$f":"IF(C25<>\"\",C25,\"\")","v":""},null,null,null,null,null,null,null,null,{"$f":"IF($C25=\"\",\"\", IF(BB25=1,0,IF(AZ25<>0,500,AU25*$AE25/$AH25+AV25/$AH25*5+AW25/$AH25*25+AX25*50+AY25*50)))","v":""},null,{"$f":"IF(C25<>\"\",C25,\"\")","v":""},null,null,null,null,null,null,null,null,{"$f":"IF($C25=\"\",\"\", IF(BM25=1,0,IF(BK25<>0,500,BF25*$AE25/$AH25+BG25/$AH25*5+BH25/$AH25*25+BI25*50+BJ25*50)))","v":""},null,{"$f":"IF(C25<>\"\",C25,\"\")","v":""},null,null,null,null,null,null,null,null,{"$f":"IF($C25=\"\",\"\", IF(BX25=1,0,IF(BV25<>0,500,BQ25*$AE25/$AH25+BR25/$AH25*5+BS25/$AH25*25+BT25*50+BU25*50)))","v":""},null,{"$f":"IF(C25<>\"\",C25,\"\")","v":""},null,null,null,null,null,null,null,null,{"$f":"IF($C25=\"\",\"\", IF(CI25=1,0,IF(CG25<>0,500,CB25*$AE25/$AH25+CC25/$AH25*5+CD25/$AH25*25+CE25*50+CF25*50)))","v":""},null,{"$f":"IF(C25<>\"\",C25,\"\")","v":""},null,null,null,null,null,null,null,null,{"$f":"IF($C25=\"\",\"\", IF(CT25=1,0,IF(CR25<>0,500,CM25*$AE25/$AH25+CN25/$AH25*5+CO25/$AH25*25+CP25*50+CQ25*50)))","v":""},null,{"$f":"IF(C25<>\"\",C25,\"\")","v":""},null,null,null,null,null,null,null,null,{"$f":"IF($C25=\"\",\"\", IF(DE25=1,0,IF(DC25<>0,500,CX25*$AE25/$AH25+CY25/$AH25*5+CZ25/$AH25*25+DA25*50+DB25*50)))","v":""},null,{"$f":"IF(C25<>\"\",C25,\"\")","v":""},null,null,null,null,null,null,null,null,{"$f":"IF($C25=\"\",\"\", IF(DP25=1,0,IF(DN25<>0,500,DI25*$AE25/$AH25+DJ25/$AH25*5+DK25/$AH25*25+DL25*50+DM25*50)))","v":""},null,{"$f":"IF(C25<>\"\",C25,\"\")","v":""},null,null,null,null,null,null,null,null,{"$f":"IF($C25=\"\",\"\", IF(EA25=1,0,IF(DY25<>0,500,DT25*$AE25/$AH25+DU25/$AH25*5+DV25/$AH25*25+DW25*50+DX25*50)))","v":""},null,{"$f":"IF(C25<>\"\",C25,\"\")","v":""},null,null,null,null,null,null,null,null,{"$f":"IF($C25=\"\",\"\", IF(EL25=1,0,IF(EJ25<>0,500,EE25*$AE25/$AH25+EF25/$AH25*5+EG25/$AH25*25+EH25*50+EI25*50)))","v":""},null,{"$f":"IF(C25<>\"\",C25,\"\")","v":""},null,null,null,null,null,null,null,null,{"$f":"IF($C25=\"\",\"\", IF(EW25=1,0,IF(EU25<>0,500,EP25*$AE25/$AH25+EQ25/$AH25*5+ER25/$AH25*25+ES25*50+ET25*50)))","v":""},null,{"$f":"IF(C25<>\"\",C25,\"\")","v":""},null,null,null,null,null,null,null,null,{"$f":"IF($C25=\"\",\"\", IF(FH25=1,0,IF(FF25<>0,500,FA25*$AE25/$AH25+FB25/$AH25*5+FC25/$AH25*25+FD25*50+FE25*50)))","v":""},null,{"$f":"IF(C25<>\"\",C25,\"\")","v":""},null,null,null,null,null,null,null,null,{"$f":"IF($C25=\"\",\"\", IF(FS25=1,0,IF(FQ25<>0,500,FL25*$AE25/$AH25+FM25/$AH25*5+FN25/$AH25*25+FO25*50+FP25*50)))","v":""},null,{"$f":"IF(C25<>\"\",C25,\"\")","v":""},null,null,null,null,null,null,null,null,{"$f":"IF($C25=\"\",\"\", IF(GD25=1,0,IF(GB25<>0,500,FW25*$AE25/$AH25+FX25/$AH25*5+FY25/$AH25*25+FZ25*50+GA25*50)))","v":""},null,{"$f":"IF(C25<>\"\",C25,\"\")","v":""},null,null,null,null,null,null,null,null,{"$f":"IF($C25=\"\",\"\", IF(GO25=1,0,IF(GM25<>0,500,GH25*$AE25/$AH25+GI25/$AH25*5+GJ25/$AH25*25+GK25*50+GL25*50)))","v":""},null,{"$f":"IF(C25<>\"\",C25,\"\")","v":""},null,null,null,null,null,null,null,null,{"$f":"IF($C25=\"\",\"\", IF(GZ25=1,0,IF(GX25<>0,500,GS25*$AE25/$AH25+GT25/$AH25*5+GU25/$AH25*25+GV25*50+GW25*50)))","v":""},null,{"$f":"IF(C25<>\"\",C25,\"\")","v":""},null,null,null,null,null,null,null,null,{"$f":"IF($C25=\"\",\"\", IF(HK25=1,0,IF(HI25<>0,500,HD25*$AE25/$AH25+HE25/$AH25*5+HF25/$AH25*25+HG25*50+HH25*50)))","v":""},null,{"$f":"IF(C25<>\"\",C25,\"\")","v":""},null,null,null,null,null,null,null,null,{"$f":"IF($C25=\"\",\"\", IF(HV25=1,0,IF(HT25<>0,500,HO25*$AE25/$AH25+HP25/$AH25*5+HQ25/$AH25*25+HR25*50+HS25*50)))","v":""},null,{"$f":"IF(C25<>\"\",C25,\"\")","v":""},null,null,null,null,null,null,null,null,{"$f":"IF($C25=\"\",\"\", IF(IG25=1,0,IF(IE25<>0,500,HZ25*$AE25/$AH25+IA25/$AH25*5+IB25/$AH25*25+IC25*50+ID25*50)))","v":""}]
[null,{"$f":"IF(C26=0,\"\",ROW(C26)-4)","v":""},null,null,null,null,null,{"$f":"IF(C26=0,\"\",IF(OR(BB26=1,BC26<>0),BC26,\"-\"))","v":""},{"$f":"IF(C26=0,\"\",IF(OR(BM26=1,BN26<>0),BN26,\"-\"))","v":""},{"$f":"IF(C26=0,\"\",IF(OR(BX26=1,BY26<>0),BY26,\" -\"))","v":""},{"$f":"IF(C26=0,\"\",IF(OR(CJ26<>0,CI26=1),CJ26,\" -\"))","v":""},{"$f":"IF(C26=0,\"\",IF(OR(CU26<>0,CT26=1),CU26,\" -\"))","v":""},{"$f":"IF(C26=0,\"\",IF(OR(DF26<>0,DE26=1),DF26,\" -\"))","v":""},{"$f":"IF(C26=0,\"\",IF(OR(DQ26<>0,DP26=1),DQ26,\" -\"))","v":""},{"$f":"IF(C26=0,\"\",IF(OR(EB26<>0,EA26=1),EB26,\" -\"))","v":""},{"$f":"IF(C26=0,\"\",IF(OR(EM26<>0,EL26=1),EM26,\" -\"))","v":""},{"$f":"IF(C26=0,\"\",IF(OR(EX26<>0,EW26=1),EX26,\" -\"))","v":""},{"$f":"IF(C26=0,\"\",IF(OR(FI26<>0,FH26=1),FI26,\" -\"))","v":""},{"$f":"IF(C26=0,\"\",IF(OR(FT26<>0,FS26=1),FT26,\" -\"))","v":""},{"$f":"IF(C26=0,\"\",IF(OR(GE26<>0,GD26=1),GE26,\" -\"))","v":""},{"$f":"IF(C26=0,\"\",IF(OR(GP26<>0,GO26=1),GP26,\" -\"))","v":""},{"$f":"IF(C26=0,\"\",IF(OR(HA26<>0,GZ26=1),HA26,\" -\"))","v":""},{"$f":"IF(C26=0,\"\",IF(OR(HL26<>0,HK26=1),HL26,\" -\"))","v":""},{"$f":"IF(C26=0,\"\",IF(AJ26<>0,AJ26,\" -\"))","v":""},{"$f":"IF(C26=0,\"\",IF(OR(HW26<>0,HV26=1),HW26,\" -\"))","v":""},{"$f":"IF(C26=0,\"\",IF(OR(IH26<>0,IG26=1),IH26,\" -\"))","v":""},{"$f":"IF(C26=0,\"\",IF(AL26=1,\"DNF\",IF(AL26=2,\"DSQ\",IF(AM26<>1,\"~ \"&ROUND(SUM(H26:X26),3),ROUND(SUM(H26:X26),3)))))","v":""},null,null,{"$f":"IF(C26<>\"\",C26,\"\")","v":""},{"$f":"IF(AD26<>\"\",3,\"\")","v":""},null,null,{"$f":"IF(AD26<>\"\",(AF26/1000*AG26/1000)/2,\"\")","v":""},null,null,null,null,null,null,null,{"$f":"IF(C26=0,99999,IF(AL26>0,9999,SUM(H26:X26)-AN26))","v":99999},{"$f":"IF(C26=0,99999,IF(AL26=1,9999,SUM(Y26:Z26)))","v":99999},null,null,{"$f":"IF(C26<>\"\",C26,\"\")","v":""},null,null,null,null,null,null,null,null,{"$f":"IF($C26=\"\",\"\", IF(BB26=1,0,IF(AZ26<>0,500,AU26*$AE26/$AH26+AV26/$AH26*5+AW26/$AH26*25+AX26*50+AY26*50)))","v":""},null,{"$f":"IF(C26<>\"\",C26,\"\")","v":""},null,null,null,null,null,null,null,null,{"$f":"IF($C26=\"\",\"\", IF(BM26=1,0,IF(BK26<>0,500,BF26*$AE26/$AH26+BG26/$AH26*5+BH26/$AH26*25+BI26*50+BJ26*50)))","v":""},null,{"$f":"IF(C26<>\"\",C26,\"\")","v":""},null,null,null,null,null,null,null,null,{"$f":"IF($C26=\"\",\"\", IF(BX26=1,0,IF(BV26<>0,500,BQ26*$AE26/$AH26+BR26/$AH26*5+BS26/$AH26*25+BT26*50+BU26*50)))","v":""},null,{"$f":"IF(C26<>\"\",C26,\"\")","v":""},null,null,null,null,null,null,null,null,{"$f":"IF($C26=\"\",\"\", IF(CI26=1,0,IF(CG26<>0,500,CB26*$AE26/$AH26+CC26/$AH26*5+CD26/$AH26*25+CE26*50+CF26*50)))","v":""},null,{"$f":"IF(C26<>\"\",C26,\"\")","v":""},null,null,null,null,null,null,null,null,{"$f":"IF($C26=\"\",\"\", IF(CT26=1,0,IF(CR26<>0,500,CM26*$AE26/$AH26+CN26/$AH26*5+CO26/$AH26*25+CP26*50+CQ26*50)))","v":""},null,{"$f":"IF(C26<>\"\",C26,\"\")","v":""},null,null,null,null,null,null,null,null,{"$f":"IF($C26=\"\",\"\", IF(DE26=1,0,IF(DC26<>0,500,CX26*$AE26/$AH26+CY26/$AH26*5+CZ26/$AH26*25+DA26*50+DB26*50)))","v":""},null,{"$f":"IF(C26<>\"\",C26,\"\")","v":""},null,null,null,null,null,null,null,null,{"$f":"IF($C26=\"\",\"\", IF(DP26=1,0,IF(DN26<>0,500,DI26*$AE26/$AH26+DJ26/$AH26*5+DK26/$AH26*25+DL26*50+DM26*50)))","v":""},null,{"$f":"IF(C26<>\"\",C26,\"\")","v":""},null,null,null,null,null,null,null,null,{"$f":"IF($C26=\"\",\"\", IF(EA26=1,0,IF(DY26<>0,500,DT26*$AE26/$AH26+DU26/$AH26*5+DV26/$AH26*25+DW26*50+DX26*50)))","v":""},null,{"$f":"IF(C26<>\"\",C26,\"\")","v":""},null,null,null,null,null,null,null,null,{"$f":"IF($C26=\"\",\"\", IF(EL26=1,0,IF(EJ26<>0,500,EE26*$AE26/$AH26+EF26/$AH26*5+EG26/$AH26*25+EH26*50+EI26*50)))","v":""},null,{"$f":"IF(C26<>\"\",C26,\"\")","v":""},null,null,null,null,null,null,null,null,{"$f":"IF($C26=\"\",\"\", IF(EW26=1,0,IF(EU26<>0,500,EP26*$AE26/$AH26+EQ26/$AH26*5+ER26/$AH26*25+ES26*50+ET26*50)))","v":""},null,{"$f":"IF(C26<>\"\",C26,\"\")","v":""},null,null,null,null,null,null,null,null,{"$f":"IF($C26=\"\",\"\", IF(FH26=1,0,IF(FF26<>0,500,FA26*$AE26/$AH26+FB26/$AH26*5+FC26/$AH26*25+FD26*50+FE26*50)))","v":""},null,{"$f":"IF(C26<>\"\",C26,\"\")","v":""},null,null,null,null,null,null,null,null,{"$f":"IF($C26=\"\",\"\", IF(FS26=1,0,IF(FQ26<>0,500,FL26*$AE26/$AH26+FM26/$AH26*5+FN26/$AH26*25+FO26*50+FP26*50)))","v":""},null,{"$f":"IF(C26<>\"\",C26,\"\")","v":""},null,null,null,null,null,null,null,null,{"$f":"IF($C26=\"\",\"\", IF(GD26=1,0,IF(GB26<>0,500,FW26*$AE26/$AH26+FX26/$AH26*5+FY26/$AH26*25+FZ26*50+GA26*50)))","v":""},null,{"$f":"IF(C26<>\"\",C26,\"\")","v":""},null,null,null,null,null,null,null,null,{"$f":"IF($C26=\"\",\"\", IF(GO26=1,0,IF(GM26<>0,500,GH26*$AE26/$AH26+GI26/$AH26*5+GJ26/$AH26*25+GK26*50+GL26*50)))","v":""},null,{"$f":"IF(C26<>\"\",C26,\"\")","v":""},null,null,null,null,null,null,null,null,{"$f":"IF($C26=\"\",\"\", IF(GZ26=1,0,IF(GX26<>0,500,GS26*$AE26/$AH26+GT26/$AH26*5+GU26/$AH26*25+GV26*50+GW26*50)))","v":""},null,{"$f":"IF(C26<>\"\",C26,\"\")","v":""},null,null,null,null,null,null,null,null,{"$f":"IF($C26=\"\",\"\", IF(HK26=1,0,IF(HI26<>0,500,HD26*$AE26/$AH26+HE26/$AH26*5+HF26/$AH26*25+HG26*50+HH26*50)))","v":""},null,{"$f":"IF(C26<>\"\",C26,\"\")","v":""},null,null,null,null,null,null,null,null,{"$f":"IF($C26=\"\",\"\", IF(HV26=1,0,IF(HT26<>0,500,HO26*$AE26/$AH26+HP26/$AH26*5+HQ26/$AH26*25+HR26*50+HS26*50)))","v":""},null,{"$f":"IF(C26<>\"\",C26,\"\")","v":""},null,null,null,null,null,null,null,null,{"$f":"IF($C26=\"\",\"\", IF(IG26=1,0,IF(IE26<>0,500,HZ26*$AE26/$AH26+IA26/$AH26*5+IB26/$AH26*25+IC26*50+ID26*50)))","v":""}]
[null,{"$f":"IF(C27=0,\"\",ROW(C27)-4)","v":""},null,null,null,null,null,{"$f":"IF(C27=0,\"\",IF(OR(BB27=1,BC27<>0),BC27,\"-\"))","v":""},{"$f":"IF(C27=0,\"\",IF(OR(BM27=1,BN27<>0),BN27,\"-\"))","v":""},{"$f":"IF(C27=0,\"\",IF(OR(BX27=1,BY27<>0),BY27,\" -\"))","v":""},{"$f":"IF(C27=0,\"\",IF(OR(CJ27<>0,CI27=1),CJ27,\" -\"))","v":""},{"$f":"IF(C27=0,\"\",IF(OR(CU27<>0,CT27=1),CU27,\" -\"))","v":""},{"$f":"IF(C27=0,\"\",IF(OR(DF27<>0,DE27=1),DF27,\" -\"))","v":""},{"$f":"IF(C27=0,\"\",IF(OR(DQ27<>0,DP27=1),DQ27,\" -\"))","v":""},{"$f":"IF(C27=0,\"\",IF(OR(EB27<>0,EA27=1),EB27,\" -\"))","v":""},{"$f":"IF(C27=0,\"\",IF(OR(EM27<>0,EL27=1),EM27,\" -\"))","v":""},{"$f":"IF(C27=0,\"\",IF(OR(EX27<>0,EW27=1),EX27,\" -\"))","v":""},{"$f":"IF(C27=0,\"\",IF(OR(FI27<>0,FH27=1),FI27,\" -\"))","v":""},{"$f":"IF(C27=0,\"\",IF(OR(FT27<>0,FS27=1),FT27,\" -\"))","v":""},{"$f":"IF(C27=0,\"\",IF(OR(GE27<>0,GD27=1),GE27,\" -\"))","v":""},{"$f":"IF(C27=0,\"\",IF(OR(GP27<>0,GO27=1),GP27,\" -\"))","v":""},{"$f":"IF(C27=0,\"\",IF(OR(HA27<>0,GZ27=1),HA27,\" -\"))","v":""},{"$f":"IF(C27=0,\"\",IF(OR(HL27<>0,HK27=1),HL27,\" -\"))","v":""},{"$f":"IF(C27=0,\"\",IF(AJ27<>0,AJ27,\" -\"))","v":""},{"$f":"IF(C27=0,\"\",IF(OR(HW27<>0,HV27=1),HW27,\" -\"))","v":""},{"$f":"IF(C27=0,\"\",IF(OR(IH27<>0,IG27=1),IH27,\" -\"))","v":""},{"$f":"IF(C27=0,\"\",IF(AL27=1,\"DNF\",IF(AL27=2,\"DSQ\",IF(AM27<>1,\"~ \"&ROUND(SUM(H27:X27),3),ROUND(SUM(H27:X27),3)))))","v":""},null,null,{"$f":"IF(C27<>\"\",C27,\"\")","v":""},{"$f":"IF(AD27<>\"\",3,\"\")","v":""},null,null,{"$f":"IF(AD27<>\"\",(AF27/1000*AG27/1000)/2,\"\")","v":""},null,null,null,null,null,null,null,{"$f":"IF(C27=0,99999,IF(AL27>0,9999,SUM(H27:X27)-AN27))","v":99999},{"$f":"IF(C27=0,99999,IF(AL27=1,9999,SUM(Y27:Z27)))","v":99999},null,null,{"$f":"IF(C27<>\"\",C27,\"\")","v":""},null,null,null,null,null,null,null,null,{"$f":"IF($C27=\"\",\"\", IF(BB27=1,0,IF(AZ27<>0,500,AU27*$AE27/$AH27+AV27/$AH27*5+AW27/$AH27*25+AX27*50+AY27*50)))","v":""},null,{"$f":"IF(C27<>\"\",C27,\"\")","v":""},null,null,null,null,null,null,null,null,{"$f":"IF($C27=\"\",\"\", IF(BM27=1,0,IF(BK27<>0,500,BF27*$AE27/$AH27+BG27/$AH27*5+BH27/$AH27*25+BI27*50+BJ27*50)))","v":""},null,{"$f":"IF(C27<>\"\",C27,\"\")","v":""},null,null,null,null,null,null,null,null,{"$f":"IF($C27=\"\",\"\", IF(BX27=1,0,IF(BV27<>0,500,BQ27*$AE27/$AH27+BR27/$AH27*5+BS27/$AH27*25+BT27*50+BU27*50)))","v":""},null,{"$f":"IF(C27<>\"\",C27,\"\")","v":""},null,null,null,null,null,null,null,null,{"$f":"IF($C27=\"\",\"\", IF(CI27=1,0,IF(CG27<>0,500,CB27*$AE27/$AH27+CC27/$AH27*5+CD27/$AH27*25+CE27*50+CF27*50)))","v":""},null,{"$f":"IF(C27<>\"\",C27,\"\")","v":""},null,null,null,null,null,null,null,null,{"$f":"IF($C27=\"\",\"\", IF(CT27=1,0,IF(CR27<>0,500,CM27*$AE27/$AH27+CN27/$AH27*5+CO27/$AH27*25+CP27*50+CQ27*50)))","v":""},null,{"$f":"IF(C27<>\"\",C27,\"\")","v":""},null,null,null,null,null,null,null,null,{"$f":"IF($C27=\"\",\"\", IF(DE27=1,0,IF(DC27<>0,500,CX27*$AE27/$AH27+CY27/$AH27*5+CZ27/$AH27*25+DA27*50+DB27*50)))","v":""},null,{"$f":"IF(C27<>\"\",C27,\"\")","v":""},null,null,null,null,null,null,null,null,{"$f":"IF($C27=\"\",\"\", IF(DP27=1,0,IF(DN27<>0,500,DI27*$AE27/$AH27+DJ27/$AH27*5+DK27/$AH27*25+DL27*50+DM27*50)))","v":""},null,{"$f":"IF(C27<>\"\",C27,\"\")","v":""},null,null,null,null,null,null,null,null,{"$f":"IF($C27=\"\",\"\", IF(EA27=1,0,IF(DY27<>0,500,DT27*$AE27/$AH27+DU27/$AH27*5+DV27/$AH27*25+DW27*50+DX27*50)))","v":""},null,{"$f":"IF(C27<>\"\",C27,\"\")","v":""},null,null,null,null,null,null,null,null,{"$f":"IF($C27=\"\",\"\", IF(EL27=1,0,IF(EJ27<>0,500,EE27*$AE27/$AH27+EF27/$AH27*5+EG27/$AH27*25+EH27*50+EI27*50)))","v":""},null,{"$f":"IF(C27<>\"\",C27,\"\")","v":""},null,null,null,null,null,null,null,null,{"$f":"IF($C27=\"\",\"\", IF(EW27=1,0,IF(EU27<>0,500,EP27*$AE27/$AH27+EQ27/$AH27*5+ER27/$AH27*25+ES27*50+ET27*50)))","v":""},null,{"$f":"IF(C27<>\"\",C27,\"\")","v":""},null,null,null,null,null,null,null,null,{"$f":"IF($C27=\"\",\"\", IF(FH27=1,0,IF(FF27<>0,500,FA27*$AE27/$AH27+FB27/$AH27*5+FC27/$AH27*25+FD27*50+FE27*50)))","v":""},null,{"$f":"IF(C27<>\"\",C27,\"\")","v":""},null,null,null,null,null,null,null,null,{"$f":"IF($C27=\"\",\"\", IF(FS27=1,0,IF(FQ27<>0,500,FL27*$AE27/$AH27+FM27/$AH27*5+FN27/$AH27*25+FO27*50+FP27*50)))","v":""},null,{"$f":"IF(C27<>\"\",C27,\"\")","v":""},null,null,null,null,null,null,null,null,{"$f":"IF($C27=\"\",\"\", IF(GD27=1,0,IF(GB27<>0,500,FW27*$AE27/$AH27+FX27/$AH27*5+FY27/$AH27*25+FZ27*50+GA27*50)))","v":""},null,{"$f":"IF(C27<>\"\",C27,\"\")","v":""},null,null,null,null,null,null,null,null,{"$f":"IF($C27=\"\",\"\", IF(GO27=1,0,IF(GM27<>0,500,GH27*$AE27/$AH27+GI27/$AH27*5+GJ27/$AH27*25+GK27*50+GL27*50)))","v":""},null,{"$f":"IF(C27<>\"\",C27,\"\")","v":""},null,null,null,null,null,null,null,null,{"$f":"IF($C27=\"\",\"\", IF(GZ27=1,0,IF(GX27<>0,500,GS27*$AE27/$AH27+GT27/$AH27*5+GU27/$AH27*25+GV27*50+GW27*50)))","v":""},null,{"$f":"IF(C27<>\"\",C27,\"\")","v":""},null,null,null,null,null,null,null,null,{"$f":"IF($C27=\"\",\"\", IF(HK27=1,0,IF(HI27<>0,500,HD27*$AE27/$AH27+HE27/$AH27*5+HF27/$AH27*25+HG27*50+HH27*50)))","v":""},null,{"$f":"IF(C27<>\"\",C27,\"\")","v":""},null,null,null,null,null,null,null,null,{"$f":"IF($C27=\"\",\"\", IF(HV27=1,0,IF(HT27<>0,500,HO27*$AE27/$AH27+HP27/$AH27*5+HQ27/$AH27*25+HR27*50+HS27*50)))","v":""},null,{"$f":"IF(C27<>\"\",C27,\"\")","v":""},null,null,null,null,null,null,null,null,{"$f":"IF($C27=\"\",\"\", IF(IG27=1,0,IF(IE27<>0,500,HZ27*$AE27/$AH27+IA27/$AH27*5+IB27/$AH27*25+IC27*50+ID27*50)))","v":""}]
[null,{"$f":"IF(C28=0,\"\",ROW(C28)-4)","v":""},null,null,null,null,null,{"$f":"IF(C28=0,\"\",IF(OR(BB28=1,BC28<>0),BC28,\"-\"))","v":""},{"$f":"IF(C28=0,\"\",IF(OR(BM28=1,BN28<>0),BN28,\"-\"))","v":""},{"$f":"IF(C28=0,\"\",IF(OR(BX28=1,BY28<>0),BY28,\" -\"))","v":""},{"$f":"IF(C28=0,\"\",IF(OR(CJ28<>0,CI28=1),CJ28,\" -\"))","v":""},{"$f":"IF(C28=0,\"\",IF(OR(CU28<>0,CT28=1),CU28,\" -\"))","v":""},{"$f":"IF(C28=0,\"\",IF(OR(DF28<>0,DE28=1),DF28,\" -\"))","v":""},{"$f":"IF(C28=0,\"\",IF(OR(DQ28<>0,DP28=1),DQ28,\" -\"))","v":""},{"$f":"IF(C28=0,\"\",IF(OR(EB28<>0,EA28=1),EB28,\" -\"))","v":""},{"$f":"IF(C28=0,\"\",IF(OR(EM28<>0,EL28=1),EM28,\" -\"))","v":""},{"$f":"IF(C28=0,\"\",IF(OR(EX28<>0,EW28=1),EX28,\" -\"))","v":""},{"$f":"IF(C28=0,\"\",IF(OR(FI28<>0,FH28=1),FI28,\" -\"))","v":""},{"$f":"IF(C28=0,\"\",IF(OR(FT28<>0,FS28=1),FT28,\" -\"))","v":""},{"$f":"IF(C28=0,\"\",IF(OR(GE28<>0,GD28=1),GE28,\" -\"))","v":""},{"$f":"IF(C28=0,\"\",IF(OR(GP28<>0,GO28=1),GP28,\" -\"))","v":""},{"$f":"IF(C28=0,\"\",IF(OR(HA28<>0,GZ28=1),HA28,\" -\"))","v":""},{"$f":"IF(C28=0,\"\",IF(OR(HL28<>0,HK28=1),HL28,\" -\"))","v":""},{"$f":"IF(C28=0,\"\",IF(AJ28<>0,AJ28,\" -\"))","v":""},{"$f":"IF(C28=0,\"\",IF(OR(HW28<>0,HV28=1),HW28,\" -\"))","v":""},{"$f":"IF(C28=0,\"\",IF(OR(IH28<>0,IG28=1),IH28,\" -\"))","v":""},{"$f":"IF(C28=0,\"\",IF(AL28=1,\"DNF\",IF(AL28=2,\"DSQ\",IF(AM28<>1,\"~ \"&ROUND(SUM(H28:X28),3),ROUND(SUM(H28:X28),3)))))","v":""},null,null,{"$f":"IF(C28<>\"\",C28,\"\")","v":""},{"$f":"IF(AD28<>\"\",3,\"\")","v":""},null,null,{"$f":"IF(AD28<>\"\",(AF28/1000*AG28/1000)/2,\"\")","v":""},null,null,null,null,null,null,null,{"$f":"IF(C28=0,99999,IF(AL28>0,9999,SUM(H28:X28)-AN28))","v":99999},{"$f":"IF(C28=0,99999,IF(AL28=1,9999,SUM(Y28:Z28)))","v":99999},null,null,{"$f":"IF(C28<>\"\",C28,\"\")","v":""},null,null,null,null,null,null,null,null,{"$f":"IF($C28=\"\",\"\", IF(BB28=1,0,IF(AZ28<>0,500,AU28*$AE28/$AH28+AV28/$AH28*5+AW28/$AH28*25+AX28*50+AY28*50)))","v":""},null,{"$f":"IF(C28<>\"\",C28,\"\")","v":""},null,null,null,null,null,null,null,null,{"$f":"IF($C28=\"\",\"\", IF(BM28=1,0,IF(BK28<>0,500,BF28*$AE28/$AH28+BG28/$AH28*5+BH28/$AH28*25+BI28*50+BJ28*50)))","v":""},null,{"$f":"IF(C28<>\"\",C28,\"\")","v":""},null,null,null,null,null,null,null,null,{"$f":"IF($C28=\"\",\"\", IF(BX28=1,0,IF(BV28<>0,500,BQ28*$AE28/$AH28+BR28/$AH28*5+BS28/$AH28*25+BT28*50+BU28*50)))","v":""},null,{"$f":"IF(C28<>\"\",C28,\"\")","v":""},null,null,null,null,null,null,null,null,{"$f":"IF($C28=\"\",\"\", IF(CI28=1,0,IF(CG28<>0,500,CB28*$AE28/$AH28+CC28/$AH28*5+CD28/$AH28*25+CE28*50+CF28*50)))","v":""},null,{"$f":"IF(C28<>\"\",C28,\"\")","v":""},null,null,null,null,null,null,null,null,{"$f":"IF($C28=\"\",\"\", IF(CT28=1,0,IF(CR28<>0,500,CM28*$AE28/$AH28+CN28/$AH28*5+CO28/$AH28*25+CP28*50+CQ28*50)))","v":""},null,{"$f":"IF(C28<>\"\",C28,\"\")","v":""},null,null,null,null,null,null,null,null,{"$f":"IF($C28=\"\",\"\", IF(DE28=1,0,IF(DC28<>0,500,CX28*$AE28/$AH28+CY28/$AH28*5+CZ28/$AH28*25+DA28*50+DB28*50)))","v":""},null,{"$f":"IF(C28<>\"\",C28,\"\")","v":""},null,null,null,null,null,null,null,null,{"$f":"IF($C28=\"\",\"\", IF(DP28=1,0,IF(DN28<>0,500,DI28*$AE28/$AH28+DJ28/$AH28*5+DK28/$AH28*25+DL28*50+DM28*50)))","v":""},null,{"$f":"IF(C28<>\"\",C28,\"\")","v":""},null,null,null,null,null,null,null,null,{"$f":"IF($C28=\"\",\"\", IF(EA28=1,0,IF(DY28<>0,500,DT28*$AE28/$AH28+DU28/$AH28*5+DV28/$AH28*25+DW28*50+DX28*50)))","v":""},null,{"$f":"IF(C28<>\"\",C28,\"\")","v":""},null,null,null,null,null,null,null,null,{"$f":"IF($C28=\"\",\"\", IF(EL28=1,0,IF(EJ28<>0,500,EE28*$AE28/$AH28+EF28/$AH28*5+EG28/$AH28*25+EH28*50+EI28*50)))","v":""},null,{"$f":"IF(C28<>\"\",C28,\"\")","v":""},null,null,null,null,null,null,null,null,{"$f":"IF($C28=\"\",\"\", IF(EW28=1,0,IF(EU28<>0,500,EP28*$AE28/$AH28+EQ28/$AH28*5+ER28/$AH28*25+ES28*50+ET28*50)))","v":""},null,{"$f":"IF(C28<>\"\",C28,\"\")","v":""},null,null,null,null,null,null,null,null,{"$f":"IF($C28=\"\",\"\", IF(FH28=1,0,IF(FF28<>0,500,FA28*$AE28/$AH28+FB28/$AH28*5+FC28/$AH28*25+FD28*50+FE28*50)))","v":""},null,{"$f":"IF(C28<>\"\",C28,\"\")","v":""},null,null,null,null,null,null,null,null,{"$f":"IF($C28=\"\",\"\", IF(FS28=1,0,IF(FQ28<>0,500,FL28*$AE28/$AH28+FM28/$AH28*5+FN28/$AH28*25+FO28*50+FP28*50)))","v":""},null,{"$f":"IF(C28<>\"\",C28,\"\")","v":""},null,null,null,null,null,null,null,null,{"$f":"IF($C28=\"\",\"\", IF(GD28=1,0,IF(GB28<>0,500,FW28*$AE28/$AH28+FX28/$AH28*5+FY28/$AH28*25+FZ28*50+GA28*50)))","v":""},null,{"$f":"IF(C28<>\"\",C28,\"\")","v":""},null,null,null,null,null,null,null,null,{"$f":"IF($C28=\"\",\"\", IF(GO28=1,0,IF(GM28<>0,500,GH28*$AE28/$AH28+GI28/$AH28*5+GJ28/$AH28*25+GK28*50+GL28*50)))","v":""},null,{"$f":"IF(C28<>\"\",C28,\"\")","v":""},null,null,null,null,null,null,null,null,{"$f":"IF($C28=\"\",\"\", IF(GZ28=1,0,IF(GX28<>0,500,GS28*$AE28/$AH28+GT28/$AH28*5+GU28/$AH28*25+GV28*50+GW28*50)))","v":""},null,{"$f":"IF(C28<>\"\",C28,\"\")","v":""},null,null,null,null,null,null,null,null,{"$f":"IF($C28=\"\",\"\", IF(HK28=1,0,IF(HI28<>0,500,HD28*$AE28/$AH28+HE28/$AH28*5+HF28/$AH28*25+HG28*50+HH28*50)))","v":""},null,{"$f":"IF(C28<>\"\",C28,\"\")","v":""},null,null,null,null,null,null,null,null,{"$f":"IF($C28=\"\",\"\", IF(HV28=1,0,IF(HT28<>0,500,HO28*$AE28/$AH28+HP28/$AH28*5+HQ28/$AH28*25+HR28*50+HS28*50)))","v":""},null,{"$f":"IF(C28<>\"\",C28,\"\")","v":""},null,null,null,null,null,null,null,null,{"$f":"IF($C28=\"\",\"\", IF(IG28=1,0,IF(IE28<>0,500,HZ28*$AE28/$AH28+IA28/$AH28*5+IB28/$AH28*25+IC28*50+ID28*50)))","v":""}]
[null,{"$f":"IF(C29=0,\"\",ROW(C29)-4)","v":""},null,null,null,null,null,{"$f":"IF(C29=0,\"\",IF(OR(BB29=1,BC29<>0),BC29,\"-\"))","v":""},{"$f":"IF(C29=0,\"\",IF(OR(BM29=1,BN29<>0),BN29,\"-\"))","v":""},{"$f":"IF(C29=0,\"\",IF(OR(BX29=1,BY29<>0),BY29,\" -\"))","v":""},{"$f":"IF(C29=0,\"\",IF(OR(CJ29<>0,CI29=1),CJ29,\" -\"))","v":""},{"$f":"IF(C29=0,\"\",IF(OR(CU29<>0,CT29=1),CU29,\" -\"))","v":""},{"$f":"IF(C29=0,\"\",IF(OR(DF29<>0,DE29=1),DF29,\" -\"))","v":""},{"$f":"IF(C29=0,\"\",IF(OR(DQ29<>0,DP29=1),DQ29,\" -\"))","v":""},{"$f":"IF(C29=0,\"\",IF(OR(EB29<>0,EA29=1),EB29,\" -\"))","v":""},{"$f":"IF(C29=0,\"\",IF(OR(EM29<>0,EL29=1),EM29,\" -\"))","v":""},{"$f":"IF(C29=0,\"\",IF(OR(EX29<>0,EW29=1),EX29,\" -\"))","v":""},{"$f":"IF(C29=0,\"\",IF(OR(FI29<>0,FH29=1),FI29,\" -\"))","v":""},{"$f":"IF(C29=0,\"\",IF(OR(FT29<>0,FS29=1),FT29,\" -\"))","v":""},{"$f":"IF(C29=0,\"\",IF(OR(GE29<>0,GD29=1),GE29,\" -\"))","v":""},{"$f":"IF(C29=0,\"\",IF(OR(GP29<>0,GO29=1),GP29,\" -\"))","v":""},{"$f":"IF(C29=0,\"\",IF(OR(HA29<>0,GZ29=1),HA29,\" -\"))","v":""},{"$f":"IF(C29=0,\"\",IF(OR(HL29<>0,HK29=1),HL29,\" -\"))","v":""},{"$f":"IF(C29=0,\"\",IF(AJ29<>0,AJ29,\" -\"))","v":""},{"$f":"IF(C29=0,\"\",IF(OR(HW29<>0,HV29=1),HW29,\" -\"))","v":""},{"$f":"IF(C29=0,\"\",IF(OR(IH29<>0,IG29=1),IH29,\" -\"))","v":""},{"$f":"IF(C29=0,\"\",IF(AL29=1,\"DNF\",IF(AL29=2,\"DSQ\",IF(AM29<>1,\"~ \"&ROUND(SUM(H29:X29),3),ROUND(SUM(H29:X29),3)))))","v":""},null,null,{"$f":"IF(C29<>\"\",C29,\"\")","v":""},{"$f":"IF(AD29<>\"\",3,\"\")","v":""},null,null,{"$f":"IF(AD29<>\"\",(AF29/1000*AG29/1000)/2,\"\")","v":""},null,null,null,null,null,null,null,{"$f":"IF(C29=0,99999,IF(AL29>0,9999,SUM(H29:X29)-AN29))","v":99999},{"$f":"IF(C29=0,99999,IF(AL29=1,9999,SUM(Y29:Z29)))","v":99999},null,null,{"$f":"IF(C29<>\"\",C29,\"\")","v":""},null,null,null,null,null,null,null,null,{"$f":"IF($C29=\"\",\"\", IF(BB29=1,0,IF(AZ29<>0,500,AU29*$AE29/$AH29+AV29/$AH29*5+AW29/$AH29*25+AX29*50+AY29*50)))","v":""},null,{"$f":"IF(C29<>\"\",C29,\"\")","v":""},null,null,null,null,null,null,null,null,{"$f":"IF($C29=\"\",\"\", IF(BM29=1,0,IF(BK29<>0,500,BF29*$AE29/$AH29+BG29/$AH29*5+BH29/$AH29*25+BI29*50+BJ29*50)))","v":""},null,{"$f":"IF(C29<>\"\",C29,\"\")","v":""},null,null,null,null,null,null,null,null,{"$f":"IF($C29=\"\",\"\", IF(BX29=1,0,IF(BV29<>0,500,BQ29*$AE29/$AH29+BR29/$AH29*5+BS29/$AH29*25+BT29*50+BU29*50)))","v":""},null,{"$f":"IF(C29<>\"\",C29,\"\")","v":""},null,null,null,null,null,null,null,null,{"$f":"IF($C29=\"\",\"\", IF(CI29=1,0,IF(CG29<>0,500,CB29*$AE29/$AH29+CC29/$AH29*5+CD29/$AH29*25+CE29*50+CF29*50)))","v":""},null,{"$f":"IF(C29<>\"\",C29,\"\")","v":""},null,null,null,null,null,null,null,null,{"$f":"IF($C29=\"\",\"\", IF(CT29=1,0,IF(CR29<>0,500,CM29*$AE29/$AH29+CN29/$AH29*5+CO29/$AH29*25+CP29*50+CQ29*50)))","v":""},null,{"$f":"IF(C29<>\"\",C29,\"\")","v":""},null,null,null,null,null,null,null,null,{"$f":"IF($C29=\"\",\"\", IF(DE29=1,0,IF(DC29<>0,500,CX29*$AE29/$AH29+CY29/$AH29*5+CZ29/$AH29*25+DA29*50+DB29*50)))","v":""},null,{"$f":"IF(C29<>\"\",C29,\"\")","v":""},null,null,null,null,null,null,null,null,{"$f":"IF($C29=\"\",\"\", IF(DP29=1,0,IF(DN29<>0,500,DI29*$AE29/$AH29+DJ29/$AH29*5+DK29/$AH29*25+DL29*50+DM29*50)))","v":""},null,{"$f":"IF(C29<>\"\",C29,\"\")","v":""},null,null,null,null,null,null,null,null,{"$f":"IF($C29=\"\",\"\", IF(EA29=1,0,IF(DY29<>0,500,DT29*$AE29/$AH29+DU29/$AH29*5+DV29/$AH29*25+DW29*50+DX29*50)))","v":""},null,{"$f":"IF(C29<>\"\",C29,\"\")","v":""},null,null,null,null,null,null,null,null,{"$f":"IF($C29=\"\",\"\", IF(EL29=1,0,IF(EJ29<>0,500,EE29*$AE29/$AH29+EF29/$AH29*5+EG29/$AH29*25+EH29*50+EI29*50)))","v":""},null,{"$f":"IF(C29<>\"\",C29,\"\")","v":""},null,null,null,null,null,null,null,null,{"$f":"IF($C29=\"\",\"\", IF(EW29=1,0,IF(EU29<>0,500,EP29*$AE29/$AH29+EQ29/$AH29*5+ER29/$AH29*25+ES29*50+ET29*50)))","v":""},null,{"$f":"IF(C29<>\"\",C29,\"\")","v":""},null,null,null,null,null,null,null,null,{"$f":"IF($C29=\"\",\"\", IF(FH29=1,0,IF(FF29<>0,500,FA29*$AE29/$AH29+FB29/$AH29*5+FC29/$AH29*25+FD29*50+FE29*50)))","v":""},null,{"$f":"IF(C29<>\"\",C29,\"\")","v":""},null,null,null,null,null,null,null,null,{"$f":"IF($C29=\"\",\"\", IF(FS29=1,0,IF(FQ29<>0,500,FL29*$AE29/$AH29+FM29/$AH29*5+FN29/$AH29*25+FO29*50+FP29*50)))","v":""},null,{"$f":"IF(C29<>\"\",C29,\"\")","v":""},null,null,null,null,null,null,null,null,{"$f":"IF($C29=\"\",\"\", IF(GD29=1,0,IF(GB29<>0,500,FW29*$AE29/$AH29+FX29/$AH29*5+FY29/$AH29*25+FZ29*50+GA29*50)))","v":""},null,{"$f":"IF(C29<>\"\",C29,\"\")","v":""},null,null,null,null,null,null,null,null,{"$f":"IF($C29=\"\",\"\", IF(GO29=1,0,IF(GM29<>0,500,GH29*$AE29/$AH29+GI29/$AH29*5+GJ29/$AH29*25+GK29*50+GL29*50)))","v":""},null,{"$f":"IF(C29<>\"\",C29,\"\")","v":""},null,null,null,null,null,null,null,null,{"$f":"IF($C29=\"\",\"\", IF(GZ29=1,0,IF(GX29<>0,500,GS29*$AE29/$AH29+GT29/$AH29*5+GU29/$AH29*25+GV29*50+GW29*50)))","v":""},null,{"$f":"IF(C29<>\"\",C29,\"\")","v":""},null,null,null,null,null,null,null,null,{"$f":"IF($C29=\"\",\"\", IF(HK29=1,0,IF(HI29<>0,500,HD29*$AE29/$AH29+HE29/$AH29*5+HF29/$AH29*25+HG29*50+HH29*50)))","v":""},null,{"$f":"IF(C29<>\"\",C29,\"\")","v":""},null,null,null,null,null,null,null,null,{"$f":"IF($C29=\"\",\"\", IF(HV29=1,0,IF(HT29<>0,500,HO29*$AE29/$AH29+HP29/$AH29*5+HQ29/$AH29*25+HR29*50+HS29*50)))","v":""},null,{"$f":"IF(C29<>\"\",C29,\"\")","v":""},null,null,null,null,null,null,null,null,{"$f":"IF($C29=\"\",\"\", IF(IG29=1,0,IF(IE29<>0,500,HZ29*$AE29/$AH29+IA29/$AH29*5+IB29/$AH29*25+IC29*50+ID29*50)))","v":""}]
[null,{"$f":"IF(C30=0,\"\",ROW(C30)-4)","v":""},null,null,null,null,null,{"$f":"IF(C30=0,\"\",IF(OR(BB30=1,BC30<>0),BC30,\"-\"))","v":""},{"$f":"IF(C30=0,\"\",IF(OR(BM30=1,BN30<>0),BN30,\"-\"))","v":""},{"$f":"IF(C30=0,\"\",IF(OR(BX30=1,BY30<>0),BY30,\" -\"))","v":""},{"$f":"IF(C30=0,\"\",IF(OR(CJ30<>0,CI30=1),CJ30,\" -\"))","v":""},{"$f":"IF(C30=0,\"\",IF(OR(CU30<>0,CT30=1),CU30,\" -\"))","v":""},{"$f":"IF(C30=0,\"\",IF(OR(DF30<>0,DE30=1),DF30,\" -\"))","v":""},{"$f":"IF(C30=0,\"\",IF(OR(DQ30<>0,DP30=1),DQ30,\" -\"))","v":""},{"$f":"IF(C30=0,\"\",IF(OR(EB30<>0,EA30=1),EB30,\" -\"))","v":""},{"$f":"IF(C30=0,\"\",IF(OR(EM30<>0,EL30=1),EM30,\" -\"))","v":""},{"$f":"IF(C30=0,\"\",IF(OR(EX30<>0,EW30=1),EX30,\" -\"))","v":""},{"$f":"IF(C30=0,\"\",IF(OR(FI30<>0,FH30=1),FI30,\" -\"))","v":""},{"$f":"IF(C30=0,\"\",IF(OR(FT30<>0,FS30=1),FT30,\" -\"))","v":""},{"$f":"IF(C30=0,\"\",IF(OR(GE30<>0,GD30=1),GE30,\" -\"))","v":""},{"$f":"IF(C30=0,\"\",IF(OR(GP30<>0,GO30=1),GP30,\" -\"))","v":""},{"$f":"IF(C30=0,\"\",IF(OR(HA30<>0,GZ30=1),HA30,\" -\"))","v":""},{"$f":"IF(C30=0,\"\",IF(OR(HL30<>0,HK30=1),HL30,\" -\"))","v":""},{"$f":"IF(C30=0,\"\",IF(AJ30<>0,AJ30,\" -\"))","v":""},{"$f":"IF(C30=0,\"\",IF(OR(HW30<>0,HV30=1),HW30,\" -\"))","v":""},{"$f":"IF(C30=0,\"\",IF(OR(IH30<>0,IG30=1),IH30,\" -\"))","v":""},{"$f":"IF(C30=0,\"\",IF(AL30=1,\"DNF\",IF(AL30=2,\"DSQ\",IF(AM30<>1,\"~ \"&ROUND(SUM(H30:X30),3),ROUND(SUM(H30:X30),3)))))","v":""},null,null,{"$f":"IF(C30<>\"\",C30,\"\")","v":""},{"$f":"IF(AD30<>\"\",3,\"\")","v":""},null,null,{"$f":"IF(AD30<>\"\",(AF30/1000*AG30/1000)/2,\"\")","v":""},null,null,null,null,null,null,null,{"$f":"IF(C30=0,99999,IF(AL30>0,9999,SUM(H30:X30)-AN30))","v":99999},{"$f":"IF(C30=0,99999,IF(AL30=1,9999,SUM(Y30:Z30)))","v":99999},null,null,{"$f":"IF(C30<>\"\",C30,\"\")","v":""},null,null,null,null,null,null,null,null,{"$f":"IF($C30=\"\",\"\", IF(BB30=1,0,IF(AZ30<>0,500,AU30*$AE30/$AH30+AV30/$AH30*5+AW30/$AH30*25+AX30*50+AY30*50)))","v":""},null,{"$f":"IF(C30<>\"\",C30,\"\")","v":""},null,null,null,null,null,null,null,null,{"$f":"IF($C30=\"\",\"\", IF(BM30=1,0,IF(BK30<>0,500,BF30*$AE30/$AH30+BG30/$AH30*5+BH30/$AH30*25+BI30*50+BJ30*50)))","v":""},null,{"$f":"IF(C30<>\"\",C30,\"\")","v":""},null,null,null,null,null,null,null,null,{"$f":"IF($C30=\"\",\"\", IF(BX30=1,0,IF(BV30<>0,500,BQ30*$AE30/$AH30+BR30/$AH30*5+BS30/$AH30*25+BT30*50+BU30*50)))","v":""},null,{"$f":"IF(C30<>\"\",C30,\"\")","v":""},null,null,null,null,null,null,null,null,{"$f":"IF($C30=\"\",\"\", IF(CI30=1,0,IF(CG30<>0,500,CB30*$AE30/$AH30+CC30/$AH30*5+CD30/$AH30*25+CE30*50+CF30*50)))","v":""},null,{"$f":"IF(C30<>\"\",C30,\"\")","v":""},null,null,null,null,null,null,null,null,{"$f":"IF($C30=\"\",\"\", IF(CT30=1,0,IF(CR30<>0,500,CM30*$AE30/$AH30+CN30/$AH30*5+CO30/$AH30*25+CP30*50+CQ30*50)))","v":""},null,{"$f":"IF(C30<>\"\",C30,\"\")","v":""},null,null,null,null,null,null,null,null,{"$f":"IF($C30=\"\",\"\", IF(DE30=1,0,IF(DC30<>0,500,CX30*$AE30/$AH30+CY30/$AH30*5+CZ30/$AH30*25+DA30*50+DB30*50)))","v":""},null,{"$f":"IF(C30<>\"\",C30,\"\")","v":""},null,null,null,null,null,null,null,null,{"$f":"IF($C30=\"\",\"\", IF(DP30=1,0,IF(DN30<>0,500,DI30*$AE30/$AH30+DJ30/$AH30*5+DK30/$AH30*25+DL30*50+DM30*50)))","v":""},null,{"$f":"IF(C30<>\"\",C30,\"\")","v":""},null,null,null,null,null,null,null,null,{"$f":"IF($C30=\"\",\"\", IF(EA30=1,0,IF(DY30<>0,500,DT30*$AE30/$AH30+DU30/$AH30*5+DV30/$AH30*25+DW30*50+DX30*50)))","v":""},null,{"$f":"IF(C30<>\"\",C30,\"\")","v":""},null,null,null,null,null,null,null,null,{"$f":"IF($C30=\"\",\"\", IF(EL30=1,0,IF(EJ30<>0,500,EE30*$AE30/$AH30+EF30/$AH30*5+EG30/$AH30*25+EH30*50+EI30*50)))","v":""},null,{"$f":"IF(C30<>\"\",C30,\"\")","v":""},null,null,null,null,null,null,null,null,{"$f":"IF($C30=\"\",\"\", IF(EW30=1,0,IF(EU30<>0,500,EP30*$AE30/$AH30+EQ30/$AH30*5+ER30/$AH30*25+ES30*50+ET30*50)))","v":""},null,{"$f":"IF(C30<>\"\",C30,\"\")","v":""},null,null,null,null,null,null,null,null,{"$f":"IF($C30=\"\",\"\", IF(FH30=1,0,IF(FF30<>0,500,FA30*$AE30/$AH30+FB30/$AH30*5+FC30/$AH30*25+FD30*50+FE30*50)))","v":""},null,{"$f":"IF(C30<>\"\",C30,\"\")","v":""},null,null,null,null,null,null,null,null,{"$f":"IF($C30=\"\",\"\", IF(FS30=1,0,IF(FQ30<>0,500,FL30*$AE30/$AH30+FM30/$AH30*5+FN30/$AH30*25+FO30*50+FP30*50)))","v":""},null,{"$f":"IF(C30<>\"\",C30,\"\")","v":""},null,null,null,null,null,null,null,null,{"$f":"IF($C30=\"\",\"\", IF(GD30=1,0,IF(GB30<>0,500,FW30*$AE30/$AH30+FX30/$AH30*5+FY30/$AH30*25+FZ30*50+GA30*50)))","v":""},null,{"$f":"IF(C30<>\"\",C30,\"\")","v":""},null,null,null,null,null,null,null,null,{"$f":"IF($C30=\"\",\"\", IF(GO30=1,0,IF(GM30<>0,500,GH30*$AE30/$AH30+GI30/$AH30*5+GJ30/$AH30*25+GK30*50+GL30*50)))","v":""},null,{"$f":"IF(C30<>\"\",C30,\"\")","v":""},null,null,null,null,null,null,null,null,{"$f":"IF($C30=\"\",\"\", IF(GZ30=1,0,IF(GX30<>0,500,GS30*$AE30/$AH30+GT30/$AH30*5+GU30/$AH30*25+GV30*50+GW30*50)))","v":""},null,{"$f":"IF(C30<>\"\",C30,\"\")","v":""},null,null,null,null,null,null,null,null,{"$f":"IF($C30=\"\",\"\", IF(HK30=1,0,IF(HI30<>0,500,HD30*$AE30/$AH30+HE30/$AH30*5+HF30/$AH30*25+HG30*50+HH30*50)))","v":""},null,{"$f":"IF(C30<>\"\",C30,\"\")","v":""},null,null,null,null,null,null,null,null,{"$f":"IF($C30=\"\",\"\", IF(HV30=1,0,IF(HT30<>0,500,HO30*$AE30/$AH30+HP30/$AH30*5+HQ30/$AH30*25+HR30*50+HS30*50)))","v":""},null,{"$f":"IF(C30<>\"\",C30,\"\")","v":""},null,null,null,null,null,null,null,null,{"$f":"IF($C30=\"\",\"\", IF(IG30=1,0,IF(IE30<>0,500,HZ30*$AE30/$AH30+IA30/$AH30*5+IB30/$AH30*25+IC30*50+ID30*50)))","v":""}]
[null,{"$f":"IF(C31=0,\"\",ROW(C31)-4)","v":""},null,null,null,null,null,{"$f":"IF(C31=0,\"\",IF(OR(BB31=1,BC31<>0),BC31,\"-\"))","v":""},{"$f":"IF(C31=0,\"\",IF(OR(BM31=1,BN31<>0),BN31,\"-\"))","v":""},{"$f":"IF(C31=0,\"\",IF(OR(BX31=1,BY31<>0),BY31,\" -\"))","v":""},{"$f":"IF(C31=0,\"\",IF(OR(CJ31<>0,CI31=1),CJ31,\" -\"))","v":""},{"$f":"IF(C31=0,\"\",IF(OR(CU31<>0,CT31=1),CU31,\" -\"))","v":""},{"$f":"IF(C31=0,\"\",IF(OR(DF31<>0,DE31=1),DF31,\" -\"))","v":""},{"$f":"IF(C31=0,\"\",IF(OR(DQ31<>0,DP31=1),DQ31,\" -\"))","v":""},{"$f":"IF(C31=0,\"\",IF(OR(EB31<>0,EA31=1),EB31,\" -\"))","v":""},{"$f":"IF(C31=0,\"\",IF(OR(EM31<>0,EL31=1),EM31,\" -\"))","v":""},{"$f":"IF(C31=0,\"\",IF(OR(EX31<>0,EW31=1),EX31,\" -\"))","v":""},{"$f":"IF(C31=0,\"\",IF(OR(FI31<>0,FH31=1),FI31,\" -\"))","v":""},{"$f":"IF(C31=0,\"\",IF(OR(FT31<>0,FS31=1),FT31,\" -\"))","v":""},{"$f":"IF(C31=0,\"\",IF(OR(GE31<>0,GD31=1),GE31,\" -\"))","v":""},{"$f":"IF(C31=0,\"\",IF(OR(GP31<>0,GO31=1),GP31,\" -\"))","v":""},{"$f":"IF(C31=0,\"\",IF(OR(HA31<>0,GZ31=1),HA31,\" -\"))","v":""},{"$f":"IF(C31=0,\"\",IF(OR(HL31<>0,HK31=1),HL31,\" -\"))","v":""},{"$f":"IF(C31=0,\"\",IF(AJ31<>0,AJ31,\" -\"))","v":""},{"$f":"IF(C31=0,\"\",IF(OR(HW31<>0,HV31=1),HW31,\" -\"))","v":""},{"$f":"IF(C31=0,\"\",IF(OR(IH31<>0,IG31=1),IH31,\" -\"))","v":""},{"$f":"IF(C31=0,\"\",IF(AL31=1,\"DNF\",IF(AL31=2,\"DSQ\",IF(AM31<>1,\"~ \"&ROUND(SUM(H31:X31),3),ROUND(SUM(H31:X31),3)))))","v":""},null,null,{"$f":"IF(C31<>\"\",C31,\"\")","v":""},{"$f":"IF(AD31<>\"\",3,\"\")","v":""},null,null,{"$f":"IF(AD31<>\"\",(AF31/1000*AG31/1000)/2,\"\")","v":""},null,null,null,null,null,null,null,{"$f":"IF(C31=0,99999,IF(AL31>0,9999,SUM(H31:X31)-AN31))","v":99999},{"$f":"IF(C31=0,99999,IF(AL31=1,9999,SUM(Y31:Z31)))","v":99999},null,null,{"$f":"IF(C31<>\"\",C31,\"\")","v":""},null,null,null,null,null,null,null,null,{"$f":"IF($C31=\"\",\"\", IF(BB31=1,0,IF(AZ31<>0,500,AU31*$AE31/$AH31+AV31/$AH31*5+AW31/$AH31*25+AX31*50+AY31*50)))","v":""},null,{"$f":"IF(C31<>\"\",C31,\"\")","v":""},null,null,null,null,null,null,null,null,{"$f":"IF($C31=\"\",\"\", IF(BM31=1,0,IF(BK31<>0,500,BF31*$AE31/$AH31+BG31/$AH31*5+BH31/$AH31*25+BI31*50+BJ31*50)))","v":""},null,{"$f":"IF(C31<>\"\",C31,\"\")","v":""},null,null,null,null,null,null,null,null,{"$f":"IF($C31=\"\",\"\", IF(BX31=1,0,IF(BV31<>0,500,BQ31*$AE31/$AH31+BR31/$AH31*5+BS31/$AH31*25+BT31*50+BU31*50)))","v":""},null,{"$f":"IF(C31<>\"\",C31,\"\")","v":""},null,null,null,null,null,null,null,null,{"$f":"IF($C31=\"\",\"\", IF(CI31=1,0,IF(CG31<>0,500,CB31*$AE31/$AH31+CC31/$AH31*5+CD31/$AH31*25+CE31*50+CF31*50)))","v":""},null,{"$f":"IF(C31<>\"\",C31,\"\")","v":""},null,null,null,null,null,null,null,null,{"$f":"IF($C31=\"\",\"\", IF(CT31=1,0,IF(CR31<>0,500,CM31*$AE31/$AH31+CN31/$AH31*5+CO31/$AH31*25+CP31*50+CQ31*50)))","v":""},null,{"$f":"IF(C31<>\"\",C31,\"\")","v":""},null,null,null,null,null,null,null,null,{"$f":"IF($C31=\"\",\"\", IF(DE31=1,0,IF(DC31<>0,500,CX31*$AE31/$AH31+CY31/$AH31*5+CZ31/$AH31*25+DA31*50+DB31*50)))","v":""},null,{"$f":"IF(C31<>\"\",C31,\"\")","v":""},null,null,null,null,null,null,null,null,{"$f":"IF($C31=\"\",\"\", IF(DP31=1,0,IF(DN31<>0,500,DI31*$AE31/$AH31+DJ31/$AH31*5+DK31/$AH31*25+DL31*50+DM31*50)))","v":""},null,{"$f":"IF(C31<>\"\",C31,\"\")","v":""},null,null,null,null,null,null,null,null,{"$f":"IF($C31=\"\",\"\", IF(EA31=1,0,IF(DY31<>0,500,DT31*$AE31/$AH31+DU31/$AH31*5+DV31/$AH31*25+DW31*50+DX31*50)))","v":""},null,{"$f":"IF(C31<>\"\",C31,\"\")","v":""},null,null,null,null,null,null,null,null,{"$f":"IF($C31=\"\",\"\", IF(EL31=1,0,IF(EJ31<>0,500,EE31*$AE31/$AH31+EF31/$AH31*5+EG31/$AH31*25+EH31*50+EI31*50)))","v":""},null,{"$f":"IF(C31<>\"\",C31,\"\")","v":""},null,null,null,null,null,null,null,null,{"$f":"IF($C31=\"\",\"\", IF(EW31=1,0,IF(EU31<>0,500,EP31*$AE31/$AH31+EQ31/$AH31*5+ER31/$AH31*25+ES31*50+ET31*50)))","v":""},null,{"$f":"IF(C31<>\"\",C31,\"\")","v":""},null,null,null,null,null,null,null,null,{"$f":"IF($C31=\"\",\"\", IF(FH31=1,0,IF(FF31<>0,500,FA31*$AE31/$AH31+FB31/$AH31*5+FC31/$AH31*25+FD31*50+FE31*50)))","v":""},null,{"$f":"IF(C31<>\"\",C31,\"\")","v":""},null,null,null,null,null,null,null,null,{"$f":"IF($C31=\"\",\"\", IF(FS31=1,0,IF(FQ31<>0,500,FL31*$AE31/$AH31+FM31/$AH31*5+FN31/$AH31*25+FO31*50+FP31*50)))","v":""},null,{"$f":"IF(C31<>\"\",C31,\"\")","v":""},null,null,null,null,null,null,null,null,{"$f":"IF($C31=\"\",\"\", IF(GD31=1,0,IF(GB31<>0,500,FW31*$AE31/$AH31+FX31/$AH31*5+FY31/$AH31*25+FZ31*50+GA31*50)))","v":""},null,{"$f":"IF(C31<>\"\",C31,\"\")","v":""},null,null,null,null,null,null,null,null,{"$f":"IF($C31=\"\",\"\", IF(GO31=1,0,IF(GM31<>0,500,GH31*$AE31/$AH31+GI31/$AH31*5+GJ31/$AH31*25+GK31*50+GL31*50)))","v":""},null,{"$f":"IF(C31<>\"\",C31,\"\")","v":""},null,null,null,null,null,null,null,null,{"$f":"IF($C31=\"\",\"\", IF(GZ31=1,0,IF(GX31<>0,500,GS31*$AE31/$AH31+GT31/$AH31*5+GU31/$AH31*25+GV31*50+GW31*50)))","v":""},null,{"$f":"IF(C31<>\"\",C31,\"\")","v":""},null,null,null,null,null,null,null,null,{"$f":"IF($C31=\"\",\"\", IF(HK31=1,0,IF(HI31<>0,500,HD31*$AE31/$AH31+HE31/$AH31*5+HF31/$AH31*25+HG31*50+HH31*50)))","v":""},null,{"$f":"IF(C31<>\"\",C31,\"\")","v":""},null,null,null,null,null,null,null,null,{"$f":"IF($C31=\"\",\"\", IF(HV31=1,0,IF(HT31<>0,500,HO31*$AE31/$AH31+HP31/$AH31*5+HQ31/$AH31*25+HR31*50+HS31*50)))","v":""},null,{"$f":"IF(C31<>\"\",C31,\"\")","v":""},null,null,null,null,null,null,null,null,{"$f":"IF($C31=\"\",\"\", IF(IG31=1,0,IF(IE31<>0,500,HZ31*$AE31/$AH31+IA31/$AH31*5+IB31/$AH31*25+IC31*50+ID31*50)))","v":""}]
[null,{"$f":"IF(C32=0,\"\",ROW(C32)-4)","v":""},null,null,null,null,null,{"$f":"IF(C32=0,\"\",IF(OR(BB32=1,BC32<>0),BC32,\"-\"))","v":""},{"$f":"IF(C32=0,\"\",IF(OR(BM32=1,BN32<>0),BN32,\"-\"))","v":""},{"$f":"IF(C32=0,\"\",IF(OR(BX32=1,BY32<>0),BY32,\" -\"))","v":""},{"$f":"IF(C32=0,\"\",IF(OR(CJ32<>0,CI32=1),CJ32,\" -\"))","v":""},{"$f":"IF(C32=0,\"\",IF(OR(CU32<>0,CT32=1),CU32,\" -\"))","v":""},{"$f":"IF(C32=0,\"\",IF(OR(DF32<>0,DE32=1),DF32,\" -\"))","v":""},{"$f":"IF(C32=0,\"\",IF(OR(DQ32<>0,DP32=1),DQ32,\" -\"))","v":""},{"$f":"IF(C32=0,\"\",IF(OR(EB32<>0,EA32=1),EB32,\" -\"))","v":""},{"$f":"IF(C32=0,\"\",IF(OR(EM32<>0,EL32=1),EM32,\" -\"))","v":""},{"$f":"IF(C32=0,\"\",IF(OR(EX32<>0,EW32=1),EX32,\" -\"))","v":""},{"$f":"IF(C32=0,\"\",IF(OR(FI32<>0,FH32=1),FI32,\" -\"))","v":""},{"$f":"IF(C32=0,\"\",IF(OR(FT32<>0,FS32=1),FT32,\" -\"))","v":""},{"$f":"IF(C32=0,\"\",IF(OR(GE32<>0,GD32=1),GE32,\" -\"))","v":""},{"$f":"IF(C32=0,\"\",IF(OR(GP32<>0,GO32=1),GP32,\" -\"))","v":""},{"$f":"IF(C32=0,\"\",IF(OR(HA32<>0,GZ32=1),HA32,\" -\"))","v":""},{"$f":"IF(C32=0,\"\",IF(OR(HL32<>0,HK32=1),HL32,\" -\"))","v":""},{"$f":"IF(C32=0,\"\",IF(AJ32<>0,AJ32,\" -\"))","v":""},{"$f":"IF(C32=0,\"\",IF(OR(HW32<>0,HV32=1),HW32,\" -\"))","v":""},{"$f":"IF(C32=0,\"\",IF(OR(IH32<>0,IG32=1),IH32,\" -\"))","v":""},{"$f":"IF(C32=0,\"\",IF(AL32=1,\"DNF\",IF(AL32=2,\"DSQ\",IF(AM32<>1,\"~ \"&ROUND(SUM(H32:X32),3),ROUND(SUM(H32:X32),3)))))","v":""},null,null,{"$f":"IF(C32<>\"\",C32,\"\")","v":""},{"$f":"IF(AD32<>\"\",3,\"\")","v":""},null,null,{"$f":"IF(AD32<>\"\",(AF32/1000*AG32/1000)/2,\"\")","v":""},null,null,null,null,null,null,null,{"$f":"IF(C32=0,99999,IF(AL32>0,9999,SUM(H32:X32)-AN32))","v":99999},{"$f":"IF(C32=0,99999,IF(AL32=1,9999,SUM(Y32:Z32)))","v":99999},null,null,{"$f":"IF(C32<>\"\",C32,\"\")","v":""},null,null,null,null,null,null,null,null,{"$f":"IF($C32=\"\",\"\", IF(BB32=1,0,IF(AZ32<>0,500,AU32*$AE32/$AH32+AV32/$AH32*5+AW32/$AH32*25+AX32*50+AY32*50)))","v":""},null,{"$f":"IF(C32<>\"\",C32,\"\")","v":""},null,null,null,null,null,null,null,null,{"$f":"IF($C32=\"\",\"\", IF(BM32=1,0,IF(BK32<>0,500,BF32*$AE32/$AH32+BG32/$AH32*5+BH32/$AH32*25+BI32*50+BJ32*50)))","v":""},null,{"$f":"IF(C32<>\"\",C32,\"\")","v":""},null,null,null,null,null,null,null,null,{"$f":"IF($C32=\"\",\"\", IF(BX32=1,0,IF(BV32<>0,500,BQ32*$AE32/$AH32+BR32/$AH32*5+BS32/$AH32*25+BT32*50+BU32*50)))","v":""},null,{"$f":"IF(C32<>\"\",C32,\"\")","v":""},null,null,null,null,null,null,null,null,{"$f":"IF($C32=\"\",\"\", IF(CI32=1,0,IF(CG32<>0,500,CB32*$AE32/$AH32+CC32/$AH32*5+CD32/$AH32*25+CE32*50+CF32*50)))","v":""},null,{"$f":"IF(C32<>\"\",C32,\"\")","v":""},null,null,null,null,null,null,null,null,{"$f":"IF($C32=\"\",\"\", IF(CT32=1,0,IF(CR32<>0,500,CM32*$AE32/$AH32+CN32/$AH32*5+CO32/$AH32*25+CP32*50+CQ32*50)))","v":""},null,{"$f":"IF(C32<>\"\",C32,\"\")","v":""},null,null,null,null,null,null,null,null,{"$f":"IF($C32=\"\",\"\", IF(DE32=1,0,IF(DC32<>0,500,CX32*$AE32/$AH32+CY32/$AH32*5+CZ32/$AH32*25+DA32*50+DB32*50)))","v":""},null,{"$f":"IF(C32<>\"\",C32,\"\")","v":""},null,null,null,null,null,null,null,null,{"$f":"IF($C32=\"\",\"\", IF(DP32=1,0,IF(DN32<>0,500,DI32*$AE32/$AH32+DJ32/$AH32*5+DK32/$AH32*25+DL32*50+DM32*50)))","v":""},null,{"$f":"IF(C32<>\"\",C32,\"\")","v":""},null,null,null,null,null,null,null,null,{"$f":"IF($C32=\"\",\"\", IF(EA32=1,0,IF(DY32<>0,500,DT32*$AE32/$AH32+DU32/$AH32*5+DV32/$AH32*25+DW32*50+DX32*50)))","v":""},null,{"$f":"IF(C32<>\"\",C32,\"\")","v":""},null,null,null,null,null,null,null,null,{"$f":"IF($C32=\"\",\"\", IF(EL32=1,0,IF(EJ32<>0,500,EE32*$AE32/$AH32+EF32/$AH32*5+EG32/$AH32*25+EH32*50+EI32*50)))","v":""},null,{"$f":"IF(C32<>\"\",C32,\"\")","v":""},null,null,null,null,null,null,null,null,{"$f":"IF($C32=\"\",\"\", IF(EW32=1,0,IF(EU32<>0,500,EP32*$AE32/$AH32+EQ32/$AH32*5+ER32/$AH32*25+ES32*50+ET32*50)))","v":""},null,{"$f":"IF(C32<>\"\",C32,\"\")","v":""},null,null,null,null,null,null,null,null,{"$f":"IF($C32=\"\",\"\", IF(FH32=1,0,IF(FF32<>0,500,FA32*$AE32/$AH32+FB32/$AH32*5+FC32/$AH32*25+FD32*50+FE32*50)))","v":""},null,{"$f":"IF(C32<>\"\",C32,\"\")","v":""},null,null,null,null,null,null,null,null,{"$f":"IF($C32=\"\",\"\", IF(FS32=1,0,IF(FQ32<>0,500,FL32*$AE32/$AH32+FM32/$AH32*5+FN32/$AH32*25+FO32*50+FP32*50)))","v":""},null,{"$f":"IF(C32<>\"\",C32,\"\")","v":""},null,null,null,null,null,null,null,null,{"$f":"IF($C32=\"\",\"\", IF(GD32=1,0,IF(GB32<>0,500,FW32*$AE32/$AH32+FX32/$AH32*5+FY32/$AH32*25+FZ32*50+GA32*50)))","v":""},null,{"$f":"IF(C32<>\"\",C32,\"\")","v":""},null,null,null,null,null,null,null,null,{"$f":"IF($C32=\"\",\"\", IF(GO32=1,0,IF(GM32<>0,500,GH32*$AE32/$AH32+GI32/$AH32*5+GJ32/$AH32*25+GK32*50+GL32*50)))","v":""},null,{"$f":"IF(C32<>\"\",C32,\"\")","v":""},null,null,null,null,null,null,null,null,{"$f":"IF($C32=\"\",\"\", IF(GZ32=1,0,IF(GX32<>0,500,GS32*$AE32/$AH32+GT32/$AH32*5+GU32/$AH32*25+GV32*50+GW32*50)))","v":""},null,{"$f":"IF(C32<>\"\",C32,\"\")","v":""},null,null,null,null,null,null,null,null,{"$f":"IF($C32=\"\",\"\", IF(HK32=1,0,IF(HI32<>0,500,HD32*$AE32/$AH32+HE32/$AH32*5+HF32/$AH32*25+HG32*50+HH32*50)))","v":""},null,{"$f":"IF(C32<>\"\",C32,\"\")","v":""},null,null,null,null,null,null,null,null,{"$f":"IF($C32=\"\",\"\", IF(HV32=1,0,IF(HT32<>0,500,HO32*$AE32/$AH32+HP32/$AH32*5+HQ32/$AH32*25+HR32*50+HS32*50)))","v":""},null,{"$f":"IF(C32<>\"\",C32,\"\")","v":""},null,null,null,null,null,null,null,null,{"$f":"IF($C32=\"\",\"\", IF(IG32=1,0,IF(IE32<>0,500,HZ32*$AE32/$AH32+IA32/$AH32*5+IB32/$AH32*25+IC32*50+ID32*50)))","v":""}]
[null,{"$f":"IF(C33=0,\"\",ROW(C33)-4)","v":""},null,null,null,null,null,{"$f":"IF(C33=0,\"\",IF(OR(BB33=1,BC33<>0),BC33,\"-\"))","v":""},{"$f":"IF(C33=0,\"\",IF(OR(BM33=1,BN33<>0),BN33,\"-\"))","v":""},{"$f":"IF(C33=0,\"\",IF(OR(BX33=1,BY33<>0),BY33,\" -\"))","v":""},{"$f":"IF(C33=0,\"\",IF(OR(CJ33<>0,CI33=1),CJ33,\" -\"))","v":""},{"$f":"IF(C33=0,\"\",IF(OR(CU33<>0,CT33=1),CU33,\" -\"))","v":""},{"$f":"IF(C33=0,\"\",IF(OR(DF33<>0,DE33=1),DF33,\" -\"))","v":""},{"$f":"IF(C33=0,\"\",IF(OR(DQ33<>0,DP33=1),DQ33,\" -\"))","v":""},{"$f":"IF(C33=0,\"\",IF(OR(EB33<>0,EA33=1),EB33,\" -\"))","v":""},{"$f":"IF(C33=0,\"\",IF(OR(EM33<>0,EL33=1),EM33,\" -\"))","v":""},{"$f":"IF(C33=0,\"\",IF(OR(EX33<>0,EW33=1),EX33,\" -\"))","v":""},{"$f":"IF(C33=0,\"\",IF(OR(FI33<>0,FH33=1),FI33,\" -\"))","v":""},{"$f":"IF(C33=0,\"\",IF(OR(FT33<>0,FS33=1),FT33,\" -\"))","v":""},{"$f":"IF(C33=0,\"\",IF(OR(GE33<>0,GD33=1),GE33,\" -\"))","v":""},{"$f":"IF(C33=0,\"\",IF(OR(GP33<>0,GO33=1),GP33,\" -\"))","v":""},{"$f":"IF(C33=0,\"\",IF(OR(HA33<>0,GZ33=1),HA33,\" -\"))","v":""},{"$f":"IF(C33=0,\"\",IF(OR(HL33<>0,HK33=1),HL33,\" -\"))","v":""},{"$f":"IF(C33=0,\"\",IF(AJ33<>0,AJ33,\" -\"))","v":""},{"$f":"IF(C33=0,\"\",IF(OR(HW33<>0,HV33=1),HW33,\" -\"))","v":""},{"$f":"IF(C33=0,\"\",IF(OR(IH33<>0,IG33=1),IH33,\" -\"))","v":""},{"$f":"IF(C33=0,\"\",IF(AL33=1,\"DNF\",IF(AL33=2,\"DSQ\",IF(AM33<>1,\"~ \"&ROUND(SUM(H33:X33),3),ROUND(SUM(H33:X33),3)))))","v":""},null,null,{"$f":"IF(C33<>\"\",C33,\"\")","v":""},{"$f":"IF(AD33<>\"\",3,\"\")","v":""},null,null,{"$f":"IF(AD33<>\"\",(AF33/1000*AG33/1000)/2,\"\")","v":""},null,null,null,null,null,null,null,{"$f":"IF(C33=0,99999,IF(AL33>0,9999,SUM(H33:X33)-AN33))","v":99999},{"$f":"IF(C33=0,99999,IF(AL33=1,9999,SUM(Y33:Z33)))","v":99999},null,null,{"$f":"IF(C33<>\"\",C33,\"\")","v":""},null,null,null,null,null,null,null,null,{"$f":"IF($C33=\"\",\"\", IF(BB33=1,0,IF(AZ33<>0,500,AU33*$AE33/$AH33+AV33/$AH33*5+AW33/$AH33*25+AX33*50+AY33*50)))","v":""},null,{"$f":"IF(C33<>\"\",C33,\"\")","v":""},null,null,null,null,null,null,null,null,{"$f":"IF($C33=\"\",\"\", IF(BM33=1,0,IF(BK33<>0,500,BF33*$AE33/$AH33+BG33/$AH33*5+BH33/$AH33*25+BI33*50+BJ33*50)))","v":""},null,{"$f":"IF(C33<>\"\",C33,\"\")","v":""},null,null,null,null,null,null,null,null,{"$f":"IF($C33=\"\",\"\", IF(BX33=1,0,IF(BV33<>0,500,BQ33*$AE33/$AH33+BR33/$AH33*5+BS33/$AH33*25+BT33*50+BU33*50)))","v":""},null,{"$f":"IF(C33<>\"\",C33,\"\")","v":""},null,null,null,null,null,null,null,null,{"$f":"IF($C33=\"\",\"\", IF(CI33=1,0,IF(CG33<>0,500,CB33*$AE33/$AH33+CC33/$AH33*5+CD33/$AH33*25+CE33*50+CF33*50)))","v":""},null,{"$f":"IF(C33<>\"\",C33,\"\")","v":""},null,null,null,null,null,null,null,null,{"$f":"IF($C33=\"\",\"\", IF(CT33=1,0,IF(CR33<>0,500,CM33*$AE33/$AH33+CN33/$AH33*5+CO33/$AH33*25+CP33*50+CQ33*50)))","v":""},null,{"$f":"IF(C33<>\"\",C33,\"\")","v":""},null,null,null,null,null,null,null,null,{"$f":"IF($C33=\"\",\"\", IF(DE33=1,0,IF(DC33<>0,500,CX33*$AE33/$AH33+CY33/$AH33*5+CZ33/$AH33*25+DA33*50+DB33*50)))","v":""},null,{"$f":"IF(C33<>\"\",C33,\"\")","v":""},null,null,null,null,null,null,null,null,{"$f":"IF($C33=\"\",\"\", IF(DP33=1,0,IF(DN33<>0,500,DI33*$AE33/$AH33+DJ33/$AH33*5+DK33/$AH33*25+DL33*50+DM33*50)))","v":""},null,{"$f":"IF(C33<>\"\",C33,\"\")","v":""},null,null,null,null,null,null,null,null,{"$f":"IF($C33=\"\",\"\", IF(EA33=1,0,IF(DY33<>0,500,DT33*$AE33/$AH33+DU33/$AH33*5+DV33/$AH33*25+DW33*50+DX33*50)))","v":""},null,{"$f":"IF(C33<>\"\",C33,\"\")","v":""},null,null,null,null,null,null,null,null,{"$f":"IF($C33=\"\",\"\", IF(EL33=1,0,IF(EJ33<>0,500,EE33*$AE33/$AH33+EF33/$AH33*5+EG33/$AH33*25+EH33*50+EI33*50)))","v":""},null,{"$f":"IF(C33<>\"\",C33,\"\")","v":""},null,null,null,null,null,null,null,null,{"$f":"IF($C33=\"\",\"\", IF(EW33=1,0,IF(EU33<>0,500,EP33*$AE33/$AH33+EQ33/$AH33*5+ER33/$AH33*25+ES33*50+ET33*50)))","v":""},null,{"$f":"IF(C33<>\"\",C33,\"\")","v":""},null,null,null,null,null,null,null,null,{"$f":"IF($C33=\"\",\"\", IF(FH33=1,0,IF(FF33<>0,500,FA33*$AE33/$AH33+FB33/$AH33*5+FC33/$AH33*25+FD33*50+FE33*50)))","v":""},null,{"$f":"IF(C33<>\"\",C33,\"\")","v":""},null,null,null,null,null,null,null,null,{"$f":"IF($C33=\"\",\"\", IF(FS33=1,0,IF(FQ33<>0,500,FL33*$AE33/$AH33+FM33/$AH33*5+FN33/$AH33*25+FO33*50+FP33*50)))","v":""},null,{"$f":"IF(C33<>\"\",C33,\"\")","v":""},null,null,null,null,null,null,null,null,{"$f":"IF($C33=\"\",\"\", IF(GD33=1,0,IF(GB33<>0,500,FW33*$AE33/$AH33+FX33/$AH33*5+FY33/$AH33*25+FZ33*50+GA33*50)))","v":""},null,{"$f":"IF(C33<>\"\",C33,\"\")","v":""},null,null,null,null,null,null,null,null,{"$f":"IF($C33=\"\",\"\", IF(GO33=1,0,IF(GM33<>0,500,GH33*$AE33/$AH33+GI33/$AH33*5+GJ33/$AH33*25+GK33*50+GL33*50)))","v":""},null,{"$f":"IF(C33<>\"\",C33,\"\")","v":""},null,null,null,null,null,null,null,null,{"$f":"IF($C33=\"\",\"\", IF(GZ33=1,0,IF(GX33<>0,500,GS33*$AE33/$AH33+GT33/$AH33*5+GU33/$AH33*25+GV33*50+GW33*50)))","v":""},null,{"$f":"IF(C33<>\"\",C33,\"\")","v":""},null,null,null,null,null,null,null,null,{"$f":"IF($C33=\"\",\"\", IF(HK33=1,0,IF(HI33<>0,500,HD33*$AE33/$AH33+HE33/$AH33*5+HF33/$AH33*25+HG33*50+HH33*50)))","v":""},null,{"$f":"IF(C33<>\"\",C33,\"\")","v":""},null,null,null,null,null,null,null,null,{"$f":"IF($C33=\"\",\"\", IF(HV33=1,0,IF(HT33<>0,500,HO33*$AE33/$AH33+HP33/$AH33*5+HQ33/$AH33*25+HR33*50+HS33*50)))","v":""},null,{"$f":"IF(C33<>\"\",C33,\"\")","v":""},null,null,null,null,null,null,null,null,{"$f":"IF($C33=\"\",\"\", IF(IG33=1,0,IF(IE33<>0,500,HZ33*$AE33/$AH33+IA33/$AH33*5+IB33/$AH33*25+IC33*50+ID33*50)))","v":""}]
[null,{"$f":"IF(C34=0,\"\",ROW(C34)-4)","v":""},null,null,null,null,null,{"$f":"IF(C34=0,\"\",IF(OR(BB34=1,BC34<>0),BC34,\"-\"))","v":""},{"$f":"IF(C34=0,\"\",IF(OR(BM34=1,BN34<>0),BN34,\"-\"))","v":""},{"$f":"IF(C34=0,\"\",IF(OR(BX34=1,BY34<>0),BY34,\" -\"))","v":""},{"$f":"IF(C34=0,\"\",IF(OR(CJ34<>0,CI34=1),CJ34,\" -\"))","v":""},{"$f":"IF(C34=0,\"\",IF(OR(CU34<>0,CT34=1),CU34,\" -\"))","v":""},{"$f":"IF(C34=0,\"\",IF(OR(DF34<>0,DE34=1),DF34,\" -\"))","v":""},{"$f":"IF(C34=0,\"\",IF(OR(DQ34<>0,DP34=1),DQ34,\" -\"))","v":""},{"$f":"IF(C34=0,\"\",IF(OR(EB34<>0,EA34=1),EB34,\" -\"))","v":""},{"$f":"IF(C34=0,\"\",IF(OR(EM34<>0,EL34=1),EM34,\" -\"))","v":""},{"$f":"IF(C34=0,\"\",IF(OR(EX34<>0,EW34=1),EX34,\" -\"))","v":""},{"$f":"IF(C34=0,\"\",IF(OR(FI34<>0,FH34=1),FI34,\" -\"))","v":""},{"$f":"IF(C34=0,\"\",IF(OR(FT34<>0,FS34=1),FT34,\" -\"))","v":""},{"$f":"IF(C34=0,\"\",IF(OR(GE34<>0,GD34=1),GE34,\" -\"))","v":""},{"$f":"IF(C34=0,\"\",IF(OR(GP34<>0,GO34=1),GP34,\" -\"))","v":""},{"$f":"IF(C34=0,\"\",IF(OR(HA34<>0,GZ34=1),HA34,\" -\"))","v":""},{"$f":"IF(C34=0,\"\",IF(OR(HL34<>0,HK34=1),HL34,\" -\"))","v":""},{"$f":"IF(C34=0,\"\",IF(AJ34<>0,AJ34,\" -\"))","v":""},{"$f":"IF(C34=0,\"\",IF(OR(HW34<>0,HV34=1),HW34,\" -\"))","v":""},{"$f":"IF(C34=0,\"\",IF(OR(IH34<>0,IG34=1),IH34,\" -\"))","v":""},{"$f":"IF(C34=0,\"\",IF(AL34=1,\"DNF\",IF(AL34=2,\"DSQ\",IF(AM34<>1,\"~ \"&ROUND(SUM(H34:X34),3),ROUND(SUM(H34:X34),3)))))","v":""},null,null,{"$f":"IF(C34<>\"\",C34,\"\")","v":""},{"$f":"IF(AD34<>\"\",3,\"\")","v":""},null,null,{"$f":"IF(AD34<>\"\",(AF34/1000*AG34/1000)/2,\"\")","v":""},null,null,null,null,null,null,null,{"$f":"IF(C34=0,99999,IF(AL34>0,9999,SUM(H34:X34)-AN34))","v":99999},{"$f":"IF(C34=0,99999,IF(AL34=1,9999,SUM(Y34:Z34)))","v":99999},null,null,{"$f":"IF(C34<>\"\",C34,\"\")","v":""},null,null,null,null,null,null,null,null,{"$f":"IF($C34=\"\",\"\", IF(BB34=1,0,IF(AZ34<>0,500,AU34*$AE34/$AH34+AV34/$AH34*5+AW34/$AH34*25+AX34*50+AY34*50)))","v":""},null,{"$f":"IF(C34<>\"\",C34,\"\")","v":""},null,null,null,null,null,null,null,null,{"$f":"IF($C34=\"\",\"\", IF(BM34=1,0,IF(BK34<>0,500,BF34*$AE34/$AH34+BG34/$AH34*5+BH34/$AH34*25+BI34*50+BJ34*50)))","v":""},null,{"$f":"IF(C34<>\"\",C34,\"\")","v":""},null,null,null,null,null,null,null,null,{"$f":"IF($C34=\"\",\"\", IF(BX34=1,0,IF(BV34<>0,500,BQ34*$AE34/$AH34+BR34/$AH34*5+BS34/$AH34*25+BT34*50+BU34*50)))","v":""},null,{"$f":"IF(C34<>\"\",C34,\"\")","v":""},null,null,null,null,null,null,null,null,{"$f":"IF($C34=\"\",\"\", IF(CI34=1,0,IF(CG34<>0,500,CB34*$AE34/$AH34+CC34/$AH34*5+CD34/$AH34*25+CE34*50+CF34*50)))","v":""},null,{"$f":"IF(C34<>\"\",C34,\"\")","v":""},null,null,null,null,null,null,null,null,{"$f":"IF($C34=\"\",\"\", IF(CT34=1,0,IF(CR34<>0,500,CM34*$AE34/$AH34+CN34/$AH34*5+CO34/$AH34*25+CP34*50+CQ34*50)))","v":""},null,{"$f":"IF(C34<>\"\",C34,\"\")","v":""},null,null,null,null,null,null,null,null,{"$f":"IF($C34=\"\",\"\", IF(DE34=1,0,IF(DC34<>0,500,CX34*$AE34/$AH34+CY34/$AH34*5+CZ34/$AH34*25+DA34*50+DB34*50)))","v":""},null,{"$f":"IF(C34<>\"\",C34,\"\")","v":""},null,null,null,null,null,null,null,null,{"$f":"IF($C34=\"\",\"\", IF(DP34=1,0,IF(DN34<>0,500,DI34*$AE34/$AH34+DJ34/$AH34*5+DK34/$AH34*25+DL34*50+DM34*50)))","v":""},null,{"$f":"IF(C34<>\"\",C34,\"\")","v":""},null,null,null,null,null,null,null,null,{"$f":"IF($C34=\"\",\"\", IF(EA34=1,0,IF(DY34<>0,500,DT34*$AE34/$AH34+DU34/$AH34*5+DV34/$AH34*25+DW34*50+DX34*50)))","v":""},null,{"$f":"IF(C34<>\"\",C34,\"\")","v":""},null,null,null,null,null,null,null,null,{"$f":"IF($C34=\"\",\"\", IF(EL34=1,0,IF(EJ34<>0,500,EE34*$AE34/$AH34+EF34/$AH34*5+EG34/$AH34*25+EH34*50+EI34*50)))","v":""},null,{"$f":"IF(C34<>\"\",C34,\"\")","v":""},null,null,null,null,null,null,null,null,{"$f":"IF($C34=\"\",\"\", IF(EW34=1,0,IF(EU34<>0,500,EP34*$AE34/$AH34+EQ34/$AH34*5+ER34/$AH34*25+ES34*50+ET34*50)))","v":""},null,{"$f":"IF(C34<>\"\",C34,\"\")","v":""},null,null,null,null,null,null,null,null,{"$f":"IF($C34=\"\",\"\", IF(FH34=1,0,IF(FF34<>0,500,FA34*$AE34/$AH34+FB34/$AH34*5+FC34/$AH34*25+FD34*50+FE34*50)))","v":""},null,{"$f":"IF(C34<>\"\",C34,\"\")","v":""},null,null,null,null,null,null,null,null,{"$f":"IF($C34=\"\",\"\", IF(FS34=1,0,IF(FQ34<>0,500,FL34*$AE34/$AH34+FM34/$AH34*5+FN34/$AH34*25+FO34*50+FP34*50)))","v":""},null,{"$f":"IF(C34<>\"\",C34,\"\")","v":""},null,null,null,null,null,null,null,null,{"$f":"IF($C34=\"\",\"\", IF(GD34=1,0,IF(GB34<>0,500,FW34*$AE34/$AH34+FX34/$AH34*5+FY34/$AH34*25+FZ34*50+GA34*50)))","v":""},null,{"$f":"IF(C34<>\"\",C34,\"\")","v":""},null,null,null,null,null,null,null,null,{"$f":"IF($C34=\"\",\"\", IF(GO34=1,0,IF(GM34<>0,500,GH34*$AE34/$AH34+GI34/$AH34*5+GJ34/$AH34*25+GK34*50+GL34*50)))","v":""},null,{"$f":"IF(C34<>\"\",C34,\"\")","v":""},null,null,null,null,null,null,null,null,{"$f":"IF($C34=\"\",\"\", IF(GZ34=1,0,IF(GX34<>0,500,GS34*$AE34/$AH34+GT34/$AH34*5+GU34/$AH34*25+GV34*50+GW34*50)))","v":""},null,{"$f":"IF(C34<>\"\",C34,\"\")","v":""},null,null,null,null,null,null,null,null,{"$f":"IF($C34=\"\",\"\", IF(HK34=1,0,IF(HI34<>0,500,HD34*$AE34/$AH34+HE34/$AH34*5+HF34/$AH34*25+HG34*50+HH34*50)))","v":""},null,{"$f":"IF(C34<>\"\",C34,\"\")","v":""},null,null,null,null,null,null,null,null,{"$f":"IF($C34=\"\",\"\", IF(HV34=1,0,IF(HT34<>0,500,HO34*$AE34/$AH34+HP34/$AH34*5+HQ34/$AH34*25+HR34*50+HS34*50)))","v":""},null,{"$f":"IF(C34<>\"\",C34,\"\")","v":""},null,null,null,null,null,null,null,null,{"$f":"IF($C34=\"\",\"\", IF(IG34=1,0,IF(IE34<>0,500,HZ34*$AE34/$AH34+IA34/$AH34*5+IB34/$AH34*25+IC34*50+ID34*50)))","v":""}]
[null,{"$f":"IF(C35=0,\"\",ROW(C35)-4)","v":""},null,null,null,null,null,{"$f":"IF(C35=0,\"\",IF(OR(BB35=1,BC35<>0),BC35,\"-\"))","v":""},{"$f":"IF(C35=0,\"\",IF(OR(BM35=1,BN35<>0),BN35,\"-\"))","v":""},{"$f":"IF(C35=0,\"\",IF(OR(BX35=1,BY35<>0),BY35,\" -\"))","v":""},{"$f":"IF(C35=0,\"\",IF(OR(CJ35<>0,CI35=1),CJ35,\" -\"))","v":""},{"$f":"IF(C35=0,\"\",IF(OR(CU35<>0,CT35=1),CU35,\" -\"))","v":""},{"$f":"IF(C35=0,\"\",IF(OR(DF35<>0,DE35=1),DF35,\" -\"))","v":""},{"$f":"IF(C35=0,\"\",IF(OR(DQ35<>0,DP35=1),DQ35,\" -\"))","v":""},{"$f":"IF(C35=0,\"\",IF(OR(EB35<>0,EA35=1),EB35,\" -\"))","v":""},{"$f":"IF(C35=0,\"\",IF(OR(EM35<>0,EL35=1),EM35,\" -\"))","v":""},{"$f":"IF(C35=0,\"\",IF(OR(EX35<>0,EW35=1),EX35,\" -\"))","v":""},{"$f":"IF(C35=0,\"\",IF(OR(FI35<>0,FH35=1),FI35,\" -\"))","v":""},{"$f":"IF(C35=0,\"\",IF(OR(FT35<>0,FS35=1),FT35,\" -\"))","v":""},{"$f":"IF(C35=0,\"\",IF(OR(GE35<>0,GD35=1),GE35,\" -\"))","v":""},{"$f":"IF(C35=0,\"\",IF(OR(GP35<>0,GO35=1),GP35,\" -\"))","v":""},{"$f":"IF(C35=0,\"\",IF(OR(HA35<>0,GZ35=1),HA35,\" -\"))","v":""},{"$f":"IF(C35=0,\"\",IF(OR(HL35<>0,HK35=1),HL35,\" -\"))","v":""},{"$f":"IF(C35=0,\"\",IF(AJ35<>0,AJ35,\" -\"))","v":""},{"$f":"IF(C35=0,\"\",IF(OR(HW35<>0,HV35=1),HW35,\" -\"))","v":""},{"$f":"IF(C35=0,\"\",IF(OR(IH35<>0,IG35=1),IH35,\" -\"))","v":""},{"$f":"IF(C35=0,\"\",IF(AL35=1,\"DNF\",IF(AL35=2,\"DSQ\",IF(AM35<>1,\"~ \"&ROUND(SUM(H35:X35),3),ROUND(SUM(H35:X35),3)))))","v":""},null,null,{"$f":"IF(C35<>\"\",C35,\"\")","v":""},{"$f":"IF(AD35<>\"\",3,\"\")","v":""},null,null,{"$f":"IF(AD35<>\"\",(AF35/1000*AG35/1000)/2,\"\")","v":""},null,null,null,null,null,null,null,{"$f":"IF(C35=0,99999,IF(AL35>0,9999,SUM(H35:X35)-AN35))","v":99999},{"$f":"IF(C35=0,99999,IF(AL35=1,9999,SUM(Y35:Z35)))","v":99999},null,null,{"$f":"IF(C35<>\"\",C35,\"\")","v":""},null,null,null,null,null,null,null,null,{"$f":"IF($C35=\"\",\"\", IF(BB35=1,0,IF(AZ35<>0,500,AU35*$AE35/$AH35+AV35/$AH35*5+AW35/$AH35*25+AX35*50+AY35*50)))","v":""},null,{"$f":"IF(C35<>\"\",C35,\"\")","v":""},null,null,null,null,null,null,null,null,{"$f":"IF($C35=\"\",\"\", IF(BM35=1,0,IF(BK35<>0,500,BF35*$AE35/$AH35+BG35/$AH35*5+BH35/$AH35*25+BI35*50+BJ35*50)))","v":""},null,{"$f":"IF(C35<>\"\",C35,\"\")","v":""},null,null,null,null,null,null,null,null,{"$f":"IF($C35=\"\",\"\", IF(BX35=1,0,IF(BV35<>0,500,BQ35*$AE35/$AH35+BR35/$AH35*5+BS35/$AH35*25+BT35*50+BU35*50)))","v":""},null,{"$f":"IF(C35<>\"\",C35,\"\")","v":""},null,null,null,null,null,null,null,null,{"$f":"IF($C35=\"\",\"\", IF(CI35=1,0,IF(CG35<>0,500,CB35*$AE35/$AH35+CC35/$AH35*5+CD35/$AH35*25+CE35*50+CF35*50)))","v":""},null,{"$f":"IF(C35<>\"\",C35,\"\")","v":""},null,null,null,null,null,null,null,null,{"$f":"IF($C35=\"\",\"\", IF(CT35=1,0,IF(CR35<>0,500,CM35*$AE35/$AH35+CN35/$AH35*5+CO35/$AH35*25+CP35*50+CQ35*50)))","v":""},null,{"$f":"IF(C35<>\"\",C35,\"\")","v":""},null,null,null,null,null,null,null,null,{"$f":"IF($C35=\"\",\"\", IF(DE35=1,0,IF(DC35<>0,500,CX35*$AE35/$AH35+CY35/$AH35*5+CZ35/$AH35*25+DA35*50+DB35*50)))","v":""},null,{"$f":"IF(C35<>\"\",C35,\"\")","v":""},null,null,null,null,null,null,null,null,{"$f":"IF($C35=\"\",\"\", IF(DP35=1,0,IF(DN35<>0,500,DI35*$AE35/$AH35+DJ35/$AH35*5+DK35/$AH35*25+DL35*50+DM35*50)))","v":""},null,{"$f":"IF(C35<>\"\",C35,\"\")","v":""},null,null,null,null,null,null,null,null,{"$f":"IF($C35=\"\",\"\", IF(EA35=1,0,IF(DY35<>0,500,DT35*$AE35/$AH35+DU35/$AH35*5+DV35/$AH35*25+DW35*50+DX35*50)))","v":""},null,{"$f":"IF(C35<>\"\",C35,\"\")","v":""},null,null,null,null,null,null,null,null,{"$f":"IF($C35=\"\",\"\", IF(EL35=1,0,IF(EJ35<>0,500,EE35*$AE35/$AH35+EF35/$AH35*5+EG35/$AH35*25+EH35*50+EI35*50)))","v":""},null,{"$f":"IF(C35<>\"\",C35,\"\")","v":""},null,null,null,null,null,null,null,null,{"$f":"IF($C35=\"\",\"\", IF(EW35=1,0,IF(EU35<>0,500,EP35*$AE35/$AH35+EQ35/$AH35*5+ER35/$AH35*25+ES35*50+ET35*50)))","v":""},null,{"$f":"IF(C35<>\"\",C35,\"\")","v":""},null,null,null,null,null,null,null,null,{"$f":"IF($C35=\"\",\"\", IF(FH35=1,0,IF(FF35<>0,500,FA35*$AE35/$AH35+FB35/$AH35*5+FC35/$AH35*25+FD35*50+FE35*50)))","v":""},null,{"$f":"IF(C35<>\"\",C35,\"\")","v":""},null,null,null,null,null,null,null,null,{"$f":"IF($C35=\"\",\"\", IF(FS35=1,0,IF(FQ35<>0,500,FL35*$AE35/$AH35+FM35/$AH35*5+FN35/$AH35*25+FO35*50+FP35*50)))","v":""},null,{"$f":"IF(C35<>\"\",C35,\"\")","v":""},null,null,null,null,null,null,null,null,{"$f":"IF($C35=\"\",\"\", IF(GD35=1,0,IF(GB35<>0,500,FW35*$AE35/$AH35+FX35/$AH35*5+FY35/$AH35*25+FZ35*50+GA35*50)))","v":""},null,{"$f":"IF(C35<>\"\",C35,\"\")","v":""},null,null,null,null,null,null,null,null,{"$f":"IF($C35=\"\",\"\", IF(GO35=1,0,IF(GM35<>0,500,GH35*$AE35/$AH35+GI35/$AH35*5+GJ35/$AH35*25+GK35*50+GL35*50)))","v":""},null,{"$f":"IF(C35<>\"\",C35,\"\")","v":""},null,null,null,null,null,null,null,null,{"$f":"IF($C35=\"\",\"\", IF(GZ35=1,0,IF(GX35<>0,500,GS35*$AE35/$AH35+GT35/$AH35*5+GU35/$AH35*25+GV35*50+GW35*50)))","v":""},null,{"$f":"IF(C35<>\"\",C35,\"\")","v":""},null,null,null,null,null,null,null,null,{"$f":"IF($C35=\"\",\"\", IF(HK35=1,0,IF(HI35<>0,500,HD35*$AE35/$AH35+HE35/$AH35*5+HF35/$AH35*25+HG35*50+HH35*50)))","v":""},null,{"$f":"IF(C35<>\"\",C35,\"\")","v":""},null,null,null,null,null,null,null,null,{"$f":"IF($C35=\"\",\"\", IF(HV35=1,0,IF(HT35<>0,500,HO35*$AE35/$AH35+HP35/$AH35*5+HQ35/$AH35*25+HR35*50+HS35*50)))","v":""},null,{"$f":"IF(C35<>\"\",C35,\"\")","v":""},null,null,null,null,null,null,null,null,{"$f":"IF($C35=\"\",\"\", IF(IG35=1,0,IF(IE35<>0,500,HZ35*$AE35/$AH35+IA35/$AH35*5+IB35/$AH35*25+IC35*50+ID35*50)))","v":""}]
[null,{"$f":"IF(C36=0,\"\",ROW(C36)-4)","v":""},null,null,null,null,null,{"$f":"IF(C36=0,\"\",IF(OR(BB36=1,BC36<>0),BC36,\"-\"))","v":""},{"$f":"IF(C36=0,\"\",IF(OR(BM36=1,BN36<>0),BN36,\"-\"))","v":""},{"$f":"IF(C36=0,\"\",IF(OR(BX36=1,BY36<>0),BY36,\" -\"))","v":""},{"$f":"IF(C36=0,\"\",IF(OR(CJ36<>0,CI36=1),CJ36,\" -\"))","v":""},{"$f":"IF(C36=0,\"\",IF(OR(CU36<>0,CT36=1),CU36,\" -\"))","v":""},{"$f":"IF(C36=0,\"\",IF(OR(DF36<>0,DE36=1),DF36,\" -\"))","v":""},{"$f":"IF(C36=0,\"\",IF(OR(DQ36<>0,DP36=1),DQ36,\" -\"))","v":""},{"$f":"IF(C36=0,\"\",IF(OR(EB36<>0,EA36=1),EB36,\" -\"))","v":""},{"$f":"IF(C36=0,\"\",IF(OR(EM36<>0,EL36=1),EM36,\" -\"))","v":""},{"$f":"IF(C36=0,\"\",IF(OR(EX36<>0,EW36=1),EX36,\" -\"))","v":""},{"$f":"IF(C36=0,\"\",IF(OR(FI36<>0,FH36=1),FI36,\" -\"))","v":""},{"$f":"IF(C36=0,\"\",IF(OR(FT36<>0,FS36=1),FT36,\" -\"))","v":""},{"$f":"IF(C36=0,\"\",IF(OR(GE36<>0,GD36=1),GE36,\" -\"))","v":""},{"$f":"IF(C36=0,\"\",IF(OR(GP36<>0,GO36=1),GP36,\" -\"))","v":""},{"$f":"IF(C36=0,\"\",IF(OR(HA36<>0,GZ36=1),HA36,\" -\"))","v":""},{"$f":"IF(C36=0,\"\",IF(OR(HL36<>0,HK36=1),HL36,\" -\"))","v":""},{"$f":"IF(C36=0,\"\",IF(AJ36<>0,AJ36,\" -\"))","v":""},{"$f":"IF(C36=0,\"\",IF(OR(HW36<>0,HV36=1),HW36,\" -\"))","v":""},{"$f":"IF(C36=0,\"\",IF(OR(IH36<>0,IG36=1),IH36,\" -\"))","v":""},{"$f":"IF(C36=0,\"\",IF(AL36=1,\"DNF\",IF(AL36=2,\"DSQ\",IF(AM36<>1,\"~ \"&ROUND(SUM(H36:X36),3),ROUND(SUM(H36:X36),3)))))","v":""},null,null,{"$f":"IF(C36<>\"\",C36,\"\")","v":""},{"$f":"IF(AD36<>\"\",3,\"\")","v":""},null,null,{"$f":"IF(AD36<>\"\",(AF36/1000*AG36/1000)/2,\"\")","v":""},null,null,null,null,null,null,null,{"$f":"IF(C36=0,99999,IF(AL36>0,9999,SUM(H36:X36)-AN36))","v":99999},{"$f":"IF(C36=0,99999,IF(AL36=1,9999,SUM(Y36:Z36)))","v":99999},null,null,{"$f":"IF(C36<>\"\",C36,\"\")","v":""},null,null,null,null,null,null,null,null,{"$f":"IF($C36=\"\",\"\", IF(BB36=1,0,IF(AZ36<>0,500,AU36*$AE36/$AH36+AV36/$AH36*5+AW36/$AH36*25+AX36*50+AY36*50)))","v":""},null,{"$f":"IF(C36<>\"\",C36,\"\")","v":""},null,null,null,null,null,null,null,null,{"$f":"IF($C36=\"\",\"\", IF(BM36=1,0,IF(BK36<>0,500,BF36*$AE36/$AH36+BG36/$AH36*5+BH36/$AH36*25+BI36*50+BJ36*50)))","v":""},null,{"$f":"IF(C36<>\"\",C36,\"\")","v":""},null,null,null,null,null,null,null,null,{"$f":"IF($C36=\"\",\"\", IF(BX36=1,0,IF(BV36<>0,500,BQ36*$AE36/$AH36+BR36/$AH36*5+BS36/$AH36*25+BT36*50+BU36*50)))","v":""},null,{"$f":"IF(C36<>\"\",C36,\"\")","v":""},null,null,null,null,null,null,null,null,{"$f":"IF($C36=\"\",\"\", IF(CI36=1,0,IF(CG36<>0,500,CB36*$AE36/$AH36+CC36/$AH36*5+CD36/$AH36*25+CE36*50+CF36*50)))","v":""},null,{"$f":"IF(C36<>\"\",C36,\"\")","v":""},null,null,null,null,null,null,null,null,{"$f":"IF($C36=\"\",\"\", IF(CT36=1,0,IF(CR36<>0,500,CM36*$AE36/$AH36+CN36/$AH36*5+CO36/$AH36*25+CP36*50+CQ36*50)))","v":""},null,{"$f":"IF(C36<>\"\",C36,\"\")","v":""},null,null,null,null,null,null,null,null,{"$f":"IF($C36=\"\",\"\", IF(DE36=1,0,IF(DC36<>0,500,CX36*$AE36/$AH36+CY36/$AH36*5+CZ36/$AH36*25+DA36*50+DB36*50)))","v":""},null,{"$f":"IF(C36<>\"\",C36,\"\")","v":""},null,null,null,null,null,null,null,null,{"$f":"IF($C36=\"\",\"\", IF(DP36=1,0,IF(DN36<>0,500,DI36*$AE36/$AH36+DJ36/$AH36*5+DK36/$AH36*25+DL36*50+DM36*50)))","v":""},null,{"$f":"IF(C36<>\"\",C36,\"\")","v":""},null,null,null,null,null,null,null,null,{"$f":"IF($C36=\"\",\"\", IF(EA36=1,0,IF(DY36<>0,500,DT36*$AE36/$AH36+DU36/$AH36*5+DV36/$AH36*25+DW36*50+DX36*50)))","v":""},null,{"$f":"IF(C36<>\"\",C36,\"\")","v":""},null,null,null,null,null,null,null,null,{"$f":"IF($C36=\"\",\"\", IF(EL36=1,0,IF(EJ36<>0,500,EE36*$AE36/$AH36+EF36/$AH36*5+EG36/$AH36*25+EH36*50+EI36*50)))","v":""},null,{"$f":"IF(C36<>\"\",C36,\"\")","v":""},null,null,null,null,null,null,null,null,{"$f":"IF($C36=\"\",\"\", IF(EW36=1,0,IF(EU36<>0,500,EP36*$AE36/$AH36+EQ36/$AH36*5+ER36/$AH36*25+ES36*50+ET36*50)))","v":""},null,{"$f":"IF(C36<>\"\",C36,\"\")","v":""},null,null,null,null,null,null,null,null,{"$f":"IF($C36=\"\",\"\", IF(FH36=1,0,IF(FF36<>0,500,FA36*$AE36/$AH36+FB36/$AH36*5+FC36/$AH36*25+FD36*50+FE36*50)))","v":""},null,{"$f":"IF(C36<>\"\",C36,\"\")","v":""},null,null,null,null,null,null,null,null,{"$f":"IF($C36=\"\",\"\", IF(FS36=1,0,IF(FQ36<>0,500,FL36*$AE36/$AH36+FM36/$AH36*5+FN36/$AH36*25+FO36*50+FP36*50)))","v":""},null,{"$f":"IF(C36<>\"\",C36,\"\")","v":""},null,null,null,null,null,null,null,null,{"$f":"IF($C36=\"\",\"\", IF(GD36=1,0,IF(GB36<>0,500,FW36*$AE36/$AH36+FX36/$AH36*5+FY36/$AH36*25+FZ36*50+GA36*50)))","v":""},null,{"$f":"IF(C36<>\"\",C36,\"\")","v":""},null,null,null,null,null,null,null,null,{"$f":"IF($C36=\"\",\"\", IF(GO36=1,0,IF(GM36<>0,500,GH36*$AE36/$AH36+GI36/$AH36*5+GJ36/$AH36*25+GK36*50+GL36*50)))","v":""},null,{"$f":"IF(C36<>\"\",C36,\"\")","v":""},null,null,null,null,null,null,null,null,{"$f":"IF($C36=\"\",\"\", IF(GZ36=1,0,IF(GX36<>0,500,GS36*$AE36/$AH36+GT36/$AH36*5+GU36/$AH36*25+GV36*50+GW36*50)))","v":""},null,{"$f":"IF(C36<>\"\",C36,\"\")","v":""},null,null,null,null,null,null,null,null,{"$f":"IF($C36=\"\",\"\", IF(HK36=1,0,IF(HI36<>0,500,HD36*$AE36/$AH36+HE36/$AH36*5+HF36/$AH36*25+HG36*50+HH36*50)))","v":""},null,{"$f":"IF(C36<>\"\",C36,\"\")","v":""},null,null,null,null,null,null,null,null,{"$f":"IF($C36=\"\",\"\", IF(HV36=1,0,IF(HT36<>0,500,HO36*$AE36/$AH36+HP36/$AH36*5+HQ36/$AH36*25+HR36*50+HS36*50)))","v":""},null,{"$f":"IF(C36<>\"\",C36,\"\")","v":""},null,null,null,null,null,null,null,null,{"$f":"IF($C36=\"\",\"\", IF(IG36=1,0,IF(IE36<>0,500,HZ36*$AE36/$AH36+IA36/$AH36*5+IB36/$AH36*25+IC36*50+ID36*50)))","v":""}]
[null,{"$f":"IF(C37=0,\"\",ROW(C37)-4)","v":""},null,null,null,null,null,{"$f":"IF(C37=0,\"\",IF(OR(BB37=1,BC37<>0),BC37,\"-\"))","v":""},{"$f":"IF(C37=0,\"\",IF(OR(BM37=1,BN37<>0),BN37,\"-\"))","v":""},{"$f":"IF(C37=0,\"\",IF(OR(BX37=1,BY37<>0),BY37,\" -\"))","v":""},{"$f":"IF(C37=0,\"\",IF(OR(CJ37<>0,CI37=1),CJ37,\" -\"))","v":""},{"$f":"IF(C37=0,\"\",IF(OR(CU37<>0,CT37=1),CU37,\" -\"))","v":""},{"$f":"IF(C37=0,\"\",IF(OR(DF37<>0,DE37=1),DF37,\" -\"))","v":""},{"$f":"IF(C37=0,\"\",IF(OR(DQ37<>0,DP37=1),DQ37,\" -\"))","v":""},{"$f":"IF(C37=0,\"\",IF(OR(EB37<>0,EA37=1),EB37,\" -\"))","v":""},{"$f":"IF(C37=0,\"\",IF(OR(EM37<>0,EL37=1),EM37,\" -\"))","v":""},{"$f":"IF(C37=0,\"\",IF(OR(EX37<>0,EW37=1),EX37,\" -\"))","v":""},{"$f":"IF(C37=0,\"\",IF(OR(FI37<>0,FH37=1),FI37,\" -\"))","v":""},{"$f":"IF(C37=0,\"\",IF(OR(FT37<>0,FS37=1),FT37,\" -\"))","v":""},{"$f":"IF(C37=0,\"\",IF(OR(GE37<>0,GD37=1),GE37,\" -\"))","v":""},{"$f":"IF(C37=0,\"\",IF(OR(GP37<>0,GO37=1),GP37,\" -\"))","v":""},{"$f":"IF(C37=0,\"\",IF(OR(HA37<>0,GZ37=1),HA37,\" -\"))","v":""},{"$f":"IF(C37=0,\"\",IF(OR(HL37<>0,HK37=1),HL37,\" -\"))","v":""},{"$f":"IF(C37=0,\"\",IF(AJ37<>0,AJ37,\" -\"))","v":""},{"$f":"IF(C37=0,\"\",IF(OR(HW37<>0,HV37=1),HW37,\" -\"))","v":""},{"$f":"IF(C37=0,\"\",IF(OR(IH37<>0,IG37=1),IH37,\" -\"))","v":""},{"$f":"IF(C37=0,\"\",IF(AL37=1,\"DNF\",IF(AL37=2,\"DSQ\",IF(AM37<>1,\"~ \"&ROUND(SUM(H37:X37),3),ROUND(SUM(H37:X37),3)))))","v":""},null,null,{"$f":"IF(C37<>\"\",C37,\"\")","v":""},{"$f":"IF(AD37<>\"\",3,\"\")","v":""},null,null,{"$f":"IF(AD37<>\"\",(AF37/1000*AG37/1000)/2,\"\")","v":""},null,null,null,null,null,null,null,{"$f":"IF(C37=0,99999,IF(AL37>0,9999,SUM(H37:X37)-AN37))","v":99999},{"$f":"IF(C37=0,99999,IF(AL37=1,9999,SUM(Y37:Z37)))","v":99999},null,null,{"$f":"IF(C37<>\"\",C37,\"\")","v":""},null,null,null,null,null,null,null,null,{"$f":"IF($C37=\"\",\"\", IF(BB37=1,0,IF(AZ37<>0,500,AU37*$AE37/$AH37+AV37/$AH37*5+AW37/$AH37*25+AX37*50+AY37*50)))","v":""},null,{"$f":"IF(C37<>\"\",C37,\"\")","v":""},null,null,null,null,null,null,null,null,{"$f":"IF($C37=\"\",\"\", IF(BM37=1,0,IF(BK37<>0,500,BF37*$AE37/$AH37+BG37/$AH37*5+BH37/$AH37*25+BI37*50+BJ37*50)))","v":""},null,{"$f":"IF(C37<>\"\",C37,\"\")","v":""},null,null,null,null,null,null,null,null,{"$f":"IF($C37=\"\",\"\", IF(BX37=1,0,IF(BV37<>0,500,BQ37*$AE37/$AH37+BR37/$AH37*5+BS37/$AH37*25+BT37*50+BU37*50)))","v":""},null,{"$f":"IF(C37<>\"\",C37,\"\")","v":""},null,null,null,null,null,null,null,null,{"$f":"IF($C37=\"\",\"\", IF(CI37=1,0,IF(CG37<>0,500,CB37*$AE37/$AH37+CC37/$AH37*5+CD37/$AH37*25+CE37*50+CF37*50)))","v":""},null,{"$f":"IF(C37<>\"\",C37,\"\")","v":""},null,null,null,null,null,null,null,null,{"$f":"IF($C37=\"\",\"\", IF(CT37=1,0,IF(CR37<>0,500,CM37*$AE37/$AH37+CN37/$AH37*5+CO37/$AH37*25+CP37*50+CQ37*50)))","v":""},null,{"$f":"IF(C37<>\"\",C37,\"\")","v":""},null,null,null,null,null,null,null,null,{"$f":"IF($C37=\"\",\"\", IF(DE37=1,0,IF(DC37<>0,500,CX37*$AE37/$AH37+CY37/$AH37*5+CZ37/$AH37*25+DA37*50+DB37*50)))","v":""},null,{"$f":"IF(C37<>\"\",C37,\"\")","v":""},null,null,null,null,null,null,null,null,{"$f":"IF($C37=\"\",\"\", IF(DP37=1,0,IF(DN37<>0,500,DI37*$AE37/$AH37+DJ37/$AH37*5+DK37/$AH37*25+DL37*50+DM37*50)))","v":""},null,{"$f":"IF(C37<>\"\",C37,\"\")","v":""},null,null,null,null,null,null,null,null,{"$f":"IF($C37=\"\",\"\", IF(EA37=1,0,IF(DY37<>0,500,DT37*$AE37/$AH37+DU37/$AH37*5+DV37/$AH37*25+DW37*50+DX37*50)))","v":""},null,{"$f":"IF(C37<>\"\",C37,\"\")","v":""},null,null,null,null,null,null,null,null,{"$f":"IF($C37=\"\",\"\", IF(EL37=1,0,IF(EJ37<>0,500,EE37*$AE37/$AH37+EF37/$AH37*5+EG37/$AH37*25+EH37*50+EI37*50)))","v":""},null,{"$f":"IF(C37<>\"\",C37,\"\")","v":""},null,null,null,null,null,null,null,null,{"$f":"IF($C37=\"\",\"\", IF(EW37=1,0,IF(EU37<>0,500,EP37*$AE37/$AH37+EQ37/$AH37*5+ER37/$AH37*25+ES37*50+ET37*50)))","v":""},null,{"$f":"IF(C37<>\"\",C37,\"\")","v":""},null,null,null,null,null,null,null,null,{"$f":"IF($C37=\"\",\"\", IF(FH37=1,0,IF(FF37<>0,500,FA37*$AE37/$AH37+FB37/$AH37*5+FC37/$AH37*25+FD37*50+FE37*50)))","v":""},null,{"$f":"IF(C37<>\"\",C37,\"\")","v":""},null,null,null,null,null,null,null,null,{"$f":"IF($C37=\"\",\"\", IF(FS37=1,0,IF(FQ37<>0,500,FL37*$AE37/$AH37+FM37/$AH37*5+FN37/$AH37*25+FO37*50+FP37*50)))","v":""},null,{"$f":"IF(C37<>\"\",C37,\"\")","v":""},null,null,null,null,null,null,null,null,{"$f":"IF($C37=\"\",\"\", IF(GD37=1,0,IF(GB37<>0,500,FW37*$AE37/$AH37+FX37/$AH37*5+FY37/$AH37*25+FZ37*50+GA37*50)))","v":""},null,{"$f":"IF(C37<>\"\",C37,\"\")","v":""},null,null,null,null,null,null,null,null,{"$f":"IF($C37=\"\",\"\", IF(GO37=1,0,IF(GM37<>0,500,GH37*$AE37/$AH37+GI37/$AH37*5+GJ37/$AH37*25+GK37*50+GL37*50)))","v":""},null,{"$f":"IF(C37<>\"\",C37,\"\")","v":""},null,null,null,null,null,null,null,null,{"$f":"IF($C37=\"\",\"\", IF(GZ37=1,0,IF(GX37<>0,500,GS37*$AE37/$AH37+GT37/$AH37*5+GU37/$AH37*25+GV37*50+GW37*50)))","v":""},null,{"$f":"IF(C37<>\"\",C37,\"\")","v":""},null,null,null,null,null,null,null,null,{"$f":"IF($C37=\"\",\"\", IF(HK37=1,0,IF(HI37<>0,500,HD37*$AE37/$AH37+HE37/$AH37*5+HF37/$AH37*25+HG37*50+HH37*50)))","v":""},null,{"$f":"IF(C37<>\"\",C37,\"\")","v":""},null,null,null,null,null,null,null,null,{"$f":"IF($C37=\"\",\"\", IF(HV37=1,0,IF(HT37<>0,500,HO37*$AE37/$AH37+HP37/$AH37*5+HQ37/$AH37*25+HR37*50+HS37*50)))","v":""},null,{"$f":"IF(C37<>\"\",C37,\"\")","v":""},null,null,null,null,null,null,null,null,{"$f":"IF($C37=\"\",\"\", IF(IG37=1,0,IF(IE37<>0,500,HZ37*$AE37/$AH37+IA37/$AH37*5+IB37/$AH37*25+IC37*50+ID37*50)))","v":""}]
[null,{"$f":"IF(C38=0,\"\",ROW(C38)-4)","v":""},null,null,null,null,null,{"$f":"IF(C38=0,\"\",IF(OR(BB38=1,BC38<>0),BC38,\"-\"))","v":""},{"$f":"IF(C38=0,\"\",IF(OR(BM38=1,BN38<>0),BN38,\"-\"))","v":""},{"$f":"IF(C38=0,\"\",IF(OR(BX38=1,BY38<>0),BY38,\" -\"))","v":""},{"$f":"IF(C38=0,\"\",IF(OR(CJ38<>0,CI38=1),CJ38,\" -\"))","v":""},{"$f":"IF(C38=0,\"\",IF(OR(CU38<>0,CT38=1),CU38,\" -\"))","v":""},{"$f":"IF(C38=0,\"\",IF(OR(DF38<>0,DE38=1),DF38,\" -\"))","v":""},{"$f":"IF(C38=0,\"\",IF(OR(DQ38<>0,DP38=1),DQ38,\" -\"))","v":""},{"$f":"IF(C38=0,\"\",IF(OR(EB38<>0,EA38=1),EB38,\" -\"))","v":""},{"$f":"IF(C38=0,\"\",IF(OR(EM38<>0,EL38=1),EM38,\" -\"))","v":""},{"$f":"IF(C38=0,\"\",IF(OR(EX38<>0,EW38=1),EX38,\" -\"))","v":""},{"$f":"IF(C38=0,\"\",IF(OR(FI38<>0,FH38=1),FI38,\" -\"))","v":""},{"$f":"IF(C38=0,\"\",IF(OR(FT38<>0,FS38=1),FT38,\" -\"))","v":""},{"$f":"IF(C38=0,\"\",IF(OR(GE38<>0,GD38=1),GE38,\" -\"))","v":""},{"$f":"IF(C38=0,\"\",IF(OR(GP38<>0,GO38=1),GP38,\" -\"))","v":""},{"$f":"IF(C38=0,\"\",IF(OR(HA38<>0,GZ38=1),HA38,\" -\"))","v":""},{"$f":"IF(C38=0,\"\",IF(OR(HL38<>0,HK38=1),HL38,\" -\"))","v":""},{"$f":"IF(C38=0,\"\",IF(AJ38<>0,AJ38,\" -\"))","v":""},{"$f":"IF(C38=0,\"\",IF(OR(HW38<>0,HV38=1),HW38,\" -\"))","v":""},{"$f":"IF(C38=0,\"\",IF(OR(IH38<>0,IG38=1),IH38,\" -\"))","v":""},{"$f":"IF(C38=0,\"\",IF(AL38=1,\"DNF\",IF(AL38=2,\"DSQ\",IF(AM38<>1,\"~ \"&ROUND(SUM(H38:X38),3),ROUND(SUM(H38:X38),3)))))","v":""},null,null,{"$f":"IF(C38<>\"\",C38,\"\")","v":""},{"$f":"IF(AD38<>\"\",3,\"\")","v":""},null,null,{"$f":"IF(AD38<>\"\",(AF38/1000*AG38/1000)/2,\"\")","v":""},null,null,null,null,null,null,null,{"$f":"IF(C38=0,99999,IF(AL38>0,9999,SUM(H38:X38)-AN38))","v":99999},{"$f":"IF(C38=0,99999,IF(AL38=1,9999,SUM(Y38:Z38)))","v":99999},null,null,{"$f":"IF(C38<>\"\",C38,\"\")","v":""},null,null,null,null,null,null,null,null,{"$f":"IF($C38=\"\",\"\", IF(BB38=1,0,IF(AZ38<>0,500,AU38*$AE38/$AH38+AV38/$AH38*5+AW38/$AH38*25+AX38*50+AY38*50)))","v":""},null,{"$f":"IF(C38<>\"\",C38,\"\")","v":""},null,null,null,null,null,null,null,null,{"$f":"IF($C38=\"\",\"\", IF(BM38=1,0,IF(BK38<>0,500,BF38*$AE38/$AH38+BG38/$AH38*5+BH38/$AH38*25+BI38*50+BJ38*50)))","v":""},null,{"$f":"IF(C38<>\"\",C38,\"\")","v":""},null,null,null,null,null,null,null,null,{"$f":"IF($C38=\"\",\"\", IF(BX38=1,0,IF(BV38<>0,500,BQ38*$AE38/$AH38+BR38/$AH38*5+BS38/$AH38*25+BT38*50+BU38*50)))","v":""},null,{"$f":"IF(C38<>\"\",C38,\"\")","v":""},null,null,null,null,null,null,null,null,{"$f":"IF($C38=\"\",\"\", IF(CI38=1,0,IF(CG38<>0,500,CB38*$AE38/$AH38+CC38/$AH38*5+CD38/$AH38*25+CE38*50+CF38*50)))","v":""},null,{"$f":"IF(C38<>\"\",C38,\"\")","v":""},null,null,null,null,null,null,null,null,{"$f":"IF($C38=\"\",\"\", IF(CT38=1,0,IF(CR38<>0,500,CM38*$AE38/$AH38+CN38/$AH38*5+CO38/$AH38*25+CP38*50+CQ38*50)))","v":""},null,{"$f":"IF(C38<>\"\",C38,\"\")","v":""},null,null,null,null,null,null,null,null,{"$f":"IF($C38=\"\",\"\", IF(DE38=1,0,IF(DC38<>0,500,CX38*$AE38/$AH38+CY38/$AH38*5+CZ38/$AH38*25+DA38*50+DB38*50)))","v":""},null,{"$f":"IF(C38<>\"\",C38,\"\")","v":""},null,null,null,null,null,null,null,null,{"$f":"IF($C38=\"\",\"\", IF(DP38=1,0,IF(DN38<>0,500,DI38*$AE38/$AH38+DJ38/$AH38*5+DK38/$AH38*25+DL38*50+DM38*50)))","v":""},null,{"$f":"IF(C38<>\"\",C38,\"\")","v":""},null,null,null,null,null,null,null,null,{"$f":"IF($C38=\"\",\"\", IF(EA38=1,0,IF(DY38<>0,500,DT38*$AE38/$AH38+DU38/$AH38*5+DV38/$AH38*25+DW38*50+DX38*50)))","v":""},null,{"$f":"IF(C38<>\"\",C38,\"\")","v":""},null,null,null,null,null,null,null,null,{"$f":"IF($C38=\"\",\"\", IF(EL38=1,0,IF(EJ38<>0,500,EE38*$AE38/$AH38+EF38/$AH38*5+EG38/$AH38*25+EH38*50+EI38*50)))","v":""},null,{"$f":"IF(C38<>\"\",C38,\"\")","v":""},null,null,null,null,null,null,null,null,{"$f":"IF($C38=\"\",\"\", IF(EW38=1,0,IF(EU38<>0,500,EP38*$AE38/$AH38+EQ38/$AH38*5+ER38/$AH38*25+ES38*50+ET38*50)))","v":""},null,{"$f":"IF(C38<>\"\",C38,\"\")","v":""},null,null,null,null,null,null,null,null,{"$f":"IF($C38=\"\",\"\", IF(FH38=1,0,IF(FF38<>0,500,FA38*$AE38/$AH38+FB38/$AH38*5+FC38/$AH38*25+FD38*50+FE38*50)))","v":""},null,{"$f":"IF(C38<>\"\",C38,\"\")","v":""},null,null,null,null,null,null,null,null,{"$f":"IF($C38=\"\",\"\", IF(FS38=1,0,IF(FQ38<>0,500,FL38*$AE38/$AH38+FM38/$AH38*5+FN38/$AH38*25+FO38*50+FP38*50)))","v":""},null,{"$f":"IF(C38<>\"\",C38,\"\")","v":""},null,null,null,null,null,null,null,null,{"$f":"IF($C38=\"\",\"\", IF(GD38=1,0,IF(GB38<>0,500,FW38*$AE38/$AH38+FX38/$AH38*5+FY38/$AH38*25+FZ38*50+GA38*50)))","v":""},null,{"$f":"IF(C38<>\"\",C38,\"\")","v":""},null,null,null,null,null,null,null,null,{"$f":"IF($C38=\"\",\"\", IF(GO38=1,0,IF(GM38<>0,500,GH38*$AE38/$AH38+GI38/$AH38*5+GJ38/$AH38*25+GK38*50+GL38*50)))","v":""},null,{"$f":"IF(C38<>\"\",C38,\"\")","v":""},null,null,null,null,null,null,null,null,{"$f":"IF($C38=\"\",\"\", IF(GZ38=1,0,IF(GX38<>0,500,GS38*$AE38/$AH38+GT38/$AH38*5+GU38/$AH38*25+GV38*50+GW38*50)))","v":""},null,{"$f":"IF(C38<>\"\",C38,\"\")","v":""},null,null,null,null,null,null,null,null,{"$f":"IF($C38=\"\",\"\", IF(HK38=1,0,IF(HI38<>0,500,HD38*$AE38/$AH38+HE38/$AH38*5+HF38/$AH38*25+HG38*50+HH38*50)))","v":""},null,{"$f":"IF(C38<>\"\",C38,\"\")","v":""},null,null,null,null,null,null,null,null,{"$f":"IF($C38=\"\",\"\", IF(HV38=1,0,IF(HT38<>0,500,HO38*$AE38/$AH38+HP38/$AH38*5+HQ38/$AH38*25+HR38*50+HS38*50)))","v":""},null,{"$f":"IF(C38<>\"\",C38,\"\")","v":""},null,null,null,null,null,null,null,null,{"$f":"IF($C38=\"\",\"\", IF(IG38=1,0,IF(IE38<>0,500,HZ38*$AE38/$AH38+IA38/$AH38*5+IB38/$AH38*25+IC38*50+ID38*50)))","v":""}]
[null,{"$f":"IF(C39=0,\"\",ROW(C39)-4)","v":""},null,null,null,null,null,{"$f":"IF(C39=0,\"\",IF(OR(BB39=1,BC39<>0),BC39,\"-\"))","v":""},{"$f":"IF(C39=0,\"\",IF(OR(BM39=1,BN39<>0),BN39,\"-\"))","v":""},{"$f":"IF(C39=0,\"\",IF(OR(BX39=1,BY39<>0),BY39,\" -\"))","v":""},{"$f":"IF(C39=0,\"\",IF(OR(CJ39<>0,CI39=1),CJ39,\" -\"))","v":""},{"$f":"IF(C39=0,\"\",IF(OR(CU39<>0,CT39=1),CU39,\" -\"))","v":""},{"$f":"IF(C39=0,\"\",IF(OR(DF39<>0,DE39=1),DF39,\" -\"))","v":""},{"$f":"IF(C39=0,\"\",IF(OR(DQ39<>0,DP39=1),DQ39,\" -\"))","v":""},{"$f":"IF(C39=0,\"\",IF(OR(EB39<>0,EA39=1),EB39,\" -\"))","v":""},{"$f":"IF(C39=0,\"\",IF(OR(EM39<>0,EL39=1),EM39,\" -\"))","v":""},{"$f":"IF(C39=0,\"\",IF(OR(EX39<>0,EW39=1),EX39,\" -\"))","v":""},{"$f":"IF(C39=0,\"\",IF(OR(FI39<>0,FH39=1),FI39,\" -\"))","v":""},{"$f":"IF(C39=0,\"\",IF(OR(FT39<>0,FS39=1),FT39,\" -\"))","v":""},{"$f":"IF(C39=0,\"\",IF(OR(GE39<>0,GD39=1),GE39,\" -\"))","v":""},{"$f":"IF(C39=0,\"\",IF(OR(GP39<>0,GO39=1),GP39,\" -\"))","v":""},{"$f":"IF(C39=0,\"\",IF(OR(HA39<>0,GZ39=1),HA39,\" -\"))","v":""},{"$f":"IF(C39=0,\"\",IF(OR(HL39<>0,HK39=1),HL39,\" -\"))","v":""},{"$f":"IF(C39=0,\"\",IF(AJ39<>0,AJ39,\" -\"))","v":""},{"$f":"IF(C39=0,\"\",IF(OR(HW39<>0,HV39=1),HW39,\" -\"))","v":""},{"$f":"IF(C39=0,\"\",IF(OR(IH39<>0,IG39=1),IH39,\" -\"))","v":""},{"$f":"IF(C39=0,\"\",IF(AL39=1,\"DNF\",IF(AL39=2,\"DSQ\",IF(AM39<>1,\"~ \"&ROUND(SUM(H39:X39),3),ROUND(SUM(H39:X39),3)))))","v":""},null,null,{"$f":"IF(C39<>\"\",C39,\"\")","v":""},{"$f":"IF(AD39<>\"\",3,\"\")","v":""},null,null,{"$f":"IF(AD39<>\"\",(AF39/1000*AG39/1000)/2,\"\")","v":""},null,null,null,null,null,null,null,{"$f":"IF(C39=0,99999,IF(AL39>0,9999,SUM(H39:X39)-AN39))","v":99999},{"$f":"IF(C39=0,99999,IF(AL39=1,9999,SUM(Y39:Z39)))","v":99999},null,null,{"$f":"IF(C39<>\"\",C39,\"\")","v":""},null,null,null,null,null,null,null,null,{"$f":"IF($C39=\"\",\"\", IF(BB39=1,0,IF(AZ39<>0,500,AU39*$AE39/$AH39+AV39/$AH39*5+AW39/$AH39*25+AX39*50+AY39*50)))","v":""},null,{"$f":"IF(C39<>\"\",C39,\"\")","v":""},null,null,null,null,null,null,null,null,{"$f":"IF($C39=\"\",\"\", IF(BM39=1,0,IF(BK39<>0,500,BF39*$AE39/$AH39+BG39/$AH39*5+BH39/$AH39*25+BI39*50+BJ39*50)))","v":""},null,{"$f":"IF(C39<>\"\",C39,\"\")","v":""},null,null,null,null,null,null,null,null,{"$f":"IF($C39=\"\",\"\", IF(BX39=1,0,IF(BV39<>0,500,BQ39*$AE39/$AH39+BR39/$AH39*5+BS39/$AH39*25+BT39*50+BU39*50)))","v":""},null,{"$f":"IF(C39<>\"\",C39,\"\")","v":""},null,null,null,null,null,null,null,null,{"$f":"IF($C39=\"\",\"\", IF(CI39=1,0,IF(CG39<>0,500,CB39*$AE39/$AH39+CC39/$AH39*5+CD39/$AH39*25+CE39*50+CF39*50)))","v":""},null,{"$f":"IF(C39<>\"\",C39,\"\")","v":""},null,null,null,null,null,null,null,null,{"$f":"IF($C39=\"\",\"\", IF(CT39=1,0,IF(CR39<>0,500,CM39*$AE39/$AH39+CN39/$AH39*5+CO39/$AH39*25+CP39*50+CQ39*50)))","v":""},null,{"$f":"IF(C39<>\"\",C39,\"\")","v":""},null,null,null,null,null,null,null,null,{"$f":"IF($C39=\"\",\"\", IF(DE39=1,0,IF(DC39<>0,500,CX39*$AE39/$AH39+CY39/$AH39*5+CZ39/$AH39*25+DA39*50+DB39*50)))","v":""},null,{"$f":"IF(C39<>\"\",C39,\"\")","v":""},null,null,null,null,null,null,null,null,{"$f":"IF($C39=\"\",\"\", IF(DP39=1,0,IF(DN39<>0,500,DI39*$AE39/$AH39+DJ39/$AH39*5+DK39/$AH39*25+DL39*50+DM39*50)))","v":""},null,{"$f":"IF(C39<>\"\",C39,\"\")","v":""},null,null,null,null,null,null,null,null,{"$f":"IF($C39=\"\",\"\", IF(EA39=1,0,IF(DY39<>0,500,DT39*$AE39/$AH39+DU39/$AH39*5+DV39/$AH39*25+DW39*50+DX39*50)))","v":""},null,{"$f":"IF(C39<>\"\",C39,\"\")","v":""},null,null,null,null,null,null,null,null,{"$f":"IF($C39=\"\",\"\", IF(EL39=1,0,IF(EJ39<>0,500,EE39*$AE39/$AH39+EF39/$AH39*5+EG39/$AH39*25+EH39*50+EI39*50)))","v":""},null,{"$f":"IF(C39<>\"\",C39,\"\")","v":""},null,null,null,null,null,null,null,null,{"$f":"IF($C39=\"\",\"\", IF(EW39=1,0,IF(EU39<>0,500,EP39*$AE39/$AH39+EQ39/$AH39*5+ER39/$AH39*25+ES39*50+ET39*50)))","v":""},null,{"$f":"IF(C39<>\"\",C39,\"\")","v":""},null,null,null,null,null,null,null,null,{"$f":"IF($C39=\"\",\"\", IF(FH39=1,0,IF(FF39<>0,500,FA39*$AE39/$AH39+FB39/$AH39*5+FC39/$AH39*25+FD39*50+FE39*50)))","v":""},null,{"$f":"IF(C39<>\"\",C39,\"\")","v":""},null,null,null,null,null,null,null,null,{"$f":"IF($C39=\"\",\"\", IF(FS39=1,0,IF(FQ39<>0,500,FL39*$AE39/$AH39+FM39/$AH39*5+FN39/$AH39*25+FO39*50+FP39*50)))","v":""},null,{"$f":"IF(C39<>\"\",C39,\"\")","v":""},null,null,null,null,null,null,null,null,{"$f":"IF($C39=\"\",\"\", IF(GD39=1,0,IF(GB39<>0,500,FW39*$AE39/$AH39+FX39/$AH39*5+FY39/$AH39*25+FZ39*50+GA39*50)))","v":""},null,{"$f":"IF(C39<>\"\",C39,\"\")","v":""},null,null,null,null,null,null,null,null,{"$f":"IF($C39=\"\",\"\", IF(GO39=1,0,IF(GM39<>0,500,GH39*$AE39/$AH39+GI39/$AH39*5+GJ39/$AH39*25+GK39*50+GL39*50)))","v":""},null,{"$f":"IF(C39<>\"\",C39,\"\")","v":""},null,null,null,null,null,null,null,null,{"$f":"IF($C39=\"\",\"\", IF(GZ39=1,0,IF(GX39<>0,500,GS39*$AE39/$AH39+GT39/$AH39*5+GU39/$AH39*25+GV39*50+GW39*50)))","v":""},null,{"$f":"IF(C39<>\"\",C39,\"\")","v":""},null,null,null,null,null,null,null,null,{"$f":"IF($C39=\"\",\"\", IF(HK39=1,0,IF(HI39<>0,500,HD39*$AE39/$AH39+HE39/$AH39*5+HF39/$AH39*25+HG39*50+HH39*50)))","v":""},null,{"$f":"IF(C39<>\"\",C39,\"\")","v":""},null,null,null,null,null,null,null,null,{"$f":"IF($C39=\"\",\"\", IF(HV39=1,0,IF(HT39<>0,500,HO39*$AE39/$AH39+HP39/$AH39*5+HQ39/$AH39*25+HR39*50+HS39*50)))","v":""},null,{"$f":"IF(C39<>\"\",C39,\"\")","v":""},null,null,null,null,null,null,null,null,{"$f":"IF($C39=\"\",\"\", IF(IG39=1,0,IF(IE39<>0,500,HZ39*$AE39/$AH39+IA39/$AH39*5+IB39/$AH39*25+IC39*50+ID39*50)))","v":""}]
[]
[]
[]
[null,null,null,null,null," "]

{"sheet":"Prototype","index":5,"n_rows":43,"n_cols":242,"rows_kept":43,"cut":false,"hidden":false,"merged":[[0,21,0,26]]}
[null,{"$f":"Settings!C2","v":"Eurotrial Finland 2025 : 18-20.7.2025 - Results"},null,null,null,null,null,null,null,null,null,null,null,null,null,null,null,null,null,null,null,{"$f":"NOW()","v":"2025-07-20T20:32:14.320"},null,null,null,null,null,null,null,{"$f":"B1","v":"Eurotrial Finland 2025 : 18-20.7.2025 - Results"},null,null,null,null,null,null,null,null,null,null,null,null,null,null,null,{"$f":"B1","v":"Eurotrial Finland 2025 : 18-20.7.2025 - Results"},null,null,null,null,null,null,null,null,null,null,{"$f":"B1","v":"Eurotrial Finland 2025 : 18-20.7.2025 - Results"},null,null,null,null,null,null,null,null,null,null,{"$f":"B1","v":"Eurotrial Finland 2025 : 18-20.7.2025 - Results"},null,null,null,null,null,null,null,null,null,null,{"$f":"B1","v":"Eurotrial Finland 2025 : 18-20.7.2025 - Results"},null,null,null,null,null,null,null,null,null,null,{"$f":"B1","v":"Eurotrial Finland 2025 : 18-20.7.2025 - Results"},null,null,null,null,null,null,null,null,null,null,{"$f":"B1","v":"Eurotrial Finland 2025 : 18-20.7.2025 - Results"},null,null,null,null,null,null,null,null,null,null,{"$f":"B1","v":"Eurotrial Finland 2025 : 18-20.7.2025 - Results"},null,null,null,null,null,null,null,null,null,null,{"$f":"B1","v":"Eurotrial Finland 2025 : 18-20.7.2025 - Results"},null,null,null,null,null,null,null,null,null,null,{"$f":"B1","v":"Eurotrial Finland 2025 : 18-20.7.2025 - Results"},null,null,null,null,null,null,null,null,null,null,{"$f":"B1","v":"Eurotrial Finland 2025 : 18-20.7.2025 - Results"},null,null,null,null,null,null,null,null,null,null,{"$f":"B1","v":"Eurotrial Finland 2025 : 18-20.7.2025 - Results"},null,null,null,null,null,null,null,null,null,null,{"$f":"B1","v":"Eurotrial Finland 2025 : 18-20.7.2025 - Results"},null,null,null,null,null,null,null,null,null,null,{"$f":"B1","v":"Eurotrial Finland 2025 : 18-20.7.2025 - Results"},null,null,null,null,null,null,null,null,null,null,{"$f":"B1","v":"Eurotrial Finland 2025 : 18-20.7.2025 - Results"},null,null,null,null,null,null,null,null,null,null,{"$f":"B1","v":"Eurotrial Finland 2025 : 18-20.7.2025 - Results"},null,null,null,null,null,null,null,null,null,null,{"$f":"B1","v":"Eurotrial Finland 2025 : 18-20.7.2025 - Results"},null,null,null,null,null,null,null,null,null,null,{"$f":"B1","v":"Eurotrial Finland 2025 : 18-20.7.2025 - Results"},null,null,null,null,null,null,null,null,null,null,{"$f":"B1","v":"Eurotrial Finland 2025 : 18-20.7.2025 - Results"}]
[null,"Class: Prototype",null,null,null,null,null,null,null,null,null,null,null,null,null,null,null,null,null,null,null,null,null,null,null,null,null,null,null,{"$f":"B2","v":"Class: Prototype"},null,null,null,null,null,null,null,null,null,null,null,null,null,null,null,{"$f":"B2","v":"Class: Prototype"},null,null,null,null,null,null,null,null,{"$f":"AT3","v":"Section L1"},null,{"$f":"B2","v":"Class: Prototype"},null,null,null,null,null,null,null,null,{"$f":"BE3","v":"Section L3"},null,{"$f":"B2","v":"Class: Prototype"},null,null,null,null,null,null,null,null,{"$f":"BP3","v":"Section L4"},null,{"$f":"B2","v":"Class: Prototype"},null,null,null,null,null,null,null,null,{"$f":"CA3","v":"Section L6"},null,{"$f":"B2","v":"Class: Prototype"},null,null,null,null,null,null,null,null,{"$f":"CL3","v":"Section L7"},null,{"$f":"B2","v":"Class: Prototype"},null,null,null,null,null,null,null,null,{"$f":"CW3","v":"Section L8"},null,{"$f":"B2","v":"Class: Prototype"},null,null,null,null,null,null,null,null,{"$f":"DH3","v":"Section L9"},null,{"$f":"B2","v":"Class: Prototype"},null,null,null,null,null,null,null,null,{"$f":"DS3","v":"Section L10"},null,{"$f":"B2","v":"Class: Prototype"},null,null,null,null,null,null,null,null,{"$f":"ED3","v":"Section S1"},null,{"$f":"B2","v":"Class: Prototype"},null,null,null,null,null,null,null,null,{"$f":"EO3","v":"Section S3"},null,{"$f":"B2","v":"Class: Prototype"},null,null,null,null,null,null,null,null,{"$f":"EZ3","v":"Section S4"},null,{"$f":"B2","v":"Class: Prototype"},null,null,null,null,null,null,null,null,{"$f":"FK3","v":"Section S6"},null,{"$f":"B2","v":"Class: Prototype"},null,null,null,null,null,null,null,null,{"$f":"FV3","v":"Section S7"},null,{"$f":"B2","v":"Class: Prototype"},null,null,null,null,null,null,null,null,{"$f":"GG3","v":"Section S8"},null,{"$f":"B2","v":"Class: Prototype"},null,null,null,null,null,null,null,null,{"$f":"GR3","v":"Section S9"},null,{"$f":"B2","v":"Class: Prototype"},null,null,null,null,null,null,null,null,{"$f":"HC3","v":"Section S10"},null,{"$f":"B2","v":"Class: Prototype"},null,null,null,null,null,null,null,null,{"$f":"HN3","v":"Run-off section 1"},null,{"$f":"B2","v":"Class: Prototype"},null,null,null,null,null,null,null,null,{"$f":"HY3","v":"Run-off section 2"}]
[null,null,null,null,null,null,null,null,null,null,null,null,null,null,null,null,null,null,null,null,null,null,null,null,null,null,null,null,null,null,null,null,null,null,null,null,null,null,null,null,null,"Helper columns for ordering",null,null,null,"Section L1",null,{"$f":"AT3","v":"Section L1"},null,{"$f":"AT3","v":"Section L1"},null,{"$f":"AT3","v":"Section L1"},null,{"$f":"AT3","v":"Section L1"},null,null,"Section L3",null,{"$f":"BE3","v":"Section L3"},null,{"$f":"BE3","v":"Section L3"},null,{"$f":"BE3","v":"Section L3"},null,{"$f":"BE3","v":"Section L3"},null,null,"Section L4",null,{"$f":"BP3","v":"Section L4"},null,{"$f":"BP3","v":"Section L4"},null,{"$f":"BP3","v":"Section L4"},null,{"$f":"BP3","v":"Section L4"},null,null,"Section L6",null,{"$f":"CA3","v":"Section L6"},null,{"$f":"CA3","v":"Section L6"},null,{"$f":"CA3","v":"Section L6"},null,{"$f":"CA3","v":"Section L6"},null,null,"Section L7",null,{"$f":"CL3","v":"Section L7"},null,{"$f":"CL3","v":"Section L7"},null,{"$f":"CL3","v":"Section L7"},null,{"$f":"CL3","v":"Section L7"},null,null,"Section L8",null,{"$f":"CW3","v":"Section L8"},null,{"$f":"CW3","v":"Section L8"},null,{"$f":"CW3","v":"Section L8"},null,{"$f":"CW3","v":"Section L8"},null,null,"Section L9",null,{"$f":"DH3","v":"Section L9"},null,{"$f":"DH3","v":"Section L9"},null,{"$f":"DH3","v":"Section L9"},null,{"$f":"DH3","v":"Section L9"},null,null,"Section L10",null,{"$f":"DS3","v":"Section L10"},null,{"$f":"DS3","v":"Section L10"},null,{"$f":"DS3","v":"Section L10"},null,{"$f":"DS3","v":"Section L10"},null,null,"Section S1",null,{"$f":"ED3","v":"Section S1"},null,{"$f":"ED3","v":"Section S1"},null,{"$f":"ED3","v":"Section S1"},null,{"$f":"ED3","v":"Section S1"},null,null,"Section S3",null,{"$f":"EO3","v":"Section S3"},null,{"$f":"EO3","v":"Section S3"},null,{"$f":"EO3","v":"Section S3"},null,{"$f":"EO3","v":"Section S3"},null,null,"Section S4",null,{"$f":"EZ3","v":"Section S4"},null,{"$f":"EZ3","v":"Section S4"},null,{"$f":"EZ3","v":"Section S4"},null,{"$f":"EZ3","v":"Section S4"},null,null,"Section S6",null,{"$f":"FK3","v":"Section S6"},null,{"$f":"FK3","v":"Section S6"},null,{"$f":"FK3","v":"Section S6"},null,{"$f":"FK3","v":"Section S6"},null,null,"Section S7",null,{"$f":"FV3","v":"Section S7"},null,{"$f":"FV3","v":"Section S7"},null,{"$f":"FV3","v":"Section S7"},null,{"$f":"FV3","v":"Section S7"},null,null,"Section S8",null,{"$f":"GG3","v":"Section S8"},null,{"$f":"GG3","v":"Section S8"},null,{"$f":"GG3","v":"Section S8"},null,{"$f":"GG3","v":"Section S8"},null,null,"Section S9",null,{"$f":"GR3","v":"Section S9"},null,{"$f":"GR3","v":"Section S9"},null,{"$f":"GR3","v":"Section S9"},null,{"$f":"GR3","v":"Section S9"},null,null,"Section S10",null,{"$f":"HC3","v":"Section S10"},null,{"$f":"HC3","v":"Section S10"},null,{"$f":"HC3","v":"Section S10"},null,{"$f":"HC3","v":"Section S10"},null,null,"Run-off section 1",null,"Run-off section 1",null,"Run-off section 1",null,"Run-off section 1",null,"Run-off section 1",null,null,"Run-off section 2",null,"Run-off section 2",null,"Run-off section 2",null,"Run-off section 2",null,"Run-off section 2"]
[null,"Pos.","Race #"," Team","Car","Driver","Co-Driver","L1","L3","L4","L6","L7","L8","L9","L10","S1","S3","S4","S6","S7","S8","S9","S10","Extra penalty","Run-off 1","Run-off 2","Total",null,null,"Race #","Car base reverse points","Car width (mm)","Car wheelbase (mm)","\"Magic Number\" ","Traditional reverse points","Extra penalty","Extra penalty reason","DNF = 1 DSQ = 2","Ended race (1 if ok)","Order change (1 = go higher)",null,"Result points, do not change","Run-off points do not change",null,null,"Race #","Reverse","Touching / Driving under (5)","Broken post / stick (25)","Not Passed Gate (50)","Section not completed (50)","Not driven section (500)","Comment","Clean (1 = ok)","Total",null,"Race #","Reverse","Touching / Driving under (5)","Broken post / stick (25)","Not Passed Gate (50)","Section not completed (50)","Not driven section (500)","Comment","Clean (1 = ok)","Total",null,"Race #","Reverse","Touching / Driving under (5)","Broken post / stick (25)","Not Passed Gate (50)","Section not completed (50)","Not driven section (500)","Comment","Clean (1 = ok)","Total",null,"Race #","Reverse","Touching / Driving under (5)","Broken post / stick (25)","Not Passed Gate (50)","Section not completed (50)","Not driven section (500)","Comment","Clean (1 = ok)","Total",null,"Race #","Reverse","Touching / Driving under (5)","Broken post / stick (25)","Not Passed Gate (50)","Section not completed (50)","Not driven section (500)","Comment","Clean (1 = ok)","Total",null,"Race #","Reverse","Touching / Driving under (5)","Broken post / stick (25)","Not Passed Gate (50)","Section not completed (50)","Not driven section (500)","Comment","Clean (1 = ok)","Total",null,"Race #","Reverse","Touching / Driving under (5)","Broken post / stick (25)","Not Passed Gate (50)","Section not completed (50)","Not driven section (500)","Comment","Clean (1 = ok)","Total",null,"Race #","Reverse","Touching / Driving under (5)","Broken post / stick (25)","Not Passed Gate (50)","Section not completed (50)","Not driven section (500)","Comment","Clean (1 = ok)","Total",null,"Race #","Reverse","Touching / Driving under (5)","Broken post / stick (25)","Not Passed Gate (50)","Section not completed (50)","Not driven section (500)","Comment","Clean (1 = ok)","Total",null,"Race #","Reverse","Touching / Driving under (5)","Broken post / stick (25)","Not Passed Gate (50)","Section not completed (50)","Not driven section (500)","Comment","Clean (1 = ok)","Total",null,"Race #","Reverse","Touching / Driving under (5)","Broken post / stick (25)","Not Passed Gate (50)","Section not completed (50)","Not driven section (500)","Comment","Clean (1 = ok)","Total",null,"Race #","Reverse","Touching / Driving under (5)","Broken post / stick (25)","Not Passed Gate (50)","Section not completed (50)","Not driven section (500)","Comment","Clean (1 = ok)","Total",null,"Race #","Reverse","Touching / Driving under (5)","Broken post / stick (25)","Not Passed Gate (50)","Section not completed (50)","Not driven section (500)","Comment","Clean (1 = ok)","Total",null,"Race #","Reverse","Touching / Driving under (5)","Broken post / stick (25)","Not Passed Gate (50)","Section not completed (50)","Not driven section (500)","Comment","Clean (1 = ok)","Total",null,"Race #","Reverse","Touching / Driving under (5)","Broken post / stick (25)","Not Passed Gate (50)","Section not completed (50)","Not driven section (500)","Comment","Clean (1 = ok)","Total",null,"Race #","Reverse","Touching / Driving under (5)","Broken post / stick (25)","Not Passed Gate (50)","Section not completed (50)","Not driven section (500)","Comment","Clean (1 = ok)","Total",null,"Race #","Reverse","Touching / Driving under (5)","Broken post / stick (25)","Not Passed Gate (50)","Section not completed (50)","Not driven section (500)","Comment","Clean (1 = ok)","Total",null,"Race #","Reverse","Touching / Driving under (5)","Broken post / stick (25)","Not Passed Gate (50)","Section not completed (50)","Not driven section (500)","Comment","Clean (1 = ok)","Total"]
[null,{"$f":"IF(C5=0,\"\",ROW(C5)-4)","v":1},507,"Sweden","Spider","Lars Dahl",null,{"$f":"IF(C5=0,\"\",IF(OR(BB5=1,BC5<>0),BC5,\"-\"))","v":0},{"$f":"IF(C5=0,\"\",IF(OR(BM5=1,BN5<>0),BN5,\"-\"))","v":0},{"$f":"IF(C5=0,\"\",IF(OR(BX5=1,BY5<>0),BY5,\" -\"))","v":8},{"$f":"IF(C5=0,\"\",IF(OR(CJ5<>0,CI5=1),CJ5,\" -\"))","v":0},{"$f":"IF(C5=0,\"\",IF(OR(CU5<>0,CT5=1),CU5,\" -\"))","v":0},{"$f":"IF(C5=0,\"\",IF(OR(DF5<>0,DE5=1),DF5,\" -\"))","v":0},{"$f":"IF(C5=0,\"\",IF(OR(DQ5<>0,DP5=1),DQ5,\" -\"))","v":0},{"$f":"IF(C5=0,\"\",IF(OR(EB5<>0,EA5=1),EB5,\" -\"))","v":8},{"$f":"IF(C5=0,\"\",IF(OR(EM5<>0,EL5=1),EM5,\" -\"))","v":0},{"$f":"IF(C5=0,\"\",IF(OR(EX5<>0,EW5=1),EX5,\" -\"))","v":0},{"$f":"IF(C5=0,\"\",IF(OR(FI5<>0,FH5=1),FI5,\" -\"))","v":0},{"$f":"IF(C5=0,\"\",IF(OR(FT5<>0,FS5=1),FT5,\" -\"))","v":0},{"$f":"IF(C5=0,\"\",IF(OR(GE5<>0,GD5=1),GE5,\" -\"))","v":3},{"$f":"IF(C5=0,\"\",IF(OR(GP5<>0,GO5=1),GP5,\" -\"))","v":0},{"$f":"IF(C5=0,\"\",IF(OR(HA5<>0,GZ5=1),HA5,\" -\"))","v":0},{"$f":"IF(C5=0,\"\",IF(OR(HL5<>0,HK5=1),HL5,\" -\"))","v":0},{"$f":"IF(C5=0,\"\",IF(AJ5<>0,AJ5,\" -\"))","v":" -"},{"$f":"IF(C5=0,\"\",IF(OR(HW5<>0,HV5=1),HW5,\" -\"))","v":" -"},{"$f":"IF(C5=0,\"\",IF(OR(IH5<>0,IG5=1),IH5,\" -\"))","v":" -"},{"$f":"IF(C5=0,\"\",IF(AL5=1,\"DNF\",IF(AL5=2,\"DSQ\",IF(AM5<>1,\"~ \"&ROUND(SUM(H5:X5),3),ROUND(SUM(H5:X5),3)))))","v":19},null,null,{"$f":"IF(C5<>\"\",C5,\"\")","v":507},{"$f":"IF(AD5<>\"\",3,\"\")","v":3},1000,2000,{"$f":"IF(AD5<>\"\",(AF5/1000*AG5/1000)/2,\"\")","v":1},3,null,null,null,1,null,null,{"$f":"IF(C5=0,99999,IF(AL5>0,9999,SUM(H5:X5)-AN5))","v":19},{"$f":"IF(C5=0,99999,IF(AL5=1,9999,SUM(Y5:Z5)))","v":0},null,null,{"$f":"IF(C5<>\"\",C5,\"\")","v":507},null,null,null,null,null,null,null,1,{"$f":"IF($C5=\"\",\"\", IF(BB5=1,0,IF(AZ5<>0,500,AU5*$AE5/$AH5+AV5/$AH5*5+AW5/$AH5*25+AX5*50+AY5*50)))","v":0},null,{"$f":"IF(C5<>\"\",C5,\"\")","v":507},null,null,null,null,null,null,null,1,{"$f":"IF($C5=\"\",\"\", IF(BM5=1,0,IF(BK5<>0,500,BF5*$AE5/$AH5+BG5/$AH5*5+BH5/$AH5*25+BI5*50+BJ5*50)))","v":0},null,{"$f":"IF(C5<>\"\",C5,\"\")","v":507},1,1,null,null,null,null,null,null,{"$f":"IF($C5=\"\",\"\", IF(BX5=1,0,IF(BV5<>0,500,BQ5*$AE5/$AH5+BR5/$AH5*5+BS5/$AH5*25+BT5*50+BU5*50)))","v":8},null,{"$f":"IF(C5<>\"\",C5,\"\")","v":507},null,null,null,null,null,null,null,1,{"$f":"IF($C5=\"\",\"\", IF(CI5=1,0,IF(CG5<>0,500,CB5*$AE5/$AH5+CC5/$AH5*5+CD5/$AH5*25+CE5*50+CF5*50)))","v":0},null,{"$f":"IF(C5<>\"\",C5,\"\")","v":507},null,null,null,null,null,null,null,1,{"$f":"IF($C5=\"\",\"\", IF(CT5=1,0,IF(CR5<>0,500,CM5*$AE5/$AH5+CN5/$AH5*5+CO5/$AH5*25+CP5*50+CQ5*50)))","v":0},null,{"$f":"IF(C5<>\"\",C5,\"\")","v":507},null,null,null,null,null,null,null,1,{"$f":"IF($C5=\"\",\"\", IF(DE5=1,0,IF(DC5<>0,500,CX5*$AE5/$AH5+CY5/$AH5*5+CZ5/$AH5*25+DA5*50+DB5*50)))","v":0},null,{"$f":"IF(C5<>\"\",C5,\"\")","v":507},null,null,null,null,null,null,null,1,{"$f":"IF($C5=\"\",\"\", IF(DP5=1,0,IF(DN5<>0,500,DI5*$AE5/$AH5+DJ5/$AH5*5+DK5/$AH5*25+DL5*50+DM5*50)))","v":0},null,{"$f":"IF(C5<>\"\",C5,\"\")","v":507},1,1,null,null,null,null,null,null,{"$f":"IF($C5=\"\",\"\", IF(EA5=1,0,IF(DY5<>0,500,DT5*$AE5/$AH5+DU5/$AH5*5+DV5/$AH5*25+DW5*50+DX5*50)))","v":8},null,{"$f":"IF(C5<>\"\",C5,\"\")","v":507},null,null,null,null,null,null,null,1,{"$f":"IF($C5=\"\",\"\", IF(EL5=1,0,IF(EJ5<>0,500,EE5*$AE5/$AH5+EF5/$AH5*5+EG5/$AH5*25+EH5*50+EI5*50)))","v":0},null,{"$f":"IF(C5<>\"\",C5,\"\")","v":507},null,null,null,null,null,null,null,1,{"$f":"IF($C5=\"\",\"\", IF(EW5=1,0,IF(EU5<>0,500,EP5*$AE5/$AH5+EQ5/$AH5*5+ER5/$AH5*25+ES5*50+ET5*50)))","v":0},null,{"$f":"IF(C5<>\"\",C5,\"\")","v":507},null,null,null,null,null,null,null,1,{"$f":"IF($C5=\"\",\"\", IF(FH5=1,0,IF(FF5<>0,500,FA5*$AE5/$AH5+FB5/$AH5*5+FC5/$AH5*25+FD5*50+FE5*50)))","v":0},null,{"$f":"IF(C5<>\"\",C5,\"\")","v":507},null,null,null,null,null,null,null,1,{"$f":"IF($C5=\"\",\"\", IF(FS5=1,0,IF(FQ5<>0,500,FL5*$AE5/$AH5+FM5/$AH5*5+FN5/$AH5*25+FO5*50+FP5*50)))","v":0},null,{"$f":"IF(C5<>\"\",C5,\"\")","v":507},1,null,null,null,null,null,null,null,{"$f":"IF($C5=\"\",\"\", IF(GD5=1,0,IF(GB5<>0,500,FW5*$AE5/$AH5+FX5/$AH5*5+FY5/$AH5*25+FZ5*50+GA5*50)))","v":3},null,{"$f":"IF(C5<>\"\",C5,\"\")","v":507},null,null,null,null,null,null,null,1,{"$f":"IF($C5=\"\",\"\", IF(GO5=1,0,IF(GM5<>0,500,GH5*$AE5/$AH5+GI5/$AH5*5+GJ5/$AH5*25+GK5*50+GL5*50)))","v":0},null,{"$f":"IF(C5<>\"\",C5,\"\")","v":507},null,null,null,null,null,null,null,1,{"$f":"IF($C5=\"\",\"\", IF(GZ5=1,0,IF(GX5<>0,500,GS5*$AE5/$AH5+GT5/$AH5*5+GU5/$AH5*25+GV5*50+GW5*50)))","v":0},null,{"$f":"IF(C5<>\"\",C5,\"\")","v":507},null,null,null,null,null,null,null,1,{"$f":"IF($C5=\"\",\"\", IF(HK5=1,0,IF(HI5<>0,500,HD5*$AE5/$AH5+HE5/$AH5*5+HF5/$AH5*25+HG5*50+HH5*50)))","v":0},null,{"$f":"IF(C5<>\"\",C5,\"\")","v":507},null,null,null,null,null,null,null,null,{"$f":"IF($C5=\"\",\"\", IF(HV5=1,0,IF(HT5<>0,500,HO5*$AE5/$AH5+HP5/$AH5*5+HQ5/$AH5*25+HR5*50+HS5*50)))","v":0},null,{"$f":"IF(C5<>\"\",C5,\"\")","v":507},null,null,null,null,null,null,null,null,{"$f":"IF($C5=\"\",\"\", IF(IG5=1,0,IF(IE5<>0,500,HZ5*$AE5/$AH5+IA5/$AH5*5+IB5/$AH5*25+IC5*50+ID5*50)))","v":0}]
[null,{"$f":"IF(C6=0,\"\",ROW(C6)-4)","v":2},501,"Switzerland","G-Rock","Patcik Deleze",null,{"$f":"IF(C6=0,\"\",IF(OR(BB6=1,BC6<>0),BC6,\"-\"))","v":0},{"$f":"IF(C6=0,\"\",IF(OR(BM6=1,BN6<>0),BN6,\"-\"))","v":0},{"$f":"IF(C6=0,\"\",IF(OR(BX6=1,BY6<>0),BY6,\" -\"))","v":58},{"$f":"IF(C6=0,\"\",IF(OR(CJ6<>0,CI6=1),CJ6,\" -\"))","v":0},{"$f":"IF(C6=0,\"\",IF(OR(CU6<>0,CT6=1),CU6,\" -\"))","v":0},{"$f":"IF(C6=0,\"\",IF(OR(DF6<>0,DE6=1),DF6,\" -\"))","v":3},{"$f":"IF(C6=0,\"\",IF(OR(DQ6<>0,DP6=1),DQ6,\" -\"))","v":34},{"$f":"IF(C6=0,\"\",IF(OR(EB6<>0,EA6=1),EB6,\" -\"))","v":31},{"$f":"IF(C6=0,\"\",IF(OR(EM6<>0,EL6=1),EM6,\" -\"))","v":0},{"$f":"IF(C6=0,\"\",IF(OR(EX6<>0,EW6=1),EX6,\" -\"))","v":3},{"$f":"IF(C6=0,\"\",IF(OR(FI6<>0,FH6=1),FI6,\" -\"))","v":11},{"$f":"IF(C6=0,\"\",IF(OR(FT6<>0,FS6=1),FT6,\" -\"))","v":103},{"$f":"IF(C6=0,\"\",IF(OR(GE6<>0,GD6=1),GE6,\" -\"))","v":33},{"$f":"IF(C6=0,\"\",IF(OR(GP6<>0,GO6=1),GP6,\" -\"))","v":0},{"$f":"IF(C6=0,\"\",IF(OR(HA6<>0,GZ6=1),HA6,\" -\"))","v":8},{"$f":"IF(C6=0,\"\",IF(OR(HL6<>0,HK6=1),HL6,\" -\"))","v":152},{"$f":"IF(C6=0,\"\",IF(AJ6<>0,AJ6,\" -\"))","v":" -"},{"$f":"IF(C6=0,\"\",IF(OR(HW6<>0,HV6=1),HW6,\" -\"))","v":" -"},{"$f":"IF(C6=0,\"\",IF(OR(IH6<>0,IG6=1),IH6,\" -\"))","v":" -"},{"$f":"IF(C6=0,\"\",IF(AL6=1,\"DNF\",IF(AL6=2,\"DSQ\",IF(AM6<>1,\"~ \"&ROUND(SUM(H6:X6),3),ROUND(SUM(H6:X6),3)))))","v":436},null,null,{"$f":"IF(C6<>\"\",C6,\"\")","v":501},{"$f":"IF(AD6<>\"\",3,\"\")","v":3},1000,2000,{"$f":"IF(AD6<>\"\",(AF6/1000*AG6/1000)/2,\"\")","v":1},3,null,null,null,1,null,null,{"$f":"IF(C6=0,99999,IF(AL6>0,9999,SUM(H6:X6)-AN6))","v":436},{"$f":"IF(C6=0,99999,IF(AL6=1,9999,SUM(Y6:Z6)))","v":0},null,null,{"$f":"IF(C6<>\"\",C6,\"\")","v":501},null,null,null,null,null,null,null,1,{"$f":"IF($C6=\"\",\"\", IF(BB6=1,0,IF(AZ6<>0,500,AU6*$AE6/$AH6+AV6/$AH6*5+AW6/$AH6*25+AX6*50+AY6*50)))","v":0},null,{"$f":"IF(C6<>\"\",C6,\"\")","v":501},null,null,null,null,null,null,null,1,{"$f":"IF($C6=\"\",\"\", IF(BM6=1,0,IF(BK6<>0,500,BF6*$AE6/$AH6+BG6/$AH6*5+BH6/$AH6*25+BI6*50+BJ6*50)))","v":0},null,{"$f":"IF(C6<>\"\",C6,\"\")","v":501},1,1,2,null,null,null,null,null,{"$f":"IF($C6=\"\",\"\", IF(BX6=1,0,IF(BV6<>0,500,BQ6*$AE6/$AH6+BR6/$AH6*5+BS6/$AH6*25+BT6*50+BU6*50)))","v":58},null,{"$f":"IF(C6<>\"\",C6,\"\")","v":501},null,null,null,null,null,null,null,1,{"$f":"IF($C6=\"\",\"\", IF(CI6=1,0,IF(CG6<>0,500,CB6*$AE6/$AH6+CC6/$AH6*5+CD6/$AH6*25+CE6*50+CF6*50)))","v":0},null,{"$f":"IF(C6<>\"\",C6,\"\")","v":501},null,null,null,null,null,null,null,1,{"$f":"IF($C6=\"\",\"\", IF(CT6=1,0,IF(CR6<>0,500,CM6*$AE6/$AH6+CN6/$AH6*5+CO6/$AH6*25+CP6*50+CQ6*50)))","v":0},null,{"$f":"IF(C6<>\"\",C6,\"\")","v":501},1,null,null,null,null,null,null,null,{"$f":"IF($C6=\"\",\"\", IF(DE6=1,0,IF(DC6<>0,500,CX6*$AE6/$AH6+CY6/$AH6*5+CZ6/$AH6*25+DA6*50+DB6*50)))","v":3},null,{"$f":"IF(C6<>\"\",C6,\"\")","v":501},3,null,1,null,null,null,null,null,{"$f":"IF($C6=\"\",\"\", IF(DP6=1,0,IF(DN6<>0,500,DI6*$AE6/$AH6+DJ6/$AH6*5+DK6/$AH6*25+DL6*50+DM6*50)))","v":34},null,{"$f":"IF(C6<>\"\",C6,\"\")","v":501},2,null,1,null,null,null,null,null,{"$f":"IF($C6=\"\",\"\", IF(EA6=1,0,IF(DY6<>0,500,DT6*$AE6/$AH6+DU6/$AH6*5+DV6/$AH6*25+DW6*50+DX6*50)))","v":31},null,{"$f":"IF(C6<>\"\",C6,\"\")","v":501},null,null,null,null,null,null,null,1,{"$f":"IF($C6=\"\",\"\", IF(EL6=1,0,IF(EJ6<>0,500,EE6*$AE6/$AH6+EF6/$AH6*5+EG6/$AH6*25+EH6*50+EI6*50)))","v":0},null,{"$f":"IF(C6<>\"\",C6,\"\")","v":501},1,null,null,null,null,null,null,null,{"$f":"IF($C6=\"\",\"\", IF(EW6=1,0,IF(EU6<>0,500,EP6*$AE6/$AH6+EQ6/$AH6*5+ER6/$AH6*25+ES6*50+ET6*50)))","v":3},null,{"$f":"IF(C6<>\"\",C6,\"\")","v":501},2,1,null,null,null,null,null,null,{"$f":"IF($C6=\"\",\"\", IF(FH6=1,0,IF(FF6<>0,500,FA6*$AE6/$AH6+FB6/$AH6*5+FC6/$AH6*25+FD6*50+FE6*50)))","v":11},null,{"$f":"IF(C6<>\"\",C6,\"\")","v":501},6,2,1,null,1,null,"time",null,{"$f":"IF($C6=\"\",\"\", IF(FS6=1,0,IF(FQ6<>0,500,FL6*$AE6/$AH6+FM6/$AH6*5+FN6/$AH6*25+FO6*50+FP6*50)))","v":103},null,{"$f":"IF(C6<>\"\",C6,\"\")","v":501},1,1,1,null,null,null,null,null,{"$f":"IF($C6=\"\",\"\", IF(GD6=1,0,IF(GB6<>0,500,FW6*$AE6/$AH6+FX6/$AH6*5+FY6/$AH6*25+FZ6*50+GA6*50)))","v":33},null,{"$f":"IF(C6<>\"\",C6,\"\")","v":501},null,null,null,null,null,null,null,1,{"$f":"IF($C6=\"\",\"\", IF(GO6=1,0,IF(GM6<>0,500,GH6*$AE6/$AH6+GI6/$AH6*5+GJ6/$AH6*25+GK6*50+GL6*50)))","v":0},null,{"$f":"IF(C6<>\"\",C6,\"\")","v":501},1,1,null,null,null,null,null,null,{"$f":"IF($C6=\"\",\"\", IF(GZ6=1,0,IF(GX6<>0,500,GS6*$AE6/$AH6+GT6/$AH6*5+GU6/$AH6*25+GV6*50+GW6*50)))","v":8},null,{"$f":"IF(C6<>\"\",C6,\"\")","v":501},4,3,1,1,1,null,null,null,{"$f":"IF($C6=\"\",\"\", IF(HK6=1,0,IF(HI6<>0,500,HD6*$AE6/$AH6+HE6/$AH6*5+HF6/$AH6*25+HG6*50+HH6*50)))","v":152},null,{"$f":"IF(C6<>\"\",C6,\"\")","v":501},null,null,null,null,null,null,null,null,{"$f":"IF($C6=\"\",\"\", IF(HV6=1,0,IF(HT6<>0,500,HO6*$AE6/$AH6+HP6/$AH6*5+HQ6/$AH6*25+HR6*50+HS6*50)))","v":0},null,{"$f":"IF(C6<>\"\",C6,\"\")","v":501},null,null,null,null,null,null,null,null,{"$f":"IF($C6=\"\",\"\", IF(IG6=1,0,IF(IE6<>0,500,HZ6*$AE6/$AH6+IA6/$AH6*5+IB6/$AH6*25+IC6*50+ID6*50)))","v":0}]
[null,{"$f":"IF(C7=0,\"\",ROW(C7)-4)","v":3},515,"Denmark","Spider","Peter Bekke","Carina Bekke",{"$f":"IF(C7=0,\"\",IF(OR(BB7=1,BC7<>0),BC7,\"-\"))","v":5},{"$f":"IF(C7=0,\"\",IF(OR(BM7=1,BN7<>0),BN7,\"-\"))","v":3},{"$f":"IF(C7=0,\"\",IF(OR(BX7=1,BY7<>0),BY7,\" -\"))","v":0},{"$f":"IF(C7=0,\"\",IF(OR(CJ7<>0,CI7=1),CJ7,\" -\"))","v":5},{"$f":"IF(C7=0,\"\",IF(OR(CU7<>0,CT7=1),CU7,\" -\"))","v":8},{"$f":"IF(C7=0,\"\",IF(OR(DF7<>0,DE7=1),DF7,\" -\"))","v":0},{"$f":"IF(C7=0,\"\",IF(OR(DQ7<>0,DP7=1),DQ7,\" -\"))","v":9},{"$f":"IF(C7=0,\"\",IF(OR(EB7<>0,EA7=1),EB7,\" -\"))","v":9},{"$f":"IF(C7=0,\"\",IF(OR(EM7<>0,EL7=1),EM7,\" -\"))","v":3},{"$f":"IF(C7=0,\"\",IF(OR(EX7<>0,EW7=1),EX7,\" -\"))","v":3},{"$f":"IF(C7=0,\"\",IF(OR(FI7<>0,FH7=1),FI7,\" -\"))","v":25},{"$f":"IF(C7=0,\"\",IF(OR(FT7<>0,FS7=1),FT7,\" -\"))","v":103},{"$f":"IF(C7=0,\"\",IF(OR(GE7<>0,GD7=1),GE7,\" -\"))","v":5},{"$f":"IF(C7=0,\"\",IF(OR(GP7<>0,GO7=1),GP7,\" -\"))","v":0},{"$f":"IF(C7=0,\"\",IF(OR(HA7<>0,GZ7=1),HA7,\" -\"))","v":200},{"$f":"IF(C7=0,\"\",IF(OR(HL7<>0,HK7=1),HL7,\" -\"))","v":175},{"$f":"IF(C7=0,\"\",IF(AJ7<>0,AJ7,\" -\"))","v":" -"},{"$f":"IF(C7=0,\"\",IF(OR(HW7<>0,HV7=1),HW7,\" -\"))","v":" -"},{"$f":"IF(C7=0,\"\",IF(OR(IH7<>0,IG7=1),IH7,\" -\"))","v":" -"},{"$f":"IF(C7=0,\"\",IF(AL7=1,\"DNF\",IF(AL7=2,\"DSQ\",IF(AM7<>1,\"~ \"&ROUND(SUM(H7:X7),3),ROUND(SUM(H7:X7),3)))))","v":553},null,null,{"$f":"IF(C7<>\"\",C7,\"\")","v":515},{"$f":"IF(AD7<>\"\",3,\"\")","v":3},1000,2000,{"$f":"IF(AD7<>\"\",(AF7/1000*AG7/1000)/2,\"\")","v":1},3,null,null,null,1,null,null,{"$f":"IF(C7=0,99999,IF(AL7>0,9999,SUM(H7:X7)-AN7))","v":553},{"$f":"IF(C7=0,99999,IF(AL7=1,9999,SUM(Y7:Z7)))","v":0},null,null,{"$f":"IF(C7<>\"\",C7,\"\")","v":515},null,1,null,null,null,null,null,null,{"$f":"IF($C7=\"\",\"\", IF(BB7=1,0,IF(AZ7<>0,500,AU7*$AE7/$AH7+AV7/$AH7*5+AW7/$AH7*25+AX7*50+AY7*50)))","v":5},null,{"$f":"IF(C7<>\"\",C7,\"\")","v":515},1,null,null,null,null,null,null,null,{"$f":"IF($C7=\"\",\"\", IF(BM7=1,0,IF(BK7<>0,500,BF7*$AE7/$AH7+BG7/$AH7*5+BH7/$AH7*25+BI7*50+BJ7*50)))","v":3},null,{"$f":"IF(C7<>\"\",C7,\"\")","v":515},null,null,null,null,null,null,null,1,{"$f":"IF($C7=\"\",\"\", IF(BX7=1,0,IF(BV7<>0,500,BQ7*$AE7/$AH7+BR7/$AH7*5+BS7/$AH7*25+BT7*50+BU7*50)))","v":0},null,{"$f":"IF(C7<>\"\",C7,\"\")","v":515},null,1,null,null,null,null,null,null,{"$f":"IF($C7=\"\",\"\", IF(CI7=1,0,IF(CG7<>0,500,CB7*$AE7/$AH7+CC7/$AH7*5+CD7/$AH7*25+CE7*50+CF7*50)))","v":5},null,{"$f":"IF(C7<>\"\",C7,\"\")","v":515},1,1,null,null,null,null,null,null,{"$f":"IF($C7=\"\",\"\", IF(CT7=1,0,IF(CR7<>0,500,CM7*$AE7/$AH7+CN7/$AH7*5+CO7/$AH7*25+CP7*50+CQ7*50)))","v":8},null,{"$f":"IF(C7<>\"\",C7,\"\")","v":515},null,null,null,null,null,null,null,1,{"$f":"IF($C7=\"\",\"\", IF(DE7=1,0,IF(DC7<>0,500,CX7*$AE7/$AH7+CY7/$AH7*5+CZ7/$AH7*25+DA7*50+DB7*50)))","v":0},null,{"$f":"IF(C7<>\"\",C7,\"\")","v":515},3,null,null,null,null,null,null,null,{"$f":"IF($C7=\"\",\"\", IF(DP7=1,0,IF(DN7<>0,500,DI7*$AE7/$AH7+DJ7/$AH7*5+DK7/$AH7*25+DL7*50+DM7*50)))","v":9},null,{"$f":"IF(C7<>\"\",C7,\"\")","v":515},3,null,null,null,null,null,null,null,{"$f":"IF($C7=\"\",\"\", IF(EA7=1,0,IF(DY7<>0,500,DT7*$AE7/$AH7+DU7/$AH7*5+DV7/$AH7*25+DW7*50+DX7*50)))","v":9},null,{"$f":"IF(C7<>\"\",C7,\"\")","v":515},1,null,null,null,null,null,null,null,{"$f":"IF($C7=\"\",\"\", IF(EL7=1,0,IF(EJ7<>0,500,EE7*$AE7/$AH7+EF7/$AH7*5+EG7/$AH7*25+EH7*50+EI7*50)))","v":3},null,{"$f":"IF(C7<>\"\",C7,\"\")","v":515},1,null,null,null,null,null,null,null,{"$f":"IF($C7=\"\",\"\", IF(EW7=1,0,IF(EU7<>0,500,EP7*$AE7/$AH7+EQ7/$AH7*5+ER7/$AH7*25+ES7*50+ET7*50)))","v":3},null,{"$f":"IF(C7<>\"\",C7,\"\")","v":515},null,null,1,null,null,null,null,null,{"$f":"IF($C7=\"\",\"\", IF(FH7=1,0,IF(FF7<>0,500,FA7*$AE7/$AH7+FB7/$AH7*5+FC7/$AH7*25+FD7*50+FE7*50)))","v":25},null,{"$f":"IF(C7<>\"\",C7,\"\")","v":515},1,null,null,1,1,null,null,null,{"$f":"IF($C7=\"\",\"\", IF(FS7=1,0,IF(FQ7<>0,500,FL7*$AE7/$AH7+FM7/$AH7*5+FN7/$AH7*25+FO7*50+FP7*50)))","v":103},null,{"$f":"IF(C7<>\"\",C7,\"\")","v":515},null,1,null,null,null,null,null,null,{"$f":"IF($C7=\"\",\"\", IF(GD7=1,0,IF(GB7<>0,500,FW7*$AE7/$AH7+FX7/$AH7*5+FY7/$AH7*25+FZ7*50+GA7*50)))","v":5},null,{"$f":"IF(C7<>\"\",C7,\"\")","v":515},null,null,null,null,null,null,null,1,{"$f":"IF($C7=\"\",\"\", IF(GO7=1,0,IF(GM7<>0,500,GH7*$AE7/$AH7+GI7/$AH7*5+GJ7/$AH7*25+GK7*50+GL7*50)))","v":0},null,{"$f":"IF(C7<>\"\",C7,\"\")","v":515},null,null,null,3,1,null,"not acceptable port 2",null,{"$f":"IF($C7=\"\",\"\", IF(GZ7=1,0,IF(GX7<>0,500,GS7*$AE7/$AH7+GT7/$AH7*5+GU7/$AH7*25+GV7*50+GW7*50)))","v":200},null,{"$f":"IF(C7<>\"\",C7,\"\")","v":515},5,2,null,2,1,null,"time",null,{"$f":"IF($C7=\"\",\"\", IF(HK7=1,0,IF(HI7<>0,500,HD7*$AE7/$AH7+HE7/$AH7*5+HF7/$AH7*25+HG7*50+HH7*50)))","v":175},null,{"$f":"IF(C7<>\"\",C7,\"\")","v":515},null,null,null,null,null,null,null,null,{"$f":"IF($C7=\"\",\"\", IF(HV7=1,0,IF(HT7<>0,500,HO7*$AE7/$AH7+HP7/$AH7*5+HQ7/$AH7*25+HR7*50+HS7*50)))","v":0},null,{"$f":"IF(C7<>\"\",C7,\"\")","v":515},null,null,null,null,null,null,null,null,{"$f":"IF($C7=\"\",\"\", IF(IG7=1,0,IF(IE7<>0,500,HZ7*$AE7/$AH7+IA7/$AH7*5+IB7/$AH7*25+IC7*50+ID7*50)))","v":0}]
[null,{"$f":"IF(C8=0,\"\",ROW(C8)-4)","v":4},508,"Spain","Steel Crawler V8","Sergio Mirallas","Mayte Alarez",{"$f":"IF(C8=0,\"\",IF(OR(BB8=1,BC8<>0),BC8,\"-\"))","v":5},{"$f":"IF(C8=0,\"\",IF(OR(BM8=1,BN8<>0),BN8,\"-\"))","v":25},{"$f":"IF(C8=0,\"\",IF(OR(BX8=1,BY8<>0),BY8,\" -\"))","v":109},{"$f":"IF(C8=0,\"\",IF(OR(CJ8<>0,CI8=1),CJ8,\" -\"))","v":35},{"$f":"IF(C8=0,\"\",IF(OR(CU8<>0,CT8=1),CU8,\" -\"))","v":5},{"$f":"IF(C8=0,\"\",IF(OR(DF8<>0,DE8=1),DF8,\" -\"))","v":28},{"$f":"IF(C8=0,\"\",IF(OR(DQ8<>0,DP8=1),DQ8,\" -\"))","v":28},{"$f":"IF(C8=0,\"\",IF(OR(EB8<>0,EA8=1),EB8,\" -\"))","v":34},{"$f":"IF(C8=0,\"\",IF(OR(EM8<>0,EL8=1),EM8,\" -\"))","v":0},{"$f":"IF(C8=0,\"\",IF(OR(EX8<>0,EW8=1),EX8,\" -\"))","v":0},{"$f":"IF(C8=0,\"\",IF(OR(FI8<>0,FH8=1),FI8,\" -\"))","v":8},{"$f":"IF(C8=0,\"\",IF(OR(FT8<>0,FS8=1),FT8,\" -\"))","v":164},{"$f":"IF(C8=0,\"\",IF(OR(GE8<>0,GD8=1),GE8,\" -\"))","v":0},{"$f":"IF(C8=0,\"\",IF(OR(GP8<>0,GO8=1),GP8,\" -\"))","v":53},{"$f":"IF(C8=0,\"\",IF(OR(HA8<>0,GZ8=1),HA8,\" -\"))","v":13},{"$f":"IF(C8=0,\"\",IF(OR(HL8<>0,HK8=1),HL8,\" -\"))","v":53},{"$f":"IF(C8=0,\"\",IF(AJ8<>0,AJ8,\" -\"))","v":" -"},{"$f":"IF(C8=0,\"\",IF(OR(HW8<>0,HV8=1),HW8,\" -\"))","v":" -"},{"$f":"IF(C8=0,\"\",IF(OR(IH8<>0,IG8=1),IH8,\" -\"))","v":" -"},{"$f":"IF(C8=0,\"\",IF(AL8=1,\"DNF\",IF(AL8=2,\"DSQ\",IF(AM8<>1,\"~ \"&ROUND(SUM(H8:X8),3),ROUND(SUM(H8:X8),3)))))","v":560},null,null,{"$f":"IF(C8<>\"\",C8,\"\")","v":508},{"$f":"IF(AD8<>\"\",3,\"\")","v":3},1000,2000,{"$f":"IF(AD8<>\"\",(AF8/1000*AG8/1000)/2,\"\")","v":1},3,null,null,null,1,null,null,{"$f":"IF(C8=0,99999,IF(AL8>0,9999,SUM(H8:X8)-AN8))","v":560},{"$f":"IF(C8=0,99999,IF(AL8=1,9999,SUM(Y8:Z8)))","v":0},null,null,{"$f":"IF(C8<>\"\",C8,\"\")","v":508},null,1,null,null,null,null,null,null,{"$f":"IF($C8=\"\",\"\", IF(BB8=1,0,IF(AZ8<>0,500,AU8*$AE8/$AH8+AV8/$AH8*5+AW8/$AH8*25+AX8*50+AY8*50)))","v":5},null,{"$f":"IF(C8<>\"\",C8,\"\")","v":508},null,null,1,null,null,null,null,null,{"$f":"IF($C8=\"\",\"\", IF(BM8=1,0,IF(BK8<>0,500,BF8*$AE8/$AH8+BG8/$AH8*5+BH8/$AH8*25+BI8*50+BJ8*50)))","v":25},null,{"$f":"IF(C8<>\"\",C8,\"\")","v":508},3,null,null,1,1,null,"roll over",null,{"$f":"IF($C8=\"\",\"\", IF(BX8=1,0,IF(BV8<>0,500,BQ8*$AE8/$AH8+BR8/$AH8*5+BS8/$AH8*25+BT8*50+BU8*50)))","v":109},null,{"$f":"IF(C8<>\"\",C8,\"\")","v":508},null,2,1,null,null,null,null,null,{"$f":"IF($C8=\"\",\"\", IF(CI8=1,0,IF(CG8<>0,500,CB8*$AE8/$AH8+CC8/$AH8*5+CD8/$AH8*25+CE8*50+CF8*50)))","v":35},null,{"$f":"IF(C8<>\"\",C8,\"\")","v":508},null,1,null,null,null,null,null,null,{"$f":"IF($C8=\"\",\"\", IF(CT8=1,0,IF(CR8<>0,500,CM8*$AE8/$AH8+CN8/$AH8*5+CO8/$AH8*25+CP8*50+CQ8*50)))","v":5},null,{"$f":"IF(C8<>\"\",C8,\"\")","v":508},1,null,1,null,null,null,null,null,{"$f":"IF($C8=\"\",\"\", IF(DE8=1,0,IF(DC8<>0,500,CX8*$AE8/$AH8+CY8/$AH8*5+CZ8/$AH8*25+DA8*50+DB8*50)))","v":28},null,{"$f":"IF(C8<>\"\",C8,\"\")","v":508},1,null,1,null,null,null,null,null,{"$f":"IF($C8=\"\",\"\", IF(DP8=1,0,IF(DN8<>0,500,DI8*$AE8/$AH8+DJ8/$AH8*5+DK8/$AH8*25+DL8*50+DM8*50)))","v":28},null,{"$f":"IF(C8<>\"\",C8,\"\")","v":508},3,null,1,null,null,null,null,null,{"$f":"IF($C8=\"\",\"\", IF(EA8=1,0,IF(DY8<>0,500,DT8*$AE8/$AH8+DU8/$AH8*5+DV8/$AH8*25+DW8*50+DX8*50)))","v":34},null,{"$f":"IF(C8<>\"\",C8,\"\")","v":508},null,null,null,null,null,null,null,1,{"$f":"IF($C8=\"\",\"\", IF(EL8=1,0,IF(EJ8<>0,500,EE8*$AE8/$AH8+EF8/$AH8*5+EG8/$AH8*25+EH8*50+EI8*50)))","v":0},null,{"$f":"IF(C8<>\"\",C8,\"\")","v":508},null,null,null,null,null,null,null,1,{"$f":"IF($C8=\"\",\"\", IF(EW8=1,0,IF(EU8<>0,500,EP8*$AE8/$AH8+EQ8/$AH8*5+ER8/$AH8*25+ES8*50+ET8*50)))","v":0},null,{"$f":"IF(C8<>\"\",C8,\"\")","v":508},1,1,null,null,null,null,null,null,{"$f":"IF($C8=\"\",\"\", IF(FH8=1,0,IF(FF8<>0,500,FA8*$AE8/$AH8+FB8/$AH8*5+FC8/$AH8*25+FD8*50+FE8*50)))","v":8},null,{"$f":"IF(C8<>\"\",C8,\"\")","v":508},3,1,2,1,1,null,"roll over",null,{"$f":"IF($C8=\"\",\"\", IF(FS8=1,0,IF(FQ8<>0,500,FL8*$AE8/$AH8+FM8/$AH8*5+FN8/$AH8*25+FO8*50+FP8*50)))","v":164},null,{"$f":"IF(C8<>\"\",C8,\"\")","v":508},null,null,null,null,null,null,null,1,{"$f":"IF($C8=\"\",\"\", IF(GD8=1,0,IF(GB8<>0,500,FW8*$AE8/$AH8+FX8/$AH8*5+FY8/$AH8*25+FZ8*50+GA8*50)))","v":0},null,{"$f":"IF(C8<>\"\",C8,\"\")","v":508},1,null,2,null,null,null,null,null,{"$f":"IF($C8=\"\",\"\", IF(GO8=1,0,IF(GM8<>0,500,GH8*$AE8/$AH8+GI8/$AH8*5+GJ8/$AH8*25+GK8*50+GL8*50)))","v":53},null,{"$f":"IF(C8<>\"\",C8,\"\")","v":508},1,2,null,null,null,null,null,null,{"$f":"IF($C8=\"\",\"\", IF(GZ8=1,0,IF(GX8<>0,500,GS8*$AE8/$AH8+GT8/$AH8*5+GU8/$AH8*25+GV8*50+GW8*50)))","v":13},null,{"$f":"IF(C8<>\"\",C8,\"\")","v":508},1,null,2,null,null,null,null,null,{"$f":"IF($C8=\"\",\"\", IF(HK8=1,0,IF(HI8<>0,500,HD8*$AE8/$AH8+HE8/$AH8*5+HF8/$AH8*25+HG8*50+HH8*50)))","v":53},null,{"$f":"IF(C8<>\"\",C8,\"\")","v":508},null,null,null,null,null,null,null,null,{"$f":"IF($C8=\"\",\"\", IF(HV8=1,0,IF(HT8<>0,500,HO8*$AE8/$AH8+HP8/$AH8*5+HQ8/$AH8*25+HR8*50+HS8*50)))","v":0},null,{"$f":"IF(C8<>\"\",C8,\"\")","v":508},null,null,null,null,null,null,null,null,{"$f":"IF($C8=\"\",\"\", IF(IG8=1,0,IF(IE8<>0,500,HZ8*$AE8/$AH8+IA8/$AH8*5+IB8/$AH8*25+IC8*50+ID8*50)))","v":0}]
[null,{"$f":"IF(C9=0,\"\",ROW(C9)-4)","v":5},510,"Italy","Jive Bunny Racing","Vesa Muikku","Jesse Muikku",{"$f":"IF(C9=0,\"\",IF(OR(BB9=1,BC9<>0),BC9,\"-\"))","v":0},{"$f":"IF(C9=0,\"\",IF(OR(BM9=1,BN9<>0),BN9,\"-\"))","v":25},{"$f":"IF(C9=0,\"\",IF(OR(BX9=1,BY9<>0),BY9,\" -\"))","v":106},{"$f":"IF(C9=0,\"\",IF(OR(CJ9<>0,CI9=1),CJ9,\" -\"))","v":0},{"$f":"IF(C9=0,\"\",IF(OR(CU9<>0,CT9=1),CU9,\" -\"))","v":36},{"$f":"IF(C9=0,\"\",IF(OR(DF9<>0,DE9=1),DF9,\" -\"))","v":11},{"$f":"IF(C9=0,\"\",IF(OR(DQ9<>0,DP9=1),DQ9,\" -\"))","v":21},{"$f":"IF(C9=0,\"\",IF(OR(EB9<>0,EA9=1),EB9,\" -\"))","v":63},{"$f":"IF(C9=0,\"\",IF(OR(EM9<>0,EL9=1),EM9,\" -\"))","v":0},{"$f":"IF(C9=0,\"\",IF(OR(EX9<>0,EW9=1),EX9,\" -\"))","v":86},{"$f":"IF(C9=0,\"\",IF(OR(FI9<>0,FH9=1),FI9,\" -\"))","v":0},{"$f":"IF(C9=0,\"\",IF(OR(FT9<>0,FS9=1),FT9,\" -\"))","v":81},{"$f":"IF(C9=0,\"\",IF(OR(GE9<>0,GD9=1),GE9,\" -\"))","v":25},{"$f":"IF(C9=0,\"\",IF(OR(GP9<>0,GO9=1),GP9,\" -\"))","v":16},{"$f":"IF(C9=0,\"\",IF(OR(HA9<>0,GZ9=1),HA9,\" -\"))","v":21},{"$f":"IF(C9=0,\"\",IF(OR(HL9<>0,HK9=1),HL9,\" -\"))","v":125},{"$f":"IF(C9=0,\"\",IF(AJ9<>0,AJ9,\" -\"))","v":" -"},{"$f":"IF(C9=0,\"\",IF(OR(HW9<>0,HV9=1),HW9,\" -\"))","v":" -"},{"$f":"IF(C9=0,\"\",IF(OR(IH9<>0,IG9=1),IH9,\" -\"))","v":" -"},{"$f":"IF(C9=0,\"\",IF(AL9=1,\"DNF\",IF(AL9=2,\"DSQ\",IF(AM9<>1,\"~ \"&ROUND(SUM(H9:X9),3),ROUND(SUM(H9:X9),3)))))","v":616},null,null,{"$f":"IF(C9<>\"\",C9,\"\")","v":510},{"$f":"IF(AD9<>\"\",3,\"\")","v":3},1000,2000,{"$f":"IF(AD9<>\"\",(AF9/1000*AG9/1000)/2,\"\")","v":1},3,null,null,null,1,null,null,{"$f":"IF(C9=0,99999,IF(AL9>0,9999,SUM(H9:X9)-AN9))","v":616},{"$f":"IF(C9=0,99999,IF(AL9=1,9999,SUM(Y9:Z9)))","v":0},null,null,{"$f":"IF(C9<>\"\",C9,\"\")","v":510},null,null,null,null,null,null,null,1,{"$f":"IF($C9=\"\",\"\", IF(BB9=1,0,IF(AZ9<>0,500,AU9*$AE9/$AH9+AV9/$AH9*5+AW9/$AH9*25+AX9*50+AY9*50)))","v":0},null,{"$f":"IF(C9<>\"\",C9,\"\")","v":510},null,null,1,null,null,null,null,null,{"$f":"IF($C9=\"\",\"\", IF(BM9=1,0,IF(BK9<>0,500,BF9*$AE9/$AH9+BG9/$AH9*5+BH9/$AH9*25+BI9*50+BJ9*50)))","v":25},null,{"$f":"IF(C9<>\"\",C9,\"\")","v":510},2,null,null,1,1,null,"time",null,{"$f":"IF($C9=\"\",\"\", IF(BX9=1,0,IF(BV9<>0,500,BQ9*$AE9/$AH9+BR9/$AH9*5+BS9/$AH9*25+BT9*50+BU9*50)))","v":106},null,{"$f":"IF(C9<>\"\",C9,\"\")","v":510},null,null,null,null,null,null,null,1,{"$f":"IF($C9=\"\",\"\", IF(CI9=1,0,IF(CG9<>0,500,CB9*$AE9/$AH9+CC9/$AH9*5+CD9/$AH9*25+CE9*50+CF9*50)))","v":0},null,{"$f":"IF(C9<>\"\",C9,\"\")","v":510},2,1,1,null,null,null,null,null,{"$f":"IF($C9=\"\",\"\", IF(CT9=1,0,IF(CR9<>0,500,CM9*$AE9/$AH9+CN9/$AH9*5+CO9/$AH9*25+CP9*50+CQ9*50)))","v":36},null,{"$f":"IF(C9<>\"\",C9,\"\")","v":510},2,1,null,null,null,null,null,null,{"$f":"IF($C9=\"\",\"\", IF(DE9=1,0,IF(DC9<>0,500,CX9*$AE9/$AH9+CY9/$AH9*5+CZ9/$AH9*25+DA9*50+DB9*50)))","v":11},null,{"$f":"IF(C9<>\"\",C9,\"\")","v":510},2,3,null,null,null,null,null,null,{"$f":"IF($C9=\"\",\"\", IF(DP9=1,0,IF(DN9<>0,500,DI9*$AE9/$AH9+DJ9/$AH9*5+DK9/$AH9*25+DL9*50+DM9*50)))","v":21},null,{"$f":"IF(C9<>\"\",C9,\"\")","v":510},1,2,2,null,null,null,null,null,{"$f":"IF($C9=\"\",\"\", IF(EA9=1,0,IF(DY9<>0,500,DT9*$AE9/$AH9+DU9/$AH9*5+DV9/$AH9*25+DW9*50+DX9*50)))","v":63},null,{"$f":"IF(C9<>\"\",C9,\"\")","v":510},null,null,null,null,null,null,null,1,{"$f":"IF($C9=\"\",\"\", IF(EL9=1,0,IF(EJ9<>0,500,EE9*$AE9/$AH9+EF9/$AH9*5+EG9/$AH9*25+EH9*50+EI9*50)))","v":0},null,{"$f":"IF(C9<>\"\",C9,\"\")","v":510},2,1,1,null,1,null,"drive through all ready driven port",null,{"$f":"IF($C9=\"\",\"\", IF(EW9=1,0,IF(EU9<>0,500,EP9*$AE9/$AH9+EQ9/$AH9*5+ER9/$AH9*25+ES9*50+ET9*50)))","v":86},null,{"$f":"IF(C9<>\"\",C9,\"\")","v":510},null,null,null,null,null,null,null,1,{"$f":"IF($C9=\"\",\"\", IF(FH9=1,0,IF(FF9<>0,500,FA9*$AE9/$AH9+FB9/$AH9*5+FC9/$AH9*25+FD9*50+FE9*50)))","v":0},null,{"$f":"IF(C9<>\"\",C9,\"\")","v":510},2,null,3,null,null,null,null,null,{"$f":"IF($C9=\"\",\"\", IF(FS9=1,0,IF(FQ9<>0,500,FL9*$AE9/$AH9+FM9/$AH9*5+FN9/$AH9*25+FO9*50+FP9*50)))","v":81},null,{"$f":"IF(C9<>\"\",C9,\"\")","v":510},null,null,1,null,null,null,null,null,{"$f":"IF($C9=\"\",\"\", IF(GD9=1,0,IF(GB9<>0,500,FW9*$AE9/$AH9+FX9/$AH9*5+FY9/$AH9*25+FZ9*50+GA9*50)))","v":25},null,{"$f":"IF(C9<>\"\",C9,\"\")","v":510},2,2,null,null,null,null,null,null,{"$f":"IF($C9=\"\",\"\", IF(GO9=1,0,IF(GM9<>0,500,GH9*$AE9/$AH9+GI9/$AH9*5+GJ9/$AH9*25+GK9*50+GL9*50)))","v":16},null,{"$f":"IF(C9<>\"\",C9,\"\")","v":510},2,3,null,null,null,null,null,null,{"$f":"IF($C9=\"\",\"\", IF(GZ9=1,0,IF(GX9<>0,500,GS9*$AE9/$AH9+GT9/$AH9*5+GU9/$AH9*25+GV9*50+GW9*50)))","v":21},null,{"$f":"IF(C9<>\"\",C9,\"\")","v":510},null,null,1,1,1,null,"roll over",null,{"$f":"IF($C9=\"\",\"\", IF(HK9=1,0,IF(HI9<>0,500,HD9*$AE9/$AH9+HE9/$AH9*5+HF9/$AH9*25+HG9*50+HH9*50)))","v":125},null,{"$f":"IF(C9<>\"\",C9,\"\")","v":510},null,null,null,null,null,null,null,null,{"$f":"IF($C9=\"\",\"\", IF(HV9=1,0,IF(HT9<>0,500,HO9*$AE9/$AH9+HP9/$AH9*5+HQ9/$AH9*25+HR9*50+HS9*50)))","v":0},null,{"$f":"IF(C9<>\"\",C9,\"\")","v":510},null,null,null,null,null,null,null,null,{"$f":"IF($C9=\"\",\"\", IF(IG9=1,0,IF(IE9<>0,500,HZ9*$AE9/$AH9+IA9/$AH9*5+IB9/$AH9*25+IC9*50+ID9*50)))","v":0}]
[null,{"$f":"IF(C10=0,\"\",ROW(C10)-4)","v":6},517,"Germany","Prototype","Sönke Jansen","Jaqueline Voss",{"$f":"IF(C10=0,\"\",IF(OR(BB10=1,BC10<>0),BC10,\"-\"))","v":31},{"$f":"IF(C10=0,\"\",IF(OR(BM10=1,BN10<>0),BN10,\"-\"))","v":56},{"$f":"IF(C10=0,\"\",IF(OR(BX10=1,BY10<>0),BY10,\" -\"))","v":105},{"$f":"IF(C10=0,\"\",IF(OR(CJ10<>0,CI10=1),CJ10,\" -\"))","v":25},{"$f":"IF(C10=0,\"\",IF(OR(CU10<>0,CT10=1),CU10,\" -\"))","v":0},{"$f":"IF(C10=0,\"\",IF(OR(DF10<>0,DE10=1),DF10,\" -\"))","v":33},{"$f":"IF(C10=0,\"\",IF(OR(DQ10<>0,DP10=1),DQ10,\" -\"))","v":5},{"$f":"IF(C10=0,\"\",IF(OR(EB10<>0,EA10=1),EB10,\" -\"))","v":13},{"$f":"IF(C10=0,\"\",IF(OR(EM10<>0,EL10=1),EM10,\" -\"))","v":0},{"$f":"IF(C10=0,\"\",IF(OR(EX10<>0,EW10=1),EX10,\" -\"))","v":85},{"$f":"IF(C10=0,\"\",IF(OR(FI10<>0,FH10=1),FI10,\" -\"))","v":25},{"$f":"IF(C10=0,\"\",IF(OR(FT10<>0,FS10=1),FT10,\" -\"))","v":56},{"$f":"IF(C10=0,\"\",IF(OR(GE10<>0,GD10=1),GE10,\" -\"))","v":0},{"$f":"IF(C10=0,\"\",IF(OR(GP10<>0,GO10=1),GP10,\" -\"))","v":0},{"$f":"IF(C10=0,\"\",IF(OR(HA10<>0,GZ10=1),HA10,\" -\"))","v":17},{"$f":"IF(C10=0,\"\",IF(OR(HL10<>0,HK10=1),HL10,\" -\"))","v":178},{"$f":"IF(C10=0,\"\",IF(AJ10<>0,AJ10,\" -\"))","v":" -"},{"$f":"IF(C10=0,\"\",IF(OR(HW10<>0,HV10=1),HW10,\" -\"))","v":" -"},{"$f":"IF(C10=0,\"\",IF(OR(IH10<>0,IG10=1),IH10,\" -\"))","v":" -"},{"$f":"IF(C10=0,\"\",IF(AL10=1,\"DNF\",IF(AL10=2,\"DSQ\",IF(AM10<>1,\"~ \"&ROUND(SUM(H10:X10),3),ROUND(SUM(H10:X10),3)))))","v":629},null,null,{"$f":"IF(C10<>\"\",C10,\"\")","v":517},{"$f":"IF(AD10<>\"\",3,\"\")","v":3},1000,2000,{"$f":"IF(AD10<>\"\",(AF10/1000*AG10/1000)/2,\"\")","v":1},3,null,null,null,1,null,null,{"$f":"IF(C10=0,99999,IF(AL10>0,9999,SUM(H10:X10)-AN10))","v":629},{"$f":"IF(C10=0,99999,IF(AL10=1,9999,SUM(Y10:Z10)))","v":0},null,null,{"$f":"IF(C10<>\"\",C10,\"\")","v":517},2,null,1,null,null,null,null,null,{"$f":"IF($C10=\"\",\"\", IF(BB10=1,0,IF(AZ10<>0,500,AU10*$AE10/$AH10+AV10/$AH10*5+AW10/$AH10*25+AX10*50+AY10*50)))","v":31},null,{"$f":"IF(C10<>\"\",C10,\"\")","v":517},2,null,2,null,null,null,null,null,{"$f":"IF($C10=\"\",\"\", IF(BM10=1,0,IF(BK10<>0,500,BF10*$AE10/$AH10+BG10/$AH10*5+BH10/$AH10*25+BI10*50+BJ10*50)))","v":56},null,{"$f":"IF(C10<>\"\",C10,\"\")","v":517},null,1,null,1,1,null,"time",null,{"$f":"IF($C10=\"\",\"\", IF(BX10=1,0,IF(BV10<>0,500,BQ10*$AE10/$AH10+BR10/$AH10*5+BS10/$AH10*25+BT10*50+BU10*50)))","v":105},null,{"$f":"IF(C10<>\"\",C10,\"\")","v":517},null,null,1,null,null,null,null,null,{"$f":"IF($C10=\"\",\"\", IF(CI10=1,0,IF(CG10<>0,500,CB10*$AE10/$AH10+CC10/$AH10*5+CD10/$AH10*25+CE10*50+CF10*50)))","v":25},null,{"$f":"IF(C10<>\"\",C10,\"\")","v":517},null,null,null,null,null,null,null,1,{"$f":"IF($C10=\"\",\"\", IF(CT10=1,0,IF(CR10<>0,500,CM10*$AE10/$AH10+CN10/$AH10*5+CO10/$AH10*25+CP10*50+CQ10*50)))","v":0},null,{"$f":"IF(C10<>\"\",C10,\"\")","v":517},1,1,1,null,null,null,null,null,{"$f":"IF($C10=\"\",\"\", IF(DE10=1,0,IF(DC10<>0,500,CX10*$AE10/$AH10+CY10/$AH10*5+CZ10/$AH10*25+DA10*50+DB10*50)))","v":33},null,{"$f":"IF(C10<>\"\",C10,\"\")","v":517},null,1,null,null,null,null,null,null,{"$f":"IF($C10=\"\",\"\", IF(DP10=1,0,IF(DN10<>0,500,DI10*$AE10/$AH10+DJ10/$AH10*5+DK10/$AH10*25+DL10*50+DM10*50)))","v":5},null,{"$f":"IF(C10<>\"\",C10,\"\")","v":517},1,2,null,null,null,null,null,null,{"$f":"IF($C10=\"\",\"\", IF(EA10=1,0,IF(DY10<>0,500,DT10*$AE10/$AH10+DU10/$AH10*5+DV10/$AH10*25+DW10*50+DX10*50)))","v":13},null,{"$f":"IF(C10<>\"\",C10,\"\")","v":517},null,null,null,null,null,null,null,1,{"$f":"IF($C10=\"\",\"\", IF(EL10=1,0,IF(EJ10<>0,500,EE10*$AE10/$AH10+EF10/$AH10*5+EG10/$AH10*25+EH10*50+EI10*50)))","v":0},null,{"$f":"IF(C10<>\"\",C10,\"\")","v":517},null,2,1,null,1,null,"wrong direction",null,{"$f":"IF($C10=\"\",\"\", IF(EW10=1,0,IF(EU10<>0,500,EP10*$AE10/$AH10+EQ10/$AH10*5+ER10/$AH10*25+ES10*50+ET10*50)))","v":85},null,{"$f":"IF(C10<>\"\",C10,\"\")","v":517},null,null,1,null,null,null,null,null,{"$f":"IF($C10=\"\",\"\", IF(FH10=1,0,IF(FF10<>0,500,FA10*$AE10/$AH10+FB10/$AH10*5+FC10/$AH10*25+FD10*50+FE10*50)))","v":25},null,{"$f":"IF(C10<>\"\",C10,\"\")","v":517},2,null,2,null,null,null,null,null,{"$f":"IF($C10=\"\",\"\", IF(FS10=1,0,IF(FQ10<>0,500,FL10*$AE10/$AH10+FM10/$AH10*5+FN10/$AH10*25+FO10*50+FP10*50)))","v":56},null,{"$f":"IF(C10<>\"\",C10,\"\")","v":517},null,null,null,null,null,null,null,1,{"$f":"IF($C10=\"\",\"\", IF(GD10=1,0,IF(GB10<>0,500,FW10*$AE10/$AH10+FX10/$AH10*5+FY10/$AH10*25+FZ10*50+GA10*50)))","v":0},null,{"$f":"IF(C10<>\"\",C10,\"\")","v":517},null,null,null,null,null,null,null,1,{"$f":"IF($C10=\"\",\"\", IF(GO10=1,0,IF(GM10<>0,500,GH10*$AE10/$AH10+GI10/$AH10*5+GJ10/$AH10*25+GK10*50+GL10*50)))","v":0},null,{"$f":"IF(C10<>\"\",C10,\"\")","v":517},4,1,null,null,null,null,null,null,{"$f":"IF($C10=\"\",\"\", IF(GZ10=1,0,IF(GX10<>0,500,GS10*$AE10/$AH10+GT10/$AH10*5+GU10/$AH10*25+GV10*50+GW10*50)))","v":17},null,{"$f":"IF(C10<>\"\",C10,\"\")","v":517},1,null,1,2,1,null,null,null,{"$f":"IF($C10=\"\",\"\", IF(HK10=1,0,IF(HI10<>0,500,HD10*$AE10/$AH10+HE10/$AH10*5+HF10/$AH10*25+HG10*50+HH10*50)))","v":178},null,{"$f":"IF(C10<>\"\",C10,\"\")","v":517},null,null,null,null,null,null,null,null,{"$f":"IF($C10=\"\",\"\", IF(HV10=1,0,IF(HT10<>0,500,HO10*$AE10/$AH10+HP10/$AH10*5+HQ10/$AH10*25+HR10*50+HS10*50)))","v":0},null,{"$f":"IF(C10<>\"\",C10,\"\")","v":517},null,null,null,null,null,null,null,null,{"$f":"IF($C10=\"\",\"\", IF(IG10=1,0,IF(IE10<>0,500,HZ10*$AE10/$AH10+IA10/$AH10*5+IB10/$AH10*25+IC10*50+ID10*50)))","v":0}]
[null,{"$f":"IF(C11=0,\"\",ROW(C11)-4)","v":7},513,"Finland","Mud Smurf 2.0","Aleksi Peippo","Inka Peippo",{"$f":"IF(C11=0,\"\",IF(OR(BB11=1,BC11<>0),BC11,\"-\"))","v":0},{"$f":"IF(C11=0,\"\",IF(OR(BM11=1,BN11<>0),BN11,\"-\"))","v":31},{"$f":"IF(C11=0,\"\",IF(OR(BX11=1,BY11<>0),BY11,\" -\"))","v":0},{"$f":"IF(C11=0,\"\",IF(OR(CJ11<>0,CI11=1),CJ11,\" -\"))","v":25},{"$f":"IF(C11=0,\"\",IF(OR(CU11<>0,CT11=1),CU11,\" -\"))","v":0},{"$f":"IF(C11=0,\"\",IF(OR(DF11<>0,DE11=1),DF11,\" -\"))","v":0},{"$f":"IF(C11=0,\"\",IF(OR(DQ11<>0,DP11=1),DQ11,\" -\"))","v":0},{"$f":"IF(C11=0,\"\",IF(OR(EB11<>0,EA11=1),EB11,\" -\"))","v":25},{"$f":"IF(C11=0,\"\",IF(OR(EM11<>0,EL11=1),EM11,\" -\"))","v":0},{"$f":"IF(C11=0,\"\",IF(OR(EX11<>0,EW11=1),EX11,\" -\"))","v":5},{"$f":"IF(C11=0,\"\",IF(OR(FI11<>0,FH11=1),FI11,\" -\"))","v":6},{"$f":"IF(C11=0,\"\",IF(OR(FT11<>0,FS11=1),FT11,\" -\"))","v":106},{"$f":"IF(C11=0,\"\",IF(OR(GE11<>0,GD11=1),GE11,\" -\"))","v":25},{"$f":"IF(C11=0,\"\",IF(OR(GP11<>0,GO11=1),GP11,\" -\"))","v":250},{"$f":"IF(C11=0,\"\",IF(OR(HA11<>0,GZ11=1),HA11,\" -\"))","v":250},{"$f":"IF(C11=0,\"\",IF(OR(HL11<>0,HK11=1),HL11,\" -\"))","v":28},{"$f":"IF(C11=0,\"\",IF(AJ11<>0,AJ11,\" -\"))","v":" -"},{"$f":"IF(C11=0,\"\",IF(OR(HW11<>0,HV11=1),HW11,\" -\"))","v":" -"},{"$f":"IF(C11=0,\"\",IF(OR(IH11<>0,IG11=1),IH11,\" -\"))","v":" -"},{"$f":"IF(C11=0,\"\",IF(AL11=1,\"DNF\",IF(AL11=2,\"DSQ\",IF(AM11<>1,\"~ \"&ROUND(SUM(H11:X11),3),ROUND(SUM(H11:X11),3)))))","v":751},null,null,{"$f":"IF(C11<>\"\",C11,\"\")","v":513},{"$f":"IF(AD11<>\"\",3,\"\")","v":3},1000,2000,{"$f":"IF(AD11<>\"\",(AF11/1000*AG11/1000)/2,\"\")","v":1},3,null,null,null,1,null,null,{"$f":"IF(C11=0,99999,IF(AL11>0,9999,SUM(H11:X11)-AN11))","v":751},{"$f":"IF(C11=0,99999,IF(AL11=1,9999,SUM(Y11:Z11)))","v":0},null,null,{"$f":"IF(C11<>\"\",C11,\"\")","v":513},null,null,null,null,null,null,null,1,{"$f":"IF($C11=\"\",\"\", IF(BB11=1,0,IF(AZ11<>0,500,AU11*$AE11/$AH11+AV11/$AH11*5+AW11/$AH11*25+AX11*50+AY11*50)))","v":0},null,{"$f":"IF(C11<>\"\",C11,\"\")","v":513},2,null,1,null,null,null,null,null,{"$f":"IF($C11=\"\",\"\", IF(BM11=1,0,IF(BK11<>0,500,BF11*$AE11/$AH11+BG11/$AH11*5+BH11/$AH11*25+BI11*50+BJ11*50)))","v":31},null,{"$f":"IF(C11<>\"\",C11,\"\")","v":513},null,null,null,null,null,null,null,1,{"$f":"IF($C11=\"\",\"\", IF(BX11=1,0,IF(BV11<>0,500,BQ11*$AE11/$AH11+BR11/$AH11*5+BS11/$AH11*25+BT11*50+BU11*50)))","v":0},null,{"$f":"IF(C11<>\"\",C11,\"\")","v":513},null,null,1,null,null,null,null,null,{"$f":"IF($C11=\"\",\"\", IF(CI11=1,0,IF(CG11<>0,500,CB11*$AE11/$AH11+CC11/$AH11*5+CD11/$AH11*25+CE11*50+CF11*50)))","v":25},null,{"$f":"IF(C11<>\"\",C11,\"\")","v":513},null,null,null,null,null,null,null,1,{"$f":"IF($C11=\"\",\"\", IF(CT11=1,0,IF(CR11<>0,500,CM11*$AE11/$AH11+CN11/$AH11*5+CO11/$AH11*25+CP11*50+CQ11*50)))","v":0},null,{"$f":"IF(C11<>\"\",C11,\"\")","v":513},null,null,null,null,null,null,null,1,{"$f":"IF($C11=\"\",\"\", IF(DE11=1,0,IF(DC11<>0,500,CX11*$AE11/$AH11+CY11/$AH11*5+CZ11/$AH11*25+DA11*50+DB11*50)))","v":0},null,{"$f":"IF(C11<>\"\",C11,\"\")","v":513},null,null,null,null,null,null,null,1,{"$f":"IF($C11=\"\",\"\", IF(DP11=1,0,IF(DN11<>0,500,DI11*$AE11/$AH11+DJ11/$AH11*5+DK11/$AH11*25+DL11*50+DM11*50)))","v":0},null,{"$f":"IF(C11<>\"\",C11,\"\")","v":513},null,null,1,null,null,null,null,null,{"$f":"IF($C11=\"\",\"\", IF(EA11=1,0,IF(DY11<>0,500,DT11*$AE11/$AH11+DU11/$AH11*5+DV11/$AH11*25+DW11*50+DX11*50)))","v":25},null,{"$f":"IF(C11<>\"\",C11,\"\")","v":513},null,null,null,null,null,null,null,1,{"$f":"IF($C11=\"\",\"\", IF(EL11=1,0,IF(EJ11<>0,500,EE11*$AE11/$AH11+EF11/$AH11*5+EG11/$AH11*25+EH11*50+EI11*50)))","v":0},null,{"$f":"IF(C11<>\"\",C11,\"\")","v":513},null,1,null,null,null,null,null,null,{"$f":"IF($C11=\"\",\"\", IF(EW11=1,0,IF(EU11<>0,500,EP11*$AE11/$AH11+EQ11/$AH11*5+ER11/$AH11*25+ES11*50+ET11*50)))","v":5},null,{"$f":"IF(C11<>\"\",C11,\"\")","v":513},2,null,null,null,null,null,null,null,{"$f":"IF($C11=\"\",\"\", IF(FH11=1,0,IF(FF11<>0,500,FA11*$AE11/$AH11+FB11/$AH11*5+FC11/$AH11*25+FD11*50+FE11*50)))","v":6},null,{"$f":"IF(C11<>\"\",C11,\"\")","v":513},2,null,null,1,1,null,null,null,{"$f":"IF($C11=\"\",\"\", IF(FS11=1,0,IF(FQ11<>0,500,FL11*$AE11/$AH11+FM11/$AH11*5+FN11/$AH11*25+FO11*50+FP11*50)))","v":106},null,{"$f":"IF(C11<>\"\",C11,\"\")","v":513},null,null,1,null,null,null,null,null,{"$f":"IF($C11=\"\",\"\", IF(GD11=1,0,IF(GB11<>0,500,FW11*$AE11/$AH11+FX11/$AH11*5+FY11/$AH11*25+FZ11*50+GA11*50)))","v":25},null,{"$f":"IF(C11<>\"\",C11,\"\")","v":513},null,null,null,4,1,null,"drive directly to finish",null,{"$f":"IF($C11=\"\",\"\", IF(GO11=1,0,IF(GM11<>0,500,GH11*$AE11/$AH11+GI11/$AH11*5+GJ11/$AH11*25+GK11*50+GL11*50)))","v":250},null,{"$f":"IF(C11<>\"\",C11,\"\")","v":513},null,null,null,4,1,null,"drive throug",null,{"$f":"IF($C11=\"\",\"\", IF(GZ11=1,0,IF(GX11<>0,500,GS11*$AE11/$AH11+GT11/$AH11*5+GU11/$AH11*25+GV11*50+GW11*50)))","v":250},null,{"$f":"IF(C11<>\"\",C11,\"\")","v":513},1,null,1,null,null,null,null,null,{"$f":"IF($C11=\"\",\"\", IF(HK11=1,0,IF(HI11<>0,500,HD11*$AE11/$AH11+HE11/$AH11*5+HF11/$AH11*25+HG11*50+HH11*50)))","v":28},null,{"$f":"IF(C11<>\"\",C11,\"\")","v":513},null,null,null,null,null,null,null,null,{"$f":"IF($C11=\"\",\"\", IF(HV11=1,0,IF(HT11<>0,500,HO11*$AE11/$AH11+HP11/$AH11*5+HQ11/$AH11*25+HR11*50+HS11*50)))","v":0},null,{"$f":"IF(C11<>\"\",C11,\"\")","v":513},null,null,null,null,null,null,null,null,{"$f":"IF($C11=\"\",\"\", IF(IG11=1,0,IF(IE11<>0,500,HZ11*$AE11/$AH11+IA11/$AH11*5+IB11/$AH11*25+IC11*50+ID11*50)))","v":0}]
[null,{"$f":"IF(C12=0,\"\",ROW(C12)-4)","v":8},514,"Germany","Proto","Manuel Stiltz","Ulrike Stoppa",{"$f":"IF(C12=0,\"\",IF(OR(BB12=1,BC12<>0),BC12,\"-\"))","v":3},{"$f":"IF(C12=0,\"\",IF(OR(BM12=1,BN12<>0),BN12,\"-\"))","v":3},{"$f":"IF(C12=0,\"\",IF(OR(BX12=1,BY12<>0),BY12,\" -\"))","v":162},{"$f":"IF(C12=0,\"\",IF(OR(CJ12<>0,CI12=1),CJ12,\" -\"))","v":50},{"$f":"IF(C12=0,\"\",IF(OR(CU12<>0,CT12=1),CU12,\" -\"))","v":25},{"$f":"IF(C12=0,\"\",IF(OR(DF12<>0,DE12=1),DF12,\" -\"))","v":34},{"$f":"IF(C12=0,\"\",IF(OR(DQ12<>0,DP12=1),DQ12,\" -\"))","v":25},{"$f":"IF(C12=0,\"\",IF(OR(EB12<>0,EA12=1),EB12,\" -\"))","v":205},{"$f":"IF(C12=0,\"\",IF(OR(EM12<>0,EL12=1),EM12,\" -\"))","v":0},{"$f":"IF(C12=0,\"\",IF(OR(EX12<>0,EW12=1),EX12,\" -\"))","v":8},{"$f":"IF(C12=0,\"\",IF(OR(FI12<>0,FH12=1),FI12,\" -\"))","v":45},{"$f":"IF(C12=0,\"\",IF(OR(FT12<>0,FS12=1),FT12,\" -\"))","v":100},{"$f":"IF(C12=0,\"\",IF(OR(GE12<>0,GD12=1),GE12,\" -\"))","v":0},{"$f":"IF(C12=0,\"\",IF(OR(GP12<>0,GO12=1),GP12,\" -\"))","v":0},{"$f":"IF(C12=0,\"\",IF(OR(HA12<>0,GZ12=1),HA12,\" -\"))","v":42},{"$f":"IF(C12=0,\"\",IF(OR(HL12<>0,HK12=1),HL12,\" -\"))","v":106},{"$f":"IF(C12=0,\"\",IF(AJ12<>0,AJ12,\" -\"))","v":" -"},{"$f":"IF(C12=0,\"\",IF(OR(HW12<>0,HV12=1),HW12,\" -\"))","v":" -"},{"$f":"IF(C12=0,\"\",IF(OR(IH12<>0,IG12=1),IH12,\" -\"))","v":" -"},{"$f":"IF(C12=0,\"\",IF(AL12=1,\"DNF\",IF(AL12=2,\"DSQ\",IF(AM12<>1,\"~ \"&ROUND(SUM(H12:X12),3),ROUND(SUM(H12:X12),3)))))","v":808},null,null,{"$f":"IF(C12<>\"\",C12,\"\")","v":514},{"$f":"IF(AD12<>\"\",3,\"\")","v":3},1000,2000,{"$f":"IF(AD12<>\"\",(AF12/1000*AG12/1000)/2,\"\")","v":1},3,null,null,null,1,null,null,{"$f":"IF(C12=0,99999,IF(AL12>0,9999,SUM(H12:X12)-AN12))","v":808},{"$f":"IF(C12=0,99999,IF(AL12=1,9999,SUM(Y12:Z12)))","v":0},null,null,{"$f":"IF(C12<>\"\",C12,\"\")","v":514},1,null,null,null,null,null,null,null,{"$f":"IF($C12=\"\",\"\", IF(BB12=1,0,IF(AZ12<>0,500,AU12*$AE12/$AH12+AV12/$AH12*5+AW12/$AH12*25+AX12*50+AY12*50)))","v":3},null,{"$f":"IF(C12<>\"\",C12,\"\")","v":514},1,null,null,null,null,null,null,null,{"$f":"IF($C12=\"\",\"\", IF(BM12=1,0,IF(BK12<>0,500,BF12*$AE12/$AH12+BG12/$AH12*5+BH12/$AH12*25+BI12*50+BJ12*50)))","v":3},null,{"$f":"IF(C12<>\"\",C12,\"\")","v":514},4,null,2,1,1,null,"time",null,{"$f":"IF($C12=\"\",\"\", IF(BX12=1,0,IF(BV12<>0,500,BQ12*$AE12/$AH12+BR12/$AH12*5+BS12/$AH12*25+BT12*50+BU12*50)))","v":162},null,{"$f":"IF(C12<>\"\",C12,\"\")","v":514},null,null,2,null,null,null,null,null,{"$f":"IF($C12=\"\",\"\", IF(CI12=1,0,IF(CG12<>0,500,CB12*$AE12/$AH12+CC12/$AH12*5+CD12/$AH12*25+CE12*50+CF12*50)))","v":50},null,{"$f":"IF(C12<>\"\",C12,\"\")","v":514},null,null,1,null,null,null,null,null,{"$f":"IF($C12=\"\",\"\", IF(CT12=1,0,IF(CR12<>0,500,CM12*$AE12/$AH12+CN12/$AH12*5+CO12/$AH12*25+CP12*50+CQ12*50)))","v":25},null,{"$f":"IF(C12<>\"\",C12,\"\")","v":514},3,null,1,null,null,null,null,null,{"$f":"IF($C12=\"\",\"\", IF(DE12=1,0,IF(DC12<>0,500,CX12*$AE12/$AH12+CY12/$AH12*5+CZ12/$AH12*25+DA12*50+DB12*50)))","v":34},null,{"$f":"IF(C12<>\"\",C12,\"\")","v":514},null,null,1,null,null,null,null,null,{"$f":"IF($C12=\"\",\"\", IF(DP12=1,0,IF(DN12<>0,500,DI12*$AE12/$AH12+DJ12/$AH12*5+DK12/$AH12*25+DL12*50+DM12*50)))","v":25},null,{"$f":"IF(C12<>\"\",C12,\"\")","v":514},null,1,null,3,1,null,"roll over",null,{"$f":"IF($C12=\"\",\"\", IF(EA12=1,0,IF(DY12<>0,500,DT12*$AE12/$AH12+DU12/$AH12*5+DV12/$AH12*25+DW12*50+DX12*50)))","v":205},null,{"$f":"IF(C12<>\"\",C12,\"\")","v":514},null,null,null,null,null,null,null,1,{"$f":"IF($C12=\"\",\"\", IF(EL12=1,0,IF(EJ12<>0,500,EE12*$AE12/$AH12+EF12/$AH12*5+EG12/$AH12*25+EH12*50+EI12*50)))","v":0},null,{"$f":"IF(C12<>\"\",C12,\"\")","v":514},1,1,null,null,null,null,null,null,{"$f":"IF($C12=\"\",\"\", IF(EW12=1,0,IF(EU12<>0,500,EP12*$AE12/$AH12+EQ12/$AH12*5+ER12/$AH12*25+ES12*50+ET12*50)))","v":8},null,{"$f":"IF(C12<>\"\",C12,\"\")","v":514},5,1,1,null,null,null,null,null,{"$f":"IF($C12=\"\",\"\", IF(FH12=1,0,IF(FF12<>0,500,FA12*$AE12/$AH12+FB12/$AH12*5+FC12/$AH12*25+FD12*50+FE12*50)))","v":45},null,{"$f":"IF(C12<>\"\",C12,\"\")","v":514},null,null,null,1,1,null,null,null,{"$f":"IF($C12=\"\",\"\", IF(FS12=1,0,IF(FQ12<>0,500,FL12*$AE12/$AH12+FM12/$AH12*5+FN12/$AH12*25+FO12*50+FP12*50)))","v":100},null,{"$f":"IF(C12<>\"\",C12,\"\")","v":514},null,null,null,null,null,null,null,1,{"$f":"IF($C12=\"\",\"\", IF(GD12=1,0,IF(GB12<>0,500,FW12*$AE12/$AH12+FX12/$AH12*5+FY12/$AH12*25+FZ12*50+GA12*50)))","v":0},null,{"$f":"IF(C12<>\"\",C12,\"\")","v":514},null,null,null,null,null,null,null,1,{"$f":"IF($C12=\"\",\"\", IF(GO12=1,0,IF(GM12<>0,500,GH12*$AE12/$AH12+GI12/$AH12*5+GJ12/$AH12*25+GK12*50+GL12*50)))","v":0},null,{"$f":"IF(C12<>\"\",C12,\"\")","v":514},4,1,1,null,null,null,null,null,{"$f":"IF($C12=\"\",\"\", IF(GZ12=1,0,IF(GX12<>0,500,GS12*$AE12/$AH12+GT12/$AH12*5+GU12/$AH12*25+GV12*50+GW12*50)))","v":42},null,{"$f":"IF(C12<>\"\",C12,\"\")","v":514},2,null,null,1,1,null,null,null,{"$f":"IF($C12=\"\",\"\", IF(HK12=1,0,IF(HI12<>0,500,HD12*$AE12/$AH12+HE12/$AH12*5+HF12/$AH12*25+HG12*50+HH12*50)))","v":106},null,{"$f":"IF(C12<>\"\",C12,\"\")","v":514},null,null,null,null,null,null,null,null,{"$f":"IF($C12=\"\",\"\", IF(HV12=1,0,IF(HT12<>0,500,HO12*$AE12/$AH12+HP12/$AH12*5+HQ12/$AH12*25+HR12*50+HS12*50)))","v":0},null,{"$f":"IF(C12<>\"\",C12,\"\")","v":514},null,null,null,null,null,null,null,null,{"$f":"IF($C12=\"\",\"\", IF(IG12=1,0,IF(IE12<>0,500,HZ12*$AE12/$AH12+IA12/$AH12*5+IB12/$AH12*25+IC12*50+ID12*50)))","v":0}]
[null,{"$f":"IF(C13=0,\"\",ROW(C13)-4)","v":9},506,"Czech Republic","Prototyp","Dmytro Šunderjuk",null,{"$f":"IF(C13=0,\"\",IF(OR(BB13=1,BC13<>0),BC13,\"-\"))","v":5},{"$f":"IF(C13=0,\"\",IF(OR(BM13=1,BN13<>0),BN13,\"-\"))","v":25},{"$f":"IF(C13=0,\"\",IF(OR(BX13=1,BY13<>0),BY13,\" -\"))","v":100},{"$f":"IF(C13=0,\"\",IF(OR(CJ13<>0,CI13=1),CJ13,\" -\"))","v":25},{"$f":"IF(C13=0,\"\",IF(OR(CU13<>0,CT13=1),CU13,\" -\"))","v":0},{"$f":"IF(C13=0,\"\",IF(OR(DF13<>0,DE13=1),DF13,\" -\"))","v":28},{"$f":"IF(C13=0,\"\",IF(OR(DQ13<>0,DP13=1),DQ13,\" -\"))","v":11},{"$f":"IF(C13=0,\"\",IF(OR(EB13<>0,EA13=1),EB13,\" -\"))","v":150},{"$f":"IF(C13=0,\"\",IF(OR(EM13<>0,EL13=1),EM13,\" -\"))","v":0},{"$f":"IF(C13=0,\"\",IF(OR(EX13<>0,EW13=1),EX13,\" -\"))","v":33},{"$f":"IF(C13=0,\"\",IF(OR(FI13<>0,FH13=1),FI13,\" -\"))","v":53},{"$f":"IF(C13=0,\"\",IF(OR(FT13<>0,FS13=1),FT13,\" -\"))","v":64},{"$f":"IF(C13=0,\"\",IF(OR(GE13<>0,GD13=1),GE13,\" -\"))","v":35},{"$f":"IF(C13=0,\"\",IF(OR(GP13<>0,GO13=1),GP13,\" -\"))","v":25},{"$f":"IF(C13=0,\"\",IF(OR(HA13<>0,GZ13=1),HA13,\" -\"))","v":133},{"$f":"IF(C13=0,\"\",IF(OR(HL13<>0,HK13=1),HL13,\" -\"))","v":147},{"$f":"IF(C13=0,\"\",IF(AJ13<>0,AJ13,\" -\"))","v":" -"},{"$f":"IF(C13=0,\"\",IF(OR(HW13<>0,HV13=1),HW13,\" -\"))","v":" -"},{"$f":"IF(C13=0,\"\",IF(OR(IH13<>0,IG13=1),IH13,\" -\"))","v":" -"},{"$f":"IF(C13=0,\"\",IF(AL13=1,\"DNF\",IF(AL13=2,\"DSQ\",IF(AM13<>1,\"~ \"&ROUND(SUM(H13:X13),3),ROUND(SUM(H13:X13),3)))))","v":834},null,null,{"$f":"IF(C13<>\"\",C13,\"\")","v":506},{"$f":"IF(AD13<>\"\",3,\"\")","v":3},1000,2000,{"$f":"IF(AD13<>\"\",(AF13/1000*AG13/1000)/2,\"\")","v":1},3,null,null,null,1,null,null,{"$f":"IF(C13=0,99999,IF(AL13>0,9999,SUM(H13:X13)-AN13))","v":834},{"$f":"IF(C13=0,99999,IF(AL13=1,9999,SUM(Y13:Z13)))","v":0},null,null,{"$f":"IF(C13<>\"\",C13,\"\")","v":506},null,1,null,null,null,null,null,null,{"$f":"IF($C13=\"\",\"\", IF(BB13=1,0,IF(AZ13<>0,500,AU13*$AE13/$AH13+AV13/$AH13*5+AW13/$AH13*25+AX13*50+AY13*50)))","v":5},null,{"$f":"IF(C13<>\"\",C13,\"\")","v":506},null,null,1,null,null,null,null,null,{"$f":"IF($C13=\"\",\"\", IF(BM13=1,0,IF(BK13<>0,500,BF13*$AE13/$AH13+BG13/$AH13*5+BH13/$AH13*25+BI13*50+BJ13*50)))","v":25},null,{"$f":"IF(C13<>\"\",C13,\"\")","v":506},null,null,null,1,1,null,null,null,{"$f":"IF($C13=\"\",\"\", IF(BX13=1,0,IF(BV13<>0,500,BQ13*$AE13/$AH13+BR13/$AH13*5+BS13/$AH13*25+BT13*50+BU13*50)))","v":100},null,{"$f":"IF(C13<>\"\",C13,\"\")","v":506},null,null,1,null,null,null,null,null,{"$f":"IF($C13=\"\",\"\", IF(CI13=1,0,IF(CG13<>0,500,CB13*$AE13/$AH13+CC13/$AH13*5+CD13/$AH13*25+CE13*50+CF13*50)))","v":25},null,{"$f":"IF(C13<>\"\",C13,\"\")","v":506},null,null,null,null,null,null,null,1,{"$f":"IF($C13=\"\",\"\", IF(CT13=1,0,IF(CR13<>0,500,CM13*$AE13/$AH13+CN13/$AH13*5+CO13/$AH13*25+CP13*50+CQ13*50)))","v":0},null,{"$f":"IF(C13<>\"\",C13,\"\")","v":506},1,null,1,null,null,null,null,null,{"$f":"IF($C13=\"\",\"\", IF(DE13=1,0,IF(DC13<>0,500,CX13*$AE13/$AH13+CY13/$AH13*5+CZ13/$AH13*25+DA13*50+DB13*50)))","v":28},null,{"$f":"IF(C13<>\"\",C13,\"\")","v":506},2,1,null,null,null,null,null,null,{"$f":"IF($C13=\"\",\"\", IF(DP13=1,0,IF(DN13<>0,500,DI13*$AE13/$AH13+DJ13/$AH13*5+DK13/$AH13*25+DL13*50+DM13*50)))","v":11},null,{"$f":"IF(C13<>\"\",C13,\"\")","v":506},null,null,null,2,1,null,"Roll over",null,{"$f":"IF($C13=\"\",\"\", IF(EA13=1,0,IF(DY13<>0,500,DT13*$AE13/$AH13+DU13/$AH13*5+DV13/$AH13*25+DW13*50+DX13*50)))","v":150},null,{"$f":"IF(C13<>\"\",C13,\"\")","v":506},null,null,null,null,null,null,null,1,{"$f":"IF($C13=\"\",\"\", IF(EL13=1,0,IF(EJ13<>0,500,EE13*$AE13/$AH13+EF13/$AH13*5+EG13/$AH13*25+EH13*50+EI13*50)))","v":0},null,{"$f":"IF(C13<>\"\",C13,\"\")","v":506},1,1,1,null,null,null,null,null,{"$f":"IF($C13=\"\",\"\", IF(EW13=1,0,IF(EU13<>0,500,EP13*$AE13/$AH13+EQ13/$AH13*5+ER13/$AH13*25+ES13*50+ET13*50)))","v":33},null,{"$f":"IF(C13<>\"\",C13,\"\")","v":506},1,null,null,null,1,null,"time",null,{"$f":"IF($C13=\"\",\"\", IF(FH13=1,0,IF(FF13<>0,500,FA13*$AE13/$AH13+FB13/$AH13*5+FC13/$AH13*25+FD13*50+FE13*50)))","v":53},null,{"$f":"IF(C13<>\"\",C13,\"\")","v":506},3,1,2,null,null,null,null,null,{"$f":"IF($C13=\"\",\"\", IF(FS13=1,0,IF(FQ13<>0,500,FL13*$AE13/$AH13+FM13/$AH13*5+FN13/$AH13*25+FO13*50+FP13*50)))","v":64},null,{"$f":"IF(C13<>\"\",C13,\"\")","v":506},null,2,1,null,null,null,null,null,{"$f":"IF($C13=\"\",\"\", IF(GD13=1,0,IF(GB13<>0,500,FW13*$AE13/$AH13+FX13/$AH13*5+FY13/$AH13*25+FZ13*50+GA13*50)))","v":35},null,{"$f":"IF(C13<>\"\",C13,\"\")","v":506},null,null,1,null,null,null,null,null,{"$f":"IF($C13=\"\",\"\", IF(GO13=1,0,IF(GM13<>0,500,GH13*$AE13/$AH13+GI13/$AH13*5+GJ13/$AH13*25+GK13*50+GL13*50)))","v":25},null,{"$f":"IF(C13<>\"\",C13,\"\")","v":506},6,3,null,1,1,null,"4th gate stick broken wit front tire",null,{"$f":"IF($C13=\"\",\"\", IF(GZ13=1,0,IF(GX13<>0,500,GS13*$AE13/$AH13+GT13/$AH13*5+GU13/$AH13*25+GV13*50+GW13*50)))","v":133},null,{"$f":"IF(C13<>\"\",C13,\"\")","v":506},4,2,1,1,1,null,null,null,{"$f":"IF($C13=\"\",\"\", IF(HK13=1,0,IF(HI13<>0,500,HD13*$AE13/$AH13+HE13/$AH13*5+HF13/$AH13*25+HG13*50+HH13*50)))","v":147},null,{"$f":"IF(C13<>\"\",C13,\"\")","v":506},null,null,null,null,null,null,null,null,{"$f":"IF($C13=\"\",\"\", IF(HV13=1,0,IF(HT13<>0,500,HO13*$AE13/$AH13+HP13/$AH13*5+HQ13/$AH13*25+HR13*50+HS13*50)))","v":0},null,{"$f":"IF(C13<>\"\",C13,\"\")","v":506},null,null,null,null,null,null,null,null,{"$f":"IF($C13=\"\",\"\", IF(IG13=1,0,IF(IE13<>0,500,HZ13*$AE13/$AH13+IA13/$AH13*5+IB13/$AH13*25+IC13*50+ID13*50)))","v":0}]
[null,{"$f":"IF(C14=0,\"\",ROW(C14)-4)","v":10},509,"Czech Republic","Proto ","Pavel Kukla","Roman Černý",{"$f":"IF(C14=0,\"\",IF(OR(BB14=1,BC14<>0),BC14,\"-\"))","v":0},{"$f":"IF(C14=0,\"\",IF(OR(BM14=1,BN14<>0),BN14,\"-\"))","v":50},{"$f":"IF(C14=0,\"\",IF(OR(BX14=1,BY14<>0),BY14,\" -\"))","v":156},{"$f":"IF(C14=0,\"\",IF(OR(CJ14<>0,CI14=1),CJ14,\" -\"))","v":0},{"$f":"IF(C14=0,\"\",IF(OR(CU14<>0,CT14=1),CU14,\" -\"))","v":6},{"$f":"IF(C14=0,\"\",IF(OR(DF14<>0,DE14=1),DF14,\" -\"))","v":3},{"$f":"IF(C14=0,\"\",IF(OR(DQ14<>0,DP14=1),DQ14,\" -\"))","v":25},{"$f":"IF(C14=0,\"\",IF(OR(EB14<>0,EA14=1),EB14,\" -\"))","v":281},{"$f":"IF(C14=0,\"\",IF(OR(EM14<>0,EL14=1),EM14,\" -\"))","v":0},{"$f":"IF(C14=0,\"\",IF(OR(EX14<>0,EW14=1),EX14,\" -\"))","v":11},{"$f":"IF(C14=0,\"\",IF(OR(FI14<>0,FH14=1),FI14,\" -\"))","v":0},{"$f":"IF(C14=0,\"\",IF(OR(FT14<>0,FS14=1),FT14,\" -\"))","v":100},{"$f":"IF(C14=0,\"\",IF(OR(GE14<>0,GD14=1),GE14,\" -\"))","v":25},{"$f":"IF(C14=0,\"\",IF(OR(GP14<>0,GO14=1),GP14,\" -\"))","v":0},{"$f":"IF(C14=0,\"\",IF(OR(HA14<>0,GZ14=1),HA14,\" -\"))","v":14},{"$f":"IF(C14=0,\"\",IF(OR(HL14<>0,HK14=1),HL14,\" -\"))","v":166},{"$f":"IF(C14=0,\"\",IF(AJ14<>0,AJ14,\" -\"))","v":" -"},{"$f":"IF(C14=0,\"\",IF(OR(HW14<>0,HV14=1),HW14,\" -\"))","v":" -"},{"$f":"IF(C14=0,\"\",IF(OR(IH14<>0,IG14=1),IH14,\" -\"))","v":" -"},{"$f":"IF(C14=0,\"\",IF(AL14=1,\"DNF\",IF(AL14=2,\"DSQ\",IF(AM14<>1,\"~ \"&ROUND(SUM(H14:X14),3),ROUND(SUM(H14:X14),3)))))","v":837},null,null,{"$f":"IF(C14<>\"\",C14,\"\")","v":509},{"$f":"IF(AD14<>\"\",3,\"\")","v":3},1000,2000,{"$f":"IF(AD14<>\"\",(AF14/1000*AG14/1000)/2,\"\")","v":1},3,null,null,null,1,null,null,{"$f":"IF(C14=0,99999,IF(AL14>0,9999,SUM(H14:X14)-AN14))","v":837},{"$f":"IF(C14=0,99999,IF(AL14=1,9999,SUM(Y14:Z14)))","v":0},null,null,{"$f":"IF(C14<>\"\",C14,\"\")","v":509},null,null,null,null,null,null,null,1,{"$f":"IF($C14=\"\",\"\", IF(BB14=1,0,IF(AZ14<>0,500,AU14*$AE14/$AH14+AV14/$AH14*5+AW14/$AH14*25+AX14*50+AY14*50)))","v":0},null,{"$f":"IF(C14<>\"\",C14,\"\")","v":509},null,null,2,null,null,null,null,null,{"$f":"IF($C14=\"\",\"\", IF(BM14=1,0,IF(BK14<>0,500,BF14*$AE14/$AH14+BG14/$AH14*5+BH14/$AH14*25+BI14*50+BJ14*50)))","v":50},null,{"$f":"IF(C14<>\"\",C14,\"\")","v":509},2,null,2,1,1,null,"time",null,{"$f":"IF($C14=\"\",\"\", IF(BX14=1,0,IF(BV14<>0,500,BQ14*$AE14/$AH14+BR14/$AH14*5+BS14/$AH14*25+BT14*50+BU14*50)))","v":156},null,{"$f":"IF(C14<>\"\",C14,\"\")","v":509},null,null,null,null,null,null,null,1,{"$f":"IF($C14=\"\",\"\", IF(CI14=1,0,IF(CG14<>0,500,CB14*$AE14/$AH14+CC14/$AH14*5+CD14/$AH14*25+CE14*50+CF14*50)))","v":0},null,{"$f":"IF(C14<>\"\",C14,\"\")","v":509},2,null,null,null,null,null,null,null,{"$f":"IF($C14=\"\",\"\", IF(CT14=1,0,IF(CR14<>0,500,CM14*$AE14/$AH14+CN14/$AH14*5+CO14/$AH14*25+CP14*50+CQ14*50)))","v":6},null,{"$f":"IF(C14<>\"\",C14,\"\")","v":509},1,null,null,null,null,null,null,null,{"$f":"IF($C14=\"\",\"\", IF(DE14=1,0,IF(DC14<>0,500,CX14*$AE14/$AH14+CY14/$AH14*5+CZ14/$AH14*25+DA14*50+DB14*50)))","v":3},null,{"$f":"IF(C14<>\"\",C14,\"\")","v":509},null,null,1,null,null,null,null,null,{"$f":"IF($C14=\"\",\"\", IF(DP14=1,0,IF(DN14<>0,500,DI14*$AE14/$AH14+DJ14/$AH14*5+DK14/$AH14*25+DL14*50+DM14*50)))","v":25},null,{"$f":"IF(C14<>\"\",C14,\"\")","v":509},2,null,3,3,1,null,null,null,{"$f":"IF($C14=\"\",\"\", IF(EA14=1,0,IF(DY14<>0,500,DT14*$AE14/$AH14+DU14/$AH14*5+DV14/$AH14*25+DW14*50+DX14*50)))","v":281},null,{"$f":"IF(C14<>\"\",C14,\"\")","v":509},null,null,null,null,null,null,null,1,{"$f":"IF($C14=\"\",\"\", IF(EL14=1,0,IF(EJ14<>0,500,EE14*$AE14/$AH14+EF14/$AH14*5+EG14/$AH14*25+EH14*50+EI14*50)))","v":0},null,{"$f":"IF(C14<>\"\",C14,\"\")","v":509},2,1,null,null,null,null,null,null,{"$f":"IF($C14=\"\",\"\", IF(EW14=1,0,IF(EU14<>0,500,EP14*$AE14/$AH14+EQ14/$AH14*5+ER14/$AH14*25+ES14*50+ET14*50)))","v":11},null,{"$f":"IF(C14<>\"\",C14,\"\")","v":509},null,null,null,null,null,null,null,1,{"$f":"IF($C14=\"\",\"\", IF(FH14=1,0,IF(FF14<>0,500,FA14*$AE14/$AH14+FB14/$AH14*5+FC14/$AH14*25+FD14*50+FE14*50)))","v":0},null,{"$f":"IF(C14<>\"\",C14,\"\")","v":509},null,null,null,1,1,null,"roll over",null,{"$f":"IF($C14=\"\",\"\", IF(FS14=1,0,IF(FQ14<>0,500,FL14*$AE14/$AH14+FM14/$AH14*5+FN14/$AH14*25+FO14*50+FP14*50)))","v":100},null,{"$f":"IF(C14<>\"\",C14,\"\")","v":509},null,null,1,null,null,null,null,null,{"$f":"IF($C14=\"\",\"\", IF(GD14=1,0,IF(GB14<>0,500,FW14*$AE14/$AH14+FX14/$AH14*5+FY14/$AH14*25+FZ14*50+GA14*50)))","v":25},null,{"$f":"IF(C14<>\"\",C14,\"\")","v":509},null,null,null,null,null,null,null,1,{"$f":"IF($C14=\"\",\"\", IF(GO14=1,0,IF(GM14<>0,500,GH14*$AE14/$AH14+GI14/$AH14*5+GJ14/$AH14*25+GK14*50+GL14*50)))","v":0},null,{"$f":"IF(C14<>\"\",C14,\"\")","v":509},3,1,null,null,null,null,null,null,{"$f":"IF($C14=\"\",\"\", IF(GZ14=1,0,IF(GX14<>0,500,GS14*$AE14/$AH14+GT14/$AH14*5+GU14/$AH14*25+GV14*50+GW14*50)))","v":14},null,{"$f":"IF(C14<>\"\",C14,\"\")","v":509},2,2,2,1,1,null,null,null,{"$f":"IF($C14=\"\",\"\", IF(HK14=1,0,IF(HI14<>0,500,HD14*$AE14/$AH14+HE14/$AH14*5+HF14/$AH14*25+HG14*50+HH14*50)))","v":166},null,{"$f":"IF(C14<>\"\",C14,\"\")","v":509},null,null,null,null,null,null,null,null,{"$f":"IF($C14=\"\",\"\", IF(HV14=1,0,IF(HT14<>0,500,HO14*$AE14/$AH14+HP14/$AH14*5+HQ14/$AH14*25+HR14*50+HS14*50)))","v":0},null,{"$f":"IF(C14<>\"\",C14,\"\")","v":509},null,null,null,null,null,null,null,null,{"$f":"IF($C14=\"\",\"\", IF(IG14=1,0,IF(IE14<>0,500,HZ14*$AE14/$AH14+IA14/$AH14*5+IB14/$AH14*25+IC14*50+ID14*50)))","v":0}]
[null,{"$f":"IF(C15=0,\"\",ROW(C15)-4)","v":11},521,"Sweden","Haudi Spider","Johannes Hjelm",null,{"$f":"IF(C15=0,\"\",IF(OR(BB15=1,BC15<>0),BC15,\"-\"))","v":0},{"$f":"IF(C15=0,\"\",IF(OR(BM15=1,BN15<>0),BN15,\"-\"))","v":59},{"$f":"IF(C15=0,\"\",IF(OR(BX15=1,BY15<>0),BY15,\" -\"))","v":106},{"$f":"IF(C15=0,\"\",IF(OR(CJ15<>0,CI15=1),CJ15,\" -\"))","v":50},{"$f":"IF(C15=0,\"\",IF(OR(CU15<>0,CT15=1),CU15,\" -\"))","v":28},{"$f":"IF(C15=0,\"\",IF(OR(DF15<>0,DE15=1),DF15,\" -\"))","v":28},{"$f":"IF(C15=0,\"\",IF(OR(DQ15<>0,DP15=1),DQ15,\" -\"))","v":36},{"$f":"IF(C15=0,\"\",IF(OR(EB15<>0,EA15=1),EB15,\" -\"))","v":155},{"$f":"IF(C15=0,\"\",IF(OR(EM15<>0,EL15=1),EM15,\" -\"))","v":0},{"$f":"IF(C15=0,\"\",IF(OR(EX15<>0,EW15=1),EX15,\" -\"))","v":0},{"$f":"IF(C15=0,\"\",IF(OR(FI15<>0,FH15=1),FI15,\" -\"))","v":185},{"$f":"IF(C15=0,\"\",IF(OR(FT15<>0,FS15=1),FT15,\" -\"))","v":128},{"$f":"IF(C15=0,\"\",IF(OR(GE15<>0,GD15=1),GE15,\" -\"))","v":25},{"$f":"IF(C15=0,\"\",IF(OR(GP15<>0,GO15=1),GP15,\" -\"))","v":5},{"$f":"IF(C15=0,\"\",IF(OR(HA15<>0,GZ15=1),HA15,\" -\"))","v":41},{"$f":"IF(C15=0,\"\",IF(OR(HL15<>0,HK15=1),HL15,\" -\"))","v":125},{"$f":"IF(C15=0,\"\",IF(AJ15<>0,AJ15,\" -\"))","v":" -"},{"$f":"IF(C15=0,\"\",IF(OR(HW15<>0,HV15=1),HW15,\" -\"))","v":" -"},{"$f":"IF(C15=0,\"\",IF(OR(IH15<>0,IG15=1),IH15,\" -\"))","v":" -"},{"$f":"IF(C15=0,\"\",IF(AL15=1,\"DNF\",IF(AL15=2,\"DSQ\",IF(AM15<>1,\"~ \"&ROUND(SUM(H15:X15),3),ROUND(SUM(H15:X15),3)))))","v":971},null,null,{"$f":"IF(C15<>\"\",C15,\"\")","v":521},{"$f":"IF(AD15<>\"\",3,\"\")","v":3},1000,2000,{"$f":"IF(AD15<>\"\",(AF15/1000*AG15/1000)/2,\"\")","v":1},3,null,null,null,1,null,null,{"$f":"IF(C15=0,99999,IF(AL15>0,9999,SUM(H15:X15)-AN15))","v":971},{"$f":"IF(C15=0,99999,IF(AL15=1,9999,SUM(Y15:Z15)))","v":0},null,null,{"$f":"IF(C15<>\"\",C15,\"\")","v":521},null,null,null,null,null,null,null,1,{"$f":"IF($C15=\"\",\"\", IF(BB15=1,0,IF(AZ15<>0,500,AU15*$AE15/$AH15+AV15/$AH15*5+AW15/$AH15*25+AX15*50+AY15*50)))","v":0},null,{"$f":"IF(C15<>\"\",C15,\"\")","v":521},3,null,null,null,1,null,"Time",null,{"$f":"IF($C15=\"\",\"\", IF(BM15=1,0,IF(BK15<>0,500,BF15*$AE15/$AH15+BG15/$AH15*5+BH15/$AH15*25+BI15*50+BJ15*50)))","v":59},null,{"$f":"IF(C15<>\"\",C15,\"\")","v":521},2,null,null,1,1,null,null,null,{"$f":"IF($C15=\"\",\"\", IF(BX15=1,0,IF(BV15<>0,500,BQ15*$AE15/$AH15+BR15/$AH15*5+BS15/$AH15*25+BT15*50+BU15*50)))","v":106},null,{"$f":"IF(C15<>\"\",C15,\"\")","v":521},null,null,2,null,null,null,null,null,{"$f":"IF($C15=\"\",\"\", IF(CI15=1,0,IF(CG15<>0,500,CB15*$AE15/$AH15+CC15/$AH15*5+CD15/$AH15*25+CE15*50+CF15*50)))","v":50},null,{"$f":"IF(C15<>\"\",C15,\"\")","v":521},1,null,1,null,null,null,null,null,{"$f":"IF($C15=\"\",\"\", IF(CT15=1,0,IF(CR15<>0,500,CM15*$AE15/$AH15+CN15/$AH15*5+CO15/$AH15*25+CP15*50+CQ15*50)))","v":28},null,{"$f":"IF(C15<>\"\",C15,\"\")","v":521},1,null,1,null,null,null,null,null,{"$f":"IF($C15=\"\",\"\", IF(DE15=1,0,IF(DC15<>0,500,CX15*$AE15/$AH15+CY15/$AH15*5+CZ15/$AH15*25+DA15*50+DB15*50)))","v":28},null,{"$f":"IF(C15<>\"\",C15,\"\")","v":521},2,1,1,null,null,null,null,null,{"$f":"IF($C15=\"\",\"\", IF(DP15=1,0,IF(DN15<>0,500,DI15*$AE15/$AH15+DJ15/$AH15*5+DK15/$AH15*25+DL15*50+DM15*50)))","v":36},null,{"$f":"IF(C15<>\"\",C15,\"\")","v":521},null,1,2,1,1,null,"time",null,{"$f":"IF($C15=\"\",\"\", IF(EA15=1,0,IF(DY15<>0,500,DT15*$AE15/$AH15+DU15/$AH15*5+DV15/$AH15*25+DW15*50+DX15*50)))","v":155},null,{"$f":"IF(C15<>\"\",C15,\"\")","v":521},null,null,null,null,null,null,null,1,{"$f":"IF($C15=\"\",\"\", IF(EL15=1,0,IF(EJ15<>0,500,EE15*$AE15/$AH15+EF15/$AH15*5+EG15/$AH15*25+EH15*50+EI15*50)))","v":0},null,{"$f":"IF(C15<>\"\",C15,\"\")","v":521},null,null,null,null,null,null,null,1,{"$f":"IF($C15=\"\",\"\", IF(EW15=1,0,IF(EU15<>0,500,EP15*$AE15/$AH15+EQ15/$AH15*5+ER15/$AH15*25+ES15*50+ET15*50)))","v":0},null,{"$f":"IF(C15<>\"\",C15,\"\")","v":521},5,4,null,2,1,null,"time",null,{"$f":"IF($C15=\"\",\"\", IF(FH15=1,0,IF(FF15<>0,500,FA15*$AE15/$AH15+FB15/$AH15*5+FC15/$AH15*25+FD15*50+FE15*50)))","v":185},null,{"$f":"IF(C15<>\"\",C15,\"\")","v":521},1,null,1,1,1,null,"time",null,{"$f":"IF($C15=\"\",\"\", IF(FS15=1,0,IF(FQ15<>0,500,FL15*$AE15/$AH15+FM15/$AH15*5+FN15/$AH15*25+FO15*50+FP15*50)))","v":128},null,{"$f":"IF(C15<>\"\",C15,\"\")","v":521},null,null,1,null,null,null,null,null,{"$f":"IF($C15=\"\",\"\", IF(GD15=1,0,IF(GB15<>0,500,FW15*$AE15/$AH15+FX15/$AH15*5+FY15/$AH15*25+FZ15*50+GA15*50)))","v":25},null,{"$f":"IF(C15<>\"\",C15,\"\")","v":521},null,1,null,null,null,null,"only touch",null,{"$f":"IF($C15=\"\",\"\", IF(GO15=1,0,IF(GM15<>0,500,GH15*$AE15/$AH15+GI15/$AH15*5+GJ15/$AH15*25+GK15*50+GL15*50)))","v":5},null,{"$f":"IF(C15<>\"\",C15,\"\")","v":521},2,2,1,null,null,null,null,null,{"$f":"IF($C15=\"\",\"\", IF(GZ15=1,0,IF(GX15<>0,500,GS15*$AE15/$AH15+GT15/$AH15*5+GU15/$AH15*25+GV15*50+GW15*50)))","v":41},null,{"$f":"IF(C15<>\"\",C15,\"\")","v":521},null,null,1,1,1,null,"time",null,{"$f":"IF($C15=\"\",\"\", IF(HK15=1,0,IF(HI15<>0,500,HD15*$AE15/$AH15+HE15/$AH15*5+HF15/$AH15*25+HG15*50+HH15*50)))","v":125},null,{"$f":"IF(C15<>\"\",C15,\"\")","v":521},null,null,null,null,null,null,null,null,{"$f":"IF($C15=\"\",\"\", IF(HV15=1,0,IF(HT15<>0,500,HO15*$AE15/$AH15+HP15/$AH15*5+HQ15/$AH15*25+HR15*50+HS15*50)))","v":0},null,{"$f":"IF(C15<>\"\",C15,\"\")","v":521},null,null,null,null,null,null,null,null,{"$f":"IF($C15=\"\",\"\", IF(IG15=1,0,IF(IE15<>0,500,HZ15*$AE15/$AH15+IA15/$AH15*5+IB15/$AH15*25+IC15*50+ID15*50)))","v":0}]
[null,{"$f":"IF(C16=0,\"\",ROW(C16)-4)","v":12},511,"Switzerland","Jeep","Pascal Halter ","Roland Hossli",{"$f":"IF(C16=0,\"\",IF(OR(BB16=1,BC16<>0),BC16,\"-\"))","v":0},{"$f":"IF(C16=0,\"\",IF(OR(BM16=1,BN16<>0),BN16,\"-\"))","v":33},{"$f":"IF(C16=0,\"\",IF(OR(BX16=1,BY16<>0),BY16,\" -\"))","v":105},{"$f":"IF(C16=0,\"\",IF(OR(CJ16<>0,CI16=1),CJ16,\" -\"))","v":38},{"$f":"IF(C16=0,\"\",IF(OR(CU16<>0,CT16=1),CU16,\" -\"))","v":3},{"$f":"IF(C16=0,\"\",IF(OR(DF16<>0,DE16=1),DF16,\" -\"))","v":3},{"$f":"IF(C16=0,\"\",IF(OR(DQ16<>0,DP16=1),DQ16,\" -\"))","v":25},{"$f":"IF(C16=0,\"\",IF(OR(EB16<>0,EA16=1),EB16,\" -\"))","v":213},{"$f":"IF(C16=0,\"\",IF(OR(EM16<>0,EL16=1),EM16,\" -\"))","v":5},{"$f":"IF(C16=0,\"\",IF(OR(EX16<>0,EW16=1),EX16,\" -\"))","v":8},{"$f":"IF(C16=0,\"\",IF(OR(FI16<>0,FH16=1),FI16,\" -\"))","v":0},{"$f":"IF(C16=0,\"\",IF(OR(FT16<>0,FS16=1),FT16,\" -\"))","v":137},{"$f":"IF(C16=0,\"\",IF(OR(GE16<>0,GD16=1),GE16,\" -\"))","v":5},{"$f":"IF(C16=0,\"\",IF(OR(GP16<>0,GO16=1),GP16,\" -\"))","v":111},{"$f":"IF(C16=0,\"\",IF(OR(HA16<>0,GZ16=1),HA16,\" -\"))","v":200},{"$f":"IF(C16=0,\"\",IF(OR(HL16<>0,HK16=1),HL16,\" -\"))","v":229},{"$f":"IF(C16=0,\"\",IF(AJ16<>0,AJ16,\" -\"))","v":" -"},{"$f":"IF(C16=0,\"\",IF(OR(HW16<>0,HV16=1),HW16,\" -\"))","v":" -"},{"$f":"IF(C16=0,\"\",IF(OR(IH16<>0,IG16=1),IH16,\" -\"))","v":" -"},{"$f":"IF(C16=0,\"\",IF(AL16=1,\"DNF\",IF(AL16=2,\"DSQ\",IF(AM16<>1,\"~ \"&ROUND(SUM(H16:X16),3),ROUND(SUM(H16:X16),3)))))","v":1115},null,null,{"$f":"IF(C16<>\"\",C16,\"\")","v":511},{"$f":"IF(AD16<>\"\",3,\"\")","v":3},1000,2000,{"$f":"IF(AD16<>\"\",(AF16/1000*AG16/1000)/2,\"\")","v":1},3,null,null,null,1,null,null,{"$f":"IF(C16=0,99999,IF(AL16>0,9999,SUM(H16:X16)-AN16))","v":1115},{"$f":"IF(C16=0,99999,IF(AL16=1,9999,SUM(Y16:Z16)))","v":0},null,null,{"$f":"IF(C16<>\"\",C16,\"\")","v":511},null,null,null,null,null,null,null,1,{"$f":"IF($C16=\"\",\"\", IF(BB16=1,0,IF(AZ16<>0,500,AU16*$AE16/$AH16+AV16/$AH16*5+AW16/$AH16*25+AX16*50+AY16*50)))","v":0},null,{"$f":"IF(C16<>\"\",C16,\"\")","v":511},1,1,1,null,null,null,null,null,{"$f":"IF($C16=\"\",\"\", IF(BM16=1,0,IF(BK16<>0,500,BF16*$AE16/$AH16+BG16/$AH16*5+BH16/$AH16*25+BI16*50+BJ16*50)))","v":33},null,{"$f":"IF(C16<>\"\",C16,\"\")","v":511},null,1,null,1,1,null,null,null,{"$f":"IF($C16=\"\",\"\", IF(BX16=1,0,IF(BV16<>0,500,BQ16*$AE16/$AH16+BR16/$AH16*5+BS16/$AH16*25+BT16*50+BU16*50)))","v":105},null,{"$f":"IF(C16<>\"\",C16,\"\")","v":511},1,2,1,null,null,null,null,null,{"$f":"IF($C16=\"\",\"\", IF(CI16=1,0,IF(CG16<>0,500,CB16*$AE16/$AH16+CC16/$AH16*5+CD16/$AH16*25+CE16*50+CF16*50)))","v":38},null,{"$f":"IF(C16<>\"\",C16,\"\")","v":511},1,null,null,null,null,null,null,null,{"$f":"IF($C16=\"\",\"\", IF(CT16=1,0,IF(CR16<>0,500,CM16*$AE16/$AH16+CN16/$AH16*5+CO16/$AH16*25+CP16*50+CQ16*50)))","v":3},null,{"$f":"IF(C16<>\"\",C16,\"\")","v":511},1,null,null,null,null,null,null,null,{"$f":"IF($C16=\"\",\"\", IF(DE16=1,0,IF(DC16<>0,500,CX16*$AE16/$AH16+CY16/$AH16*5+CZ16/$AH16*25+DA16*50+DB16*50)))","v":3},null,{"$f":"IF(C16<>\"\",C16,\"\")","v":511},null,null,1,null,null,null,null,null,{"$f":"IF($C16=\"\",\"\", IF(DP16=1,0,IF(DN16<>0,500,DI16*$AE16/$AH16+DJ16/$AH16*5+DK16/$AH16*25+DL16*50+DM16*50)))","v":25},null,{"$f":"IF(C16<>\"\",C16,\"\")","v":511},1,2,null,3,1,null,"Technical failure",null,{"$f":"IF($C16=\"\",\"\", IF(EA16=1,0,IF(DY16<>0,500,DT16*$AE16/$AH16+DU16/$AH16*5+DV16/$AH16*25+DW16*50+DX16*50)))","v":213},null,{"$f":"IF(C16<>\"\",C16,\"\")","v":511},null,1,null,null,null,null,null,null,{"$f":"IF($C16=\"\",\"\", IF(EL16=1,0,IF(EJ16<>0,500,EE16*$AE16/$AH16+EF16/$AH16*5+EG16/$AH16*25+EH16*50+EI16*50)))","v":5},null,{"$f":"IF(C16<>\"\",C16,\"\")","v":511},1,1,null,null,null,null,null,null,{"$f":"IF($C16=\"\",\"\", IF(EW16=1,0,IF(EU16<>0,500,EP16*$AE16/$AH16+EQ16/$AH16*5+ER16/$AH16*25+ES16*50+ET16*50)))","v":8},null,{"$f":"IF(C16<>\"\",C16,\"\")","v":511},null,null,null,null,null,null,null,1,{"$f":"IF($C16=\"\",\"\", IF(FH16=1,0,IF(FF16<>0,500,FA16*$AE16/$AH16+FB16/$AH16*5+FC16/$AH16*25+FD16*50+FE16*50)))","v":0},null,{"$f":"IF(C16<>\"\",C16,\"\")","v":511},4,null,1,1,1,null,"time",null,{"$f":"IF($C16=\"\",\"\", IF(FS16=1,0,IF(FQ16<>0,500,FL16*$AE16/$AH16+FM16/$AH16*5+FN16/$AH16*25+FO16*50+FP16*50)))","v":137},null,{"$f":"IF(C16<>\"\",C16,\"\")","v":511},null,1,null,null,null,null,null,null,{"$f":"IF($C16=\"\",\"\", IF(GD16=1,0,IF(GB16<>0,500,FW16*$AE16/$AH16+FX16/$AH16*5+FY16/$AH16*25+FZ16*50+GA16*50)))","v":5},null,{"$f":"IF(C16<>\"\",C16,\"\")","v":511},2,1,null,1,1,null,null,null,{"$f":"IF($C16=\"\",\"\", IF(GO16=1,0,IF(GM16<>0,500,GH16*$AE16/$AH16+GI16/$AH16*5+GJ16/$AH16*25+GK16*50+GL16*50)))","v":111},null,{"$f":"IF(C16<>\"\",C16,\"\")","v":511},null,null,null,3,1,null,"car broken",null,{"$f":"IF($C16=\"\",\"\", IF(GZ16=1,0,IF(GX16<>0,500,GS16*$AE16/$AH16+GT16/$AH16*5+GU16/$AH16*25+GV16*50+GW16*50)))","v":200},null,{"$f":"IF(C16<>\"\",C16,\"\")","v":511},8,1,2,2,1,null,null,null,{"$f":"IF($C16=\"\",\"\", IF(HK16=1,0,IF(HI16<>0,500,HD16*$AE16/$AH16+HE16/$AH16*5+HF16/$AH16*25+HG16*50+HH16*50)))","v":229},null,{"$f":"IF(C16<>\"\",C16,\"\")","v":511},null,null,null,null,null,null,null,null,{"$f":"IF($C16=\"\",\"\", IF(HV16=1,0,IF(HT16<>0,500,HO16*$AE16/$AH16+HP16/$AH16*5+HQ16/$AH16*25+HR16*50+HS16*50)))","v":0},null,{"$f":"IF(C16<>\"\",C16,\"\")","v":511},null,null,null,null,null,null,null,null,{"$f":"IF($C16=\"\",\"\", IF(IG16=1,0,IF(IE16<>0,500,HZ16*$AE16/$AH16+IA16/$AH16*5+IB16/$AH16*25+IC16*50+ID16*50)))","v":0}]
[null,{"$f":"IF(C17=0,\"\",ROW(C17)-4)","v":13},518,"Finland","Kuksa evo 2.0","Sisu Suominen","Santtu Suominen",{"$f":"IF(C17=0,\"\",IF(OR(BB17=1,BC17<>0),BC17,\"-\"))","v":36},{"$f":"IF(C17=0,\"\",IF(OR(BM17=1,BN17<>0),BN17,\"-\"))","v":75},{"$f":"IF(C17=0,\"\",IF(OR(BX17=1,BY17<>0),BY17,\" -\"))","v":159},{"$f":"IF(C17=0,\"\",IF(OR(CJ17<>0,CI17=1),CJ17,\" -\"))","v":30},{"$f":"IF(C17=0,\"\",IF(OR(CU17<>0,CT17=1),CU17,\" -\"))","v":0},{"$f":"IF(C17=0,\"\",IF(OR(DF17<>0,DE17=1),DF17,\" -\"))","v":153},{"$f":"IF(C17=0,\"\",IF(OR(DQ17<>0,DP17=1),DQ17,\" -\"))","v":25},{"$f":"IF(C17=0,\"\",IF(OR(EB17<>0,EA17=1),EB17,\" -\"))","v":33},{"$f":"IF(C17=0,\"\",IF(OR(EM17<>0,EL17=1),EM17,\" -\"))","v":0},{"$f":"IF(C17=0,\"\",IF(OR(EX17<>0,EW17=1),EX17,\" -\"))","v":230},{"$f":"IF(C17=0,\"\",IF(OR(FI17<>0,FH17=1),FI17,\" -\"))","v":0},{"$f":"IF(C17=0,\"\",IF(OR(FT17<>0,FS17=1),FT17,\" -\"))","v":125},{"$f":"IF(C17=0,\"\",IF(OR(GE17<>0,GD17=1),GE17,\" -\"))","v":0},{"$f":"IF(C17=0,\"\",IF(OR(GP17<>0,GO17=1),GP17,\" -\"))","v":33},{"$f":"IF(C17=0,\"\",IF(OR(HA17<>0,GZ17=1),HA17,\" -\"))","v":234},{"$f":"IF(C17=0,\"\",IF(OR(HL17<>0,HK17=1),HL17,\" -\"))","v":150},{"$f":"IF(C17=0,\"\",IF(AJ17<>0,AJ17,\" -\"))","v":" -"},{"$f":"IF(C17=0,\"\",IF(OR(HW17<>0,HV17=1),HW17,\" -\"))","v":" -"},{"$f":"IF(C17=0,\"\",IF(OR(IH17<>0,IG17=1),IH17,\" -\"))","v":" -"},{"$f":"IF(C17=0,\"\",IF(AL17=1,\"DNF\",IF(AL17=2,\"DSQ\",IF(AM17<>1,\"~ \"&ROUND(SUM(H17:X17),3),ROUND(SUM(H17:X17),3)))))","v":1283},null,null,{"$f":"IF(C17<>\"\",C17,\"\")","v":518},{"$f":"IF(AD17<>\"\",3,\"\")","v":3},1000,2000,{"$f":"IF(AD17<>\"\",(AF17/1000*AG17/1000)/2,\"\")","v":1},3,null,null,null,1,null,null,{"$f":"IF(C17=0,99999,IF(AL17>0,9999,SUM(H17:X17)-AN17))","v":1283},{"$f":"IF(C17=0,99999,IF(AL17=1,9999,SUM(Y17:Z17)))","v":0},null,null,{"$f":"IF(C17<>\"\",C17,\"\")","v":518},2,1,1,null,null,null,null,null,{"$f":"IF($C17=\"\",\"\", IF(BB17=1,0,IF(AZ17<>0,500,AU17*$AE17/$AH17+AV17/$AH17*5+AW17/$AH17*25+AX17*50+AY17*50)))","v":36},null,{"$f":"IF(C17<>\"\",C17,\"\")","v":518},null,null,1,null,1,null,"time",null,{"$f":"IF($C17=\"\",\"\", IF(BM17=1,0,IF(BK17<>0,500,BF17*$AE17/$AH17+BG17/$AH17*5+BH17/$AH17*25+BI17*50+BJ17*50)))","v":75},null,{"$f":"IF(C17<>\"\",C17,\"\")","v":518},3,null,null,2,1,null,null,null,{"$f":"IF($C17=\"\",\"\", IF(BX17=1,0,IF(BV17<>0,500,BQ17*$AE17/$AH17+BR17/$AH17*5+BS17/$AH17*25+BT17*50+BU17*50)))","v":159},null,{"$f":"IF(C17<>\"\",C17,\"\")","v":518},null,1,1,null,null,null,null,null,{"$f":"IF($C17=\"\",\"\", IF(CI17=1,0,IF(CG17<>0,500,CB17*$AE17/$AH17+CC17/$AH17*5+CD17/$AH17*25+CE17*50+CF17*50)))","v":30},null,{"$f":"IF(C17<>\"\",C17,\"\")","v":518},null,null,null,null,null,null,null,1,{"$f":"IF($C17=\"\",\"\", IF(CT17=1,0,IF(CR17<>0,500,CM17*$AE17/$AH17+CN17/$AH17*5+CO17/$AH17*25+CP17*50+CQ17*50)))","v":0},null,{"$f":"IF(C17<>\"\",C17,\"\")","v":518},1,null,null,2,1,null,null,null,{"$f":"IF($C17=\"\",\"\", IF(DE17=1,0,IF(DC17<>0,500,CX17*$AE17/$AH17+CY17/$AH17*5+CZ17/$AH17*25+DA17*50+DB17*50)))","v":153},null,{"$f":"IF(C17<>\"\",C17,\"\")","v":518},null,null,1,null,null,null,null,null,{"$f":"IF($C17=\"\",\"\", IF(DP17=1,0,IF(DN17<>0,500,DI17*$AE17/$AH17+DJ17/$AH17*5+DK17/$AH17*25+DL17*50+DM17*50)))","v":25},null,{"$f":"IF(C17<>\"\",C17,\"\")","v":518},1,1,1,null,null,null,null,null,{"$f":"IF($C17=\"\",\"\", IF(EA17=1,0,IF(DY17<>0,500,DT17*$AE17/$AH17+DU17/$AH17*5+DV17/$AH17*25+DW17*50+DX17*50)))","v":33},null,{"$f":"IF(C17<>\"\",C17,\"\")","v":518},null,null,null,null,null,null,null,1,{"$f":"IF($C17=\"\",\"\", IF(EL17=1,0,IF(EJ17<>0,500,EE17*$AE17/$AH17+EF17/$AH17*5+EG17/$AH17*25+EH17*50+EI17*50)))","v":0},null,{"$f":"IF(C17<>\"\",C17,\"\")","v":518},null,1,1,3,1,null,null,null,{"$f":"IF($C17=\"\",\"\", IF(EW17=1,0,IF(EU17<>0,500,EP17*$AE17/$AH17+EQ17/$AH17*5+ER17/$AH17*25+ES17*50+ET17*50)))","v":230},null,{"$f":"IF(C17<>\"\",C17,\"\")","v":518},null,null,null,null,null,null,null,1,{"$f":"IF($C17=\"\",\"\", IF(FH17=1,0,IF(FF17<>0,500,FA17*$AE17/$AH17+FB17/$AH17*5+FC17/$AH17*25+FD17*50+FE17*50)))","v":0},null,{"$f":"IF(C17<>\"\",C17,\"\")","v":518},null,null,1,1,1,null,"time",null,{"$f":"IF($C17=\"\",\"\", IF(FS17=1,0,IF(FQ17<>0,500,FL17*$AE17/$AH17+FM17/$AH17*5+FN17/$AH17*25+FO17*50+FP17*50)))","v":125},null,{"$f":"IF(C17<>\"\",C17,\"\")","v":518},null,null,null,null,null,null,null,1,{"$f":"IF($C17=\"\",\"\", IF(GD17=1,0,IF(GB17<>0,500,FW17*$AE17/$AH17+FX17/$AH17*5+FY17/$AH17*25+FZ17*50+GA17*50)))","v":0},null,{"$f":"IF(C17<>\"\",C17,\"\")","v":518},1,1,1,null,null,null,null,null,{"$f":"IF($C17=\"\",\"\", IF(GO17=1,0,IF(GM17<>0,500,GH17*$AE17/$AH17+GI17/$AH17*5+GJ17/$AH17*25+GK17*50+GL17*50)))","v":33},null,{"$f":"IF(C17<>\"\",C17,\"\")","v":518},3,null,1,3,1,null,"stuck",null,{"$f":"IF($C17=\"\",\"\", IF(GZ17=1,0,IF(GX17<>0,500,GS17*$AE17/$AH17+GT17/$AH17*5+GU17/$AH17*25+GV17*50+GW17*50)))","v":234},null,{"$f":"IF(C17<>\"\",C17,\"\")","v":518},null,null,2,1,1,null,null,null,{"$f":"IF($C17=\"\",\"\", IF(HK17=1,0,IF(HI17<>0,500,HD17*$AE17/$AH17+HE17/$AH17*5+HF17/$AH17*25+HG17*50+HH17*50)))","v":150},null,{"$f":"IF(C17<>\"\",C17,\"\")","v":518},null,null,null,null,null,null,null,null,{"$f":"IF($C17=\"\",\"\", IF(HV17=1,0,IF(HT17<>0,500,HO17*$AE17/$AH17+HP17/$AH17*5+HQ17/$AH17*25+HR17*50+HS17*50)))","v":0},null,{"$f":"IF(C17<>\"\",C17,\"\")","v":518},null,null,null,null,null,null,null,null,{"$f":"IF($C17=\"\",\"\", IF(IG17=1,0,IF(IE17<>0,500,HZ17*$AE17/$AH17+IA17/$AH17*5+IB17/$AH17*25+IC17*50+ID17*50)))","v":0}]
[null,{"$f":"IF(C18=0,\"\",ROW(C18)-4)","v":14},512,"Switzerland","Pontiac","Peter Halter","Renato Kälin",{"$f":"IF(C18=0,\"\",IF(OR(BB18=1,BC18<>0),BC18,\"-\"))","v":5},{"$f":"IF(C18=0,\"\",IF(OR(BM18=1,BN18<>0),BN18,\"-\"))","v":103},{"$f":"IF(C18=0,\"\",IF(OR(BX18=1,BY18<>0),BY18,\" -\"))","v":183},{"$f":"IF(C18=0,\"\",IF(OR(CJ18<>0,CI18=1),CJ18,\" -\"))","v":8},{"$f":"IF(C18=0,\"\",IF(OR(CU18<>0,CT18=1),CU18,\" -\"))","v":100},{"$f":"IF(C18=0,\"\",IF(OR(DF18<>0,DE18=1),DF18,\" -\"))","v":143},{"$f":"IF(C18=0,\"\",IF(OR(DQ18<>0,DP18=1),DQ18,\" -\"))","v":53},{"$f":"IF(C18=0,\"\",IF(OR(EB18<>0,EA18=1),EB18,\" -\"))","v":210},{"$f":"IF(C18=0,\"\",IF(OR(EM18<>0,EL18=1),EM18,\" -\"))","v":0},{"$f":"IF(C18=0,\"\",IF(OR(EX18<>0,EW18=1),EX18,\" -\"))","v":202},{"$f":"IF(C18=0,\"\",IF(OR(FI18<>0,FH18=1),FI18,\" -\"))","v":228},{"$f":"IF(C18=0,\"\",IF(OR(FT18<>0,FS18=1),FT18,\" -\"))","v":235},{"$f":"IF(C18=0,\"\",IF(OR(GE18<>0,GD18=1),GE18,\" -\"))","v":53},{"$f":"IF(C18=0,\"\",IF(OR(GP18<>0,GO18=1),GP18,\" -\"))","v":250},{"$f":"IF(C18=0,\"\",IF(OR(HA18<>0,GZ18=1),HA18,\" -\"))","v":106},{"$f":"IF(C18=0,\"\",IF(OR(HL18<>0,HK18=1),HL18,\" -\"))","v":150},{"$f":"IF(C18=0,\"\",IF(AJ18<>0,AJ18,\" -\"))","v":" -"},{"$f":"IF(C18=0,\"\",IF(OR(HW18<>0,HV18=1),HW18,\" -\"))","v":" -"},{"$f":"IF(C18=0,\"\",IF(OR(IH18<>0,IG18=1),IH18,\" -\"))","v":" -"},{"$f":"IF(C18=0,\"\",IF(AL18=1,\"DNF\",IF(AL18=2,\"DSQ\",IF(AM18<>1,\"~ \"&ROUND(SUM(H18:X18),3),ROUND(SUM(H18:X18),3)))))","v":2029},null,null,{"$f":"IF(C18<>\"\",C18,\"\")","v":512},{"$f":"IF(AD18<>\"\",3,\"\")","v":3},1000,2000,{"$f":"IF(AD18<>\"\",(AF18/1000*AG18/1000)/2,\"\")","v":1},3,null,null,null,1,null,null,{"$f":"IF(C18=0,99999,IF(AL18>0,9999,SUM(H18:X18)-AN18))","v":2029},{"$f":"IF(C18=0,99999,IF(AL18=1,9999,SUM(Y18:Z18)))","v":0},null,null,{"$f":"IF(C18<>\"\",C18,\"\")","v":512},null,1,null,null,null,null,null,null,{"$f":"IF($C18=\"\",\"\", IF(BB18=1,0,IF(AZ18<>0,500,AU18*$AE18/$AH18+AV18/$AH18*5+AW18/$AH18*25+AX18*50+AY18*50)))","v":5},null,{"$f":"IF(C18<>\"\",C18,\"\")","v":512},1,null,null,1,1,null,"Didn't drie one port",null,{"$f":"IF($C18=\"\",\"\", IF(BM18=1,0,IF(BK18<>0,500,BF18*$AE18/$AH18+BG18/$AH18*5+BH18/$AH18*25+BI18*50+BJ18*50)))","v":103},null,{"$f":"IF(C18<>\"\",C18,\"\")","v":512},1,1,1,2,1,null,"driver stopped",null,{"$f":"IF($C18=\"\",\"\", IF(BX18=1,0,IF(BV18<>0,500,BQ18*$AE18/$AH18+BR18/$AH18*5+BS18/$AH18*25+BT18*50+BU18*50)))","v":183},null,{"$f":"IF(C18<>\"\",C18,\"\")","v":512},1,1,null,null,null,null,null,null,{"$f":"IF($C18=\"\",\"\", IF(CI18=1,0,IF(CG18<>0,500,CB18*$AE18/$AH18+CC18/$AH18*5+CD18/$AH18*25+CE18*50+CF18*50)))","v":8},null,{"$f":"IF(C18<>\"\",C18,\"\")","v":512},null,null,null,1,1,null,"Roll over",null,{"$f":"IF($C18=\"\",\"\", IF(CT18=1,0,IF(CR18<>0,500,CM18*$AE18/$AH18+CN18/$AH18*5+CO18/$AH18*25+CP18*50+CQ18*50)))","v":100},null,{"$f":"IF(C18<>\"\",C18,\"\")","v":512},6,null,1,1,1,null,null,null,{"$f":"IF($C18=\"\",\"\", IF(DE18=1,0,IF(DC18<>0,500,CX18*$AE18/$AH18+CY18/$AH18*5+CZ18/$AH18*25+DA18*50+DB18*50)))","v":143},null,{"$f":"IF(C18<>\"\",C18,\"\")","v":512},1,null,2,null,null,null,null,null,{"$f":"IF($C18=\"\",\"\", IF(DP18=1,0,IF(DN18<>0,500,DI18*$AE18/$AH18+DJ18/$AH18*5+DK18/$AH18*25+DL18*50+DM18*50)))","v":53},null,{"$f":"IF(C18<>\"\",C18,\"\")","v":512},null,2,null,3,1,null,null,null,{"$f":"IF($C18=\"\",\"\", IF(EA18=1,0,IF(DY18<>0,500,DT18*$AE18/$AH18+DU18/$AH18*5+DV18/$AH18*25+DW18*50+DX18*50)))","v":210},null,{"$f":"IF(C18<>\"\",C18,\"\")","v":512},null,null,null,null,null,null,null,1,{"$f":"IF($C18=\"\",\"\", IF(EL18=1,0,IF(EJ18<>0,500,EE18*$AE18/$AH18+EF18/$AH18*5+EG18/$AH18*25+EH18*50+EI18*50)))","v":0},null,{"$f":"IF(C18<>\"\",C18,\"\")","v":512},4,3,1,2,1,null,null,null,{"$f":"IF($C18=\"\",\"\", IF(EW18=1,0,IF(EU18<>0,500,EP18*$AE18/$AH18+EQ18/$AH18*5+ER18/$AH18*25+ES18*50+ET18*50)))","v":202},null,{"$f":"IF(C18<>\"\",C18,\"\")","v":512},1,null,1,3,1,null,"Broke down",null,{"$f":"IF($C18=\"\",\"\", IF(FH18=1,0,IF(FF18<>0,500,FA18*$AE18/$AH18+FB18/$AH18*5+FC18/$AH18*25+FD18*50+FE18*50)))","v":228},null,{"$f":"IF(C18<>\"\",C18,\"\")","v":512},null,2,1,3,1,null,"machine failure",null,{"$f":"IF($C18=\"\",\"\", IF(FS18=1,0,IF(FQ18<>0,500,FL18*$AE18/$AH18+FM18/$AH18*5+FN18/$AH18*25+FO18*50+FP18*50)))","v":235},null,{"$f":"IF(C18<>\"\",C18,\"\")","v":512},1,null,2,null,null,null,null,null,{"$f":"IF($C18=\"\",\"\", IF(GD18=1,0,IF(GB18<>0,500,FW18*$AE18/$AH18+FX18/$AH18*5+FY18/$AH18*25+FZ18*50+GA18*50)))","v":53},null,{"$f":"IF(C18<>\"\",C18,\"\")","v":512},null,null,null,4,1,null,null,null,{"$f":"IF($C18=\"\",\"\", IF(GO18=1,0,IF(GM18<>0,500,GH18*$AE18/$AH18+GI18/$AH18*5+GJ18/$AH18*25+GK18*50+GL18*50)))","v":250},null,{"$f":"IF(C18<>\"\",C18,\"\")","v":512},2,null,null,1,1,null,"port 4 broke with front tire",null,{"$f":"IF($C18=\"\",\"\", IF(GZ18=1,0,IF(GX18<>0,500,GS18*$AE18/$AH18+GT18/$AH18*5+GU18/$AH18*25+GV18*50+GW18*50)))","v":106},null,{"$f":"IF(C18<>\"\",C18,\"\")","v":512},null,null,null,2,1,null,null,null,{"$f":"IF($C18=\"\",\"\", IF(HK18=1,0,IF(HI18<>0,500,HD18*$AE18/$AH18+HE18/$AH18*5+HF18/$AH18*25+HG18*50+HH18*50)))","v":150},null,{"$f":"IF(C18<>\"\",C18,\"\")","v":512},null,null,null,null,null,null,null,null,{"$f":"IF($C18=\"\",\"\", IF(HV18=1,0,IF(HT18<>0,500,HO18*$AE18/$AH18+HP18/$AH18*5+HQ18/$AH18*25+HR18*50+HS18*50)))","v":0},null,{"$f":"IF(C18<>\"\",C18,\"\")","v":512},null,null,null,null,null,null,null,null,{"$f":"IF($C18=\"\",\"\", IF(IG18=1,0,IF(IE18<>0,500,HZ18*$AE18/$AH18+IA18/$AH18*5+IB18/$AH18*25+IC18*50+ID18*50)))","v":0}]
[null,{"$f":"IF(C19=0,\"\",ROW(C19)-4)","v":15},519,"England","Spider Buggy","Barry Bicknell","Karl Bicknell",{"$f":"IF(C19=0,\"\",IF(OR(BB19=1,BC19<>0),BC19,\"-\"))","v":113},{"$f":"IF(C19=0,\"\",IF(OR(BM19=1,BN19<>0),BN19,\"-\"))","v":131},{"$f":"IF(C19=0,\"\",IF(OR(BX19=1,BY19<>0),BY19,\" -\"))","v":210},{"$f":"IF(C19=0,\"\",IF(OR(CJ19<>0,CI19=1),CJ19,\" -\"))","v":150},{"$f":"IF(C19=0,\"\",IF(OR(CU19<>0,CT19=1),CU19,\" -\"))","v":5},{"$f":"IF(C19=0,\"\",IF(OR(DF19<>0,DE19=1),DF19,\" -\"))","v":72},{"$f":"IF(C19=0,\"\",IF(OR(DQ19<>0,DP19=1),DQ19,\" -\"))","v":28},{"$f":"IF(C19=0,\"\",IF(OR(EB19<>0,EA19=1),EB19,\" -\"))","v":250},{"$f":"IF(C19=0,\"\",IF(OR(EM19<>0,EL19=1),EM19,\" -\"))","v":11},{"$f":"IF(C19=0,\"\",IF(OR(EX19<>0,EW19=1),EX19,\" -\"))","v":208},{"$f":"IF(C19=0,\"\",IF(OR(FI19<>0,FH19=1),FI19,\" -\"))","v":180},{"$f":"IF(C19=0,\"\",IF(OR(FT19<>0,FS19=1),FT19,\" -\"))","v":500},{"$f":"IF(C19=0,\"\",IF(OR(GE19<>0,GD19=1),GE19,\" -\"))","v":81},{"$f":"IF(C19=0,\"\",IF(OR(GP19<>0,GO19=1),GP19,\" -\"))","v":206},{"$f":"IF(C19=0,\"\",IF(OR(HA19<>0,GZ19=1),HA19,\" -\"))","v":500},{"$f":"IF(C19=0,\"\",IF(OR(HL19<>0,HK19=1),HL19,\" -\"))","v":500},{"$f":"IF(C19=0,\"\",IF(AJ19<>0,AJ19,\" -\"))","v":" -"},{"$f":"IF(C19=0,\"\",IF(OR(HW19<>0,HV19=1),HW19,\" -\"))","v":" -"},{"$f":"IF(C19=0,\"\",IF(OR(IH19<>0,IG19=1),IH19,\" -\"))","v":" -"},{"$f":"IF(C19=0,\"\",IF(AL19=1,\"DNF\",IF(AL19=2,\"DSQ\",IF(AM19<>1,\"~ \"&ROUND(SUM(H19:X19),3),ROUND(SUM(H19:X19),3)))))","v":3145},null,null,{"$f":"IF(C19<>\"\",C19,\"\")","v":519},{"$f":"IF(AD19<>\"\",3,\"\")","v":3},1000,2000,{"$f":"IF(AD19<>\"\",(AF19/1000*AG19/1000)/2,\"\")","v":1},3,null,null,null,1,null,null,{"$f":"IF(C19=0,99999,IF(AL19>0,9999,SUM(H19:X19)-AN19))","v":3145},{"$f":"IF(C19=0,99999,IF(AL19=1,9999,SUM(Y19:Z19)))","v":0},null,null,{"$f":"IF(C19<>\"\",C19,\"\")","v":519},1,2,null,1,1,null,"broken line",null,{"$f":"IF($C19=\"\",\"\", IF(BB19=1,0,IF(AZ19<>0,500,AU19*$AE19/$AH19+AV19/$AH19*5+AW19/$AH19*25+AX19*50+AY19*50)))","v":113},null,{"$f":"IF(C19<>\"\",C19,\"\")","v":519},2,null,1,1,1,null,"time",null,{"$f":"IF($C19=\"\",\"\", IF(BM19=1,0,IF(BK19<>0,500,BF19*$AE19/$AH19+BG19/$AH19*5+BH19/$AH19*25+BI19*50+BJ19*50)))","v":131},null,{"$f":"IF(C19<>\"\",C19,\"\")","v":519},null,2,null,3,1,null,null,null,{"$f":"IF($C19=\"\",\"\", IF(BX19=1,0,IF(BV19<>0,500,BQ19*$AE19/$AH19+BR19/$AH19*5+BS19/$AH19*25+BT19*50+BU19*50)))","v":210},null,{"$f":"IF(C19<>\"\",C19,\"\")","v":519},null,null,null,2,1,null,null,null,{"$f":"IF($C19=\"\",\"\", IF(CI19=1,0,IF(CG19<>0,500,CB19*$AE19/$AH19+CC19/$AH19*5+CD19/$AH19*25+CE19*50+CF19*50)))","v":150},null,{"$f":"IF(C19<>\"\",C19,\"\")","v":519},null,1,null,null,null,null,null,null,{"$f":"IF($C19=\"\",\"\", IF(CT19=1,0,IF(CR19<>0,500,CM19*$AE19/$AH19+CN19/$AH19*5+CO19/$AH19*25+CP19*50+CQ19*50)))","v":5},null,{"$f":"IF(C19<>\"\",C19,\"\")","v":519},4,2,2,null,null,null,null,null,{"$f":"IF($C19=\"\",\"\", IF(DE19=1,0,IF(DC19<>0,500,CX19*$AE19/$AH19+CY19/$AH19*5+CZ19/$AH19*25+DA19*50+DB19*50)))","v":72},null,{"$f":"IF(C19<>\"\",C19,\"\")","v":519},1,null,1,null,null,null,null,null,{"$f":"IF($C19=\"\",\"\", IF(DP19=1,0,IF(DN19<>0,500,DI19*$AE19/$AH19+DJ19/$AH19*5+DK19/$AH19*25+DL19*50+DM19*50)))","v":28},null,{"$f":"IF(C19<>\"\",C19,\"\")","v":519},null,null,2,3,1,null,null,null,{"$f":"IF($C19=\"\",\"\", IF(EA19=1,0,IF(DY19<>0,500,DT19*$AE19/$AH19+DU19/$AH19*5+DV19/$AH19*25+DW19*50+DX19*50)))","v":250},null,{"$f":"IF(C19<>\"\",C19,\"\")","v":519},2,1,null,null,null,null,null,null,{"$f":"IF($C19=\"\",\"\", IF(EL19=1,0,IF(EJ19<>0,500,EE19*$AE19/$AH19+EF19/$AH19*5+EG19/$AH19*25+EH19*50+EI19*50)))","v":11},null,{"$f":"IF(C19<>\"\",C19,\"\")","v":519},1,1,null,3,1,null,null,null,{"$f":"IF($C19=\"\",\"\", IF(EW19=1,0,IF(EU19<>0,500,EP19*$AE19/$AH19+EQ19/$AH19*5+ER19/$AH19*25+ES19*50+ET19*50)))","v":208},null,{"$f":"IF(C19<>\"\",C19,\"\")","v":519},null,1,1,2,1,null,"broken",null,{"$f":"IF($C19=\"\",\"\", IF(FH19=1,0,IF(FF19<>0,500,FA19*$AE19/$AH19+FB19/$AH19*5+FC19/$AH19*25+FD19*50+FE19*50)))","v":180},null,{"$f":"IF(C19<>\"\",C19,\"\")","v":519},null,null,null,null,null,1,null,null,{"$f":"IF($C19=\"\",\"\", IF(FS19=1,0,IF(FQ19<>0,500,FL19*$AE19/$AH19+FM19/$AH19*5+FN19/$AH19*25+FO19*50+FP19*50)))","v":500},null,{"$f":"IF(C19<>\"\",C19,\"\")","v":519},2,null,1,null,1,null,"time",null,{"$f":"IF($C19=\"\",\"\", IF(GD19=1,0,IF(GB19<>0,500,FW19*$AE19/$AH19+FX19/$AH19*5+FY19/$AH19*25+FZ19*50+GA19*50)))","v":81},null,{"$f":"IF(C19<>\"\",C19,\"\")","v":519},2,null,null,3,1,null,"car broke down",null,{"$f":"IF($C19=\"\",\"\", IF(GO19=1,0,IF(GM19<>0,500,GH19*$AE19/$AH19+GI19/$AH19*5+GJ19/$AH19*25+GK19*50+GL19*50)))","v":206},null,{"$f":"IF(C19<>\"\",C19,\"\")","v":519},null,null,null,null,null,1,null,null,{"$f":"IF($C19=\"\",\"\", IF(GZ19=1,0,IF(GX19<>0,500,GS19*$AE19/$AH19+GT19/$AH19*5+GU19/$AH19*25+GV19*50+GW19*50)))","v":500},null,{"$f":"IF(C19<>\"\",C19,\"\")","v":519},null,null,null,null,null,1,null,null,{"$f":"IF($C19=\"\",\"\", IF(HK19=1,0,IF(HI19<>0,500,HD19*$AE19/$AH19+HE19/$AH19*5+HF19/$AH19*25+HG19*50+HH19*50)))","v":500},null,{"$f":"IF(C19<>\"\",C19,\"\")","v":519},null,null,null,null,null,null,null,null,{"$f":"IF($C19=\"\",\"\", IF(HV19=1,0,IF(HT19<>0,500,HO19*$AE19/$AH19+HP19/$AH19*5+HQ19/$AH19*25+HR19*50+HS19*50)))","v":0},null,{"$f":"IF(C19<>\"\",C19,\"\")","v":519},null,null,null,null,null,null,null,null,{"$f":"IF($C19=\"\",\"\", IF(IG19=1,0,IF(IE19<>0,500,HZ19*$AE19/$AH19+IA19/$AH19*5+IB19/$AH19*25+IC19*50+ID19*50)))","v":0}]
[null,{"$f":"IF(C20=0,\"\",ROW(C20)-4)","v":16},516,"Denmark","Proto Spyder","Søren Pedersen","Morten Riis",{"$f":"IF(C20=0,\"\",IF(OR(BB20=1,BC20<>0),BC20,\"-\"))","v":5},{"$f":"IF(C20=0,\"\",IF(OR(BM20=1,BN20<>0),BN20,\"-\"))","v":500},{"$f":"IF(C20=0,\"\",IF(OR(BX20=1,BY20<>0),BY20,\" -\"))","v":500},{"$f":"IF(C20=0,\"\",IF(OR(CJ20<>0,CI20=1),CJ20,\" -\"))","v":200},{"$f":"IF(C20=0,\"\",IF(OR(CU20<>0,CT20=1),CU20,\" -\"))","v":10},{"$f":"IF(C20=0,\"\",IF(OR(DF20<>0,DE20=1),DF20,\" -\"))","v":139},{"$f":"IF(C20=0,\"\",IF(OR(DQ20<>0,DP20=1),DQ20,\" -\"))","v":500},{"$f":"IF(C20=0,\"\",IF(OR(EB20<>0,EA20=1),EB20,\" -\"))","v":211},{"$f":"IF(C20=0,\"\",IF(OR(EM20<>0,EL20=1),EM20,\" -\"))","v":500},{"$f":"IF(C20=0,\"\",IF(OR(EX20<>0,EW20=1),EX20,\" -\"))","v":500},{"$f":"IF(C20=0,\"\",IF(OR(FI20<>0,FH20=1),FI20,\" -\"))","v":500},{"$f":"IF(C20=0,\"\",IF(OR(FT20<>0,FS20=1),FT20,\" -\"))","v":500},{"$f":"IF(C20=0,\"\",IF(OR(GE20<>0,GD20=1),GE20,\" -\"))","v":500},{"$f":"IF(C20=0,\"\",IF(OR(GP20<>0,GO20=1),GP20,\" -\"))","v":500},{"$f":"IF(C20=0,\"\",IF(OR(HA20<>0,GZ20=1),HA20,\" -\"))","v":500},{"$f":"IF(C20=0,\"\",IF(OR(HL20<>0,HK20=1),HL20,\" -\"))","v":500},{"$f":"IF(C20=0,\"\",IF(AJ20<>0,AJ20,\" -\"))","v":" -"},{"$f":"IF(C20=0,\"\",IF(OR(HW20<>0,HV20=1),HW20,\" -\"))","v":" -"},{"$f":"IF(C20=0,\"\",IF(OR(IH20<>0,IG20=1),IH20,\" -\"))","v":" -"},{"$f":"IF(C20=0,\"\",IF(AL20=1,\"DNF\",IF(AL20=2,\"DSQ\",IF(AM20<>1,\"~ \"&ROUND(SUM(H20:X20),3),ROUND(SUM(H20:X20),3)))))","v":6065},null,null,{"$f":"IF(C20<>\"\",C20,\"\")","v":516},{"$f":"IF(AD20<>\"\",3,\"\")","v":3},1000,2000,{"$f":"IF(AD20<>\"\",(AF20/1000*AG20/1000)/2,\"\")","v":1},3,null,null,null,1,null,null,{"$f":"IF(C20=0,99999,IF(AL20>0,9999,SUM(H20:X20)-AN20))","v":6065},{"$f":"IF(C20=0,99999,IF(AL20=1,9999,SUM(Y20:Z20)))","v":0},null,null,{"$f":"IF(C20<>\"\",C20,\"\")","v":516},null,1,null,null,null,null,null,null,{"$f":"IF($C20=\"\",\"\", IF(BB20=1,0,IF(AZ20<>0,500,AU20*$AE20/$AH20+AV20/$AH20*5+AW20/$AH20*25+AX20*50+AY20*50)))","v":5},null,{"$f":"IF(C20<>\"\",C20,\"\")","v":516},null,null,null,null,null,1,null,null,{"$f":"IF($C20=\"\",\"\", IF(BM20=1,0,IF(BK20<>0,500,BF20*$AE20/$AH20+BG20/$AH20*5+BH20/$AH20*25+BI20*50+BJ20*50)))","v":500},null,{"$f":"IF(C20<>\"\",C20,\"\")","v":516},null,null,null,null,null,1,null,null,{"$f":"IF($C20=\"\",\"\", IF(BX20=1,0,IF(BV20<>0,500,BQ20*$AE20/$AH20+BR20/$AH20*5+BS20/$AH20*25+BT20*50+BU20*50)))","v":500},null,{"$f":"IF(C20<>\"\",C20,\"\")","v":516},null,null,null,3,1,null,"Technical problems, DNF",null,{"$f":"IF($C20=\"\",\"\", IF(CI20=1,0,IF(CG20<>0,500,CB20*$AE20/$AH20+CC20/$AH20*5+CD20/$AH20*25+CE20*50+CF20*50)))","v":200},null,{"$f":"IF(C20<>\"\",C20,\"\")","v":516},null,2,null,null,null,null,null,null,{"$f":"IF($C20=\"\",\"\", IF(CT20=1,0,IF(CR20<>0,500,CM20*$AE20/$AH20+CN20/$AH20*5+CO20/$AH20*25+CP20*50+CQ20*50)))","v":10},null,{"$f":"IF(C20<>\"\",C20,\"\")","v":516},3,1,1,1,1,null,"Broke gate and continued",null,{"$f":"IF($C20=\"\",\"\", IF(DE20=1,0,IF(DC20<>0,500,CX20*$AE20/$AH20+CY20/$AH20*5+CZ20/$AH20*25+DA20*50+DB20*50)))","v":139},null,{"$f":"IF(C20<>\"\",C20,\"\")","v":516},null,null,null,null,null,1,null,null,{"$f":"IF($C20=\"\",\"\", IF(DP20=1,0,IF(DN20<>0,500,DI20*$AE20/$AH20+DJ20/$AH20*5+DK20/$AH20*25+DL20*50+DM20*50)))","v":500},null,{"$f":"IF(C20<>\"\",C20,\"\")","v":516},2,1,null,3,1,null,"Technical problem DNF",null,{"$f":"IF($C20=\"\",\"\", IF(EA20=1,0,IF(DY20<>0,500,DT20*$AE20/$AH20+DU20/$AH20*5+DV20/$AH20*25+DW20*50+DX20*50)))","v":211},null,{"$f":"IF(C20<>\"\",C20,\"\")","v":516},null,null,null,null,null,1,null,null,{"$f":"IF($C20=\"\",\"\", IF(EL20=1,0,IF(EJ20<>0,500,EE20*$AE20/$AH20+EF20/$AH20*5+EG20/$AH20*25+EH20*50+EI20*50)))","v":500},null,{"$f":"IF(C20<>\"\",C20,\"\")","v":516},null,null,null,null,null,1,null,null,{"$f":"IF($C20=\"\",\"\", IF(EW20=1,0,IF(EU20<>0,500,EP20*$AE20/$AH20+EQ20/$AH20*5+ER20/$AH20*25+ES20*50+ET20*50)))","v":500},null,{"$f":"IF(C20<>\"\",C20,\"\")","v":516},null,null,null,null,null,1,null,null,{"$f":"IF($C20=\"\",\"\", IF(FH20=1,0,IF(FF20<>0,500,FA20*$AE20/$AH20+FB20/$AH20*5+FC20/$AH20*25+FD20*50+FE20*50)))","v":500},null,{"$f":"IF(C20<>\"\",C20,\"\")","v":516},null,null,null,null,null,1,null,null,{"$f":"IF($C20=\"\",\"\", IF(FS20=1,0,IF(FQ20<>0,500,FL20*$AE20/$AH20+FM20/$AH20*5+FN20/$AH20*25+FO20*50+FP20*50)))","v":500},null,{"$f":"IF(C20<>\"\",C20,\"\")","v":516},null,null,null,null,null,1,null,null,{"$f":"IF($C20=\"\",\"\", IF(GD20=1,0,IF(GB20<>0,500,FW20*$AE20/$AH20+FX20/$AH20*5+FY20/$AH20*25+FZ20*50+GA20*50)))","v":500},null,{"$f":"IF(C20<>\"\",C20,\"\")","v":516},null,null,null,null,null,1,null,null,{"$f":"IF($C20=\"\",\"\", IF(GO20=1,0,IF(GM20<>0,500,GH20*$AE20/$AH20+GI20/$AH20*5+GJ20/$AH20*25+GK20*50+GL20*50)))","v":500},null,{"$f":"IF(C20<>\"\",C20,\"\")","v":516},null,null,null,null,null,1,null,null,{"$f":"IF($C20=\"\",\"\", IF(GZ20=1,0,IF(GX20<>0,500,GS20*$AE20/$AH20+GT20/$AH20*5+GU20/$AH20*25+GV20*50+GW20*50)))","v":500},null,{"$f":"IF(C20<>\"\",C20,\"\")","v":516},null,null,null,null,null,1,null,null,{"$f":"IF($C20=\"\",\"\", IF(HK20=1,0,IF(HI20<>0,500,HD20*$AE20/$AH20+HE20/$AH20*5+HF20/$AH20*25+HG20*50+HH20*50)))","v":500},null,{"$f":"IF(C20<>\"\",C20,\"\")","v":516},null,null,null,null,null,null,null,null,{"$f":"IF($C20=\"\",\"\", IF(HV20=1,0,IF(HT20<>0,500,HO20*$AE20/$AH20+HP20/$AH20*5+HQ20/$AH20*25+HR20*50+HS20*50)))","v":0},null,{"$f":"IF(C20<>\"\",C20,\"\")","v":516},null,null,null,null,null,null,null,null,{"$f":"IF($C20=\"\",\"\", IF(IG20=1,0,IF(IE20<>0,500,HZ20*$AE20/$AH20+IA20/$AH20*5+IB20/$AH20*25+IC20*50+ID20*50)))","v":0}]
[null,{"$f":"IF(C21=0,\"\",ROW(C21)-4)","v":17},520,"Sweden","Wild Thing Offroad","Ingemar Johansson","Gustav Dahl",{"$f":"IF(C21=0,\"\",IF(OR(BB21=1,BC21<>0),BC21,\"-\"))","v":500},{"$f":"IF(C21=0,\"\",IF(OR(BM21=1,BN21<>0),BN21,\"-\"))","v":500},{"$f":"IF(C21=0,\"\",IF(OR(BX21=1,BY21<>0),BY21,\" -\"))","v":164},{"$f":"IF(C21=0,\"\",IF(OR(CJ21<>0,CI21=1),CJ21,\" -\"))","v":25},{"$f":"IF(C21=0,\"\",IF(OR(CU21<>0,CT21=1),CU21,\" -\"))","v":500},{"$f":"IF(C21=0,\"\",IF(OR(DF21<>0,DE21=1),DF21,\" -\"))","v":50},{"$f":"IF(C21=0,\"\",IF(OR(DQ21<>0,DP21=1),DQ21,\" -\"))","v":500},{"$f":"IF(C21=0,\"\",IF(OR(EB21<>0,EA21=1),EB21,\" -\"))","v":249},{"$f":"IF(C21=0,\"\",IF(OR(EM21<>0,EL21=1),EM21,\" -\"))","v":500},{"$f":"IF(C21=0,\"\",IF(OR(EX21<>0,EW21=1),EX21,\" -\"))","v":500},{"$f":"IF(C21=0,\"\",IF(OR(FI21<>0,FH21=1),FI21,\" -\"))","v":500},{"$f":"IF(C21=0,\"\",IF(OR(FT21<>0,FS21=1),FT21,\" -\"))","v":500},{"$f":"IF(C21=0,\"\",IF(OR(GE21<>0,GD21=1),GE21,\" -\"))","v":500},{"$f":"IF(C21=0,\"\",IF(OR(GP21<>0,GO21=1),GP21,\" -\"))","v":500},{"$f":"IF(C21=0,\"\",IF(OR(HA21<>0,GZ21=1),HA21,\" -\"))","v":500},{"$f":"IF(C21=0,\"\",IF(OR(HL21<>0,HK21=1),HL21,\" -\"))","v":500},{"$f":"IF(C21=0,\"\",IF(AJ21<>0,AJ21,\" -\"))","v":" -"},{"$f":"IF(C21=0,\"\",IF(OR(HW21<>0,HV21=1),HW21,\" -\"))","v":" -"},{"$f":"IF(C21=0,\"\",IF(OR(IH21<>0,IG21=1),IH21,\" -\"))","v":" -"},{"$f":"IF(C21=0,\"\",IF(AL21=1,\"DNF\",IF(AL21=2,\"DSQ\",IF(AM21<>1,\"~ \"&ROUND(SUM(H21:X21),3),ROUND(SUM(H21:X21),3)))))","v":6488},null,null,{"$f":"IF(C21<>\"\",C21,\"\")","v":520},{"$f":"IF(AD21<>\"\",3,\"\")","v":3},1000,2000,{"$f":"IF(AD21<>\"\",(AF21/1000*AG21/1000)/2,\"\")","v":1},3,null,null,null,1,null,null,{"$f":"IF(C21=0,99999,IF(AL21>0,9999,SUM(H21:X21)-AN21))","v":6488},{"$f":"IF(C21=0,99999,IF(AL21=1,9999,SUM(Y21:Z21)))","v":0},null,null,{"$f":"IF(C21<>\"\",C21,\"\")","v":520},null,null,null,null,null,1,null,null,{"$f":"IF($C21=\"\",\"\", IF(BB21=1,0,IF(AZ21<>0,500,AU21*$AE21/$AH21+AV21/$AH21*5+AW21/$AH21*25+AX21*50+AY21*50)))","v":500},null,{"$f":"IF(C21<>\"\",C21,\"\")","v":520},null,null,null,null,null,1,null,null,{"$f":"IF($C21=\"\",\"\", IF(BM21=1,0,IF(BK21<>0,500,BF21*$AE21/$AH21+BG21/$AH21*5+BH21/$AH21*25+BI21*50+BJ21*50)))","v":500},null,{"$f":"IF(C21<>\"\",C21,\"\")","v":520},3,1,2,1,1,null,"time",null,{"$f":"IF($C21=\"\",\"\", IF(BX21=1,0,IF(BV21<>0,500,BQ21*$AE21/$AH21+BR21/$AH21*5+BS21/$AH21*25+BT21*50+BU21*50)))","v":164},null,{"$f":"IF(C21<>\"\",C21,\"\")","v":520},null,null,1,null,null,null,null,null,{"$f":"IF($C21=\"\",\"\", IF(CI21=1,0,IF(CG21<>0,500,CB21*$AE21/$AH21+CC21/$AH21*5+CD21/$AH21*25+CE21*50+CF21*50)))","v":25},null,{"$f":"IF(C21<>\"\",C21,\"\")","v":520},null,null,null,null,null,1,null,null,{"$f":"IF($C21=\"\",\"\", IF(CT21=1,0,IF(CR21<>0,500,CM21*$AE21/$AH21+CN21/$AH21*5+CO21/$AH21*25+CP21*50+CQ21*50)))","v":500},null,{"$f":"IF(C21<>\"\",C21,\"\")","v":520},null,null,2,null,null,null,null,null,{"$f":"IF($C21=\"\",\"\", IF(DE21=1,0,IF(DC21<>0,500,CX21*$AE21/$AH21+CY21/$AH21*5+CZ21/$AH21*25+DA21*50+DB21*50)))","v":50},null,{"$f":"IF(C21<>\"\",C21,\"\")","v":520},null,null,null,null,null,1,null,null,{"$f":"IF($C21=\"\",\"\", IF(DP21=1,0,IF(DN21<>0,500,DI21*$AE21/$AH21+DJ21/$AH21*5+DK21/$AH21*25+DL21*50+DM21*50)))","v":500},null,{"$f":"IF(C21<>\"\",C21,\"\")","v":520},3,3,1,3,1,null,"technical failure",null,{"$f":"IF($C21=\"\",\"\", IF(EA21=1,0,IF(DY21<>0,500,DT21*$AE21/$AH21+DU21/$AH21*5+DV21/$AH21*25+DW21*50+DX21*50)))","v":249},null,{"$f":"IF(C21<>\"\",C21,\"\")","v":520},null,null,null,null,null,1,null,null,{"$f":"IF($C21=\"\",\"\", IF(EL21=1,0,IF(EJ21<>0,500,EE21*$AE21/$AH21+EF21/$AH21*5+EG21/$AH21*25+EH21*50+EI21*50)))","v":500},null,{"$f":"IF(C21<>\"\",C21,\"\")","v":520},null,null,null,null,null,1,null,null,{"$f":"IF($C21=\"\",\"\", IF(EW21=1,0,IF(EU21<>0,500,EP21*$AE21/$AH21+EQ21/$AH21*5+ER21/$AH21*25+ES21*50+ET21*50)))","v":500},null,{"$f":"IF(C21<>\"\",C21,\"\")","v":520},null,null,null,null,null,1,null,null,{"$f":"IF($C21=\"\",\"\", IF(FH21=1,0,IF(FF21<>0,500,FA21*$AE21/$AH21+FB21/$AH21*5+FC21/$AH21*25+FD21*50+FE21*50)))","v":500},null,{"$f":"IF(C21<>\"\",C21,\"\")","v":520},null,null,null,null,null,1,null,null,{"$f":"IF($C21=\"\",\"\", IF(FS21=1,0,IF(FQ21<>0,500,FL21*$AE21/$AH21+FM21/$AH21*5+FN21/$AH21*25+FO21*50+FP21*50)))","v":500},null,{"$f":"IF(C21<>\"\",C21,\"\")","v":520},null,null,null,null,null,1,null,null,{"$f":"IF($C21=\"\",\"\", IF(GD21=1,0,IF(GB21<>0,500,FW21*$AE21/$AH21+FX21/$AH21*5+FY21/$AH21*25+FZ21*50+GA21*50)))","v":500},null,{"$f":"IF(C21<>\"\",C21,\"\")","v":520},null,null,null,null,null,1,null,null,{"$f":"IF($C21=\"\",\"\", IF(GO21=1,0,IF(GM21<>0,500,GH21*$AE21/$AH21+GI21/$AH21*5+GJ21/$AH21*25+GK21*50+GL21*50)))","v":500},null,{"$f":"IF(C21<>\"\",C21,\"\")","v":520},null,null,null,null,null,1,null,null,{"$f":"IF($C21=\"\",\"\", IF(GZ21=1,0,IF(GX21<>0,500,GS21*$AE21/$AH21+GT21/$AH21*5+GU21/$AH21*25+GV21*50+GW21*50)))","v":500},null,{"$f":"IF(C21<>\"\",C21,\"\")","v":520},null,null,null,null,null,1,null,null,{"$f":"IF($C21=\"\",\"\", IF(HK21=1,0,IF(HI21<>0,500,HD21*$AE21/$AH21+HE21/$AH21*5+HF21/$AH21*25+HG21*50+HH21*50)))","v":500},null,{"$f":"IF(C21<>\"\",C21,\"\")","v":520},null,null,null,null,null,null,null,null,{"$f":"IF($C21=\"\",\"\", IF(HV21=1,0,IF(HT21<>0,500,HO21*$AE21/$AH21+HP21/$AH21*5+HQ21/$AH21*25+HR21*50+HS21*50)))","v":0},null,{"$f":"IF(C21<>\"\",C21,\"\")","v":520},null,null,null,null,null,null,null,null,{"$f":"IF($C21=\"\",\"\", IF(IG21=1,0,IF(IE21<>0,500,HZ21*$AE21/$AH21+IA21/$AH21*5+IB21/$AH21*25+IC21*50+ID21*50)))","v":0}]
[null,{"$f":"IF(C22=0,\"\",ROW(C22)-4)","v":""},null,null,null,null,null,{"$f":"IF(C22=0,\"\",IF(OR(BB22=1,BC22<>0),BC22,\"-\"))","v":""},{"$f":"IF(C22=0,\"\",IF(OR(BM22=1,BN22<>0),BN22,\"-\"))","v":""},{"$f":"IF(C22=0,\"\",IF(OR(BX22=1,BY22<>0),BY22,\" -\"))","v":""},{"$f":"IF(C22=0,\"\",IF(OR(CJ22<>0,CI22=1),CJ22,\" -\"))","v":""},{"$f":"IF(C22=0,\"\",IF(OR(CU22<>0,CT22=1),CU22,\" -\"))","v":""},{"$f":"IF(C22=0,\"\",IF(OR(DF22<>0,DE22=1),DF22,\" -\"))","v":""},{"$f":"IF(C22=0,\"\",IF(OR(DQ22<>0,DP22=1),DQ22,\" -\"))","v":""},{"$f":"IF(C22=0,\"\",IF(OR(EB22<>0,EA22=1),EB22,\" -\"))","v":""},{"$f":"IF(C22=0,\"\",IF(OR(EM22<>0,EL22=1),EM22,\" -\"))","v":""},{"$f":"IF(C22=0,\"\",IF(OR(EX22<>0,EW22=1),EX22,\" -\"))","v":""},{"$f":"IF(C22=0,\"\",IF(OR(FI22<>0,FH22=1),FI22,\" -\"))","v":""},{"$f":"IF(C22=0,\"\",IF(OR(FT22<>0,FS22=1),FT22,\" -\"))","v":""},{"$f":"IF(C22=0,\"\",IF(OR(GE22<>0,GD22=1),GE22,\" -\"))","v":""},{"$f":"IF(C22=0,\"\",IF(OR(GP22<>0,GO22=1),GP22,\" -\"))","v":""},{"$f":"IF(C22=0,\"\",IF(OR(HA22<>0,GZ22=1),HA22,\" -\"))","v":""},{"$f":"IF(C22=0,\"\",IF(OR(HL22<>0,HK22=1),HL22,\" -\"))","v":""},{"$f":"IF(C22=0,\"\",IF(AJ22<>0,AJ22,\" -\"))","v":""},{"$f":"IF(C22=0,\"\",IF(OR(HW22<>0,HV22=1),HW22,\" -\"))","v":""},{"$f":"IF(C22=0,\"\",IF(OR(IH22<>0,IG22=1),IH22,\" -\"))","v":""},{"$f":"IF(C22=0,\"\",IF(AL22=1,\"DNF\",IF(AL22=2,\"DSQ\",IF(AM22<>1,\"~ \"&ROUND(SUM(H22:X22),3),ROUND(SUM(H22:X22),3)))))","v":""},null,null,{"$f":"IF(C22<>\"\",C22,\"\")","v":""},{"$f":"IF(AD22<>\"\",3,\"\")","v":""},null,null,{"$f":"IF(AD22<>\"\",(AF22/1000*AG22/1000)/2,\"\")","v":""},null,null,null,null,null,null,null,{"$f":"IF(C22=0,99999,IF(AL22>0,9999,SUM(H22:X22)-AN22))","v":99999},{"$f":"IF(C22=0,99999,IF(AL22=1,9999,SUM(Y22:Z22)))","v":99999},null,null,{"$f":"IF(C22<>\"\",C22,\"\")","v":""},null,null,null,null,null,null,null,null,{"$f":"IF($C22=\"\",\"\", IF(BB22=1,0,IF(AZ22<>0,500,AU22*$AE22/$AH22+AV22/$AH22*5+AW22/$AH22*25+AX22*50+AY22*50)))","v":""},null,{"$f":"IF(C22<>\"\",C22,\"\")","v":""},null,null,null,null,null,null,null,null,{"$f":"IF($C22=\"\",\"\", IF(BM22=1,0,IF(BK22<>0,500,BF22*$AE22/$AH22+BG22/$AH22*5+BH22/$AH22*25+BI22*50+BJ22*50)))","v":""},null,{"$f":"IF(C22<>\"\",C22,\"\")","v":""},null,null,null,null,null,null,null,null,{"$f":"IF($C22=\"\",\"\", IF(BX22=1,0,IF(BV22<>0,500,BQ22*$AE22/$AH22+BR22/$AH22*5+BS22/$AH22*25+BT22*50+BU22*50)))","v":""},null,{"$f":"IF(C22<>\"\",C22,\"\")","v":""},null,null,null,null,null,null,null,null,{"$f":"IF($C22=\"\",\"\", IF(CI22=1,0,IF(CG22<>0,500,CB22*$AE22/$AH22+CC22/$AH22*5+CD22/$AH22*25+CE22*50+CF22*50)))","v":""},null,{"$f":"IF(C22<>\"\",C22,\"\")","v":""},null,null,null,null,null,null,null,null,{"$f":"IF($C22=\"\",\"\", IF(CT22=1,0,IF(CR22<>0,500,CM22*$AE22/$AH22+CN22/$AH22*5+CO22/$AH22*25+CP22*50+CQ22*50)))","v":""},null,{"$f":"IF(C22<>\"\",C22,\"\")","v":""},null,null,null,null,null,null,null,null,{"$f":"IF($C22=\"\",\"\", IF(DE22=1,0,IF(DC22<>0,500,CX22*$AE22/$AH22+CY22/$AH22*5+CZ22/$AH22*25+DA22*50+DB22*50)))","v":""},null,{"$f":"IF(C22<>\"\",C22,\"\")","v":""},null,null,null,null,null,null,null,null,{"$f":"IF($C22=\"\",\"\", IF(DP22=1,0,IF(DN22<>0,500,DI22*$AE22/$AH22+DJ22/$AH22*5+DK22/$AH22*25+DL22*50+DM22*50)))","v":""},null,{"$f":"IF(C22<>\"\",C22,\"\")","v":""},null,null,null,null,null,null,null,null,{"$f":"IF($C22=\"\",\"\", IF(EA22=1,0,IF(DY22<>0,500,DT22*$AE22/$AH22+DU22/$AH22*5+DV22/$AH22*25+DW22*50+DX22*50)))","v":""},null,{"$f":"IF(C22<>\"\",C22,\"\")","v":""},null,null,null,null,null,null,null,null,{"$f":"IF($C22=\"\",\"\", IF(EL22=1,0,IF(EJ22<>0,500,EE22*$AE22/$AH22+EF22/$AH22*5+EG22/$AH22*25+EH22*50+EI22*50)))","v":""},null,{"$f":"IF(C22<>\"\",C22,\"\")","v":""},null,null,null,null,null,null,null,null,{"$f":"IF($C22=\"\",\"\", IF(EW22=1,0,IF(EU22<>0,500,EP22*$AE22/$AH22+EQ22/$AH22*5+ER22/$AH22*25+ES22*50+ET22*50)))","v":""},null,{"$f":"IF(C22<>\"\",C22,\"\")","v":""},null,null,null,null,null,null,null,null,{"$f":"IF($C22=\"\",\"\", IF(FH22=1,0,IF(FF22<>0,500,FA22*$AE22/$AH22+FB22/$AH22*5+FC22/$AH22*25+FD22*50+FE22*50)))","v":""},null,{"$f":"IF(C22<>\"\",C22,\"\")","v":""},null,null,null,null,null,null,null,null,{"$f":"IF($C22=\"\",\"\", IF(FS22=1,0,IF(FQ22<>0,500,FL22*$AE22/$AH22+FM22/$AH22*5+FN22/$AH22*25+FO22*50+FP22*50)))","v":""},null,{"$f":"IF(C22<>\"\",C22,\"\")","v":""},null,null,null,null,null,null,null,null,{"$f":"IF($C22=\"\",\"\", IF(GD22=1,0,IF(GB22<>0,500,FW22*$AE22/$AH22+FX22/$AH22*5+FY22/$AH22*25+FZ22*50+GA22*50)))","v":""},null,{"$f":"IF(C22<>\"\",C22,\"\")","v":""},null,null,null,null,null,null,null,null,{"$f":"IF($C22=\"\",\"\", IF(GO22=1,0,IF(GM22<>0,500,GH22*$AE22/$AH22+GI22/$AH22*5+GJ22/$AH22*25+GK22*50+GL22*50)))","v":""},null,{"$f":"IF(C22<>\"\",C22,\"\")","v":""},null,null,null,null,null,null,null,null,{"$f":"IF($C22=\"\",\"\", IF(GZ22=1,0,IF(GX22<>0,500,GS22*$AE22/$AH22+GT22/$AH22*5+GU22/$AH22*25+GV22*50+GW22*50)))","v":""},null,{"$f":"IF(C22<>\"\",C22,\"\")","v":""},null,null,null,null,null,null,null,null,{"$f":"IF($C22=\"\",\"\", IF(HK22=1,0,IF(HI22<>0,500,HD22*$AE22/$AH22+HE22/$AH22*5+HF22/$AH22*25+HG22*50+HH22*50)))","v":""},null,{"$f":"IF(C22<>\"\",C22,\"\")","v":""},null,null,null,null,null,null,null,null,{"$f":"IF($C22=\"\",\"\", IF(HV22=1,0,IF(HT22<>0,500,HO22*$AE22/$AH22+HP22/$AH22*5+HQ22/$AH22*25+HR22*50+HS22*50)))","v":""},null,{"$f":"IF(C22<>\"\",C22,\"\")","v":""},null,null,null,null,null,null,null,null,{"$f":"IF($C22=\"\",\"\", IF(IG22=1,0,IF(IE22<>0,500,HZ22*$AE22/$AH22+IA22/$AH22*5+IB22/$AH22*25+IC22*50+ID22*50)))","v":""}]
[null,{"$f":"IF(C23=0,\"\",ROW(C23)-4)","v":""},null,null,null,null,null,{"$f":"IF(C23=0,\"\",IF(OR(BB23=1,BC23<>0),BC23,\"-\"))","v":""},{"$f":"IF(C23=0,\"\",IF(OR(BM23=1,BN23<>0),BN23,\"-\"))","v":""},{"$f":"IF(C23=0,\"\",IF(OR(BX23=1,BY23<>0),BY23,\" -\"))","v":""},{"$f":"IF(C23=0,\"\",IF(OR(CJ23<>0,CI23=1),CJ23,\" -\"))","v":""},{"$f":"IF(C23=0,\"\",IF(OR(CU23<>0,CT23=1),CU23,\" -\"))","v":""},{"$f":"IF(C23=0,\"\",IF(OR(DF23<>0,DE23=1),DF23,\" -\"))","v":""},{"$f":"IF(C23=0,\"\",IF(OR(DQ23<>0,DP23=1),DQ23,\" -\"))","v":""},{"$f":"IF(C23=0,\"\",IF(OR(EB23<>0,EA23=1),EB23,\" -\"))","v":""},{"$f":"IF(C23=0,\"\",IF(OR(EM23<>0,EL23=1),EM23,\" -\"))","v":""},{"$f":"IF(C23=0,\"\",IF(OR(EX23<>0,EW23=1),EX23,\" -\"))","v":""},{"$f":"IF(C23=0,\"\",IF(OR(FI23<>0,FH23=1),FI23,\" -\"))","v":""},{"$f":"IF(C23=0,\"\",IF(OR(FT23<>0,FS23=1),FT23,\" -\"))","v":""},{"$f":"IF(C23=0,\"\",IF(OR(GE23<>0,GD23=1),GE23,\" -\"))","v":""},{"$f":"IF(C23=0,\"\",IF(OR(GP23<>0,GO23=1),GP23,\" -\"))","v":""},{"$f":"IF(C23=0,\"\",IF(OR(HA23<>0,GZ23=1),HA23,\" -\"))","v":""},{"$f":"IF(C23=0,\"\",IF(OR(HL23<>0,HK23=1),HL23,\" -\"))","v":""},{"$f":"IF(C23=0,\"\",IF(AJ23<>0,AJ23,\" -\"))","v":""},{"$f":"IF(C23=0,\"\",IF(OR(HW23<>0,HV23=1),HW23,\" -\"))","v":""},{"$f":"IF(C23=0,\"\",IF(OR(IH23<>0,IG23=1),IH23,\" -\"))","v":""},{"$f":"IF(C23=0,\"\",IF(AL23=1,\"DNF\",IF(AL23=2,\"DSQ\",IF(AM23<>1,\"~ \"&ROUND(SUM(H23:X23),3),ROUND(SUM(H23:X23),3)))))","v":""},null,null,{"$f":"IF(C23<>\"\",C23,\"\")","v":""},{"$f":"IF(AD23<>\"\",3,\"\")","v":""},null,null,{"$f":"IF(AD23<>\"\",(AF23/1000*AG23/1000)/2,\"\")","v":""},null,null,null,null,null,null,null,{"$f":"IF(C23=0,99999,IF(AL23>0,9999,SUM(H23:X23)-AN23))","v":99999},{"$f":"IF(C23=0,99999,IF(AL23=1,9999,SUM(Y23:Z23)))","v":99999},null,null,{"$f":"IF(C23<>\"\",C23,\"\")","v":""},null,null,null,null,null,null,null,null,{"$f":"IF($C23=\"\",\"\", IF(BB23=1,0,IF(AZ23<>0,500,AU23*$AE23/$AH23+AV23/$AH23*5+AW23/$AH23*25+AX23*50+AY23*50)))","v":""},null,{"$f":"IF(C23<>\"\",C23,\"\")","v":""},null,null,null,null,null,null,null,null,{"$f":"IF($C23=\"\",\"\", IF(BM23=1,0,IF(BK23<>0,500,BF23*$AE23/$AH23+BG23/$AH23*5+BH23/$AH23*25+BI23*50+BJ23*50)))","v":""},null,{"$f":"IF(C23<>\"\",C23,\"\")","v":""},null,null,null,null,null,null,null,null,{"$f":"IF($C23=\"\",\"\", IF(BX23=1,0,IF(BV23<>0,500,BQ23*$AE23/$AH23+BR23/$AH23*5+BS23/$AH23*25+BT23*50+BU23*50)))","v":""},null,{"$f":"IF(C23<>\"\",C23,\"\")","v":""},null,null,null,null,null,null,null,null,{"$f":"IF($C23=\"\",\"\", IF(CI23=1,0,IF(CG23<>0,500,CB23*$AE23/$AH23+CC23/$AH23*5+CD23/$AH23*25+CE23*50+CF23*50)))","v":""},null,{"$f":"IF(C23<>\"\",C23,\"\")","v":""},null,null,null,null,null,null,null,null,{"$f":"IF($C23=\"\",\"\", IF(CT23=1,0,IF(CR23<>0,500,CM23*$AE23/$AH23+CN23/$AH23*5+CO23/$AH23*25+CP23*50+CQ23*50)))","v":""},null,{"$f":"IF(C23<>\"\",C23,\"\")","v":""},null,null,null,null,null,null,null,null,{"$f":"IF($C23=\"\",\"\", IF(DE23=1,0,IF(DC23<>0,500,CX23*$AE23/$AH23+CY23/$AH23*5+CZ23/$AH23*25+DA23*50+DB23*50)))","v":""},null,{"$f":"IF(C23<>\"\",C23,\"\")","v":""},null,null,null,null,null,null,null,null,{"$f":"IF($C23=\"\",\"\", IF(DP23=1,0,IF(DN23<>0,500,DI23*$AE23/$AH23+DJ23/$AH23*5+DK23/$AH23*25+DL23*50+DM23*50)))","v":""},null,{"$f":"IF(C23<>\"\",C23,\"\")","v":""},null,null,null,null,null,null,null,null,{"$f":"IF($C23=\"\",\"\", IF(EA23=1,0,IF(DY23<>0,500,DT23*$AE23/$AH23+DU23/$AH23*5+DV23/$AH23*25+DW23*50+DX23*50)))","v":""},null,{"$f":"IF(C23<>\"\",C23,\"\")","v":""},null,null,null,null,null,null,null,null,{"$f":"IF($C23=\"\",\"\", IF(EL23=1,0,IF(EJ23<>0,500,EE23*$AE23/$AH23+EF23/$AH23*5+EG23/$AH23*25+EH23*50+EI23*50)))","v":""},null,{"$f":"IF(C23<>\"\",C23,\"\")","v":""},null,null,null,null,null,null,null,null,{"$f":"IF($C23=\"\",\"\", IF(EW23=1,0,IF(EU23<>0,500,EP23*$AE23/$AH23+EQ23/$AH23*5+ER23/$AH23*25+ES23*50+ET23*50)))","v":""},null,{"$f":"IF(C23<>\"\",C23,\"\")","v":""},null,null,null,null,null,null,null,null,{"$f":"IF($C23=\"\",\"\", IF(FH23=1,0,IF(FF23<>0,500,FA23*$AE23/$AH23+FB23/$AH23*5+FC23/$AH23*25+FD23*50+FE23*50)))","v":""},null,{"$f":"IF(C23<>\"\",C23,\"\")","v":""},null,null,null,null,null,null,null,null,{"$f":"IF($C23=\"\",\"\", IF(FS23=1,0,IF(FQ23<>0,500,FL23*$AE23/$AH23+FM23/$AH23*5+FN23/$AH23*25+FO23*50+FP23*50)))","v":""},null,{"$f":"IF(C23<>\"\",C23,\"\")","v":""},null,null,null,null,null,null,null,null,{"$f":"IF($C23=\"\",\"\", IF(GD23=1,0,IF(GB23<>0,500,FW23*$AE23/$AH23+FX23/$AH23*5+FY23/$AH23*25+FZ23*50+GA23*50)))","v":""},null,{"$f":"IF(C23<>\"\",C23,\"\")","v":""},null,null,null,null,null,null,null,null,{"$f":"IF($C23=\"\",\"\", IF(GO23=1,0,IF(GM23<>0,500,GH23*$AE23/$AH23+GI23/$AH23*5+GJ23/$AH23*25+GK23*50+GL23*50)))","v":""},null,{"$f":"IF(C23<>\"\",C23,\"\")","v":""},null,null,null,null,null,null,null,null,{"$f":"IF($C23=\"\",\"\", IF(GZ23=1,0,IF(GX23<>0,500,GS23*$AE23/$AH23+GT23/$AH23*5+GU23/$AH23*25+GV23*50+GW23*50)))","v":""},null,{"$f":"IF(C23<>\"\",C23,\"\")","v":""},null,null,null,null,null,null,null,null,{"$f":"IF($C23=\"\",\"\", IF(HK23=1,0,IF(HI23<>0,500,HD23*$AE23/$AH23+HE23/$AH23*5+HF23/$AH23*25+HG23*50+HH23*50)))","v":""},null,{"$f":"IF(C23<>\"\",C23,\"\")","v":""},null,null,null,null,null,null,null,null,{"$f":"IF($C23=\"\",\"\", IF(HV23=1,0,IF(HT23<>0,500,HO23*$AE23/$AH23+HP23/$AH23*5+HQ23/$AH23*25+HR23*50+HS23*50)))","v":""},null,{"$f":"IF(C23<>\"\",C23,\"\")","v":""},null,null,null,null,null,null,null,null,{"$f":"IF($C23=\"\",\"\", IF(IG23=1,0,IF(IE23<>0,500,HZ23*$AE23/$AH23+IA23/$AH23*5+IB23/$AH23*25+IC23*50+ID23*50)))","v":""}]
[null,{"$f":"IF(C24=0,\"\",ROW(C24)-4)","v":""},null,null,null,null,null,{"$f":"IF(C24=0,\"\",IF(OR(BB24=1,BC24<>0),BC24,\"-\"))","v":""},{"$f":"IF(C24=0,\"\",IF(OR(BM24=1,BN24<>0),BN24,\"-\"))","v":""},{"$f":"IF(C24=0,\"\",IF(OR(BX24=1,BY24<>0),BY24,\" -\"))","v":""},{"$f":"IF(C24=0,\"\",IF(OR(CJ24<>0,CI24=1),CJ24,\" -\"))","v":""},{"$f":"IF(C24=0,\"\",IF(OR(CU24<>0,CT24=1),CU24,\" -\"))","v":""},{"$f":"IF(C24=0,\"\",IF(OR(DF24<>0,DE24=1),DF24,\" -\"))","v":""},{"$f":"IF(C24=0,\"\",IF(OR(DQ24<>0,DP24=1),DQ24,\" -\"))","v":""},{"$f":"IF(C24=0,\"\",IF(OR(EB24<>0,EA24=1),EB24,\" -\"))","v":""},{"$f":"IF(C24=0,\"\",IF(OR(EM24<>0,EL24=1),EM24,\" -\"))","v":""},{"$f":"IF(C24=0,\"\",IF(OR(EX24<>0,EW24=1),EX24,\" -\"))","v":""},{"$f":"IF(C24=0,\"\",IF(OR(FI24<>0,FH24=1),FI24,\" -\"))","v":""},{"$f":"IF(C24=0,\"\",IF(OR(FT24<>0,FS24=1),FT24,\" -\"))","v":""},{"$f":"IF(C24=0,\"\",IF(OR(GE24<>0,GD24=1),GE24,\" -\"))","v":""},{"$f":"IF(C24=0,\"\",IF(OR(GP24<>0,GO24=1),GP24,\" -\"))","v":""},{"$f":"IF(C24=0,\"\",IF(OR(HA24<>0,GZ24=1),HA24,\" -\"))","v":""},{"$f":"IF(C24=0,\"\",IF(OR(HL24<>0,HK24=1),HL24,\" -\"))","v":""},{"$f":"IF(C24=0,\"\",IF(AJ24<>0,AJ24,\" -\"))","v":""},{"$f":"IF(C24=0,\"\",IF(OR(HW24<>0,HV24=1),HW24,\" -\"))","v":""},{"$f":"IF(C24=0,\"\",IF(OR(IH24<>0,IG24=1),IH24,\" -\"))","v":""},{"$f":"IF(C24=0,\"\",IF(AL24=1,\"DNF\",IF(AL24=2,\"DSQ\",IF(AM24<>1,\"~ \"&ROUND(SUM(H24:X24),3),ROUND(SUM(H24:X24),3)))))","v":""},null,null,{"$f":"IF(C24<>\"\",C24,\"\")","v":""},{"$f":"IF(AD24<>\"\",3,\"\")","v":""},null,null,{"$f":"IF(AD24<>\"\",(AF24/1000*AG24/1000)/2,\"\")","v":""},null,null,null,null,null,null,null,{"$f":"IF(C24=0,99999,IF(AL24>0,9999,SUM(H24:X24)-AN24))","v":99999},{"$f":"IF(C24=0,99999,IF(AL24=1,9999,SUM(Y24:Z24)))","v":99999},null,null,{"$f":"IF(C24<>\"\",C24,\"\")","v":""},null,null,null,null,null,null,null,null,{"$f":"IF($C24=\"\",\"\", IF(BB24=1,0,IF(AZ24<>0,500,AU24*$AE24/$AH24+AV24/$AH24*5+AW24/$AH24*25+AX24*50+AY24*50)))","v":""},null,{"$f":"IF(C24<>\"\",C24,\"\")","v":""},null,null,null,null,null,null,null,null,{"$f":"IF($C24=\"\",\"\", IF(BM24=1,0,IF(BK24<>0,500,BF24*$AE24/$AH24+BG24/$AH24*5+BH24/$AH24*25+BI24*50+BJ24*50)))","v":""},null,{"$f":"IF(C24<>\"\",C24,\"\")","v":""},null,null,null,null,null,null,null,null,{"$f":"IF($C24=\"\",\"\", IF(BX24=1,0,IF(BV24<>0,500,BQ24*$AE24/$AH24+BR24/$AH24*5+BS24/$AH24*25+BT24*50+BU24*50)))","v":""},null,{"$f":"IF(C24<>\"\",C24,\"\")","v":""},null,null,null,null,null,null,null,null,{"$f":"IF($C24=\"\",\"\", IF(CI24=1,0,IF(CG24<>0,500,CB24*$AE24/$AH24+CC24/$AH24*5+CD24/$AH24*25+CE24*50+CF24*50)))","v":""},null,{"$f":"IF(C24<>\"\",C24,\"\")","v":""},null,null,null,null,null,null,null,null,{"$f":"IF($C24=\"\",\"\", IF(CT24=1,0,IF(CR24<>0,500,CM24*$AE24/$AH24+CN24/$AH24*5+CO24/$AH24*25+CP24*50+CQ24*50)))","v":""},null,{"$f":"IF(C24<>\"\",C24,\"\")","v":""},null,null,null,null,null,null,null,null,{"$f":"IF($C24=\"\",\"\", IF(DE24=1,0,IF(DC24<>0,500,CX24*$AE24/$AH24+CY24/$AH24*5+CZ24/$AH24*25+DA24*50+DB24*50)))","v":""},null,{"$f":"IF(C24<>\"\",C24,\"\")","v":""},null,null,null,null,null,null,null,null,{"$f":"IF($C24=\"\",\"\", IF(DP24=1,0,IF(DN24<>0,500,DI24*$AE24/$AH24+DJ24/$AH24*5+DK24/$AH24*25+DL24*50+DM24*50)))","v":""},null,{"$f":"IF(C24<>\"\",C24,\"\")","v":""},null,null,null,null,null,null,null,null,{"$f":"IF($C24=\"\",\"\", IF(EA24=1,0,IF(DY24<>0,500,DT24*$AE24/$AH24+DU24/$AH24*5+DV24/$AH24*25+DW24*50+DX24*50)))","v":""},null,{"$f":"IF(C24<>\"\",C24,\"\")","v":""},null,null,null,null,null,null,null,null,{"$f":"IF($C24=\"\",\"\", IF(EL24=1,0,IF(EJ24<>0,500,EE24*$AE24/$AH24+EF24/$AH24*5+EG24/$AH24*25+EH24*50+EI24*50)))","v":""},null,{"$f":"IF(C24<>\"\",C24,\"\")","v":""},null,null,null,null,null,null,null,null,{"$f":"IF($C24=\"\",\"\", IF(EW24=1,0,IF(EU24<>0,500,EP24*$AE24/$AH24+EQ24/$AH24*5+ER24/$AH24*25+ES24*50+ET24*50)))","v":""},null,{"$f":"IF(C24<>\"\",C24,\"\")","v":""},null,null,null,null,null,null,null,null,{"$f":"IF($C24=\"\",\"\", IF(FH24=1,0,IF(FF24<>0,500,FA24*$AE24/$AH24+FB24/$AH24*5+FC24/$AH24*25+FD24*50+FE24*50)))","v":""},null,{"$f":"IF(C24<>\"\",C24,\"\")","v":""},null,null,null,null,null,null,null,null,{"$f":"IF($C24=\"\",\"\", IF(FS24=1,0,IF(FQ24<>0,500,FL24*$AE24/$AH24+FM24/$AH24*5+FN24/$AH24*25+FO24*50+FP24*50)))","v":""},null,{"$f":"IF(C24<>\"\",C24,\"\")","v":""},null,null,null,null,null,null,null,null,{"$f":"IF($C24=\"\",\"\", IF(GD24=1,0,IF(GB24<>0,500,FW24*$AE24/$AH24+FX24/$AH24*5+FY24/$AH24*25+FZ24*50+GA24*50)))","v":""},null,{"$f":"IF(C24<>\"\",C24,\"\")","v":""},null,null,null,null,null,null,null,null,{"$f":"IF($C24=\"\",\"\", IF(GO24=1,0,IF(GM24<>0,500,GH24*$AE24/$AH24+GI24/$AH24*5+GJ24/$AH24*25+GK24*50+GL24*50)))","v":""},null,{"$f":"IF(C24<>\"\",C24,\"\")","v":""},null,null,null,null,null,null,null,null,{"$f":"IF($C24=\"\",\"\", IF(GZ24=1,0,IF(GX24<>0,500,GS24*$AE24/$AH24+GT24/$AH24*5+GU24/$AH24*25+GV24*50+GW24*50)))","v":""},null,{"$f":"IF(C24<>\"\",C24,\"\")","v":""},null,null,null,null,null,null,null,null,{"$f":"IF($C24=\"\",\"\", IF(HK24=1,0,IF(HI24<>0,500,HD24*$AE24/$AH24+HE24/$AH24*5+HF24/$AH24*25+HG24*50+HH24*50)))","v":""},null,{"$f":"IF(C24<>\"\",C24,\"\")","v":""},null,null,null,null,null,null,null,null,{"$f":"IF($C24=\"\",\"\", IF(HV24=1,0,IF(HT24<>0,500,HO24*$AE24/$AH24+HP24/$AH24*5+HQ24/$AH24*25+HR24*50+HS24*50)))","v":""},null,{"$f":"IF(C24<>\"\",C24,\"\")","v":""},null,null,null,null,null,null,null,null,{"$f":"IF($C24=\"\",\"\", IF(IG24=1,0,IF(IE24<>0,500,HZ24*$AE24/$AH24+IA24/$AH24*5+IB24/$AH24*25+IC24*50+ID24*50)))","v":""}]
[null,{"$f":"IF(C25=0,\"\",ROW(C25)-4)","v":""},null,null,null,null,null,{"$f":"IF(C25=0,\"\",IF(OR(BB25=1,BC25<>0),BC25,\"-\"))","v":""},{"$f":"IF(C25=0,\"\",IF(OR(BM25=1,BN25<>0),BN25,\"-\"))","v":""},{"$f":"IF(C25=0,\"\",IF(OR(BX25=1,BY25<>0),BY25,\" -\"))","v":""},{"$f":"IF(C25=0,\"\",IF(OR(CJ25<>0,CI25=1),CJ25,\" -\"))","v":""},{"$f":"IF(C25=0,\"\",IF(OR(CU25<>0,CT25=1),CU25,\" -\"))","v":""},{"$f":"IF(C25=0,\"\",IF(OR(DF25<>0,DE25=1),DF25,\" -\"))","v":""},{"$f":"IF(C25=0,\"\",IF(OR(DQ25<>0,DP25=1),DQ25,\" -\"))","v":""},{"$f":"IF(C25=0,\"\",IF(OR(EB25<>0,EA25=1),EB25,\" -\"))","v":""},{"$f":"IF(C25=0,\"\",IF(OR(EM25<>0,EL25=1),EM25,\" -\"))","v":""},{"$f":"IF(C25=0,\"\",IF(OR(EX25<>0,EW25=1),EX25,\" -\"))","v":""},{"$f":"IF(C25=0,\"\",IF(OR(FI25<>0,FH25=1),FI25,\" -\"))","v":""},{"$f":"IF(C25=0,\"\",IF(OR(FT25<>0,FS25=1),FT25,\" -\"))","v":""},{"$f":"IF(C25=0,\"\",IF(OR(GE25<>0,GD25=1),GE25,\" -\"))","v":""},{"$f":"IF(C25=0,\"\",IF(OR(GP25<>0,GO25=1),GP25,\" -\"))","v":""},{"$f":"IF(C25=0,\"\",IF(OR(HA25<>0,GZ25=1),HA25,\" -\"))","v":""},{"$f":"IF(C25=0,\"\",IF(OR(HL25<>0,HK25=1),HL25,\" -\"))","v":""},{"$f":"IF(C25=0,\"\",IF(AJ25<>0,AJ25,\" -\"))","v":""},{"$f":"IF(C25=0,\"\",IF(OR(HW25<>0,HV25=1),HW25,\" -\"))","v":""},{"$f":"IF(C25=0,\"\",IF(OR(IH25<>0,IG25=1),IH25,\" -\"))","v":""},{"$f":"IF(C25=0,\"\",IF(AL25=1,\"DNF\",IF(AL25=2,\"DSQ\",IF(AM25<>1,\"~ \"&ROUND(SUM(H25:X25),3),ROUND(SUM(H25:X25),3)))))","v":""},null,null,{"$f":"IF(C25<>\"\",C25,\"\")","v":""},{"$f":"IF(AD25<>\"\",3,\"\")","v":""},null,null,{"$f":"IF(AD25<>\"\",(AF25/1000*AG25/1000)/2,\"\")","v":""},null,null,null,null,null,null,null,{"$f":"IF(C25=0,99999,IF(AL25>0,9999,SUM(H25:X25)-AN25))","v":99999},{"$f":"IF(C25=0,99999,IF(AL25=1,9999,SUM(Y25:Z25)))","v":99999},null,null,{"$f":"IF(C25<>\"\",C25,\"\")","v":""},null,null,null,null,null,null,null,null,{"$f":"IF($C25=\"\",\"\", IF(BB25=1,0,IF(AZ25<>0,500,AU25*$AE25/$AH25+AV25/$AH25*5+AW25/$AH25*25+AX25*50+AY25*50)))","v":""},null,{"$f":"IF(C25<>\"\",C25,\"\")","v":""},null,null,null,null,null,null,null,null,{"$f":"IF($C25=\"\",\"\", IF(BM25=1,0,IF(BK25<>0,500,BF25*$AE25/$AH25+BG25/$AH25*5+BH25/$AH25*25+BI25*50+BJ25*50)))","v":""},null,{"$f":"IF(C25<>\"\",C25,\"\")","v":""},null,null,null,null,null,null,null,null,{"$f":"IF($C25=\"\",\"\", IF(BX25=1,0,IF(BV25<>0,500,BQ25*$AE25/$AH25+BR25/$AH25*5+BS25/$AH25*25+BT25*50+BU25*50)))","v":""},null,{"$f":"IF(C25<>\"\",C25,\"\")","v":""},null,null,null,null,null,null,null,null,{"$f":"IF($C25=\"\",\"\", IF(CI25=1,0,IF(CG25<>0,500,CB25*$AE25/$AH25+CC25/$AH25*5+CD25/$AH25*25+CE25*50+CF25*50)))","v":""},null,{"$f":"IF(C25<>\"\",C25,\"\")","v":""},null,null,null,null,null,null,null,null,{"$f":"IF($C25=\"\",\"\", IF(CT25=1,0,IF(CR25<>0,500,CM25*$AE25/$AH25+CN25/$AH25*5+CO25/$AH25*25+CP25*50+CQ25*50)))","v":""},null,{"$f":"IF(C25<>\"\",C25,\"\")","v":""},null,null,null,null,null,null,null,null,{"$f":"IF($C25=\"\",\"\", IF(DE25=1,0,IF(DC25<>0,500,CX25*$AE25/$AH25+CY25/$AH25*5+CZ25/$AH25*25+DA25*50+DB25*50)))","v":""},null,{"$f":"IF(C25<>\"\",C25,\"\")","v":""},null,null,null,null,null,null,null,null,{"$f":"IF($C25=\"\",\"\", IF(DP25=1,0,IF(DN25<>0,500,DI25*$AE25/$AH25+DJ25/$AH25*5+DK25/$AH25*25+DL25*50+DM25*50)))","v":""},null,{"$f":"IF(C25<>\"\",C25,\"\")","v":""},null,null,null,null,null,null,null,null,{"$f":"IF($C25=\"\",\"\", IF(EA25=1,0,IF(DY25<>0,500,DT25*$AE25/$AH25+DU25/$AH25*5+DV25/$AH25*25+DW25*50+DX25*50)))","v":""},null,{"$f":"IF(C25<>\"\",C25,\"\")","v":""},null,null,null,null,null,null,null,null,{"$f":"IF($C25=\"\",\"\", IF(EL25=1,0,IF(EJ25<>0,500,EE25*$AE25/$AH25+EF25/$AH25*5+EG25/$AH25*25+EH25*50+EI25*50)))","v":""},null,{"$f":"IF(C25<>\"\",C25,\"\")","v":""},null,null,null,null,null,null,null,null,{"$f":"IF($C25=\"\",\"\", IF(EW25=1,0,IF(EU25<>0,500,EP25*$AE25/$AH25+EQ25/$AH25*5+ER25/$AH25*25+ES25*50+ET25*50)))","v":""},null,{"$f":"IF(C25<>\"\",C25,\"\")","v":""},null,null,null,null,null,null,null,null,{"$f":"IF($C25=\"\",\"\", IF(FH25=1,0,IF(FF25<>0,500,FA25*$AE25/$AH25+FB25/$AH25*5+FC25/$AH25*25+FD25*50+FE25*50)))","v":""},null,{"$f":"IF(C25<>\"\",C25,\"\")","v":""},null,null,null,null,null,null,null,null,{"$f":"IF($C25=\"\",\"\", IF(FS25=1,0,IF(FQ25<>0,500,FL25*$AE25/$AH25+FM25/$AH25*5+FN25/$AH25*25+FO25*50+FP25*50)))","v":""},null,{"$f":"IF(C25<>\"\",C25,\"\")","v":""},null,null,null,null,null,null,null,null,{"$f":"IF($C25=\"\",\"\", IF(GD25=1,0,IF(GB25<>0,500,FW25*$AE25/$AH25+FX25/$AH25*5+FY25/$AH25*25+FZ25*50+GA25*50)))","v":""},null,{"$f":"IF(C25<>\"\",C25,\"\")","v":""},null,null,null,null,null,null,null,null,{"$f":"IF($C25=\"\",\"\", IF(GO25=1,0,IF(GM25<>0,500,GH25*$AE25/$AH25+GI25/$AH25*5+GJ25/$AH25*25+GK25*50+GL25*50)))","v":""},null,{"$f":"IF(C25<>\"\",C25,\"\")","v":""},null,null,null,null,null,null,null,null,{"$f":"IF($C25=\"\",\"\", IF(GZ25=1,0,IF(GX25<>0,500,GS25*$AE25/$AH25+GT25/$AH25*5+GU25/$AH25*25+GV25*50+GW25*50)))","v":""},null,{"$f":"IF(C25<>\"\",C25,\"\")","v":""},null,null,null,null,null,null,null,null,{"$f":"IF($C25=\"\",\"\", IF(HK25=1,0,IF(HI25<>0,500,HD25*$AE25/$AH25+HE25/$AH25*5+HF25/$AH25*25+HG25*50+HH25*50)))","v":""},null,{"$f":"IF(C25<>\"\",C25,\"\")","v":""},null,null,null,null,null,null,null,null,{"$f":"IF($C25=\"\",\"\", IF(HV25=1,0,IF(HT25<>0,500,HO25*$AE25/$AH25+HP25/$AH25*5+HQ25/$AH25*25+HR25*50+HS25*50)))","v":""},null,{"$f":"IF(C25<>\"\",C25,\"\")","v":""},null,null,null,null,null,null,null,null,{"$f":"IF($C25=\"\",\"\", IF(IG25=1,0,IF(IE25<>0,500,HZ25*$AE25/$AH25+IA25/$AH25*5+IB25/$AH25*25+IC25*50+ID25*50)))","v":""}]
[null,{"$f":"IF(C26=0,\"\",ROW(C26)-4)","v":""},null,null,null,null,null,{"$f":"IF(C26=0,\"\",IF(OR(BB26=1,BC26<>0),BC26,\"-\"))","v":""},{"$f":"IF(C26=0,\"\",IF(OR(BM26=1,BN26<>0),BN26,\"-\"))","v":""},{"$f":"IF(C26=0,\"\",IF(OR(BX26=1,BY26<>0),BY26,\" -\"))","v":""},{"$f":"IF(C26=0,\"\",IF(OR(CJ26<>0,CI26=1),CJ26,\" -\"))","v":""},{"$f":"IF(C26=0,\"\",IF(OR(CU26<>0,CT26=1),CU26,\" -\"))","v":""},{"$f":"IF(C26=0,\"\",IF(OR(DF26<>0,DE26=1),DF26,\" -\"))","v":""},{"$f":"IF(C26=0,\"\",IF(OR(DQ26<>0,DP26=1),DQ26,\" -\"))","v":""},{"$f":"IF(C26=0,\"\",IF(OR(EB26<>0,EA26=1),EB26,\" -\"))","v":""},{"$f":"IF(C26=0,\"\",IF(OR(EM26<>0,EL26=1),EM26,\" -\"))","v":""},{"$f":"IF(C26=0,\"\",IF(OR(EX26<>0,EW26=1),EX26,\" -\"))","v":""},{"$f":"IF(C26=0,\"\",IF(OR(FI26<>0,FH26=1),FI26,\" -\"))","v":""},{"$f":"IF(C26=0,\"\",IF(OR(FT26<>0,FS26=1),FT26,\" -\"))","v":""},{"$f":"IF(C26=0,\"\",IF(OR(GE26<>0,GD26=1),GE26,\" -\"))","v":""},{"$f":"IF(C26=0,\"\",IF(OR(GP26<>0,GO26=1),GP26,\" -\"))","v":""},{"$f":"IF(C26=0,\"\",IF(OR(HA26<>0,GZ26=1),HA26,\" -\"))","v":""},{"$f":"IF(C26=0,\"\",IF(OR(HL26<>0,HK26=1),HL26,\" -\"))","v":""},{"$f":"IF(C26=0,\"\",IF(AJ26<>0,AJ26,\" -\"))","v":""},{"$f":"IF(C26=0,\"\",IF(OR(HW26<>0,HV26=1),HW26,\" -\"))","v":""},{"$f":"IF(C26=0,\"\",IF(OR(IH26<>0,IG26=1),IH26,\" -\"))","v":""},{"$f":"IF(C26=0,\"\",IF(AL26=1,\"DNF\",IF(AL26=2,\"DSQ\",IF(AM26<>1,\"~ \"&ROUND(SUM(H26:X26),3),ROUND(SUM(H26:X26),3)))))","v":""},null,null,{"$f":"IF(C26<>\"\",C26,\"\")","v":""},{"$f":"IF(AD26<>\"\",3,\"\")","v":""},null,null,{"$f":"IF(AD26<>\"\",(AF26/1000*AG26/1000)/2,\"\")","v":""},null,null,null,null,null,null,null,{"$f":"IF(C26=0,99999,IF(AL26>0,9999,SUM(H26:X26)-AN26))","v":99999},{"$f":"IF(C26=0,99999,IF(AL26=1,9999,SUM(Y26:Z26)))","v":99999},null,null,{"$f":"IF(C26<>\"\",C26,\"\")","v":""},null,null,null,null,null,null,null,null,{"$f":"IF($C26=\"\",\"\", IF(BB26=1,0,IF(AZ26<>0,500,AU26*$AE26/$AH26+AV26/$AH26*5+AW26/$AH26*25+AX26*50+AY26*50)))","v":""},null,{"$f":"IF(C26<>\"\",C26,\"\")","v":""},null,null,null,null,null,null,null,null,{"$f":"IF($C26=\"\",\"\", IF(BM26=1,0,IF(BK26<>0,500,BF26*$AE26/$AH26+BG26/$AH26*5+BH26/$AH26*25+BI26*50+BJ26*50)))","v":""},null,{"$f":"IF(C26<>\"\",C26,\"\")","v":""},null,null,null,null,null,null,null,null,{"$f":"IF($C26=\"\",\"\", IF(BX26=1,0,IF(BV26<>0,500,BQ26*$AE26/$AH26+BR26/$AH26*5+BS26/$AH26*25+BT26*50+BU26*50)))","v":""},null,{"$f":"IF(C26<>\"\",C26,\"\")","v":""},null,null,null,null,null,null,null,null,{"$f":"IF($C26=\"\",\"\", IF(CI26=1,0,IF(CG26<>0,500,CB26*$AE26/$AH26+CC26/$AH26*5+CD26/$AH26*25+CE26*50+CF26*50)))","v":""},null,{"$f":"IF(C26<>\"\",C26,\"\")","v":""},null,null,null,null,null,null,null,null,{"$f":"IF($C26=\"\",\"\", IF(CT26=1,0,IF(CR26<>0,500,CM26*$AE26/$AH26+CN26/$AH26*5+CO26/$AH26*25+CP26*50+CQ26*50)))","v":""},null,{"$f":"IF(C26<>\"\",C26,\"\")","v":""},null,null,null,null,null,null,null,null,{"$f":"IF($C26=\"\",\"\", IF(DE26=1,0,IF(DC26<>0,500,CX26*$AE26/$AH26+CY26/$AH26*5+CZ26/$AH26*25+DA26*50+DB26*50)))","v":""},null,{"$f":"IF(C26<>\"\",C26,\"\")","v":""},null,null,null,null,null,null,null,null,{"$f":"IF($C26=\"\",\"\", IF(DP26=1,0,IF(DN26<>0,500,DI26*$AE26/$AH26+DJ26/$AH26*5+DK26/$AH26*25+DL26*50+DM26*50)))","v":""},null,{"$f":"IF(C26<>\"\",C26,\"\")","v":""},null,null,null,null,null,null,null,null,{"$f":"IF($C26=\"\",\"\", IF(EA26=1,0,IF(DY26<>0,500,DT26*$AE26/$AH26+DU26/$AH26*5+DV26/$AH26*25+DW26*50+DX26*50)))","v":""},null,{"$f":"IF(C26<>\"\",C26,\"\")","v":""},null,null,null,null,null,null,null,null,{"$f":"IF($C26=\"\",\"\", IF(EL26=1,0,IF(EJ26<>0,500,EE26*$AE26/$AH26+EF26/$AH26*5+EG26/$AH26*25+EH26*50+EI26*50)))","v":""},null,{"$f":"IF(C26<>\"\",C26,\"\")","v":""},null,null,null,null,null,null,null,null,{"$f":"IF($C26=\"\",\"\", IF(EW26=1,0,IF(EU26<>0,500,EP26*$AE26/$AH26+EQ26/$AH26*5+ER26/$AH26*25+ES26*50+ET26*50)))","v":""},null,{"$f":"IF(C26<>\"\",C26,\"\")","v":""},null,null,null,null,null,null,null,null,{"$f":"IF($C26=\"\",\"\", IF(FH26=1,0,IF(FF26<>0,500,FA26*$AE26/$AH26+FB26/$AH26*5+FC26/$AH26*25+FD26*50+FE26*50)))","v":""},null,{"$f":"IF(C26<>\"\",C26,\"\")","v":""},null,null,null,null,null,null,null,null,{"$f":"IF($C26=\"\",\"\", IF(FS26=1,0,IF(FQ26<>0,500,FL26*$AE26/$AH26+FM26/$AH26*5+FN26/$AH26*25+FO26*50+FP26*50)))","v":""},null,{"$f":"IF(C26<>\"\",C26,\"\")","v":""},null,null,null,null,null,null,null,null,{"$f":"IF($C26=\"\",\"\", IF(GD26=1,0,IF(GB26<>0,500,FW26*$AE26/$AH26+FX26/$AH26*5+FY26/$AH26*25+FZ26*50+GA26*50)))","v":""},null,{"$f":"IF(C26<>\"\",C26,\"\")","v":""},null,null,null,null,null,null,null,null,{"$f":"IF($C26=\"\",\"\", IF(GO26=1,0,IF(GM26<>0,500,GH26*$AE26/$AH26+GI26/$AH26*5+GJ26/$AH26*25+GK26*50+GL26*50)))","v":""},null,{"$f":"IF(C26<>\"\",C26,\"\")","v":""},null,null,null,null,null,null,null,null,{"$f":"IF($C26=\"\",\"\", IF(GZ26=1,0,IF(GX26<>0,500,GS26*$AE26/$AH26+GT26/$AH26*5+GU26/$AH26*25+GV26*50+GW26*50)))","v":""},null,{"$f":"IF(C26<>\"\",C26,\"\")","v":""},null,null,null,null,null,null,null,null,{"$f":"IF($C26=\"\",\"\", IF(HK26=1,0,IF(HI26<>0,500,HD26*$AE26/$AH26+HE26/$AH26*5+HF26/$AH26*25+HG26*50+HH26*50)))","v":""},null,{"$f":"IF(C26<>\"\",C26,\"\")","v":""},null,null,null,null,null,null,null,null,{"$f":"IF($C26=\"\",\"\", IF(HV26=1,0,IF(HT26<>0,500,HO26*$AE26/$AH26+HP26/$AH26*5+HQ26/$AH26*25+HR26*50+HS26*50)))","v":""},null,{"$f":"IF(C26<>\"\",C26,\"\")","v":""},null,null,null,null,null,null,null,null,{"$f":"IF($C26=\"\",\"\", IF(IG26=1,0,IF(IE26<>0,500,HZ26*$AE26/$AH26+IA26/$AH26*5+IB26/$AH26*25+IC26*50+ID26*50)))","v":""}]
[null,{"$f":"IF(C27=0,\"\",ROW(C27)-4)","v":""},null,null,null,null,null,{"$f":"IF(C27=0,\"\",IF(OR(BB27=1,BC27<>0),BC27,\"-\"))","v":""},{"$f":"IF(C27=0,\"\",IF(OR(BM27=1,BN27<>0),BN27,\"-\"))","v":""},{"$f":"IF(C27=0,\"\",IF(OR(BX27=1,BY27<>0),BY27,\" -\"))","v":""},{"$f":"IF(C27=0,\"\",IF(OR(CJ27<>0,CI27=1),CJ27,\" -\"))","v":""},{"$f":"IF(C27=0,\"\",IF(OR(CU27<>0,CT27=1),CU27,\" -\"))","v":""},{"$f":"IF(C27=0,\"\",IF(OR(DF27<>0,DE27=1),DF27,\" -\"))","v":""},{"$f":"IF(C27=0,\"\",IF(OR(DQ27<>0,DP27=1),DQ27,\" -\"))","v":""},{"$f":"IF(C27=0,\"\",IF(OR(EB27<>0,EA27=1),EB27,\" -\"))","v":""},{"$f":"IF(C27=0,\"\",IF(OR(EM27<>0,EL27=1),EM27,\" -\"))","v":""},{"$f":"IF(C27=0,\"\",IF(OR(EX27<>0,EW27=1),EX27,\" -\"))","v":""},{"$f":"IF(C27=0,\"\",IF(OR(FI27<>0,FH27=1),FI27,\" -\"))","v":""},{"$f":"IF(C27=0,\"\",IF(OR(FT27<>0,FS27=1),FT27,\" -\"))","v":""},{"$f":"IF(C27=0,\"\",IF(OR(GE27<>0,GD27=1),GE27,\" -\"))","v":""},{"$f":"IF(C27=0,\"\",IF(OR(GP27<>0,GO27=1),GP27,\" -\"))","v":""},{"$f":"IF(C27=0,\"\",IF(OR(HA27<>0,GZ27=1),HA27,\" -\"))","v":""},{"$f":"IF(C27=0,\"\",IF(OR(HL27<>0,HK27=1),HL27,\" -\"))","v":""},{"$f":"IF(C27=0,\"\",IF(AJ27<>0,AJ27,\" -\"))","v":""},{"$f":"IF(C27=0,\"\",IF(OR(HW27<>0,HV27=1),HW27,\" -\"))","v":""},{"$f":"IF(C27=0,\"\",IF(OR(IH27<>0,IG27=1),IH27,\" -\"))","v":""},{"$f":"IF(C27=0,\"\",IF(AL27=1,\"DNF\",IF(AL27=2,\"DSQ\",IF(AM27<>1,\"~ \"&ROUND(SUM(H27:X27),3),ROUND(SUM(H27:X27),3)))))","v":""},null,null,{"$f":"IF(C27<>\"\",C27,\"\")","v":""},{"$f":"IF(AD27<>\"\",3,\"\")","v":""},null,null,{"$f":"IF(AD27<>\"\",(AF27/1000*AG27/1000)/2,\"\")","v":""},null,null,null,null,null,null,null,{"$f":"IF(C27=0,99999,IF(AL27>0,9999,SUM(H27:X27)-AN27))","v":99999},{"$f":"IF(C27=0,99999,IF(AL27=1,9999,SUM(Y27:Z27)))","v":99999},null,null,{"$f":"IF(C27<>\"\",C27,\"\")","v":""},null,null,null,null,null,null,null,null,{"$f":"IF($C27=\"\",\"\", IF(BB27=1,0,IF(AZ27<>0,500,AU27*$AE27/$AH27+AV27/$AH27*5+AW27/$AH27*25+AX27*50+AY27*50)))","v":""},null,{"$f":"IF(C27<>\"\",C27,\"\")","v":""},null,null,null,null,null,null,null,null,{"$f":"IF($C27=\"\",\"\", IF(BM27=1,0,IF(BK27<>0,500,BF27*$AE27/$AH27+BG27/$AH27*5+BH27/$AH27*25+BI27*50+BJ27*50)))","v":""},null,{"$f":"IF(C27<>\"\",C27,\"\")","v":""},null,null,null,null,null,null,null,null,{"$f":"IF($C27=\"\",\"\", IF(BX27=1,0,IF(BV27<>0,500,BQ27*$AE27/$AH27+BR27/$AH27*5+BS27/$AH27*25+BT27*50+BU27*50)))","v":""},null,{"$f":"IF(C27<>\"\",C27,\"\")","v":""},null,null,null,null,null,null,null,null,{"$f":"IF($C27=\"\",\"\", IF(CI27=1,0,IF(CG27<>0,500,CB27*$AE27/$AH27+CC27/$AH27*5+CD27/$AH27*25+CE27*50+CF27*50)))","v":""},null,{"$f":"IF(C27<>\"\",C27,\"\")","v":""},null,null,null,null,null,null,null,null,{"$f":"IF($C27=\"\",\"\", IF(CT27=1,0,IF(CR27<>0,500,CM27*$AE27/$AH27+CN27/$AH27*5+CO27/$AH27*25+CP27*50+CQ27*50)))","v":""},null,{"$f":"IF(C27<>\"\",C27,\"\")","v":""},null,null,null,null,null,null,null,null,{"$f":"IF($C27=\"\",\"\", IF(DE27=1,0,IF(DC27<>0,500,CX27*$AE27/$AH27+CY27/$AH27*5+CZ27/$AH27*25+DA27*50+DB27*50)))","v":""},null,{"$f":"IF(C27<>\"\",C27,\"\")","v":""},null,null,null,null,null,null,null,null,{"$f":"IF($C27=\"\",\"\", IF(DP27=1,0,IF(DN27<>0,500,DI27*$AE27/$AH27+DJ27/$AH27*5+DK27/$AH27*25+DL27*50+DM27*50)))","v":""},null,{"$f":"IF(C27<>\"\",C27,\"\")","v":""},null,null,null,null,null,null,null,null,{"$f":"IF($C27=\"\",\"\", IF(EA27=1,0,IF(DY27<>0,500,DT27*$AE27/$AH27+DU27/$AH27*5+DV27/$AH27*25+DW27*50+DX27*50)))","v":""},null,{"$f":"IF(C27<>\"\",C27,\"\")","v":""},null,null,null,null,null,null,null,null,{"$f":"IF($C27=\"\",\"\", IF(EL27=1,0,IF(EJ27<>0,500,EE27*$AE27/$AH27+EF27/$AH27*5+EG27/$AH27*25+EH27*50+EI27*50)))","v":""},null,{"$f":"IF(C27<>\"\",C27,\"\")","v":""},null,null,null,null,null,null,null,null,{"$f":"IF($C27=\"\",\"\", IF(EW27=1,0,IF(EU27<>0,500,EP27*$AE27/$AH27+EQ27/$AH27*5+ER27/$AH27*25+ES27*50+ET27*50)))","v":""},null,{"$f":"IF(C27<>\"\",C27,\"\")","v":""},null,null,null,null,null,null,null,null,{"$f":"IF($C27=\"\",\"\", IF(FH27=1,0,IF(FF27<>0,500,FA27*$AE27/$AH27+FB27/$AH27*5+FC27/$AH27*25+FD27*50+FE27*50)))","v":""},null,{"$f":"IF(C27<>\"\",C27,\"\")","v":""},null,null,null,null,null,null,null,null,{"$f":"IF($C27=\"\",\"\", IF(FS27=1,0,IF(FQ27<>0,500,FL27*$AE27/$AH27+FM27/$AH27*5+FN27/$AH27*25+FO27*50+FP27*50)))","v":""},null,{"$f":"IF(C27<>\"\",C27,\"\")","v":""},null,null,null,null,null,null,null,null,{"$f":"IF($C27=\"\",\"\", IF(GD27=1,0,IF(GB27<>0,500,FW27*$AE27/$AH27+FX27/$AH27*5+FY27/$AH27*25+FZ27*50+GA27*50)))","v":""},null,{"$f":"IF(C27<>\"\",C27,\"\")","v":""},null,null,null,null,null,null,null,null,{"$f":"IF($C27=\"\",\"\", IF(GO27=1,0,IF(GM27<>0,500,GH27*$AE27/$AH27+GI27/$AH27*5+GJ27/$AH27*25+GK27*50+GL27*50)))","v":""},null,{"$f":"IF(C27<>\"\",C27,\"\")","v":""},null,null,null,null,null,null,null,null,{"$f":"IF($C27=\"\",\"\", IF(GZ27=1,0,IF(GX27<>0,500,GS27*$AE27/$AH27+GT27/$AH27*5+GU27/$AH27*25+GV27*50+GW27*50)))","v":""},null,{"$f":"IF(C27<>\"\",C27,\"\")","v":""},null,null,null,null,null,null,null,null,{"$f":"IF($C27=\"\",\"\", IF(HK27=1,0,IF(HI27<>0,500,HD27*$AE27/$AH27+HE27/$AH27*5+HF27/$AH27*25+HG27*50+HH27*50)))","v":""},null,{"$f":"IF(C27<>\"\",C27,\"\")","v":""},null,null,null,null,null,null,null,null,{"$f":"IF($C27=\"\",\"\", IF(HV27=1,0,IF(HT27<>0,500,HO27*$AE27/$AH27+HP27/$AH27*5+HQ27/$AH27*25+HR27*50+HS27*50)))","v":""},null,{"$f":"IF(C27<>\"\",C27,\"\")","v":""},null,null,null,null,null,null,null,null,{"$f":"IF($C27=\"\",\"\", IF(IG27=1,0,IF(IE27<>0,500,HZ27*$AE27/$AH27+IA27/$AH27*5+IB27/$AH27*25+IC27*50+ID27*50)))","v":""}]
[null,{"$f":"IF(C28=0,\"\",ROW(C28)-4)","v":""},null,null,null,null,null,{"$f":"IF(C28=0,\"\",IF(OR(BB28=1,BC28<>0),BC28,\"-\"))","v":""},{"$f":"IF(C28=0,\"\",IF(OR(BM28=1,BN28<>0),BN28,\"-\"))","v":""},{"$f":"IF(C28=0,\"\",IF(OR(BX28=1,BY28<>0),BY28,\" -\"))","v":""},{"$f":"IF(C28=0,\"\",IF(OR(CJ28<>0,CI28=1),CJ28,\" -\"))","v":""},{"$f":"IF(C28=0,\"\",IF(OR(CU28<>0,CT28=1),CU28,\" -\"))","v":""},{"$f":"IF(C28=0,\"\",IF(OR(DF28<>0,DE28=1),DF28,\" -\"))","v":""},{"$f":"IF(C28=0,\"\",IF(OR(DQ28<>0,DP28=1),DQ28,\" -\"))","v":""},{"$f":"IF(C28=0,\"\",IF(OR(EB28<>0,EA28=1),EB28,\" -\"))","v":""},{"$f":"IF(C28=0,\"\",IF(OR(EM28<>0,EL28=1),EM28,\" -\"))","v":""},{"$f":"IF(C28=0,\"\",IF(OR(EX28<>0,EW28=1),EX28,\" -\"))","v":""},{"$f":"IF(C28=0,\"\",IF(OR(FI28<>0,FH28=1),FI28,\" -\"))","v":""},{"$f":"IF(C28=0,\"\",IF(OR(FT28<>0,FS28=1),FT28,\" -\"))","v":""},{"$f":"IF(C28=0,\"\",IF(OR(GE28<>0,GD28=1),GE28,\" -\"))","v":""},{"$f":"IF(C28=0,\"\",IF(OR(GP28<>0,GO28=1),GP28,\" -\"))","v":""},{"$f":"IF(C28=0,\"\",IF(OR(HA28<>0,GZ28=1),HA28,\" -\"))","v":""},{"$f":"IF(C28=0,\"\",IF(OR(HL28<>0,HK28=1),HL28,\" -\"))","v":""},{"$f":"IF(C28=0,\"\",IF(AJ28<>0,AJ28,\" -\"))","v":""},{"$f":"IF(C28=0,\"\",IF(OR(HW28<>0,HV28=1),HW28,\" -\"))","v":""},{"$f":"IF(C28=0,\"\",IF(OR(IH28<>0,IG28=1),IH28,\" -\"))","v":""},{"$f":"IF(C28=0,\"\",IF(AL28=1,\"DNF\",IF(AL28=2,\"DSQ\",IF(AM28<>1,\"~ \"&ROUND(SUM(H28:X28),3),ROUND(SUM(H28:X28),3)))))","v":""},null,null,{"$f":"IF(C28<>\"\",C28,\"\")","v":""},{"$f":"IF(AD28<>\"\",3,\"\")","v":""},null,null,{"$f":"IF(AD28<>\"\",(AF28/1000*AG28/1000)/2,\"\")","v":""},null,null,null,null,null,null,null,{"$f":"IF(C28=0,99999,IF(AL28>0,9999,SUM(H28:X28)-AN28))","v":99999},{"$f":"IF(C28=0,99999,IF(AL28=1,9999,SUM(Y28:Z28)))","v":99999},null,null,{"$f":"IF(C28<>\"\",C28,\"\")","v":""},null,null,null,null,null,null,null,null,{"$f":"IF($C28=\"\",\"\", IF(BB28=1,0,IF(AZ28<>0,500,AU28*$AE28/$AH28+AV28/$AH28*5+AW28/$AH28*25+AX28*50+AY28*50)))","v":""},null,{"$f":"IF(C28<>\"\",C28,\"\")","v":""},null,null,null,null,null,null,null,null,{"$f":"IF($C28=\"\",\"\", IF(BM28=1,0,IF(BK28<>0,500,BF28*$AE28/$AH28+BG28/$AH28*5+BH28/$AH28*25+BI28*50+BJ28*50)))","v":""},null,{"$f":"IF(C28<>\"\",C28,\"\")","v":""},null,null,null,null,null,null,null,null,{"$f":"IF($C28=\"\",\"\", IF(BX28=1,0,IF(BV28<>0,500,BQ28*$AE28/$AH28+BR28/$AH28*5+BS28/$AH28*25+BT28*50+BU28*50)))","v":""},null,{"$f":"IF(C28<>\"\",C28,\"\")","v":""},null,null,null,null,null,null,null,null,{"$f":"IF($C28=\"\",\"\", IF(CI28=1,0,IF(CG28<>0,500,CB28*$AE28/$AH28+CC28/$AH28*5+CD28/$AH28*25+CE28*50+CF28*50)))","v":""},null,{"$f":"IF(C28<>\"\",C28,\"\")","v":""},null,null,null,null,null,null,null,null,{"$f":"IF($C28=\"\",\"\", IF(CT28=1,0,IF(CR28<>0,500,CM28*$AE28/$AH28+CN28/$AH28*5+CO28/$AH28*25+CP28*50+CQ28*50)))","v":""},null,{"$f":"IF(C28<>\"\",C28,\"\")","v":""},null,null,null,null,null,null,null,null,{"$f":"IF($C28=\"\",\"\", IF(DE28=1,0,IF(DC28<>0,500,CX28*$AE28/$AH28+CY28/$AH28*5+CZ28/$AH28*25+DA28*50+DB28*50)))","v":""},null,{"$f":"IF(C28<>\"\",C28,\"\")","v":""},null,null,null,null,null,null,null,null,{"$f":"IF($C28=\"\",\"\", IF(DP28=1,0,IF(DN28<>0,500,DI28*$AE28/$AH28+DJ28/$AH28*5+DK28/$AH28*25+DL28*50+DM28*50)))","v":""},null,{"$f":"IF(C28<>\"\",C28,\"\")","v":""},null,null,null,null,null,null,null,null,{"$f":"IF($C28=\"\",\"\", IF(EA28=1,0,IF(DY28<>0,500,DT28*$AE28/$AH28+DU28/$AH28*5+DV28/$AH28*25+DW28*50+DX28*50)))","v":""},null,{"$f":"IF(C28<>\"\",C28,\"\")","v":""},null,null,null,null,null,null,null,null,{"$f":"IF($C28=\"\",\"\", IF(EL28=1,0,IF(EJ28<>0,500,EE28*$AE28/$AH28+EF28/$AH28*5+EG28/$AH28*25+EH28*50+EI28*50)))","v":""},null,{"$f":"IF(C28<>\"\",C28,\"\")","v":""},null,null,null,null,null,null,null,null,{"$f":"IF($C28=\"\",\"\", IF(EW28=1,0,IF(EU28<>0,500,EP28*$AE28/$AH28+EQ28/$AH28*5+ER28/$AH28*25+ES28*50+ET28*50)))","v":""},null,{"$f":"IF(C28<>\"\",C28,\"\")","v":""},null,null,null,null,null,null,null,null,{"$f":"IF($C28=\"\",\"\", IF(FH28=1,0,IF(FF28<>0,500,FA28*$AE28/$AH28+FB28/$AH28*5+FC28/$AH28*25+FD28*50+FE28*50)))","v":""},null,{"$f":"IF(C28<>\"\",C28,\"\")","v":""},null,null,null,null,null,null,null,null,{"$f":"IF($C28=\"\",\"\", IF(FS28=1,0,IF(FQ28<>0,500,FL28*$AE28/$AH28+FM28/$AH28*5+FN28/$AH28*25+FO28*50+FP28*50)))","v":""},null,{"$f":"IF(C28<>\"\",C28,\"\")","v":""},null,null,null,null,null,null,null,null,{"$f":"IF($C28=\"\",\"\", IF(GD28=1,0,IF(GB28<>0,500,FW28*$AE28/$AH28+FX28/$AH28*5+FY28/$AH28*25+FZ28*50+GA28*50)))","v":""},null,{"$f":"IF(C28<>\"\",C28,\"\")","v":""},null,null,null,null,null,null,null,null,{"$f":"IF($C28=\"\",\"\", IF(GO28=1,0,IF(GM28<>0,500,GH28*$AE28/$AH28+GI28/$AH28*5+GJ28/$AH28*25+GK28*50+GL28*50)))","v":""},null,{"$f":"IF(C28<>\"\",C28,\"\")","v":""},null,null,null,null,null,null,null,null,{"$f":"IF($C28=\"\",\"\", IF(GZ28=1,0,IF(GX28<>0,500,GS28*$AE28/$AH28+GT28/$AH28*5+GU28/$AH28*25+GV28*50+GW28*50)))","v":""},null,{"$f":"IF(C28<>\"\",C28,\"\")","v":""},null,null,null,null,null,null,null,null,{"$f":"IF($C28=\"\",\"\", IF(HK28=1,0,IF(HI28<>0,500,HD28*$AE28/$AH28+HE28/$AH28*5+HF28/$AH28*25+HG28*50+HH28*50)))","v":""},null,{"$f":"IF(C28<>\"\",C28,\"\")","v":""},null,null,null,null,null,null,null,null,{"$f":"IF($C28=\"\",\"\", IF(HV28=1,0,IF(HT28<>0,500,HO28*$AE28/$AH28+HP28/$AH28*5+HQ28/$AH28*25+HR28*50+HS28*50)))","v":""},null,{"$f":"IF(C28<>\"\",C28,\"\")","v":""},null,null,null,null,null,null,null,null,{"$f":"IF($C28=\"\",\"\", IF(IG28=1,0,IF(IE28<>0,500,HZ28*$AE28/$AH28+IA28/$AH28*5+IB28/$AH28*25+IC28*50+ID28*50)))","v":""}]
[null,{"$f":"IF(C29=0,\"\",ROW(C29)-4)","v":""},null,null,null,null,null,{"$f":"IF(C29=0,\"\",IF(OR(BB29=1,BC29<>0),BC29,\"-\"))","v":""},{"$f":"IF(C29=0,\"\",IF(OR(BM29=1,BN29<>0),BN29,\"-\"))","v":""},{"$f":"IF(C29=0,\"\",IF(OR(BX29=1,BY29<>0),BY29,\" -\"))","v":""},{"$f":"IF(C29=0,\"\",IF(OR(CJ29<>0,CI29=1),CJ29,\" -\"))","v":""},{"$f":"IF(C29=0,\"\",IF(OR(CU29<>0,CT29=1),CU29,\" -\"))","v":""},{"$f":"IF(C29=0,\"\",IF(OR(DF29<>0,DE29=1),DF29,\" -\"))","v":""},{"$f":"IF(C29=0,\"\",IF(OR(DQ29<>0,DP29=1),DQ29,\" -\"))","v":""},{"$f":"IF(C29=0,\"\",IF(OR(EB29<>0,EA29=1),EB29,\" -\"))","v":""},{"$f":"IF(C29=0,\"\",IF(OR(EM29<>0,EL29=1),EM29,\" -\"))","v":""},{"$f":"IF(C29=0,\"\",IF(OR(EX29<>0,EW29=1),EX29,\" -\"))","v":""},{"$f":"IF(C29=0,\"\",IF(OR(FI29<>0,FH29=1),FI29,\" -\"))","v":""},{"$f":"IF(C29=0,\"\",IF(OR(FT29<>0,FS29=1),FT29,\" -\"))","v":""},{"$f":"IF(C29=0,\"\",IF(OR(GE29<>0,GD29=1),GE29,\" -\"))","v":""},{"$f":"IF(C29=0,\"\",IF(OR(GP29<>0,GO29=1),GP29,\" -\"))","v":""},{"$f":"IF(C29=0,\"\",IF(OR(HA29<>0,GZ29=1),HA29,\" -\"))","v":""},{"$f":"IF(C29=0,\"\",IF(OR(HL29<>0,HK29=1),HL29,\" -\"))","v":""},{"$f":"IF(C29=0,\"\",IF(AJ29<>0,AJ29,\" -\"))","v":""},{"$f":"IF(C29=0,\"\",IF(OR(HW29<>0,HV29=1),HW29,\" -\"))","v":""},{"$f":"IF(C29=0,\"\",IF(OR(IH29<>0,IG29=1),IH29,\" -\"))","v":""},{"$f":"IF(C29=0,\"\",IF(AL29=1,\"DNF\",IF(AL29=2,\"DSQ\",IF(AM29<>1,\"~ \"&ROUND(SUM(H29:X29),3),ROUND(SUM(H29:X29),3)))))","v":""},null,null,{"$f":"IF(C29<>\"\",C29,\"\")","v":""},{"$f":"IF(AD29<>\"\",3,\"\")","v":""},null,null,{"$f":"IF(AD29<>\"\",(AF29/1000*AG29/1000)/2,\"\")","v":""},null,null,null,null,null,null,null,{"$f":"IF(C29=0,99999,IF(AL29>0,9999,SUM(H29:X29)-AN29))","v":99999},{"$f":"IF(C29=0,99999,IF(AL29=1,9999,SUM(Y29:Z29)))","v":99999},null,null,{"$f":"IF(C29<>\"\",C29,\"\")","v":""},null,null,null,null,null,null,null,null,{"$f":"IF($C29=\"\",\"\", IF(BB29=1,0,IF(AZ29<>0,500,AU29*$AE29/$AH29+AV29/$AH29*5+AW29/$AH29*25+AX29*50+AY29*50)))","v":""},null,{"$f":"IF(C29<>\"\",C29,\"\")","v":""},null,null,null,null,null,null,null,null,{"$f":"IF($C29=\"\",\"\", IF(BM29=1,0,IF(BK29<>0,500,BF29*$AE29/$AH29+BG29/$AH29*5+BH29/$AH29*25+BI29*50+BJ29*50)))","v":""},null,{"$f":"IF(C29<>\"\",C29,\"\")","v":""},null,null,null,null,null,null,null,null,{"$f":"IF($C29=\"\",\"\", IF(BX29=1,0,IF(BV29<>0,500,BQ29*$AE29/$AH29+BR29/$AH29*5+BS29/$AH29*25+BT29*50+BU29*50)))","v":""},null,{"$f":"IF(C29<>\"\",C29,\"\")","v":""},null,null,null,null,null,null,null,null,{"$f":"IF($C29=\"\",\"\", IF(CI29=1,0,IF(CG29<>0,500,CB29*$AE29/$AH29+CC29/$AH29*5+CD29/$AH29*25+CE29*50+CF29*50)))","v":""},null,{"$f":"IF(C29<>\"\",C29,\"\")","v":""},null,null,null,null,null,null,null,null,{"$f":"IF($C29=\"\",\"\", IF(CT29=1,0,IF(CR29<>0,500,CM29*$AE29/$AH29+CN29/$AH29*5+CO29/$AH29*25+CP29*50+CQ29*50)))","v":""},null,{"$f":"IF(C29<>\"\",C29,\"\")","v":""},null,null,null,null,null,null,null,null,{"$f":"IF($C29=\"\",\"\", IF(DE29=1,0,IF(DC29<>0,500,CX29*$AE29/$AH29+CY29/$AH29*5+CZ29/$AH29*25+DA29*50+DB29*50)))","v":""},null,{"$f":"IF(C29<>\"\",C29,\"\")","v":""},null,null,null,null,null,null,null,null,{"$f":"IF($C29=\"\",\"\", IF(DP29=1,0,IF(DN29<>0,500,DI29*$AE29/$AH29+DJ29/$AH29*5+DK29/$AH29*25+DL29*50+DM29*50)))","v":""},null,{"$f":"IF(C29<>\"\",C29,\"\")","v":""},null,null,null,null,null,null,null,null,{"$f":"IF($C29=\"\",\"\", IF(EA29=1,0,IF(DY29<>0,500,DT29*$AE29/$AH29+DU29/$AH29*5+DV29/$AH29*25+DW29*50+DX29*50)))","v":""},null,{"$f":"IF(C29<>\"\",C29,\"\")","v":""},null,null,null,null,null,null,null,null,{"$f":"IF($C29=\"\",\"\", IF(EL29=1,0,IF(EJ29<>0,500,EE29*$AE29/$AH29+EF29/$AH29*5+EG29/$AH29*25+EH29*50+EI29*50)))","v":""},null,{"$f":"IF(C29<>\"\",C29,\"\")","v":""},null,null,null,null,null,null,null,null,{"$f":"IF($C29=\"\",\"\", IF(EW29=1,0,IF(EU29<>0,500,EP29*$AE29/$AH29+EQ29/$AH29*5+ER29/$AH29*25+ES29*50+ET29*50)))","v":""},null,{"$f":"IF(C29<>\"\",C29,\"\")","v":""},null,null,null,null,null,null,null,null,{"$f":"IF($C29=\"\",\"\", IF(FH29=1,0,IF(FF29<>0,500,FA29*$AE29/$AH29+FB29/$AH29*5+FC29/$AH29*25+FD29*50+FE29*50)))","v":""},null,{"$f":"IF(C29<>\"\",C29,\"\")","v":""},null,null,null,null,null,null,null,null,{"$f":"IF($C29=\"\",\"\", IF(FS29=1,0,IF(FQ29<>0,500,FL29*$AE29/$AH29+FM29/$AH29*5+FN29/$AH29*25+FO29*50+FP29*50)))","v":""},null,{"$f":"IF(C29<>\"\",C29,\"\")","v":""},null,null,null,null,null,null,null,null,{"$f":"IF($C29=\"\",\"\", IF(GD29=1,0,IF(GB29<>0,500,FW29*$AE29/$AH29+FX29/$AH29*5+FY29/$AH29*25+FZ29*50+GA29*50)))","v":""},null,{"$f":"IF(C29<>\"\",C29,\"\")","v":""},null,null,null,null,null,null,null,null,{"$f":"IF($C29=\"\",\"\", IF(GO29=1,0,IF(GM29<>0,500,GH29*$AE29/$AH29+GI29/$AH29*5+GJ29/$AH29*25+GK29*50+GL29*50)))","v":""},null,{"$f":"IF(C29<>\"\",C29,\"\")","v":""},null,null,null,null,null,null,null,null,{"$f":"IF($C29=\"\",\"\", IF(GZ29=1,0,IF(GX29<>0,500,GS29*$AE29/$AH29+GT29/$AH29*5+GU29/$AH29*25+GV29*50+GW29*50)))","v":""},null,{"$f":"IF(C29<>\"\",C29,\"\")","v":""},null,null,null,null,null,null,null,null,{"$f":"IF($C29=\"\",\"\", IF(HK29=1,0,IF(HI29<>0,500,HD29*$AE29/$AH29+HE29/$AH29*5+HF29/$AH29*25+HG29*50+HH29*50)))","v":""},null,{"$f":"IF(C29<>\"\",C29,\"\")","v":""},null,null,null,null,null,null,null,null,{"$f":"IF($C29=\"\",\"\", IF(HV29=1,0,IF(HT29<>0,500,HO29*$AE29/$AH29+HP29/$AH29*5+HQ29/$AH29*25+HR29*50+HS29*50)))","v":""},null,{"$f":"IF(C29<>\"\",C29,\"\")","v":""},null,null,null,null,null,null,null,null,{"$f":"IF($C29=\"\",\"\", IF(IG29=1,0,IF(IE29<>0,500,HZ29*$AE29/$AH29+IA29/$AH29*5+IB29/$AH29*25+IC29*50+ID29*50)))","v":""}]
[null,{"$f":"IF(C30=0,\"\",ROW(C30)-4)","v":""},null,null,null,null,null,{"$f":"IF(C30=0,\"\",IF(OR(BB30=1,BC30<>0),BC30,\"-\"))","v":""},{"$f":"IF(C30=0,\"\",IF(OR(BM30=1,BN30<>0),BN30,\"-\"))","v":""},{"$f":"IF(C30=0,\"\",IF(OR(BX30=1,BY30<>0),BY30,\" -\"))","v":""},{"$f":"IF(C30=0,\"\",IF(OR(CJ30<>0,CI30=1),CJ30,\" -\"))","v":""},{"$f":"IF(C30=0,\"\",IF(OR(CU30<>0,CT30=1),CU30,\" -\"))","v":""},{"$f":"IF(C30=0,\"\",IF(OR(DF30<>0,DE30=1),DF30,\" -\"))","v":""},{"$f":"IF(C30=0,\"\",IF(OR(DQ30<>0,DP30=1),DQ30,\" -\"))","v":""},{"$f":"IF(C30=0,\"\",IF(OR(EB30<>0,EA30=1),EB30,\" -\"))","v":""},{"$f":"IF(C30=0,\"\",IF(OR(EM30<>0,EL30=1),EM30,\" -\"))","v":""},{"$f":"IF(C30=0,\"\",IF(OR(EX30<>0,EW30=1),EX30,\" -\"))","v":""},{"$f":"IF(C30=0,\"\",IF(OR(FI30<>0,FH30=1),FI30,\" -\"))","v":""},{"$f":"IF(C30=0,\"\",IF(OR(FT30<>0,FS30=1),FT30,\" -\"))","v":""},{"$f":"IF(C30=0,\"\",IF(OR(GE30<>0,GD30=1),GE30,\" -\"))","v":""},{"$f":"IF(C30=0,\"\",IF(OR(GP30<>0,GO30=1),GP30,\" -\"))","v":""},{"$f":"IF(C30=0,\"\",IF(OR(HA30<>0,GZ30=1),HA30,\" -\"))","v":""},{"$f":"IF(C30=0,\"\",IF(OR(HL30<>0,HK30=1),HL30,\" -\"))","v":""},{"$f":"IF(C30=0,\"\",IF(AJ30<>0,AJ30,\" -\"))","v":""},{"$f":"IF(C30=0,\"\",IF(OR(HW30<>0,HV30=1),HW30,\" -\"))","v":""},{"$f":"IF(C30=0,\"\",IF(OR(IH30<>0,IG30=1),IH30,\" -\"))","v":""},{"$f":"IF(C30=0,\"\",IF(AL30=1,\"DNF\",IF(AL30=2,\"DSQ\",IF(AM30<>1,\"~ \"&ROUND(SUM(H30:X30),3),ROUND(SUM(H30:X30),3)))))","v":""},null,null,{"$f":"IF(C30<>\"\",C30,\"\")","v":""},{"$f":"IF(AD30<>\"\",3,\"\")","v":""},null,null,{"$f":"IF(AD30<>\"\",(AF30/1000*AG30/1000)/2,\"\")","v":""},null,null,null,null,null,null,null,{"$f":"IF(C30=0,99999,IF(AL30>0,9999,SUM(H30:X30)-AN30))","v":99999},{"$f":"IF(C30=0,99999,IF(AL30=1,9999,SUM(Y30:Z30)))","v":99999},null,null,{"$f":"IF(C30<>\"\",C30,\"\")","v":""},null,null,null,null,null,null,null,null,{"$f":"IF($C30=\"\",\"\", IF(BB30=1,0,IF(AZ30<>0,500,AU30*$AE30/$AH30+AV30/$AH30*5+AW30/$AH30*25+AX30*50+AY30*50)))","v":""},null,{"$f":"IF(C30<>\"\",C30,\"\")","v":""},null,null,null,null,null,null,null,null,{"$f":"IF($C30=\"\",\"\", IF(BM30=1,0,IF(BK30<>0,500,BF30*$AE30/$AH30+BG30/$AH30*5+BH30/$AH30*25+BI30*50+BJ30*50)))","v":""},null,{"$f":"IF(C30<>\"\",C30,\"\")","v":""},null,null,null,null,null,null,null,null,{"$f":"IF($C30=\"\",\"\", IF(BX30=1,0,IF(BV30<>0,500,BQ30*$AE30/$AH30+BR30/$AH30*5+BS30/$AH30*25+BT30*50+BU30*50)))","v":""},null,{"$f":"IF(C30<>\"\",C30,\"\")","v":""},null,null,null,null,null,null,null,null,{"$f":"IF($C30=\"\",\"\", IF(CI30=1,0,IF(CG30<>0,500,CB30*$AE30/$AH30+CC30/$AH30*5+CD30/$AH30*25+CE30*50+CF30*50)))","v":""},null,{"$f":"IF(C30<>\"\",C30,\"\")","v":""},null,null,null,null,null,null,null,null,{"$f":"IF($C30=\"\",\"\", IF(CT30=1,0,IF(CR30<>0,500,CM30*$AE30/$AH30+CN30/$AH30*5+CO30/$AH30*25+CP30*50+CQ30*50)))","v":""},null,{"$f":"IF(C30<>\"\",C30,\"\")","v":""},null,null,null,null,null,null,null,null,{"$f":"IF($C30=\"\",\"\", IF(DE30=1,0,IF(DC30<>0,500,CX30*$AE30/$AH30+CY30/$AH30*5+CZ30/$AH30*25+DA30*50+DB30*50)))","v":""},null,{"$f":"IF(C30<>\"\",C30,\"\")","v":""},null,null,null,null,null,null,null,null,{"$f":"IF($C30=\"\",\"\", IF(DP30=1,0,IF(DN30<>0,500,DI30*$AE30/$AH30+DJ30/$AH30*5+DK30/$AH30*25+DL30*50+DM30*50)))","v":""},null,{"$f":"IF(C30<>\"\",C30,\"\")","v":""},null,null,null,null,null,null,null,null,{"$f":"IF($C30=\"\",\"\", IF(EA30=1,0,IF(DY30<>0,500,DT30*$AE30/$AH30+DU30/$AH30*5+DV30/$AH30*25+DW30*50+DX30*50)))","v":""},null,{"$f":"IF(C30<>\"\",C30,\"\")","v":""},null,null,null,null,null,null,null,null,{"$f":"IF($C30=\"\",\"\", IF(EL30=1,0,IF(EJ30<>0,500,EE30*$AE30/$AH30+EF30/$AH30*5+EG30/$AH30*25+EH30*50+EI30*50)))","v":""},null,{"$f":"IF(C30<>\"\",C30,\"\")","v":""},null,null,null,null,null,null,null,null,{"$f":"IF($C30=\"\",\"\", IF(EW30=1,0,IF(EU30<>0,500,EP30*$AE30/$AH30+EQ30/$AH30*5+ER30/$AH30*25+ES30*50+ET30*50)))","v":""},null,{"$f":"IF(C30<>\"\",C30,\"\")","v":""},null,null,null,null,null,null,null,null,{"$f":"IF($C30=\"\",\"\", IF(FH30=1,0,IF(FF30<>0,500,FA30*$AE30/$AH30+FB30/$AH30*5+FC30/$AH30*25+FD30*50+FE30*50)))","v":""},null,{"$f":"IF(C30<>\"\",C30,\"\")","v":""},null,null,null,null,null,null,null,null,{"$f":"IF($C30=\"\",\"\", IF(FS30=1,0,IF(FQ30<>0,500,FL30*$AE30/$AH30+FM30/$AH30*5+FN30/$AH30*25+FO30*50+FP30*50)))","v":""},null,{"$f":"IF(C30<>\"\",C30,\"\")","v":""},null,null,null,null,null,null,null,null,{"$f":"IF($C30=\"\",\"\", IF(GD30=1,0,IF(GB30<>0,500,FW30*$AE30/$AH30+FX30/$AH30*5+FY30/$AH30*25+FZ30*50+GA30*50)))","v":""},null,{"$f":"IF(C30<>\"\",C30,\"\")","v":""},null,null,null,null,null,null,null,null,{"$f":"IF($C30=\"\",\"\", IF(GO30=1,0,IF(GM30<>0,500,GH30*$AE30/$AH30+GI30/$AH30*5+GJ30/$AH30*25+GK30*50+GL30*50)))","v":""},null,{"$f":"IF(C30<>\"\",C30,\"\")","v":""},null,null,null,null,null,null,null,null,{"$f":"IF($C30=\"\",\"\", IF(GZ30=1,0,IF(GX30<>0,500,GS30*$AE30/$AH30+GT30/$AH30*5+GU30/$AH30*25+GV30*50+GW30*50)))","v":""},null,{"$f":"IF(C30<>\"\",C30,\"\")","v":""},null,null,null,null,null,null,null,null,{"$f":"IF($C30=\"\",\"\", IF(HK30=1,0,IF(HI30<>0,500,HD30*$AE30/$AH30+HE30/$AH30*5+HF30/$AH30*25+HG30*50+HH30*50)))","v":""},null,{"$f":"IF(C30<>\"\",C30,\"\")","v":""},null,null,null,null,null,null,null,null,{"$f":"IF($C30=\"\",\"\", IF(HV30=1,0,IF(HT30<>0,500,HO30*$AE30/$AH30+HP30/$AH30*5+HQ30/$AH30*25+HR30*50+HS30*50)))","v":""},null,{"$f":"IF(C30<>\"\",C30,\"\")","v":""},null,null,null,null,null,null,null,null,{"$f":"IF($C30=\"\",\"\", IF(IG30=1,0,IF(IE30<>0,500,HZ30*$AE30/$AH30+IA30/$AH30*5+IB30/$AH30*25+IC30*50+ID30*50)))","v":""}]
[null,{"$f":"IF(C31=0,\"\",ROW(C31)-4)","v":""},null,null,null,null,null,{"$f":"IF(C31=0,\"\",IF(OR(BB31=1,BC31<>0),BC31,\"-\"))","v":""},{"$f":"IF(C31=0,\"\",IF(OR(BM31=1,BN31<>0),BN31,\"-\"))","v":""},{"$f":"IF(C31=0,\"\",IF(OR(BX31=1,BY31<>0),BY31,\" -\"))","v":""},{"$f":"IF(C31=0,\"\",IF(OR(CJ31<>0,CI31=1),CJ31,\" -\"))","v":""},{"$f":"IF(C31=0,\"\",IF(OR(CU31<>0,CT31=1),CU31,\" -\"))","v":""},{"$f":"IF(C31=0,\"\",IF(OR(DF31<>0,DE31=1),DF31,\" -\"))","v":""},{"$f":"IF(C31=0,\"\",IF(OR(DQ31<>0,DP31=1),DQ31,\" -\"))","v":""},{"$f":"IF(C31=0,\"\",IF(OR(EB31<>0,EA31=1),EB31,\" -\"))","v":""},{"$f":"IF(C31=0,\"\",IF(OR(EM31<>0,EL31=1),EM31,\" -\"))","v":""},{"$f":"IF(C31=0,\"\",IF(OR(EX31<>0,EW31=1),EX31,\" -\"))","v":""},{"$f":"IF(C31=0,\"\",IF(OR(FI31<>0,FH31=1),FI31,\" -\"))","v":""},{"$f":"IF(C31=0,\"\",IF(OR(FT31<>0,FS31=1),FT31,\" -\"))","v":""},{"$f":"IF(C31=0,\"\",IF(OR(GE31<>0,GD31=1),GE31,\" -\"))","v":""},{"$f":"IF(C31=0,\"\",IF(OR(GP31<>0,GO31=1),GP31,\" -\"))","v":""},{"$f":"IF(C31=0,\"\",IF(OR(HA31<>0,GZ31=1),HA31,\" -\"))","v":""},{"$f":"IF(C31=0,\"\",IF(OR(HL31<>0,HK31=1),HL31,\" -\"))","v":""},{"$f":"IF(C31=0,\"\",IF(AJ31<>0,AJ31,\" -\"))","v":""},{"$f":"IF(C31=0,\"\",IF(OR(HW31<>0,HV31=1),HW31,\" -\"))","v":""},{"$f":"IF(C31=0,\"\",IF(OR(IH31<>0,IG31=1),IH31,\" -\"))","v":""},{"$f":"IF(C31=0,\"\",IF(AL31=1,\"DNF\",IF(AL31=2,\"DSQ\",IF(AM31<>1,\"~ \"&ROUND(SUM(H31:X31),3),ROUND(SUM(H31:X31),3)))))","v":""},null,null,{"$f":"IF(C31<>\"\",C31,\"\")","v":""},{"$f":"IF(AD31<>\"\",3,\"\")","v":""},null,null,{"$f":"IF(AD31<>\"\",(AF31/1000*AG31/1000)/2,\"\")","v":""},null,null,null,null,null,null,null,{"$f":"IF(C31=0,99999,IF(AL31>0,9999,SUM(H31:X31)-AN31))","v":99999},{"$f":"IF(C31=0,99999,IF(AL31=1,9999,SUM(Y31:Z31)))","v":99999},null,null,{"$f":"IF(C31<>\"\",C31,\"\")","v":""},null,null,null,null,null,null,null,null,{"$f":"IF($C31=\"\",\"\", IF(BB31=1,0,IF(AZ31<>0,500,AU31*$AE31/$AH31+AV31/$AH31*5+AW31/$AH31*25+AX31*50+AY31*50)))","v":""},null,{"$f":"IF(C31<>\"\",C31,\"\")","v":""},null,null,null,null,null,null,null,null,{"$f":"IF($C31=\"\",\"\", IF(BM31=1,0,IF(BK31<>0,500,BF31*$AE31/$AH31+BG31/$AH31*5+BH31/$AH31*25+BI31*50+BJ31*50)))","v":""},null,{"$f":"IF(C31<>\"\",C31,\"\")","v":""},null,null,null,null,null,null,null,null,{"$f":"IF($C31=\"\",\"\", IF(BX31=1,0,IF(BV31<>0,500,BQ31*$AE31/$AH31+BR31/$AH31*5+BS31/$AH31*25+BT31*50+BU31*50)))","v":""},null,{"$f":"IF(C31<>\"\",C31,\"\")","v":""},null,null,null,null,null,null,null,null,{"$f":"IF($C31=\"\",\"\", IF(CI31=1,0,IF(CG31<>0,500,CB31*$AE31/$AH31+CC31/$AH31*5+CD31/$AH31*25+CE31*50+CF31*50)))","v":""},null,{"$f":"IF(C31<>\"\",C31,\"\")","v":""},null,null,null,null,null,null,null,null,{"$f":"IF($C31=\"\",\"\", IF(CT31=1,0,IF(CR31<>0,500,CM31*$AE31/$AH31+CN31/$AH31*5+CO31/$AH31*25+CP31*50+CQ31*50)))","v":""},null,{"$f":"IF(C31<>\"\",C31,\"\")","v":""},null,null,null,null,null,null,null,null,{"$f":"IF($C31=\"\",\"\", IF(DE31=1,0,IF(DC31<>0,500,CX31*$AE31/$AH31+CY31/$AH31*5+CZ31/$AH31*25+DA31*50+DB31*50)))","v":""},null,{"$f":"IF(C31<>\"\",C31,\"\")","v":""},null,null,null,null,null,null,null,null,{"$f":"IF($C31=\"\",\"\", IF(DP31=1,0,IF(DN31<>0,500,DI31*$AE31/$AH31+DJ31/$AH31*5+DK31/$AH31*25+DL31*50+DM31*50)))","v":""},null,{"$f":"IF(C31<>\"\",C31,\"\")","v":""},null,null,null,null,null,null,null,null,{"$f":"IF($C31=\"\",\"\", IF(EA31=1,0,IF(DY31<>0,500,DT31*$AE31/$AH31+DU31/$AH31*5+DV31/$AH31*25+DW31*50+DX31*50)))","v":""},null,{"$f":"IF(C31<>\"\",C31,\"\")","v":""},null,null,null,null,null,null,null,null,{"$f":"IF($C31=\"\",\"\", IF(EL31=1,0,IF(EJ31<>0,500,EE31*$AE31/$AH31+EF31/$AH31*5+EG31/$AH31*25+EH31*50+EI31*50)))","v":""},null,{"$f":"IF(C31<>\"\",C31,\"\")","v":""},null,null,null,null,null,null,null,null,{"$f":"IF($C31=\"\",\"\", IF(EW31=1,0,IF(EU31<>0,500,EP31*$AE31/$AH31+EQ31/$AH31*5+ER31/$AH31*25+ES31*50+ET31*50)))","v":""},null,{"$f":"IF(C31<>\"\",C31,\"\")","v":""},null,null,null,null,null,null,null,null,{"$f":"IF($C31=\"\",\"\", IF(FH31=1,0,IF(FF31<>0,500,FA31*$AE31/$AH31+FB31/$AH31*5+FC31/$AH31*25+FD31*50+FE31*50)))","v":""},null,{"$f":"IF(C31<>\"\",C31,\"\")","v":""},null,null,null,null,null,null,null,null,{"$f":"IF($C31=\"\",\"\", IF(FS31=1,0,IF(FQ31<>0,500,FL31*$AE31/$AH31+FM31/$AH31*5+FN31/$AH31*25+FO31*50+FP31*50)))","v":""},null,{"$f":"IF(C31<>\"\",C31,\"\")","v":""},null,null,null,null,null,null,null,null,{"$f":"IF($C31=\"\",\"\", IF(GD31=1,0,IF(GB31<>0,500,FW31*$AE31/$AH31+FX31/$AH31*5+FY31/$AH31*25+FZ31*50+GA31*50)))","v":""},null,{"$f":"IF(C31<>\"\",C31,\"\")","v":""},null,null,null,null,null,null,null,null,{"$f":"IF($C31=\"\",\"\", IF(GO31=1,0,IF(GM31<>0,500,GH31*$AE31/$AH31+GI31/$AH31*5+GJ31/$AH31*25+GK31*50+GL31*50)))","v":""},null,{"$f":"IF(C31<>\"\",C31,\"\")","v":""},null,null,null,null,null,null,null,null,{"$f":"IF($C31=\"\",\"\", IF(GZ31=1,0,IF(GX31<>0,500,GS31*$AE31/$AH31+GT31/$AH31*5+GU31/$AH31*25+GV31*50+GW31*50)))","v":""},null,{"$f":"IF(C31<>\"\",C31,\"\")","v":""},null,null,null,null,null,null,null,null,{"$f":"IF($C31=\"\",\"\", IF(HK31=1,0,IF(HI31<>0,500,HD31*$AE31/$AH31+HE31/$AH31*5+HF31/$AH31*25+HG31*50+HH31*50)))","v":""},null,{"$f":"IF(C31<>\"\",C31,\"\")","v":""},null,null,null,null,null,null,null,null,{"$f":"IF($C31=\"\",\"\", IF(HV31=1,0,IF(HT31<>0,500,HO31*$AE31/$AH31+HP31/$AH31*5+HQ31/$AH31*25+HR31*50+HS31*50)))","v":""},null,{"$f":"IF(C31<>\"\",C31,\"\")","v":""},null,null,null,null,null,null,null,null,{"$f":"IF($C31=\"\",\"\", IF(IG31=1,0,IF(IE31<>0,500,HZ31*$AE31/$AH31+IA31/$AH31*5+IB31/$AH31*25+IC31*50+ID31*50)))","v":""}]
[null,{"$f":"IF(C32=0,\"\",ROW(C32)-4)","v":""},null,null,null,null,null,{"$f":"IF(C32=0,\"\",IF(OR(BB32=1,BC32<>0),BC32,\"-\"))","v":""},{"$f":"IF(C32=0,\"\",IF(OR(BM32=1,BN32<>0),BN32,\"-\"))","v":""},{"$f":"IF(C32=0,\"\",IF(OR(BX32=1,BY32<>0),BY32,\" -\"))","v":""},{"$f":"IF(C32=0,\"\",IF(OR(CJ32<>0,CI32=1),CJ32,\" -\"))","v":""},{"$f":"IF(C32=0,\"\",IF(OR(CU32<>0,CT32=1),CU32,\" -\"))","v":""},{"$f":"IF(C32=0,\"\",IF(OR(DF32<>0,DE32=1),DF32,\" -\"))","v":""},{"$f":"IF(C32=0,\"\",IF(OR(DQ32<>0,DP32=1),DQ32,\" -\"))","v":""},{"$f":"IF(C32=0,\"\",IF(OR(EB32<>0,EA32=1),EB32,\" -\"))","v":""},{"$f":"IF(C32=0,\"\",IF(OR(EM32<>0,EL32=1),EM32,\" -\"))","v":""},{"$f":"IF(C32=0,\"\",IF(OR(EX32<>0,EW32=1),EX32,\" -\"))","v":""},{"$f":"IF(C32=0,\"\",IF(OR(FI32<>0,FH32=1),FI32,\" -\"))","v":""},{"$f":"IF(C32=0,\"\",IF(OR(FT32<>0,FS32=1),FT32,\" -\"))","v":""},{"$f":"IF(C32=0,\"\",IF(OR(GE32<>0,GD32=1),GE32,\" -\"))","v":""},{"$f":"IF(C32=0,\"\",IF(OR(GP32<>0,GO32=1),GP32,\" -\"))","v":""},{"$f":"IF(C32=0,\"\",IF(OR(HA32<>0,GZ32=1),HA32,\" -\"))","v":""},{"$f":"IF(C32=0,\"\",IF(OR(HL32<>0,HK32=1),HL32,\" -\"))","v":""},{"$f":"IF(C32=0,\"\",IF(AJ32<>0,AJ32,\" -\"))","v":""},{"$f":"IF(C32=0,\"\",IF(OR(HW32<>0,HV32=1),HW32,\" -\"))","v":""},{"$f":"IF(C32=0,\"\",IF(OR(IH32<>0,IG32=1),IH32,\" -\"))","v":""},{"$f":"IF(C32=0,\"\",IF(AL32=1,\"DNF\",IF(AL32=2,\"DSQ\",IF(AM32<>1,\"~ \"&ROUND(SUM(H32:X32),3),ROUND(SUM(H32:X32),3)))))","v":""},null,null,{"$f":"IF(C32<>\"\",C32,\"\")","v":""},{"$f":"IF(AD32<>\"\",3,\"\")","v":""},null,null,{"$f":"IF(AD32<>\"\",(AF32/1000*AG32/1000)/2,\"\")","v":""},null,null,null,null,null,null,null,{"$f":"IF(C32=0,99999,IF(AL32>0,9999,SUM(H32:X32)-AN32))","v":99999},{"$f":"IF(C32=0,99999,IF(AL32=1,9999,SUM(Y32:Z32)))","v":99999},null,null,{"$f":"IF(C32<>\"\",C32,\"\")","v":""},null,null,null,null,null,null,null,null,{"$f":"IF($C32=\"\",\"\", IF(BB32=1,0,IF(AZ32<>0,500,AU32*$AE32/$AH32+AV32/$AH32*5+AW32/$AH32*25+AX32*50+AY32*50)))","v":""},null,{"$f":"IF(C32<>\"\",C32,\"\")","v":""},null,null,null,null,null,null,null,null,{"$f":"IF($C32=\"\",\"\", IF(BM32=1,0,IF(BK32<>0,500,BF32*$AE32/$AH32+BG32/$AH32*5+BH32/$AH32*25+BI32*50+BJ32*50)))","v":""},null,{"$f":"IF(C32<>\"\",C32,\"\")","v":""},null,null,null,null,null,null,null,null,{"$f":"IF($C32=\"\",\"\", IF(BX32=1,0,IF(BV32<>0,500,BQ32*$AE32/$AH32+BR32/$AH32*5+BS32/$AH32*25+BT32*50+BU32*50)))","v":""},null,{"$f":"IF(C32<>\"\",C32,\"\")","v":""},null,null,null,null,null,null,null,null,{"$f":"IF($C32=\"\",\"\", IF(CI32=1,0,IF(CG32<>0,500,CB32*$AE32/$AH32+CC32/$AH32*5+CD32/$AH32*25+CE32*50+CF32*50)))","v":""},null,{"$f":"IF(C32<>\"\",C32,\"\")","v":""},null,null,null,null,null,null,null,null,{"$f":"IF($C32=\"\",\"\", IF(CT32=1,0,IF(CR32<>0,500,CM32*$AE32/$AH32+CN32/$AH32*5+CO32/$AH32*25+CP32*50+CQ32*50)))","v":""},null,{"$f":"IF(C32<>\"\",C32,\"\")","v":""},null,null,null,null,null,null,null,null,{"$f":"IF($C32=\"\",\"\", IF(DE32=1,0,IF(DC32<>0,500,CX32*$AE32/$AH32+CY32/$AH32*5+CZ32/$AH32*25+DA32*50+DB32*50)))","v":""},null,{"$f":"IF(C32<>\"\",C32,\"\")","v":""},null,null,null,null,null,null,null,null,{"$f":"IF($C32=\"\",\"\", IF(DP32=1,0,IF(DN32<>0,500,DI32*$AE32/$AH32+DJ32/$AH32*5+DK32/$AH32*25+DL32*50+DM32*50)))","v":""},null,{"$f":"IF(C32<>\"\",C32,\"\")","v":""},null,null,null,null,null,null,null,null,{"$f":"IF($C32=\"\",\"\", IF(EA32=1,0,IF(DY32<>0,500,DT32*$AE32/$AH32+DU32/$AH32*5+DV32/$AH32*25+DW32*50+DX32*50)))","v":""},null,{"$f":"IF(C32<>\"\",C32,\"\")","v":""},null,null,null,null,null,null,null,null,{"$f":"IF($C32=\"\",\"\", IF(EL32=1,0,IF(EJ32<>0,500,EE32*$AE32/$AH32+EF32/$AH32*5+EG32/$AH32*25+EH32*50+EI32*50)))","v":""},null,{"$f":"IF(C32<>\"\",C32,\"\")","v":""},null,null,null,null,null,null,null,null,{"$f":"IF($C32=\"\",\"\", IF(EW32=1,0,IF(EU32<>0,500,EP32*$AE32/$AH32+EQ32/$AH32*5+ER32/$AH32*25+ES32*50+ET32*50)))","v":""},null,{"$f":"IF(C32<>\"\",C32,\"\")","v":""},null,null,null,null,null,null,null,null,{"$f":"IF($C32=\"\",\"\", IF(FH32=1,0,IF(FF32<>0,500,FA32*$AE32/$AH32+FB32/$AH32*5+FC32/$AH32*25+FD32*50+FE32*50)))","v":""},null,{"$f":"IF(C32<>\"\",C32,\"\")","v":""},null,null,null,null,null,null,null,null,{"$f":"IF($C32=\"\",\"\", IF(FS32=1,0,IF(FQ32<>0,500,FL32*$AE32/$AH32+FM32/$AH32*5+FN32/$AH32*25+FO32*50+FP32*50)))","v":""},null,{"$f":"IF(C32<>\"\",C32,\"\")","v":""},null,null,null,null,null,null,null,null,{"$f":"IF($C32=\"\",\"\", IF(GD32=1,0,IF(GB32<>0,500,FW32*$AE32/$AH32+FX32/$AH32*5+FY32/$AH32*25+FZ32*50+GA32*50)))","v":""},null,{"$f":"IF(C32<>\"\",C32,\"\")","v":""},null,null,null,null,null,null,null,null,{"$f":"IF($C32=\"\",\"\", IF(GO32=1,0,IF(GM32<>0,500,GH32*$AE32/$AH32+GI32/$AH32*5+GJ32/$AH32*25+GK32*50+GL32*50)))","v":""},null,{"$f":"IF(C32<>\"\",C32,\"\")","v":""},null,null,null,null,null,null,null,null,{"$f":"IF($C32=\"\",\"\", IF(GZ32=1,0,IF(GX32<>0,500,GS32*$AE32/$AH32+GT32/$AH32*5+GU32/$AH32*25+GV32*50+GW32*50)))","v":""},null,{"$f":"IF(C32<>\"\",C32,\"\")","v":""},null,null,null,null,null,null,null,null,{"$f":"IF($C32=\"\",\"\", IF(HK32=1,0,IF(HI32<>0,500,HD32*$AE32/$AH32+HE32/$AH32*5+HF32/$AH32*25+HG32*50+HH32*50)))","v":""},null,{"$f":"IF(C32<>\"\",C32,\"\")","v":""},null,null,null,null,null,null,null,null,{"$f":"IF($C32=\"\",\"\", IF(HV32=1,0,IF(HT32<>0,500,HO32*$AE32/$AH32+HP32/$AH32*5+HQ32/$AH32*25+HR32*50+HS32*50)))","v":""},null,{"$f":"IF(C32<>\"\",C32,\"\")","v":""},null,null,null,null,null,null,null,null,{"$f":"IF($C32=\"\",\"\", IF(IG32=1,0,IF(IE32<>0,500,HZ32*$AE32/$AH32+IA32/$AH32*5+IB32/$AH32*25+IC32*50+ID32*50)))","v":""}]
[null,{"$f":"IF(C33=0,\"\",ROW(C33)-4)","v":""},null,null,null,null,null,{"$f":"IF(C33=0,\"\",IF(OR(BB33=1,BC33<>0),BC33,\"-\"))","v":""},{"$f":"IF(C33=0,\"\",IF(OR(BM33=1,BN33<>0),BN33,\"-\"))","v":""},{"$f":"IF(C33=0,\"\",IF(OR(BX33=1,BY33<>0),BY33,\" -\"))","v":""},{"$f":"IF(C33=0,\"\",IF(OR(CJ33<>0,CI33=1),CJ33,\" -\"))","v":""},{"$f":"IF(C33=0,\"\",IF(OR(CU33<>0,CT33=1),CU33,\" -\"))","v":""},{"$f":"IF(C33=0,\"\",IF(OR(DF33<>0,DE33=1),DF33,\" -\"))","v":""},{"$f":"IF(C33=0,\"\",IF(OR(DQ33<>0,DP33=1),DQ33,\" -\"))","v":""},{"$f":"IF(C33=0,\"\",IF(OR(EB33<>0,EA33=1),EB33,\" -\"))","v":""},{"$f":"IF(C33=0,\"\",IF(OR(EM33<>0,EL33=1),EM33,\" -\"))","v":""},{"$f":"IF(C33=0,\"\",IF(OR(EX33<>0,EW33=1),EX33,\" -\"))","v":""},{"$f":"IF(C33=0,\"\",IF(OR(FI33<>0,FH33=1),FI33,\" -\"))","v":""},{"$f":"IF(C33=0,\"\",IF(OR(FT33<>0,FS33=1),FT33,\" -\"))","v":""},{"$f":"IF(C33=0,\"\",IF(OR(GE33<>0,GD33=1),GE33,\" -\"))","v":""},{"$f":"IF(C33=0,\"\",IF(OR(GP33<>0,GO33=1),GP33,\" -\"))","v":""},{"$f":"IF(C33=0,\"\",IF(OR(HA33<>0,GZ33=1),HA33,\" -\"))","v":""},{"$f":"IF(C33=0,\"\",IF(OR(HL33<>0,HK33=1),HL33,\" -\"))","v":""},{"$f":"IF(C33=0,\"\",IF(AJ33<>0,AJ33,\" -\"))","v":""},{"$f":"IF(C33=0,\"\",IF(OR(HW33<>0,HV33=1),HW33,\" -\"))","v":""},{"$f":"IF(C33=0,\"\",IF(OR(IH33<>0,IG33=1),IH33,\" -\"))","v":""},{"$f":"IF(C33=0,\"\",IF(AL33=1,\"DNF\",IF(AL33=2,\"DSQ\",IF(AM33<>1,\"~ \"&ROUND(SUM(H33:X33),3),ROUND(SUM(H33:X33),3)))))","v":""},null,null,{"$f":"IF(C33<>\"\",C33,\"\")","v":""},{"$f":"IF(AD33<>\"\",3,\"\")","v":""},null,null,{"$f":"IF(AD33<>\"\",(AF33/1000*AG33/1000)/2,\"\")","v":""},null,null,null,null,null,null,null,{"$f":"IF(C33=0,99999,IF(AL33>0,9999,SUM(H33:X33)-AN33))","v":99999},{"$f":"IF(C33=0,99999,IF(AL33=1,9999,SUM(Y33:Z33)))","v":99999},null,null,{"$f":"IF(C33<>\"\",C33,\"\")","v":""},null,null,null,null,null,null,null,null,{"$f":"IF($C33=\"\",\"\", IF(BB33=1,0,IF(AZ33<>0,500,AU33*$AE33/$AH33+AV33/$AH33*5+AW33/$AH33*25+AX33*50+AY33*50)))","v":""},null,{"$f":"IF(C33<>\"\",C33,\"\")","v":""},null,null,null,null,null,null,null,null,{"$f":"IF($C33=\"\",\"\", IF(BM33=1,0,IF(BK33<>0,500,BF33*$AE33/$AH33+BG33/$AH33*5+BH33/$AH33*25+BI33*50+BJ33*50)))","v":""},null,{"$f":"IF(C33<>\"\",C33,\"\")","v":""},null,null,null,null,null,null,null,null,{"$f":"IF($C33=\"\",\"\", IF(BX33=1,0,IF(BV33<>0,500,BQ33*$AE33/$AH33+BR33/$AH33*5+BS33/$AH33*25+BT33*50+BU33*50)))","v":""},null,{"$f":"IF(C33<>\"\",C33,\"\")","v":""},null,null,null,null,null,null,null,null,{"$f":"IF($C33=\"\",\"\", IF(CI33=1,0,IF(CG33<>0,500,CB33*$AE33/$AH33+CC33/$AH33*5+CD33/$AH33*25+CE33*50+CF33*50)))","v":""},null,{"$f":"IF(C33<>\"\",C33,\"\")","v":""},null,null,null,null,null,null,null,null,{"$f":"IF($C33=\"\",\"\", IF(CT33=1,0,IF(CR33<>0,500,CM33*$AE33/$AH33+CN33/$AH33*5+CO33/$AH33*25+CP33*50+CQ33*50)))","v":""},null,{"$f":"IF(C33<>\"\",C33,\"\")","v":""},null,null,null,null,null,null,null,null,{"$f":"IF($C33=\"\",\"\", IF(DE33=1,0,IF(DC33<>0,500,CX33*$AE33/$AH33+CY33/$AH33*5+CZ33/$AH33*25+DA33*50+DB33*50)))","v":""},null,{"$f":"IF(C33<>\"\",C33,\"\")","v":""},null,null,null,null,null,null,null,null,{"$f":"IF($C33=\"\",\"\", IF(DP33=1,0,IF(DN33<>0,500,DI33*$AE33/$AH33+DJ33/$AH33*5+DK33/$AH33*25+DL33*50+DM33*50)))","v":""},null,{"$f":"IF(C33<>\"\",C33,\"\")","v":""},null,null,null,null,null,null,null,null,{"$f":"IF($C33=\"\",\"\", IF(EA33=1,0,IF(DY33<>0,500,DT33*$AE33/$AH33+DU33/$AH33*5+DV33/$AH33*25+DW33*50+DX33*50)))","v":""},null,{"$f":"IF(C33<>\"\",C33,\"\")","v":""},null,null,null,null,null,null,null,null,{"$f":"IF($C33=\"\",\"\", IF(EL33=1,0,IF(EJ33<>0,500,EE33*$AE33/$AH33+EF33/$AH33*5+EG33/$AH33*25+EH33*50+EI33*50)))","v":""},null,{"$f":"IF(C33<>\"\",C33,\"\")","v":""},null,null,null,null,null,null,null,null,{"$f":"IF($C33=\"\",\"\", IF(EW33=1,0,IF(EU33<>0,500,EP33*$AE33/$AH33+EQ33/$AH33*5+ER33/$AH33*25+ES33*50+ET33*50)))","v":""},null,{"$f":"IF(C33<>\"\",C33,\"\")","v":""},null,null,null,null,null,null,null,null,{"$f":"IF($C33=\"\",\"\", IF(FH33=1,0,IF(FF33<>0,500,FA33*$AE33/$AH33+FB33/$AH33*5+FC33/$AH33*25+FD33*50+FE33*50)))","v":""},null,{"$f":"IF(C33<>\"\",C33,\"\")","v":""},null,null,null,null,null,null,null,null,{"$f":"IF($C33=\"\",\"\", IF(FS33=1,0,IF(FQ33<>0,500,FL33*$AE33/$AH33+FM33/$AH33*5+FN33/$AH33*25+FO33*50+FP33*50)))","v":""},null,{"$f":"IF(C33<>\"\",C33,\"\")","v":""},null,null,null,null,null,null,null,null,{"$f":"IF($C33=\"\",\"\", IF(GD33=1,0,IF(GB33<>0,500,FW33*$AE33/$AH33+FX33/$AH33*5+FY33/$AH33*25+FZ33*50+GA33*50)))","v":""},null,{"$f":"IF(C33<>\"\",C33,\"\")","v":""},null,null,null,null,null,null,null,null,{"$f":"IF($C33=\"\",\"\", IF(GO33=1,0,IF(GM33<>0,500,GH33*$AE33/$AH33+GI33/$AH33*5+GJ33/$AH33*25+GK33*50+GL33*50)))","v":""},null,{"$f":"IF(C33<>\"\",C33,\"\")","v":""},null,null,null,null,null,null,null,null,{"$f":"IF($C33=\"\",\"\", IF(GZ33=1,0,IF(GX33<>0,500,GS33*$AE33/$AH33+GT33/$AH33*5+GU33/$AH33*25+GV33*50+GW33*50)))","v":""},null,{"$f":"IF(C33<>\"\",C33,\"\")","v":""},null,null,null,null,null,null,null,null,{"$f":"IF($C33=\"\",\"\", IF(HK33=1,0,IF(HI33<>0,500,HD33*$AE33/$AH33+HE33/$AH33*5+HF33/$AH33*25+HG33*50+HH33*50)))","v":""},null,{"$f":"IF(C33<>\"\",C33,\"\")","v":""},null,null,null,null,null,null,null,null,{"$f":"IF($C33=\"\",\"\", IF(HV33=1,0,IF(HT33<>0,500,HO33*$AE33/$AH33+HP33/$AH33*5+HQ33/$AH33*25+HR33*50+HS33*50)))","v":""},null,{"$f":"IF(C33<>\"\",C33,\"\")","v":""},null,null,null,null,null,null,null,null,{"$f":"IF($C33=\"\",\"\", IF(IG33=1,0,IF(IE33<>0,500,HZ33*$AE33/$AH33+IA33/$AH33*5+IB33/$AH33*25+IC33*50+ID33*50)))","v":""}]
[null,{"$f":"IF(C34=0,\"\",ROW(C34)-4)","v":""},null,null,null,null,null,{"$f":"IF(C34=0,\"\",IF(OR(BB34=1,BC34<>0),BC34,\"-\"))","v":""},{"$f":"IF(C34=0,\"\",IF(OR(BM34=1,BN34<>0),BN34,\"-\"))","v":""},{"$f":"IF(C34=0,\"\",IF(OR(BX34=1,BY34<>0),BY34,\" -\"))","v":""},{"$f":"IF(C34=0,\"\",IF(OR(CJ34<>0,CI34=1),CJ34,\" -\"))","v":""},{"$f":"IF(C34=0,\"\",IF(OR(CU34<>0,CT34=1),CU34,\" -\"))","v":""},{"$f":"IF(C34=0,\"\",IF(OR(DF34<>0,DE34=1),DF34,\" -\"))","v":""},{"$f":"IF(C34=0,\"\",IF(OR(DQ34<>0,DP34=1),DQ34,\" -\"))","v":""},{"$f":"IF(C34=0,\"\",IF(OR(EB34<>0,EA34=1),EB34,\" -\"))","v":""},{"$f":"IF(C34=0,\"\",IF(OR(EM34<>0,EL34=1),EM34,\" -\"))","v":""},{"$f":"IF(C34=0,\"\",IF(OR(EX34<>0,EW34=1),EX34,\" -\"))","v":""},{"$f":"IF(C34=0,\"\",IF(OR(FI34<>0,FH34=1),FI34,\" -\"))","v":""},{"$f":"IF(C34=0,\"\",IF(OR(FT34<>0,FS34=1),FT34,\" -\"))","v":""},{"$f":"IF(C34=0,\"\",IF(OR(GE34<>0,GD34=1),GE34,\" -\"))","v":""},{"$f":"IF(C34=0,\"\",IF(OR(GP34<>0,GO34=1),GP34,\" -\"))","v":""},{"$f":"IF(C34=0,\"\",IF(OR(HA34<>0,GZ34=1),HA34,\" -\"))","v":""},{"$f":"IF(C34=0,\"\",IF(OR(HL34<>0,HK34=1),HL34,\" -\"))","v":""},{"$f":"IF(C34=0,\"\",IF(AJ34<>0,AJ34,\" -\"))","v":""},{"$f":"IF(C34=0,\"\",IF(OR(HW34<>0,HV34=1),HW34,\" -\"))","v":""},{"$f":"IF(C34=0,\"\",IF(OR(IH34<>0,IG34=1),IH34,\" -\"))","v":""},{"$f":"IF(C34=0,\"\",IF(AL34=1,\"DNF\",IF(AL34=2,\"DSQ\",IF(AM34<>1,\"~ \"&ROUND(SUM(H34:X34),3),ROUND(SUM(H34:X34),3)))))","v":""},null,null,{"$f":"IF(C34<>\"\",C34,\"\")","v":""},{"$f":"IF(AD34<>\"\",3,\"\")","v":""},null,null,{"$f":"IF(AD34<>\"\",(AF34/1000*AG34/1000)/2,\"\")","v":""},null,null,null,null,null,null,null,{"$f":"IF(C34=0,99999,IF(AL34>0,9999,SUM(H34:X34)-AN34))","v":99999},{"$f":"IF(C34=0,99999,IF(AL34=1,9999,SUM(Y34:Z34)))","v":99999},null,null,{"$f":"IF(C34<>\"\",C34,\"\")","v":""},null,null,null,null,null,null,null,null,{"$f":"IF($C34=\"\",\"\", IF(BB34=1,0,IF(AZ34<>0,500,AU34*$AE34/$AH34+AV34/$AH34*5+AW34/$AH34*25+AX34*50+AY34*50)))","v":""},null,{"$f":"IF(C34<>\"\",C34,\"\")","v":""},null,null,null,null,null,null,null,null,{"$f":"IF($C34=\"\",\"\", IF(BM34=1,0,IF(BK34<>0,500,BF34*$AE34/$AH34+BG34/$AH34*5+BH34/$AH34*25+BI34*50+BJ34*50)))","v":""},null,{"$f":"IF(C34<>\"\",C34,\"\")","v":""},null,null,null,null,null,null,null,null,{"$f":"IF($C34=\"\",\"\", IF(BX34=1,0,IF(BV34<>0,500,BQ34*$AE34/$AH34+BR34/$AH34*5+BS34/$AH34*25+BT34*50+BU34*50)))","v":""},null,{"$f":"IF(C34<>\"\",C34,\"\")","v":""},null,null,null,null,null,null,null,null,{"$f":"IF($C34=\"\",\"\", IF(CI34=1,0,IF(CG34<>0,500,CB34*$AE34/$AH34+CC34/$AH34*5+CD34/$AH34*25+CE34*50+CF34*50)))","v":""},null,{"$f":"IF(C34<>\"\",C34,\"\")","v":""},null,null,null,null,null,null,null,null,{"$f":"IF($C34=\"\",\"\", IF(CT34=1,0,IF(CR34<>0,500,CM34*$AE34/$AH34+CN34/$AH34*5+CO34/$AH34*25+CP34*50+CQ34*50)))","v":""},null,{"$f":"IF(C34<>\"\",C34,\"\")","v":""},null,null,null,null,null,null,null,null,{"$f":"IF($C34=\"\",\"\", IF(DE34=1,0,IF(DC34<>0,500,CX34*$AE34/$AH34+CY34/$AH34*5+CZ34/$AH34*25+DA34*50+DB34*50)))","v":""},null,{"$f":"IF(C34<>\"\",C34,\"\")","v":""},null,null,null,null,null,null,null,null,{"$f":"IF($C34=\"\",\"\", IF(DP34=1,0,IF(DN34<>0,500,DI34*$AE34/$AH34+DJ34/$AH34*5+DK34/$AH34*25+DL34*50+DM34*50)))","v":""},null,{"$f":"IF(C34<>\"\",C34,\"\")","v":""},null,null,null,null,null,null,null,null,{"$f":"IF($C34=\"\",\"\", IF(EA34=1,0,IF(DY34<>0,500,DT34*$AE34/$AH34+DU34/$AH34*5+DV34/$AH34*25+DW34*50+DX34*50)))","v":""},null,{"$f":"IF(C34<>\"\",C34,\"\")","v":""},null,null,null,null,null,null,null,null,{"$f":"IF($C34=\"\",\"\", IF(EL34=1,0,IF(EJ34<>0,500,EE34*$AE34/$AH34+EF34/$AH34*5+EG34/$AH34*25+EH34*50+EI34*50)))","v":""},null,{"$f":"IF(C34<>\"\",C34,\"\")","v":""},null,null,null,null,null,null,null,null,{"$f":"IF($C34=\"\",\"\", IF(EW34=1,0,IF(EU34<>0,500,EP34*$AE34/$AH34+EQ34/$AH34*5+ER34/$AH34*25+ES34*50+ET34*50)))","v":""},null,{"$f":"IF(C34<>\"\",C34,\"\")","v":""},null,null,null,null,null,null,null,null,{"$f":"IF($C34=\"\",\"\", IF(FH34=1,0,IF(FF34<>0,500,FA34*$AE34/$AH34+FB34/$AH34*5+FC34/$AH34*25+FD34*50+FE34*50)))","v":""},null,{"$f":"IF(C34<>\"\",C34,\"\")","v":""},null,null,null,null,null,null,null,null,{"$f":"IF($C34=\"\",\"\", IF(FS34=1,0,IF(FQ34<>0,500,FL34*$AE34/$AH34+FM34/$AH34*5+FN34/$AH34*25+FO34*50+FP34*50)))","v":""},null,{"$f":"IF(C34<>\"\",C34,\"\")","v":""},null,null,null,null,null,null,null,null,{"$f":"IF($C34=\"\",\"\", IF(GD34=1,0,IF(GB34<>0,500,FW34*$AE34/$AH34+FX34/$AH34*5+FY34/$AH34*25+FZ34*50+GA34*50)))","v":""},null,{"$f":"IF(C34<>\"\",C34,\"\")","v":""},null,null,null,null,null,null,null,null,{"$f":"IF($C34=\"\",\"\", IF(GO34=1,0,IF(GM34<>0,500,GH34*$AE34/$AH34+GI34/$AH34*5+GJ34/$AH34*25+GK34*50+GL34*50)))","v":""},null,{"$f":"IF(C34<>\"\",C34,\"\")","v":""},null,null,null,null,null,null,null,null,{"$f":"IF($C34=\"\",\"\", IF(GZ34=1,0,IF(GX34<>0,500,GS34*$AE34/$AH34+GT34/$AH34*5+GU34/$AH34*25+GV34*50+GW34*50)))","v":""},null,{"$f":"IF(C34<>\"\",C34,\"\")","v":""},null,null,null,null,null,null,null,null,{"$f":"IF($C34=\"\",\"\", IF(HK34=1,0,IF(HI34<>0,500,HD34*$AE34/$AH34+HE34/$AH34*5+HF34/$AH34*25+HG34*50+HH34*50)))","v":""},null,{"$f":"IF(C34<>\"\",C34,\"\")","v":""},null,null,null,null,null,null,null,null,{"$f":"IF($C34=\"\",\"\", IF(HV34=1,0,IF(HT34<>0,500,HO34*$AE34/$AH34+HP34/$AH34*5+HQ34/$AH34*25+HR34*50+HS34*50)))","v":""},null,{"$f":"IF(C34<>\"\",C34,\"\")","v":""},null,null,null,null,null,null,null,null,{"$f":"IF($C34=\"\",\"\", IF(IG34=1,0,IF(IE34<>0,500,HZ34*$AE34/$AH34+IA34/$AH34*5+IB34/$AH34*25+IC34*50+ID34*50)))","v":""}]
[null,{"$f":"IF(C35=0,\"\",ROW(C35)-4)","v":""},null,null,null,null,null,{"$f":"IF(C35=0,\"\",IF(OR(BB35=1,BC35<>0),BC35,\"-\"))","v":""},{"$f":"IF(C35=0,\"\",IF(OR(BM35=1,BN35<>0),BN35,\"-\"))","v":""},{"$f":"IF(C35=0,\"\",IF(OR(BX35=1,BY35<>0),BY35,\" -\"))","v":""},{"$f":"IF(C35=0,\"\",IF(OR(CJ35<>0,CI35=1),CJ35,\" -\"))","v":""},{"$f":"IF(C35=0,\"\",IF(OR(CU35<>0,CT35=1),CU35,\" -\"))","v":""},{"$f":"IF(C35=0,\"\",IF(OR(DF35<>0,DE35=1),DF35,\" -\"))","v":""},{"$f":"IF(C35=0,\"\",IF(OR(DQ35<>0,DP35=1),DQ35,\" -\"))","v":""},{"$f":"IF(C35=0,\"\",IF(OR(EB35<>0,EA35=1),EB35,\" -\"))","v":""},{"$f":"IF(C35=0,\"\",IF(OR(EM35<>0,EL35=1),EM35,\" -\"))","v":""},{"$f":"IF(C35=0,\"\",IF(OR(EX35<>0,EW35=1),EX35,\" -\"))","v":""},{"$f":"IF(C35=0,\"\",IF(OR(FI35<>0,FH35=1),FI35,\" -\"))","v":""},{"$f":"IF(C35=0,\"\",IF(OR(FT35<>0,FS35=1),FT35,\" -\"))","v":""},{"$f":"IF(C35=0,\"\",IF(OR(GE35<>0,GD35=1),GE35,\" -\"))","v":""},{"$f":"IF(C35=0,\"\",IF(OR(GP35<>0,GO35=1),GP35,\" -\"))","v":""},{"$f":"IF(C35=0,\"\",IF(OR(HA35<>0,GZ35=1),HA35,\" -\"))","v":""},{"$f":"IF(C35=0,\"\",IF(OR(HL35<>0,HK35=1),HL35,\" -\"))","v":""},{"$f":"IF(C35=0,\"\",IF(AJ35<>0,AJ35,\" -\"))","v":""},{"$f":"IF(C35=0,\"\",IF(OR(HW35<>0,HV35=1),HW35,\" -\"))","v":""},{"$f":"IF(C35=0,\"\",IF(OR(IH35<>0,IG35=1),IH35,\" -\"))","v":""},{"$f":"IF(C35=0,\"\",IF(AL35=1,\"DNF\",IF(AL35=2,\"DSQ\",IF(AM35<>1,\"~ \"&ROUND(SUM(H35:X35),3),ROUND(SUM(H35:X35),3)))))","v":""},null,null,{"$f":"IF(C35<>\"\",C35,\"\")","v":""},{"$f":"IF(AD35<>\"\",3,\"\")","v":""},null,null,{"$f":"IF(AD35<>\"\",(AF35/1000*AG35/1000)/2,\"\")","v":""},null,null,null,null,null,null,null,{"$f":"IF(C35=0,99999,IF(AL35>0,9999,SUM(H35:X35)-AN35))","v":99999},{"$f":"IF(C35=0,99999,IF(AL35=1,9999,SUM(Y35:Z35)))","v":99999},null,null,{"$f":"IF(C35<>\"\",C35,\"\")","v":""},null,null,null,null,null,null,null,null,{"$f":"IF($C35=\"\",\"\", IF(BB35=1,0,IF(AZ35<>0,500,AU35*$AE35/$AH35+AV35/$AH35*5+AW35/$AH35*25+AX35*50+AY35*50)))","v":""},null,{"$f":"IF(C35<>\"\",C35,\"\")","v":""},null,null,null,null,null,null,null,null,{"$f":"IF($C35=\"\",\"\", IF(BM35=1,0,IF(BK35<>0,500,BF35*$AE35/$AH35+BG35/$AH35*5+BH35/$AH35*25+BI35*50+BJ35*50)))","v":""},null,{"$f":"IF(C35<>\"\",C35,\"\")","v":""},null,null,null,null,null,null,null,null,{"$f":"IF($C35=\"\",\"\", IF(BX35=1,0,IF(BV35<>0,500,BQ35*$AE35/$AH35+BR35/$AH35*5+BS35/$AH35*25+BT35*50+BU35*50)))","v":""},null,{"$f":"IF(C35<>\"\",C35,\"\")","v":""},null,null,null,null,null,null,null,null,{"$f":"IF($C35=\"\",\"\", IF(CI35=1,0,IF(CG35<>0,500,CB35*$AE35/$AH35+CC35/$AH35*5+CD35/$AH35*25+CE35*50+CF35*50)))","v":""},null,{"$f":"IF(C35<>\"\",C35,\"\")","v":""},null,null,null,null,null,null,null,null,{"$f":"IF($C35=\"\",\"\", IF(CT35=1,0,IF(CR35<>0,500,CM35*$AE35/$AH35+CN35/$AH35*5+CO35/$AH35*25+CP35*50+CQ35*50)))","v":""},null,{"$f":"IF(C35<>\"\",C35,\"\")","v":""},null,null,null,null,null,null,null,null,{"$f":"IF($C35=\"\",\"\", IF(DE35=1,0,IF(DC35<>0,500,CX35*$AE35/$AH35+CY35/$AH35*5+CZ35/$AH35*25+DA35*50+DB35*50)))","v":""},null,{"$f":"IF(C35<>\"\",C35,\"\")","v":""},null,null,null,null,null,null,null,null,{"$f":"IF($C35=\"\",\"\", IF(DP35=1,0,IF(DN35<>0,500,DI35*$AE35/$AH35+DJ35/$AH35*5+DK35/$AH35*25+DL35*50+DM35*50)))","v":""},null,{"$f":"IF(C35<>\"\",C35,\"\")","v":""},null,null,null,null,null,null,null,null,{"$f":"IF($C35=\"\",\"\", IF(EA35=1,0,IF(DY35<>0,500,DT35*$AE35/$AH35+DU35/$AH35*5+DV35/$AH35*25+DW35*50+DX35*50)))","v":""},null,{"$f":"IF(C35<>\"\",C35,\"\")","v":""},null,null,null,null,null,null,null,null,{"$f":"IF($C35=\"\",\"\", IF(EL35=1,0,IF(EJ35<>0,500,EE35*$AE35/$AH35+EF35/$AH35*5+EG35/$AH35*25+EH35*50+EI35*50)))","v":""},null,{"$f":"IF(C35<>\"\",C35,\"\")","v":""},null,null,null,null,null,null,null,null,{"$f":"IF($C35=\"\",\"\", IF(EW35=1,0,IF(EU35<>0,500,EP35*$AE35/$AH35+EQ35/$AH35*5+ER35/$AH35*25+ES35*50+ET35*50)))","v":""},null,{"$f":"IF(C35<>\"\",C35,\"\")","v":""},null,null,null,null,null,null,null,null,{"$f":"IF($C35=\"\",\"\", IF(FH35=1,0,IF(FF35<>0,500,FA35*$AE35/$AH35+FB35/$AH35*5+FC35/$AH35*25+FD35*50+FE35*50)))","v":""},null,{"$f":"IF(C35<>\"\",C35,\"\")","v":""},null,null,null,null,null,null,null,null,{"$f":"IF($C35=\"\",\"\", IF(FS35=1,0,IF(FQ35<>0,500,FL35*$AE35/$AH35+FM35/$AH35*5+FN35/$AH35*25+FO35*50+FP35*50)))","v":""},null,{"$f":"IF(C35<>\"\",C35,\"\")","v":""},null,null,null,null,null,null,null,null,{"$f":"IF($C35=\"\",\"\", IF(GD35=1,0,IF(GB35<>0,500,FW35*$AE35/$AH35+FX35/$AH35*5+FY35/$AH35*25+FZ35*50+GA35*50)))","v":""},null,{"$f":"IF(C35<>\"\",C35,\"\")","v":""},null,null,null,null,null,null,null,null,{"$f":"IF($C35=\"\",\"\", IF(GO35=1,0,IF(GM35<>0,500,GH35*$AE35/$AH35+GI35/$AH35*5+GJ35/$AH35*25+GK35*50+GL35*50)))","v":""},null,{"$f":"IF(C35<>\"\",C35,\"\")","v":""},null,null,null,null,null,null,null,null,{"$f":"IF($C35=\"\",\"\", IF(GZ35=1,0,IF(GX35<>0,500,GS35*$AE35/$AH35+GT35/$AH35*5+GU35/$AH35*25+GV35*50+GW35*50)))","v":""},null,{"$f":"IF(C35<>\"\",C35,\"\")","v":""},null,null,null,null,null,null,null,null,{"$f":"IF($C35=\"\",\"\", IF(HK35=1,0,IF(HI35<>0,500,HD35*$AE35/$AH35+HE35/$AH35*5+HF35/$AH35*25+HG35*50+HH35*50)))","v":""},null,{"$f":"IF(C35<>\"\",C35,\"\")","v":""},null,null,null,null,null,null,null,null,{"$f":"IF($C35=\"\",\"\", IF(HV35=1,0,IF(HT35<>0,500,HO35*$AE35/$AH35+HP35/$AH35*5+HQ35/$AH35*25+HR35*50+HS35*50)))","v":""},null,{"$f":"IF(C35<>\"\",C35,\"\")","v":""},null,null,null,null,null,null,null,null,{"$f":"IF($C35=\"\",\"\", IF(IG35=1,0,IF(IE35<>0,500,HZ35*$AE35/$AH35+IA35/$AH35*5+IB35/$AH35*25+IC35*50+ID35*50)))","v":""}]
[null,{"$f":"IF(C36=0,\"\",ROW(C36)-4)","v":""},null,null,null,null,null,{"$f":"IF(C36=0,\"\",IF(OR(BB36=1,BC36<>0),BC36,\"-\"))","v":""},{"$f":"IF(C36=0,\"\",IF(OR(BM36=1,BN36<>0),BN36,\"-\"))","v":""},{"$f":"IF(C36=0,\"\",IF(OR(BX36=1,BY36<>0),BY36,\" -\"))","v":""},{"$f":"IF(C36=0,\"\",IF(OR(CJ36<>0,CI36=1),CJ36,\" -\"))","v":""},{"$f":"IF(C36=0,\"\",IF(OR(CU36<>0,CT36=1),CU36,\" -\"))","v":""},{"$f":"IF(C36=0,\"\",IF(OR(DF36<>0,DE36=1),DF36,\" -\"))","v":""},{"$f":"IF(C36=0,\"\",IF(OR(DQ36<>0,DP36=1),DQ36,\" -\"))","v":""},{"$f":"IF(C36=0,\"\",IF(OR(EB36<>0,EA36=1),EB36,\" -\"))","v":""},{"$f":"IF(C36=0,\"\",IF(OR(EM36<>0,EL36=1),EM36,\" -\"))","v":""},{"$f":"IF(C36=0,\"\",IF(OR(EX36<>0,EW36=1),EX36,\" -\"))","v":""},{"$f":"IF(C36=0,\"\",IF(OR(FI36<>0,FH36=1),FI36,\" -\"))","v":""},{"$f":"IF(C36=0,\"\",IF(OR(FT36<>0,FS36=1),FT36,\" -\"))","v":""},{"$f":"IF(C36=0,\"\",IF(OR(GE36<>0,GD36=1),GE36,\" -\"))","v":""},{"$f":"IF(C36=0,\"\",IF(OR(GP36<>0,GO36=1),GP36,\" -\"))","v":""},{"$f":"IF(C36=0,\"\",IF(OR(HA36<>0,GZ36=1),HA36,\" -\"))","v":""},{"$f":"IF(C36=0,\"\",IF(OR(HL36<>0,HK36=1),HL36,\" -\"))","v":""},{"$f":"IF(C36=0,\"\",IF(AJ36<>0,AJ36,\" -\"))","v":""},{"$f":"IF(C36=0,\"\",IF(OR(HW36<>0,HV36=1),HW36,\" -\"))","v":""},{"$f":"IF(C36=0,\"\",IF(OR(IH36<>0,IG36=1),IH36,\" -\"))","v":""},{"$f":"IF(C36=0,\"\",IF(AL36=1,\"DNF\",IF(AL36=2,\"DSQ\",IF(AM36<>1,\"~ \"&ROUND(SUM(H36:X36),3),ROUND(SUM(H36:X36),3)))))","v":""},null,null,{"$f":"IF(C36<>\"\",C36,\"\")","v":""},{"$f":"IF(AD36<>\"\",3,\"\")","v":""},null,null,{"$f":"IF(AD36<>\"\",(AF36/1000*AG36/1000)/2,\"\")","v":""},null,null,null,null,null,null,null,{"$f":"IF(C36=0,99999,IF(AL36>0,9999,SUM(H36:X36)-AN36))","v":99999},{"$f":"IF(C36=0,99999,IF(AL36=1,9999,SUM(Y36:Z36)))","v":99999},null,null,{"$f":"IF(C36<>\"\",C36,\"\")","v":""},null,null,null,null,null,null,null,null,{"$f":"IF($C36=\"\",\"\", IF(BB36=1,0,IF(AZ36<>0,500,AU36*$AE36/$AH36+AV36/$AH36*5+AW36/$AH36*25+AX36*50+AY36*50)))","v":""},null,{"$f":"IF(C36<>\"\",C36,\"\")","v":""},null,null,null,null,null,null,null,null,{"$f":"IF($C36=\"\",\"\", IF(BM36=1,0,IF(BK36<>0,500,BF36*$AE36/$AH36+BG36/$AH36*5+BH36/$AH36*25+BI36*50+BJ36*50)))","v":""},null,{"$f":"IF(C36<>\"\",C36,\"\")","v":""},null,null,null,null,null,null,null,null,{"$f":"IF($C36=\"\",\"\", IF(BX36=1,0,IF(BV36<>0,500,BQ36*$AE36/$AH36+BR36/$AH36*5+BS36/$AH36*25+BT36*50+BU36*50)))","v":""},null,{"$f":"IF(C36<>\"\",C36,\"\")","v":""},null,null,null,null,null,null,null,null,{"$f":"IF($C36=\"\",\"\", IF(CI36=1,0,IF(CG36<>0,500,CB36*$AE36/$AH36+CC36/$AH36*5+CD36/$AH36*25+CE36*50+CF36*50)))","v":""},null,{"$f":"IF(C36<>\"\",C36,\"\")","v":""},null,null,null,null,null,null,null,null,{"$f":"IF($C36=\"\",\"\", IF(CT36=1,0,IF(CR36<>0,500,CM36*$AE36/$AH36+CN36/$AH36*5+CO36/$AH36*25+CP36*50+CQ36*50)))","v":""},null,{"$f":"IF(C36<>\"\",C36,\"\")","v":""},null,null,null,null,null,null,null,null,{"$f":"IF($C36=\"\",\"\", IF(DE36=1,0,IF(DC36<>0,500,CX36*$AE36/$AH36+CY36/$AH36*5+CZ36/$AH36*25+DA36*50+DB36*50)))","v":""},null,{"$f":"IF(C36<>\"\",C36,\"\")","v":""},null,null,null,null,null,null,null,null,{"$f":"IF($C36=\"\",\"\", IF(DP36=1,0,IF(DN36<>0,500,DI36*$AE36/$AH36+DJ36/$AH36*5+DK36/$AH36*25+DL36*50+DM36*50)))","v":""},null,{"$f":"IF(C36<>\"\",C36,\"\")","v":""},null,null,null,null,null,null,null,null,{"$f":"IF($C36=\"\",\"\", IF(EA36=1,0,IF(DY36<>0,500,DT36*$AE36/$AH36+DU36/$AH36*5+DV36/$AH36*25+DW36*50+DX36*50)))","v":""},null,{"$f":"IF(C36<>\"\",C36,\"\")","v":""},null,null,null,null,null,null,null,null,{"$f":"IF($C36=\"\",\"\", IF(EL36=1,0,IF(EJ36<>0,500,EE36*$AE36/$AH36+EF36/$AH36*5+EG36/$AH36*25+EH36*50+EI36*50)))","v":""},null,{"$f":"IF(C36<>\"\",C36,\"\")","v":""},null,null,null,null,null,null,null,null,{"$f":"IF($C36=\"\",\"\", IF(EW36=1,0,IF(EU36<>0,500,EP36*$AE36/$AH36+EQ36/$AH36*5+ER36/$AH36*25+ES36*50+ET36*50)))","v":""},null,{"$f":"IF(C36<>\"\",C36,\"\")","v":""},null,null,null,null,null,null,null,null,{"$f":"IF($C36=\"\",\"\", IF(FH36=1,0,IF(FF36<>0,500,FA36*$AE36/$AH36+FB36/$AH36*5+FC36/$AH36*25+FD36*50+FE36*50)))","v":""},null,{"$f":"IF(C36<>\"\",C36,\"\")","v":""},null,null,null,null,null,null,null,null,{"$f":"IF($C36=\"\",\"\", IF(FS36=1,0,IF(FQ36<>0,500,FL36*$AE36/$AH36+FM36/$AH36*5+FN36/$AH36*25+FO36*50+FP36*50)))","v":""},null,{"$f":"IF(C36<>\"\",C36,\"\")","v":""},null,null,null,null,null,null,null,null,{"$f":"IF($C36=\"\",\"\", IF(GD36=1,0,IF(GB36<>0,500,FW36*$AE36/$AH36+FX36/$AH36*5+FY36/$AH36*25+FZ36*50+GA36*50)))","v":""},null,{"$f":"IF(C36<>\"\",C36,\"\")","v":""},null,null,null,null,null,null,null,null,{"$f":"IF($C36=\"\",\"\", IF(GO36=1,0,IF(GM36<>0,500,GH36*$AE36/$AH36+GI36/$AH36*5+GJ36/$AH36*25+GK36*50+GL36*50)))","v":""},null,{"$f":"IF(C36<>\"\",C36,\"\")","v":""},null,null,null,null,null,null,null,null,{"$f":"IF($C36=\"\",\"\", IF(GZ36=1,0,IF(GX36<>0,500,GS36*$AE36/$AH36+GT36/$AH36*5+GU36/$AH36*25+GV36*50+GW36*50)))","v":""},null,{"$f":"IF(C36<>\"\",C36,\"\")","v":""},null,null,null,null,null,null,null,null,{"$f":"IF($C36=\"\",\"\", IF(HK36=1,0,IF(HI36<>0,500,HD36*$AE36/$AH36+HE36/$AH36*5+HF36/$AH36*25+HG36*50+HH36*50)))","v":""},null,{"$f":"IF(C36<>\"\",C36,\"\")","v":""},null,null,null,null,null,null,null,null,{"$f":"IF($C36=\"\",\"\", IF(HV36=1,0,IF(HT36<>0,500,HO36*$AE36/$AH36+HP36/$AH36*5+HQ36/$AH36*25+HR36*50+HS36*50)))","v":""},null,{"$f":"IF(C36<>\"\",C36,\"\")","v":""},null,null,null,null,null,null,null,null,{"$f":"IF($C36=\"\",\"\", IF(IG36=1,0,IF(IE36<>0,500,HZ36*$AE36/$AH36+IA36/$AH36*5+IB36/$AH36*25+IC36*50+ID36*50)))","v":""}]
[null,{"$f":"IF(C37=0,\"\",ROW(C37)-4)","v":""},null,null,null,null,null,{"$f":"IF(C37=0,\"\",IF(OR(BB37=1,BC37<>0),BC37,\"-\"))","v":""},{"$f":"IF(C37=0,\"\",IF(OR(BM37=1,BN37<>0),BN37,\"-\"))","v":""},{"$f":"IF(C37=0,\"\",IF(OR(BX37=1,BY37<>0),BY37,\" -\"))","v":""},{"$f":"IF(C37=0,\"\",IF(OR(CJ37<>0,CI37=1),CJ37,\" -\"))","v":""},{"$f":"IF(C37=0,\"\",IF(OR(CU37<>0,CT37=1),CU37,\" -\"))","v":""},{"$f":"IF(C37=0,\"\",IF(OR(DF37<>0,DE37=1),DF37,\" -\"))","v":""},{"$f":"IF(C37=0,\"\",IF(OR(DQ37<>0,DP37=1),DQ37,\" -\"))","v":""},{"$f":"IF(C37=0,\"\",IF(OR(EB37<>0,EA37=1),EB37,\" -\"))","v":""},{"$f":"IF(C37=0,\"\",IF(OR(EM37<>0,EL37=1),EM37,\" -\"))","v":""},{"$f":"IF(C37=0,\"\",IF(OR(EX37<>0,EW37=1),EX37,\" -\"))","v":""},{"$f":"IF(C37=0,\"\",IF(OR(FI37<>0,FH37=1),FI37,\" -\"))","v":""},{"$f":"IF(C37=0,\"\",IF(OR(FT37<>0,FS37=1),FT37,\" -\"))","v":""},{"$f":"IF(C37=0,\"\",IF(OR(GE37<>0,GD37=1),GE37,\" -\"))","v":""},{"$f":"IF(C37=0,\"\",IF(OR(GP37<>0,GO37=1),GP37,\" -\"))","v":""},{"$f":"IF(C37=0,\"\",IF(OR(HA37<>0,GZ37=1),HA37,\" -\"))","v":""},{"$f":"IF(C37=0,\"\",IF(OR(HL37<>0,HK37=1),HL37,\" -\"))","v":""},{"$f":"IF(C37=0,\"\",IF(AJ37<>0,AJ37,\" -\"))","v":""},{"$f":"IF(C37=0,\"\",IF(OR(HW37<>0,HV37=1),HW37,\" -\"))","v":""},{"$f":"IF(C37=0,\"\",IF(OR(IH37<>0,IG37=1),IH37,\" -\"))","v":""},{"$f":"IF(C37=0,\"\",IF(AL37=1,\"DNF\",IF(AL37=2,\"DSQ\",IF(AM37<>1,\"~ \"&ROUND(SUM(H37:X37),3),ROUND(SUM(H37:X37),3)))))","v":""},null,null,{"$f":"IF(C37<>\"\",C37,\"\")","v":""},{"$f":"IF(AD37<>\"\",3,\"\")","v":""},null,null,{"$f":"IF(AD37<>\"\",(AF37/1000*AG37/1000)/2,\"\")","v":""},null,null,null,null,null,null,null,{"$f":"IF(C37=0,99999,IF(AL37>0,9999,SUM(H37:X37)-AN37))","v":99999},{"$f":"IF(C37=0,99999,IF(AL37=1,9999,SUM(Y37:Z37)))","v":99999},null,null,{"$f":"IF(C37<>\"\",C37,\"\")","v":""},null,null,null,null,null,null,null,null,{"$f":"IF($C37=\"\",\"\", IF(BB37=1,0,IF(AZ37<>0,500,AU37*$AE37/$AH37+AV37/$AH37*5+AW37/$AH37*25+AX37*50+AY37*50)))","v":""},null,{"$f":"IF(C37<>\"\",C37,\"\")","v":""},null,null,null,null,null,null,null,null,{"$f":"IF($C37=\"\",\"\", IF(BM37=1,0,IF(BK37<>0,500,BF37*$AE37/$AH37+BG37/$AH37*5+BH37/$AH37*25+BI37*50+BJ37*50)))","v":""},null,{"$f":"IF(C37<>\"\",C37,\"\")","v":""},null,null,null,null,null,null,null,null,{"$f":"IF($C37=\"\",\"\", IF(BX37=1,0,IF(BV37<>0,500,BQ37*$AE37/$AH37+BR37/$AH37*5+BS37/$AH37*25+BT37*50+BU37*50)))","v":""},null,{"$f":"IF(C37<>\"\",C37,\"\")","v":""},null,null,null,null,null,null,null,null,{"$f":"IF($C37=\"\",\"\", IF(CI37=1,0,IF(CG37<>0,500,CB37*$AE37/$AH37+CC37/$AH37*5+CD37/$AH37*25+CE37*50+CF37*50)))","v":""},null,{"$f":"IF(C37<>\"\",C37,\"\")","v":""},null,null,null,null,null,null,null,null,{"$f":"IF($C37=\"\",\"\", IF(CT37=1,0,IF(CR37<>0,500,CM37*$AE37/$AH37+CN37/$AH37*5+CO37/$AH37*25+CP37*50+CQ37*50)))","v":""},null,{"$f":"IF(C37<>\"\",C37,\"\")","v":""},null,null,null,null,null,null,null,null,{"$f":"IF($C37=\"\",\"\", IF(DE37=1,0,IF(DC37<>0,500,CX37*$AE37/$AH37+CY37/$AH37*5+CZ37/$AH37*25+DA37*50+DB37*50)))","v":""},null,{"$f":"IF(C37<>\"\",C37,\"\")","v":""},null,null,null,null,null,null,null,null,{"$f":"IF($C37=\"\",\"\", IF(DP37=1,0,IF(DN37<>0,500,DI37*$AE37/$AH37+DJ37/$AH37*5+DK37/$AH37*25+DL37*50+DM37*50)))","v":""},null,{"$f":"IF(C37<>\"\",C37,\"\")","v":""},null,null,null,null,null,null,null,null,{"$f":"IF($C37=\"\",\"\", IF(EA37=1,0,IF(DY37<>0,500,DT37*$AE37/$AH37+DU37/$AH37*5+DV37/$AH37*25+DW37*50+DX37*50)))","v":""},null,{"$f":"IF(C37<>\"\",C37,\"\")","v":""},null,null,null,null,null,null,null,null,{"$f":"IF($C37=\"\",\"\", IF(EL37=1,0,IF(EJ37<>0,500,EE37*$AE37/$AH37+EF37/$AH37*5+EG37/$AH37*25+EH37*50+EI37*50)))","v":""},null,{"$f":"IF(C37<>\"\",C37,\"\")","v":""},null,null,null,null,null,null,null,null,{"$f":"IF($C37=\"\",\"\", IF(EW37=1,0,IF(EU37<>0,500,EP37*$AE37/$AH37+EQ37/$AH37*5+ER37/$AH37*25+ES37*50+ET37*50)))","v":""},null,{"$f":"IF(C37<>\"\",C37,\"\")","v":""},null,null,null,null,null,null,null,null,{"$f":"IF($C37=\"\",\"\", IF(FH37=1,0,IF(FF37<>0,500,FA37*$AE37/$AH37+FB37/$AH37*5+FC37/$AH37*25+FD37*50+FE37*50)))","v":""},null,{"$f":"IF(C37<>\"\",C37,\"\")","v":""},null,null,null,null,null,null,null,null,{"$f":"IF($C37=\"\",\"\", IF(FS37=1,0,IF(FQ37<>0,500,FL37*$AE37/$AH37+FM37/$AH37*5+FN37/$AH37*25+FO37*50+FP37*50)))","v":""},null,{"$f":"IF(C37<>\"\",C37,\"\")","v":""},null,null,null,null,null,null,null,null,{"$f":"IF($C37=\"\",\"\", IF(GD37=1,0,IF(GB37<>0,500,FW37*$AE37/$AH37+FX37/$AH37*5+FY37/$AH37*25+FZ37*50+GA37*50)))","v":""},null,{"$f":"IF(C37<>\"\",C37,\"\")","v":""},null,null,null,null,null,null,null,null,{"$f":"IF($C37=\"\",\"\", IF(GO37=1,0,IF(GM37<>0,500,GH37*$AE37/$AH37+GI37/$AH37*5+GJ37/$AH37*25+GK37*50+GL37*50)))","v":""},null,{"$f":"IF(C37<>\"\",C37,\"\")","v":""},null,null,null,null,null,null,null,null,{"$f":"IF($C37=\"\",\"\", IF(GZ37=1,0,IF(GX37<>0,500,GS37*$AE37/$AH37+GT37/$AH37*5+GU37/$AH37*25+GV37*50+GW37*50)))","v":""},null,{"$f":"IF(C37<>\"\",C37,\"\")","v":""},null,null,null,null,null,null,null,null,{"$f":"IF($C37=\"\",\"\", IF(HK37=1,0,IF(HI37<>0,500,HD37*$AE37/$AH37+HE37/$AH37*5+HF37/$AH37*25+HG37*50+HH37*50)))","v":""},null,{"$f":"IF(C37<>\"\",C37,\"\")","v":""},null,null,null,null,null,null,null,null,{"$f":"IF($C37=\"\",\"\", IF(HV37=1,0,IF(HT37<>0,500,HO37*$AE37/$AH37+HP37/$AH37*5+HQ37/$AH37*25+HR37*50+HS37*50)))","v":""},null,{"$f":"IF(C37<>\"\",C37,\"\")","v":""},null,null,null,null,null,null,null,null,{"$f":"IF($C37=\"\",\"\", IF(IG37=1,0,IF(IE37<>0,500,HZ37*$AE37/$AH37+IA37/$AH37*5+IB37/$AH37*25+IC37*50+ID37*50)))","v":""}]
[null,{"$f":"IF(C38=0,\"\",ROW(C38)-4)","v":""},null,null,null,null,null,{"$f":"IF(C38=0,\"\",IF(OR(BB38=1,BC38<>0),BC38,\"-\"))","v":""},{"$f":"IF(C38=0,\"\",IF(OR(BM38=1,BN38<>0),BN38,\"-\"))","v":""},{"$f":"IF(C38=0,\"\",IF(OR(BX38=1,BY38<>0),BY38,\" -\"))","v":""},{"$f":"IF(C38=0,\"\",IF(OR(CJ38<>0,CI38=1),CJ38,\" -\"))","v":""},{"$f":"IF(C38=0,\"\",IF(OR(CU38<>0,CT38=1),CU38,\" -\"))","v":""},{"$f":"IF(C38=0,\"\",IF(OR(DF38<>0,DE38=1),DF38,\" -\"))","v":""},{"$f":"IF(C38=0,\"\",IF(OR(DQ38<>0,DP38=1),DQ38,\" -\"))","v":""},{"$f":"IF(C38=0,\"\",IF(OR(EB38<>0,EA38=1),EB38,\" -\"))","v":""},{"$f":"IF(C38=0,\"\",IF(OR(EM38<>0,EL38=1),EM38,\" -\"))","v":""},{"$f":"IF(C38=0,\"\",IF(OR(EX38<>0,EW38=1),EX38,\" -\"))","v":""},{"$f":"IF(C38=0,\"\",IF(OR(FI38<>0,FH38=1),FI38,\" -\"))","v":""},{"$f":"IF(C38=0,\"\",IF(OR(FT38<>0,FS38=1),FT38,\" -\"))","v":""},{"$f":"IF(C38=0,\"\",IF(OR(GE38<>0,GD38=1),GE38,\" -\"))","v":""},{"$f":"IF(C38=0,\"\",IF(OR(GP38<>0,GO38=1),GP38,\" -\"))","v":""},{"$f":"IF(C38=0,\"\",IF(OR(HA38<>0,GZ38=1),HA38,\" -\"))","v":""},{"$f":"IF(C38=0,\"\",IF(OR(HL38<>0,HK38=1),HL38,\" -\"))","v":""},{"$f":"IF(C38=0,\"\",IF(AJ38<>0,AJ38,\" -\"))","v":""},{"$f":"IF(C38=0,\"\",IF(OR(HW38<>0,HV38=1),HW38,\" -\"))","v":""},{"$f":"IF(C38=0,\"\",IF(OR(IH38<>0,IG38=1),IH38,\" -\"))","v":""},{"$f":"IF(C38=0,\"\",IF(AL38=1,\"DNF\",IF(AL38=2,\"DSQ\",IF(AM38<>1,\"~ \"&ROUND(SUM(H38:X38),3),ROUND(SUM(H38:X38),3)))))","v":""},null,null,{"$f":"IF(C38<>\"\",C38,\"\")","v":""},{"$f":"IF(AD38<>\"\",3,\"\")","v":""},null,null,{"$f":"IF(AD38<>\"\",(AF38/1000*AG38/1000)/2,\"\")","v":""},null,null,null,null,null,null,null,{"$f":"IF(C38=0,99999,IF(AL38>0,9999,SUM(H38:X38)-AN38))","v":99999},{"$f":"IF(C38=0,99999,IF(AL38=1,9999,SUM(Y38:Z38)))","v":99999},null,null,{"$f":"IF(C38<>\"\",C38,\"\")","v":""},null,null,null,null,null,null,null,null,{"$f":"IF($C38=\"\",\"\", IF(BB38=1,0,IF(AZ38<>0,500,AU38*$AE38/$AH38+AV38/$AH38*5+AW38/$AH38*25+AX38*50+AY38*50)))","v":""},null,{"$f":"IF(C38<>\"\",C38,\"\")","v":""},null,null,null,null,null,null,null,null,{"$f":"IF($C38=\"\",\"\", IF(BM38=1,0,IF(BK38<>0,500,BF38*$AE38/$AH38+BG38/$AH38*5+BH38/$AH38*25+BI38*50+BJ38*50)))","v":""},null,{"$f":"IF(C38<>\"\",C38,\"\")","v":""},null,null,null,null,null,null,null,null,{"$f":"IF($C38=\"\",\"\", IF(BX38=1,0,IF(BV38<>0,500,BQ38*$AE38/$AH38+BR38/$AH38*5+BS38/$AH38*25+BT38*50+BU38*50)))","v":""},null,{"$f":"IF(C38<>\"\",C38,\"\")","v":""},null,null,null,null,null,null,null,null,{"$f":"IF($C38=\"\",\"\", IF(CI38=1,0,IF(CG38<>0,500,CB38*$AE38/$AH38+CC38/$AH38*5+CD38/$AH38*25+CE38*50+CF38*50)))","v":""},null,{"$f":"IF(C38<>\"\",C38,\"\")","v":""},null,null,null,null,null,null,null,null,{"$f":"IF($C38=\"\",\"\", IF(CT38=1,0,IF(CR38<>0,500,CM38*$AE38/$AH38+CN38/$AH38*5+CO38/$AH38*25+CP38*50+CQ38*50)))","v":""},null,{"$f":"IF(C38<>\"\",C38,\"\")","v":""},null,null,null,null,null,null,null,null,{"$f":"IF($C38=\"\",\"\", IF(DE38=1,0,IF(DC38<>0,500,CX38*$AE38/$AH38+CY38/$AH38*5+CZ38/$AH38*25+DA38*50+DB38*50)))","v":""},null,{"$f":"IF(C38<>\"\",C38,\"\")","v":""},null,null,null,null,null,null,null,null,{"$f":"IF($C38=\"\",\"\", IF(DP38=1,0,IF(DN38<>0,500,DI38*$AE38/$AH38+DJ38/$AH38*5+DK38/$AH38*25+DL38*50+DM38*50)))","v":""},null,{"$f":"IF(C38<>\"\",C38,\"\")","v":""},null,null,null,null,null,null,null,null,{"$f":"IF($C38=\"\",\"\", IF(EA38=1,0,IF(DY38<>0,500,DT38*$AE38/$AH38+DU38/$AH38*5+DV38/$AH38*25+DW38*50+DX38*50)))","v":""},null,{"$f":"IF(C38<>\"\",C38,\"\")","v":""},null,null,null,null,null,null,null,null,{"$f":"IF($C38=\"\",\"\", IF(EL38=1,0,IF(EJ38<>0,500,EE38*$AE38/$AH38+EF38/$AH38*5+EG38/$AH38*25+EH38*50+EI38*50)))","v":""},null,{"$f":"IF(C38<>\"\",C38,\"\")","v":""},null,null,null,null,null,null,null,null,{"$f":"IF($C38=\"\",\"\", IF(EW38=1,0,IF(EU38<>0,500,EP38*$AE38/$AH38+EQ38/$AH38*5+ER38/$AH38*25+ES38*50+ET38*50)))","v":""},null,{"$f":"IF(C38<>\"\",C38,\"\")","v":""},null,null,null,null,null,null,null,null,{"$f":"IF($C38=\"\",\"\", IF(FH38=1,0,IF(FF38<>0,500,FA38*$AE38/$AH38+FB38/$AH38*5+FC38/$AH38*25+FD38*50+FE38*50)))","v":""},null,{"$f":"IF(C38<>\"\",C38,\"\")","v":""},null,null,null,null,null,null,null,null,{"$f":"IF($C38=\"\",\"\", IF(FS38=1,0,IF(FQ38<>0,500,FL38*$AE38/$AH38+FM38/$AH38*5+FN38/$AH38*25+FO38*50+FP38*50)))","v":""},null,{"$f":"IF(C38<>\"\",C38,\"\")","v":""},null,null,null,null,null,null,null,null,{"$f":"IF($C38=\"\",\"\", IF(GD38=1,0,IF(GB38<>0,500,FW38*$AE38/$AH38+FX38/$AH38*5+FY38/$AH38*25+FZ38*50+GA38*50)))","v":""},null,{"$f":"IF(C38<>\"\",C38,\"\")","v":""},null,null,null,null,null,null,null,null,{"$f":"IF($C38=\"\",\"\", IF(GO38=1,0,IF(GM38<>0,500,GH38*$AE38/$AH38+GI38/$AH38*5+GJ38/$AH38*25+GK38*50+GL38*50)))","v":""},null,{"$f":"IF(C38<>\"\",C38,\"\")","v":""},null,null,null,null,null,null,null,null,{"$f":"IF($C38=\"\",\"\", IF(GZ38=1,0,IF(GX38<>0,500,GS38*$AE38/$AH38+GT38/$AH38*5+GU38/$AH38*25+GV38*50+GW38*50)))","v":""},null,{"$f":"IF(C38<>\"\",C38,\"\")","v":""},null,null,null,null,null,null,null,null,{"$f":"IF($C38=\"\",\"\", IF(HK38=1,0,IF(HI38<>0,500,HD38*$AE38/$AH38+HE38/$AH38*5+HF38/$AH38*25+HG38*50+HH38*50)))","v":""},null,{"$f":"IF(C38<>\"\",C38,\"\")","v":""},null,null,null,null,null,null,null,null,{"$f":"IF($C38=\"\",\"\", IF(HV38=1,0,IF(HT38<>0,500,HO38*$AE38/$AH38+HP38/$AH38*5+HQ38/$AH38*25+HR38*50+HS38*50)))","v":""},null,{"$f":"IF(C38<>\"\",C38,\"\")","v":""},null,null,null,null,null,null,null,null,{"$f":"IF($C38=\"\",\"\", IF(IG38=1,0,IF(IE38<>0,500,HZ38*$AE38/$AH38+IA38/$AH38*5+IB38/$AH38*25+IC38*50+ID38*50)))","v":""}]
[null,{"$f":"IF(C39=0,\"\",ROW(C39)-4)","v":""},null,null,null,null,null,{"$f":"IF(C39=0,\"\",IF(OR(BB39=1,BC39<>0),BC39,\"-\"))","v":""},{"$f":"IF(C39=0,\"\",IF(OR(BM39=1,BN39<>0),BN39,\"-\"))","v":""},{"$f":"IF(C39=0,\"\",IF(OR(BX39=1,BY39<>0),BY39,\" -\"))","v":""},{"$f":"IF(C39=0,\"\",IF(OR(CJ39<>0,CI39=1),CJ39,\" -\"))","v":""},{"$f":"IF(C39=0,\"\",IF(OR(CU39<>0,CT39=1),CU39,\" -\"))","v":""},{"$f":"IF(C39=0,\"\",IF(OR(DF39<>0,DE39=1),DF39,\" -\"))","v":""},{"$f":"IF(C39=0,\"\",IF(OR(DQ39<>0,DP39=1),DQ39,\" -\"))","v":""},{"$f":"IF(C39=0,\"\",IF(OR(EB39<>0,EA39=1),EB39,\" -\"))","v":""},{"$f":"IF(C39=0,\"\",IF(OR(EM39<>0,EL39=1),EM39,\" -\"))","v":""},{"$f":"IF(C39=0,\"\",IF(OR(EX39<>0,EW39=1),EX39,\" -\"))","v":""},{"$f":"IF(C39=0,\"\",IF(OR(FI39<>0,FH39=1),FI39,\" -\"))","v":""},{"$f":"IF(C39=0,\"\",IF(OR(FT39<>0,FS39=1),FT39,\" -\"))","v":""},{"$f":"IF(C39=0,\"\",IF(OR(GE39<>0,GD39=1),GE39,\" -\"))","v":""},{"$f":"IF(C39=0,\"\",IF(OR(GP39<>0,GO39=1),GP39,\" -\"))","v":""},{"$f":"IF(C39=0,\"\",IF(OR(HA39<>0,GZ39=1),HA39,\" -\"))","v":""},{"$f":"IF(C39=0,\"\",IF(OR(HL39<>0,HK39=1),HL39,\" -\"))","v":""},{"$f":"IF(C39=0,\"\",IF(AJ39<>0,AJ39,\" -\"))","v":""},{"$f":"IF(C39=0,\"\",IF(OR(HW39<>0,HV39=1),HW39,\" -\"))","v":""},{"$f":"IF(C39=0,\"\",IF(OR(IH39<>0,IG39=1),IH39,\" -\"))","v":""},{"$f":"IF(C39=0,\"\",IF(AL39=1,\"DNF\",IF(AL39=2,\"DSQ\",IF(AM39<>1,\"~ \"&ROUND(SUM(H39:X39),3),ROUND(SUM(H39:X39),3)))))","v":""},null,null,{"$f":"IF(C39<>\"\",C39,\"\")","v":""},{"$f":"IF(AD39<>\"\",3,\"\")","v":""},null,null,{"$f":"IF(AD39<>\"\",(AF39/1000*AG39/1000)/2,\"\")","v":""},null,null,null,null,null,null,null,{"$f":"IF(C39=0,99999,IF(AL39>0,9999,SUM(H39:X39)-AN39))","v":99999},{"$f":"IF(C39=0,99999,IF(AL39=1,9999,SUM(Y39:Z39)))","v":99999},null,null,{"$f":"IF(C39<>\"\",C39,\"\")","v":""},null,null,null,null,null,null,null,null,{"$f":"IF($C39=\"\",\"\", IF(BB39=1,0,IF(AZ39<>0,500,AU39*$AE39/$AH39+AV39/$AH39*5+AW39/$AH39*25+AX39*50+AY39*50)))","v":""},null,{"$f":"IF(C39<>\"\",C39,\"\")","v":""},null,null,null,null,null,null,null,null,{"$f":"IF($C39=\"\",\"\", IF(BM39=1,0,IF(BK39<>0,500,BF39*$AE39/$AH39+BG39/$AH39*5+BH39/$AH39*25+BI39*50+BJ39*50)))","v":""},null,{"$f":"IF(C39<>\"\",C39,\"\")","v":""},null,null,null,null,null,null,null,null,{"$f":"IF($C39=\"\",\"\", IF(BX39=1,0,IF(BV39<>0,500,BQ39*$AE39/$AH39+BR39/$AH39*5+BS39/$AH39*25+BT39*50+BU39*50)))","v":""},null,{"$f":"IF(C39<>\"\",C39,\"\")","v":""},null,null,null,null,null,null,null,null,{"$f":"IF($C39=\"\",\"\", IF(CI39=1,0,IF(CG39<>0,500,CB39*$AE39/$AH39+CC39/$AH39*5+CD39/$AH39*25+CE39*50+CF39*50)))","v":""},null,{"$f":"IF(C39<>\"\",C39,\"\")","v":""},null,null,null,null,null,null,null,null,{"$f":"IF($C39=\"\",\"\", IF(CT39=1,0,IF(CR39<>0,500,CM39*$AE39/$AH39+CN39/$AH39*5+CO39/$AH39*25+CP39*50+CQ39*50)))","v":""},null,{"$f":"IF(C39<>\"\",C39,\"\")","v":""},null,null,null,null,null,null,null,null,{"$f":"IF($C39=\"\",\"\", IF(DE39=1,0,IF(DC39<>0,500,CX39*$AE39/$AH39+CY39/$AH39*5+CZ39/$AH39*25+DA39*50+DB39*50)))","v":""},null,{"$f":"IF(C39<>\"\",C39,\"\")","v":""},null,null,null,null,null,null,null,null,{"$f":"IF($C39=\"\",\"\", IF(DP39=1,0,IF(DN39<>0,500,DI39*$AE39/$AH39+DJ39/$AH39*5+DK39/$AH39*25+DL39*50+DM39*50)))","v":""},null,{"$f":"IF(C39<>\"\",C39,\"\")","v":""},null,null,null,null,null,null,null,null,{"$f":"IF($C39=\"\",\"\", IF(EA39=1,0,IF(DY39<>0,500,DT39*$AE39/$AH39+DU39/$AH39*5+DV39/$AH39*25+DW39*50+DX39*50)))","v":""},null,{"$f":"IF(C39<>\"\",C39,\"\")","v":""},null,null,null,null,null,null,null,null,{"$f":"IF($C39=\"\",\"\", IF(EL39=1,0,IF(EJ39<>0,500,EE39*$AE39/$AH39+EF39/$AH39*5+EG39/$AH39*25+EH39*50+EI39*50)))","v":""},null,{"$f":"IF(C39<>\"\",C39,\"\")","v":""},null,null,null,null,null,null,null,null,{"$f":"IF($C39=\"\",\"\", IF(EW39=1,0,IF(EU39<>0,500,EP39*$AE39/$AH39+EQ39/$AH39*5+ER39/$AH39*25+ES39*50+ET39*50)))","v":""},null,{"$f":"IF(C39<>\"\",C39,\"\")","v":""},null,null,null,null,null,null,null,null,{"$f":"IF($C39=\"\",\"\", IF(FH39=1,0,IF(FF39<>0,500,FA39*$AE39/$AH39+FB39/$AH39*5+FC39/$AH39*25+FD39*50+FE39*50)))","v":""},null,{"$f":"IF(C39<>\"\",C39,\"\")","v":""},null,null,null,null,null,null,null,null,{"$f":"IF($C39=\"\",\"\", IF(FS39=1,0,IF(FQ39<>0,500,FL39*$AE39/$AH39+FM39/$AH39*5+FN39/$AH39*25+FO39*50+FP39*50)))","v":""},null,{"$f":"IF(C39<>\"\",C39,\"\")","v":""},null,null,null,null,null,null,null,null,{"$f":"IF($C39=\"\",\"\", IF(GD39=1,0,IF(GB39<>0,500,FW39*$AE39/$AH39+FX39/$AH39*5+FY39/$AH39*25+FZ39*50+GA39*50)))","v":""},null,{"$f":"IF(C39<>\"\",C39,\"\")","v":""},null,null,null,null,null,null,null,null,{"$f":"IF($C39=\"\",\"\", IF(GO39=1,0,IF(GM39<>0,500,GH39*$AE39/$AH39+GI39/$AH39*5+GJ39/$AH39*25+GK39*50+GL39*50)))","v":""},null,{"$f":"IF(C39<>\"\",C39,\"\")","v":""},null,null,null,null,null,null,null,null,{"$f":"IF($C39=\"\",\"\", IF(GZ39=1,0,IF(GX39<>0,500,GS39*$AE39/$AH39+GT39/$AH39*5+GU39/$AH39*25+GV39*50+GW39*50)))","v":""},null,{"$f":"IF(C39<>\"\",C39,\"\")","v":""},null,null,null,null,null,null,null,null,{"$f":"IF($C39=\"\",\"\", IF(HK39=1,0,IF(HI39<>0,500,HD39*$AE39/$AH39+HE39/$AH39*5+HF39/$AH39*25+HG39*50+HH39*50)))","v":""},null,{"$f":"IF(C39<>\"\",C39,\"\")","v":""},null,null,null,null,null,null,null,null,{"$f":"IF($C39=\"\",\"\", IF(HV39=1,0,IF(HT39<>0,500,HO39*$AE39/$AH39+HP39/$AH39*5+HQ39/$AH39*25+HR39*50+HS39*50)))","v":""},null,{"$f":"IF(C39<>\"\",C39,\"\")","v":""},null,null,null,null,null,null,null,null,{"$f":"IF($C39=\"\",\"\", IF(IG39=1,0,IF(IE39<>0,500,HZ39*$AE39/$AH39+IA39/$AH39*5+IB39/$AH39*25+IC39*50+ID39*50)))","v":""}]
[]
[]
[]
[null,null,null,null,null," "]

{"sheet":"UTV","index":6,"n_rows":43,"n_cols":242,"rows_kept":43,"cut":false,"hidden":false,"merged":[[0,21,0,26]]}
[null,{"$f":"Settings!C2","v":"Eurotrial Finland 2025 : 18-20.7.2025 - Results"},null,null,null,null,null,null,null,null,null,null,null,null,null,null,null,null,null,null,null,{"$f":"NOW()","v":"2025-07-20T20:32:14.320"},null,null,null,null,null,null,null,{"$f":"B1","v":"Eurotrial Finland 2025 : 18-20.7.2025 - Results"},null,null,null,null,null,null,null,null,null,null,null,null,null,null,null,{"$f":"B1","v":"Eurotrial Finland 2025 : 18-20.7.2025 - Results"},null,null,null,null,null,null,null,null,null,null,{"$f":"B1","v":"Eurotrial Finland 2025 : 18-20.7.2025 - Results"},null,null,null,null,null,null,null,null,null,null,{"$f":"B1","v":"Eurotrial Finland 2025 : 18-20.7.2025 - Results"},null,null,null,null,null,null,null,null,null,null,{"$f":"B1","v":"Eurotrial Finland 2025 : 18-20.7.2025 - Results"},null,null,null,null,null,null,null,null,null,null,{"$f":"B1","v":"Eurotrial Finland 2025 : 18-20.7.2025 - Results"},null,null,null,null,null,null,null,null,null,null,{"$f":"B1","v":"Eurotrial Finland 2025 : 18-20.7.2025 - Results"},null,null,null,null,null,null,null,null,null,null,{"$f":"B1","v":"Eurotrial Finland 2025 : 18-20.7.2025 - Results"},null,null,null,null,null,null,null,null,null,null,{"$f":"B1","v":"Eurotrial Finland 2025 : 18-20.7.2025 - Results"},null,null,null,null,null,null,null,null,null,null,{"$f":"B1","v":"Eurotrial Finland 2025 : 18-20.7.2025 - Results"},null,null,null,null,null,null,null,null,null,null,{"$f":"B1","v":"Eurotrial Finland 2025 : 18-20.7.2025 - Results"},null,null,null,null,null,null,null,null,null,null,{"$f":"B1","v":"Eurotrial Finland 2025 : 18-20.7.2025 - Results"},null,null,null,null,null,null,null,null,null,null,{"$f":"B1","v":"Eurotrial Finland 2025 : 18-20.7.2025 - Results"},null,null,null,null,null,null,null,null,null,null,{"$f":"B1","v":"Eurotrial Finland 2025 : 18-20.7.2025 - Results"},null,null,null,null,null,null,null,null,null,null,{"$f":"B1","v":"Eurotrial Finland 2025 : 18-20.7.2025 - Results"},null,null,null,null,null,null,null,null,null,null,{"$f":"B1","v":"Eurotrial Finland 2025 : 18-20.7.2025 - Results"},null,null,null,null,null,null,null,null,null,null,{"$f":"B1","v":"Eurotrial Finland 2025 : 18-20.7.2025 - Results"},null,null,null,null,null,null,null,null,null,null,{"$f":"B1","v":"Eurotrial Finland 2025 : 18-20.7.2025 - Results"},null,null,null,null,null,null,null,null,null,null,{"$f":"B1","v":"Eurotrial Finland 2025 : 18-20.7.2025 - Results"}]
[null,"Class: UTV",null,null,null,null,null,null,null,null,null,null,null,null,null,null,null,null,null,null,null,null,null,null,null,null,null,null,null,{"$f":"B2","v":"Class: UTV"},null,null,null,null,null,null,null,null,null,null,null,null,null,null,null,{"$f":"B2","v":"Class: UTV"},null,null,null,null,null,null,null,null,{"$f":"AT3","v":"Section L1"},null,{"$f":"B2","v":"Class: UTV"},null,null,null,null,null,null,null,null,{"$f":"BE3","v":"Section L2"},null,{"$f":"B2","v":"Class: UTV"},null,null,null,null,null,null,null,null,{"$f":"BP3","v":"Section L3"},null,{"$f":"B2","v":"Class: UTV"},null,null,null,null,null,null,null,null,{"$f":"CA3","v":"Section L4"},null,{"$f":"B2","v":"Class: UTV"},null,null,null,null,null,null,null,null,{"$f":"CL3","v":"Section L5"},null,{"$f":"B2","v":"Class: UTV"},null,null,null,null,null,null,null,null,{"$f":"CW3","v":"Section L6"},null,{"$f":"B2","v":"Class: UTV"},null,null,null,null,null,null,null,null,{"$f":"DH3","v":"Section L7"},null,{"$f":"B2","v":"Class: UTV"},null,null,null,null,null,null,null,null,{"$f":"DS3","v":"Section L9"},null,{"$f":"B2","v":"Class: UTV"},null,null,null,null,null,null,null,null,{"$f":"ED3","v":"Section S1"},null,{"$f":"B2","v":"Class: UTV"},null,null,null,null,null,null,null,null,{"$f":"EO3","v":"Section S2"},null,{"$f":"B2","v":"Class: UTV"},null,null,null,null,null,null,null,null,{"$f":"EZ3","v":"Section S3"},null,{"$f":"B2","v":"Class: UTV"},null,null,null,null,null,null,null,null,{"$f":"FK3","v":"Section S4"},null,{"$f":"B2","v":"Class: UTV"},null,null,null,null,null,null,null,null,{"$f":"FV3","v":"Section S5"},null,{"$f":"B2","v":"Class: UTV"},null,null,null,null,null,null,null,null,{"$f":"GG3","v":"Section S6"},null,{"$f":"B2","v":"Class: UTV"},null,null,null,null,null,null,null,null,{"$f":"GR3","v":"Section S7"},null,{"$f":"B2","v":"Class: UTV"},null,null,null,null,null,null,null,null,{"$f":"HC3","v":"Section S9"},null,{"$f":"B2","v":"Class: UTV"},null,null,null,null,null,null,null,null,{"$f":"HN3","v":"Run-off section 1"},null,{"$f":"B2","v":"Class: UTV"},null,null,null,null,null,null,null,null,{"$f":"HY3","v":"Run-off section 2"}]
[null,null,null,null,null,null,null,null,null,null,null,null,null,null,null,null,null,null,null,null,null,null,null,null,null,null,null,null,null,null,null,null,null,null,null,null,null,null,null,null,null,"Helper columns for ordering",null,null,null,"Section L1",null,{"$f":"AT3","v":"Section L1"},null,{"$f":"AT3","v":"Section L1"},null,{"$f":"AT3","v":"Section L1"},null,{"$f":"AT3","v":"Section L1"},null,null,"Section L2",null,{"$f":"BE3","v":"Section L2"},null,{"$f":"BE3","v":"Section L2"},null,{"$f":"BE3","v":"Section L2"},null,{"$f":"BE3","v":"Section L2"},null,null,"Section L3",null,{"$f":"BP3","v":"Section L3"},null,{"$f":"BP3","v":"Section L3"},null,{"$f":"BP3","v":"Section L3"},null,{"$f":"BP3","v":"Section L3"},null,null,"Section L4",null,{"$f":"CA3","v":"Section L4"},null,{"$f":"CA3","v":"Section L4"},null,{"$f":"CA3","v":"Section L4"},null,{"$f":"CA3","v":"Section L4"},null,null,"Section L5",null,{"$f":"CL3","v":"Section L5"},null,{"$f":"CL3","v":"Section L5"},null,{"$f":"CL3","v":"Section L5"},null,{"$f":"CL3","v":"Section L5"},null,null,"Section L6",null,{"$f":"CW3","v":"Section L6"},null,{"$f":"CW3","v":"Section L6"},null,{"$f":"CW3","v":"Section L6"},null,{"$f":"CW3","v":"Section L6"},null,null,"Section L7",null,{"$f":"DH3","v":"Section L7"},null,{"$f":"DH3","v":"Section L7"},null,{"$f":"DH3","v":"Section L7"},null,{"$f":"DH3","v":"Section L7"},null,null,"Section L9",null,{"$f":"DS3","v":"Section L9"},null,{"$f":"DS3","v":"Section L9"},null,{"$f":"DS3","v":"Section L9"},null,{"$f":"DS3","v":"Section L9"},null,null,"Section S1",null,{"$f":"ED3","v":"Section S1"},null,{"$f":"ED3","v":"Section S1"},null,{"$f":"ED3","v":"Section S1"},null,{"$f":"ED3","v":"Section S1"},null,null,"Section S2",null,{"$f":"EO3","v":"Section S2"},null,{"$f":"EO3","v":"Section S2"},null,{"$f":"EO3","v":"Section S2"},null,{"$f":"EO3","v":"Section S2"},null,null,"Section S3",null,{"$f":"EZ3","v":"Section S3"},null,{"$f":"EZ3","v":"Section S3"},null,{"$f":"EZ3","v":"Section S3"},null,{"$f":"EZ3","v":"Section S3"},null,null,"Section S4",null,{"$f":"FK3","v":"Section S4"},null,{"$f":"FK3","v":"Section S4"},null,{"$f":"FK3","v":"Section S4"},null,{"$f":"FK3","v":"Section S4"},null,null,"Section S5",null,{"$f":"FV3","v":"Section S5"},null,{"$f":"FV3","v":"Section S5"},null,{"$f":"FV3","v":"Section S5"},null,{"$f":"FV3","v":"Section S5"},null,null,"Section S6",null,{"$f":"GG3","v":"Section S6"},null,{"$f":"GG3","v":"Section S6"},null,{"$f":"GG3","v":"Section S6"},null,{"$f":"GG3","v":"Section S6"},null,null,"Section S7",null,{"$f":"GR3","v":"Section S7"},null,{"$f":"GR3","v":"Section S7"},null,{"$f":"GR3","v":"Section S7"},null,{"$f":"GR3","v":"Section S7"},null,null,"Section S9",null,{"$f":"HC3","v":"Section S9"},null,{"$f":"HC3","v":"Section S9"},null,{"$f":"HC3","v":"Section S9"},null,{"$f":"HC3","v":"Section S9"},null,null,"Run-off section 1",null,"Run-off section 1",null,"Run-off section 1",null,"Run-off section 1",null,"Run-off section 1",null,null,"Run-off section 2",null,"Run-off section 2",null,"Run-off section 2",null,"Run-off section 2",null,"Run-off section 2"]
[null,"Pos.","Race #"," Team","Car","Driver","Co-Driver","L1","L2","L3","L4","L5","L6","L7","L9","S1","S2","S3","S4","S5","S6","S7","S9","Extra penalty","Run-off 1","Run-off 2","Total",null,null,"Race #","Car base reverse points","Car width (mm)","Car wheelbase (mm)","\"Magic Number\" ","Traditional reverse points","Extra penalty","Extra penalty reason","DNF = 1 DSQ = 2","Ended race (1 if ok)","Order change (1 = go higher)",null,"Result points, do not change","Run-off points do not change",null,null,"Race #","Reverse","Touching / Driving under (5)","Broken post / stick (25)","Not Passed Gate (50)","Section not completed (50)","Not driven section (500)","Comment","Clean (1 = ok)","Total",null,"Race #","Reverse","Touching / Driving under (5)","Broken post / stick (25)","Not Passed Gate (50)","Section not completed (50)","Not driven section (500)","Comment","Clean (1 = ok)","Total",null,"Race #","Reverse","Touching / Driving under (5)","Broken post / stick (25)","Not Passed Gate (50)","Section not completed (50)","Not driven section (500)","Comment","Clean (1 = ok)","Total",null,"Race #","Reverse","Touching / Driving under (5)","Broken post / stick (25)","Not Passed Gate (50)","Section not completed (50)","Not driven section (500)","Comment","Clean (1 = ok)","Total",null,"Race #","Reverse","Touching / Driving under (5)","Broken post / stick (25)","Not Passed Gate (50)","Section not completed (50)","Not driven section (500)","Comment","Clean (1 = ok)","Total",null,"Race #","Reverse","Touching / Driving under (5)","Broken post / stick (25)","Not Passed Gate (50)","Section not completed (50)","Not driven section (500)","Comment","Clean (1 = ok)","Total",null,"Race #","Reverse","Touching / Driving under (5)","Broken post / stick (25)","Not Passed Gate (50)","Section not completed (50)","Not driven section (500)","Comment","Clean (1 = ok)","Total",null,"Race #","Reverse","Touching / Driving under (5)","Broken post / stick (25)","Not Passed Gate (50)","Section not completed (50)","Not driven section (500)","Comment","Clean (1 = ok)","Total",null,"Race #","Reverse","Touching / Driving under (5)","Broken post / stick (25)","Not Passed Gate (50)","Section not completed (50)","Not driven section (500)","Comment","Clean (1 = ok)","Total",null,"Race #","Reverse","Touching / Driving under (5)","Broken post / stick (25)","Not Passed Gate (50)","Section not completed (50)","Not driven section (500)","Comment","Clean (1 = ok)","Total",null,"Race #","Reverse","Touching / Driving under (5)","Broken post / stick (25)","Not Passed Gate (50)","Section not completed (50)","Not driven section (500)","Comment","Clean (1 = ok)","Total",null,"Race #","Reverse","Touching / Driving under (5)","Broken post / stick (25)","Not Passed Gate (50)","Section not completed (50)","Not driven section (500)","Comment","Clean (1 = ok)","Total",null,"Race #","Reverse","Touching / Driving under (5)","Broken post / stick (25)","Not Passed Gate (50)","Section not completed (50)","Not driven section (500)","Comment","Clean (1 = ok)","Total",null,"Race #","Reverse","Touching / Driving under (5)","Broken post / stick (25)","Not Passed Gate (50)","Section not completed (50)","Not driven section (500)","Comment","Clean (1 = ok)","Total",null,"Race #","Reverse","Touching / Driving under (5)","Broken post / stick (25)","Not Passed Gate (50)","Section not completed (50)","Not driven section (500)","Comment","Clean (1 = ok)","Total",null,"Race #","Reverse","Touching / Driving under (5)","Broken post / stick (25)","Not Passed Gate (50)","Section not completed (50)","Not driven section (500)","Comment","Clean (1 = ok)","Total",null,"Race #","Reverse","Touching / Driving under (5)","Broken post / stick (25)","Not Passed Gate (50)","Section not completed (50)","Not driven section (500)","Comment","Clean (1 = ok)","Total",null,"Race #","Reverse","Touching / Driving under (5)","Broken post / stick (25)","Not Passed Gate (50)","Section not completed (50)","Not driven section (500)","Comment","Clean (1 = ok)","Total"]
[null,{"$f":"IF(C5=0,\"\",ROW(C5)-4)","v":1},603,"Denmark","Polaris  ","Jan Bertelsen","Hanne Lomholt",{"$f":"IF(C5=0,\"\",IF(OR(BB5=1,BC5<>0),BC5,\"-\"))","v":1.4132278123233464},{"$f":"IF(C5=0,\"\",IF(OR(BM5=1,BN5<>0),BN5,\"-\"))","v":2.8264556246466928},{"$f":"IF(C5=0,\"\",IF(OR(BX5=1,BY5<>0),BY5,\" -\"))","v":4.2396834369700391},{"$f":"IF(C5=0,\"\",IF(OR(CJ5<>0,CI5=1),CJ5,\" -\"))","v":1.4132278123233464},{"$f":"IF(C5=0,\"\",IF(OR(CU5<>0,CT5=1),CU5,\" -\"))","v":0},{"$f":"IF(C5=0,\"\",IF(OR(DF5<>0,DE5=1),DF5,\" -\"))","v":102.82645562464668},{"$f":"IF(C5=0,\"\",IF(OR(DQ5<>0,DP5=1),DQ5,\" -\"))","v":0},{"$f":"IF(C5=0,\"\",IF(OR(EB5<>0,EA5=1),EB5,\" -\"))","v":2.8264556246466928},{"$f":"IF(C5=0,\"\",IF(OR(EM5<>0,EL5=1),EM5,\" -\"))","v":0},{"$f":"IF(C5=0,\"\",IF(OR(EX5<>0,EW5=1),EX5,\" -\"))","v":7.0661390616167319},{"$f":"IF(C5=0,\"\",IF(OR(FI5<>0,FH5=1),FI5,\" -\"))","v":1.4132278123233464},{"$f":"IF(C5=0,\"\",IF(OR(FT5<>0,FS5=1),FT5,\" -\"))","v":16.958733747880157},{"$f":"IF(C5=0,\"\",IF(OR(GE5<>0,GD5=1),GE5,\" -\"))","v":0},{"$f":"IF(C5=0,\"\",IF(OR(GP5<>0,GO5=1),GP5,\" -\"))","v":4.2396834369700391},{"$f":"IF(C5=0,\"\",IF(OR(HA5<>0,GZ5=1),HA5,\" -\"))","v":2.8264556246466928},{"$f":"IF(C5=0,\"\",IF(OR(HL5<>0,HK5=1),HL5,\" -\"))","v":1.4132278123233464},{"$f":"IF(C5=0,\"\",IF(AJ5<>0,AJ5,\" -\"))","v":" -"},{"$f":"IF(C5=0,\"\",IF(OR(HW5<>0,HV5=1),HW5,\" -\"))","v":" -"},{"$f":"IF(C5=0,\"\",IF(OR(IH5<>0,IG5=1),IH5,\" -\"))","v":" -"},{"$f":"IF(C5=0,\"\",IF(AL5=1,\"DNF\",IF(AL5=2,\"DSQ\",IF(AM5<>1,\"~ \"&ROUND(SUM(H5:X5),3),ROUND(SUM(H5:X5),3)))))","v":149.46299999999999},null,null,{"$f":"IF(C5<>\"\",C5,\"\")","v":603},{"$f":"IF(AD5<>\"\",3,\"\")","v":3},1740,2440,{"$f":"IF(AD5<>\"\",(AF5/1000*AG5/1000)/2,\"\")","v":2.1228000000000002},3,null,null,null,1,null,null,{"$f":"IF(C5=0,99999,IF(AL5>0,9999,SUM(H5:X5)-AN5))","v":149.46297343131712},{"$f":"IF(C5=0,99999,IF(AL5=1,9999,SUM(Y5:Z5)))","v":0},null,null,{"$f":"IF(C5<>\"\",C5,\"\")","v":603},1,null,null,null,null,null,null,null,{"$f":"IF($C5=\"\",\"\", IF(BB5=1,0,IF(AZ5<>0,500,AU5*$AE5/$AH5+AV5/$AH5*5+AW5/$AH5*25+AX5*50+AY5*50)))","v":1.4132278123233464},null,{"$f":"IF(C5<>\"\",C5,\"\")","v":603},2,null,null,null,null,null,null,null,{"$f":"IF($C5=\"\",\"\", IF(BM5=1,0,IF(BK5<>0,500,BF5*$AE5/$AH5+BG5/$AH5*5+BH5/$AH5*25+BI5*50+BJ5*50)))","v":2.8264556246466928},null,{"$f":"IF(C5<>\"\",C5,\"\")","v":603},3,null,null,null,null,null,null,null,{"$f":"IF($C5=\"\",\"\", IF(BX5=1,0,IF(BV5<>0,500,BQ5*$AE5/$AH5+BR5/$AH5*5+BS5/$AH5*25+BT5*50+BU5*50)))","v":4.2396834369700391},null,{"$f":"IF(C5<>\"\",C5,\"\")","v":603},1,null,null,null,null,null,null,null,{"$f":"IF($C5=\"\",\"\", IF(CI5=1,0,IF(CG5<>0,500,CB5*$AE5/$AH5+CC5/$AH5*5+CD5/$AH5*25+CE5*50+CF5*50)))","v":1.4132278123233464},null,{"$f":"IF(C5<>\"\",C5,\"\")","v":603},null,null,null,null,null,null,null,1,{"$f":"IF($C5=\"\",\"\", IF(CT5=1,0,IF(CR5<>0,500,CM5*$AE5/$AH5+CN5/$AH5*5+CO5/$AH5*25+CP5*50+CQ5*50)))","v":0},null,{"$f":"IF(C5<>\"\",C5,\"\")","v":603},2,null,null,1,1,null,"Reversed to driven gate 3",null,{"$f":"IF($C5=\"\",\"\", IF(DE5=1,0,IF(DC5<>0,500,CX5*$AE5/$AH5+CY5/$AH5*5+CZ5/$AH5*25+DA5*50+DB5*50)))","v":102.82645562464668},null,{"$f":"IF(C5<>\"\",C5,\"\")","v":603},null,null,null,null,null,null,null,1,{"$f":"IF($C5=\"\",\"\", IF(DP5=1,0,IF(DN5<>0,500,DI5*$AE5/$AH5+DJ5/$AH5*5+DK5/$AH5*25+DL5*50+DM5*50)))","v":0},null,{"$f":"IF(C5<>\"\",C5,\"\")","v":603},2,null,null,null,null,null,null,null,{"$f":"IF($C5=\"\",\"\", IF(EA5=1,0,IF(DY5<>0,500,DT5*$AE5/$AH5+DU5/$AH5*5+DV5/$AH5*25+DW5*50+DX5*50)))","v":2.8264556246466928},null,{"$f":"IF(C5<>\"\",C5,\"\")","v":603},null,null,null,null,null,null,null,1,{"$f":"IF($C5=\"\",\"\", IF(EL5=1,0,IF(EJ5<>0,500,EE5*$AE5/$AH5+EF5/$AH5*5+EG5/$AH5*25+EH5*50+EI5*50)))","v":0},null,{"$f":"IF(C5<>\"\",C5,\"\")","v":603},null,3,null,null,null,null,null,null,{"$f":"IF($C5=\"\",\"\", IF(EW5=1,0,IF(EU5<>0,500,EP5*$AE5/$AH5+EQ5/$AH5*5+ER5/$AH5*25+ES5*50+ET5*50)))","v":7.0661390616167319},null,{"$f":"IF(C5<>\"\",C5,\"\")","v":603},1,null,null,null,null,null,null,null,{"$f":"IF($C5=\"\",\"\", IF(FH5=1,0,IF(FF5<>0,500,FA5*$AE5/$AH5+FB5/$AH5*5+FC5/$AH5*25+FD5*50+FE5*50)))","v":1.4132278123233464},null,{"$f":"IF(C5<>\"\",C5,\"\")","v":603},2,1,1,null,null,null,null,null,{"$f":"IF($C5=\"\",\"\", IF(FS5=1,0,IF(FQ5<>0,500,FL5*$AE5/$AH5+FM5/$AH5*5+FN5/$AH5*25+FO5*50+FP5*50)))","v":16.958733747880157},null,{"$f":"IF(C5<>\"\",C5,\"\")","v":603},null,null,null,null,null,null,null,1,{"$f":"IF($C5=\"\",\"\", IF(GD5=1,0,IF(GB5<>0,500,FW5*$AE5/$AH5+FX5/$AH5*5+FY5/$AH5*25+FZ5*50+GA5*50)))","v":0},null,{"$f":"IF(C5<>\"\",C5,\"\")","v":603},3,null,null,null,null,null,null,null,{"$f":"IF($C5=\"\",\"\", IF(GO5=1,0,IF(GM5<>0,500,GH5*$AE5/$AH5+GI5/$AH5*5+GJ5/$AH5*25+GK5*50+GL5*50)))","v":4.2396834369700391},null,{"$f":"IF(C5<>\"\",C5,\"\")","v":603},2,null,null,null,null,null,null,null,{"$f":"IF($C5=\"\",\"\", IF(GZ5=1,0,IF(GX5<>0,500,GS5*$AE5/$AH5+GT5/$AH5*5+GU5/$AH5*25+GV5*50+GW5*50)))","v":2.8264556246466928},null,{"$f":"IF(C5<>\"\",C5,\"\")","v":603},1,null,null,null,null,null,null,null,{"$f":"IF($C5=\"\",\"\", IF(HK5=1,0,IF(HI5<>0,500,HD5*$AE5/$AH5+HE5/$AH5*5+HF5/$AH5*25+HG5*50+HH5*50)))","v":1.4132278123233464},null,{"$f":"IF(C5<>\"\",C5,\"\")","v":603},null,null,null,null,null,null,null,null,{"$f":"IF($C5=\"\",\"\", IF(HV5=1,0,IF(HT5<>0,500,HO5*$AE5/$AH5+HP5/$AH5*5+HQ5/$AH5*25+HR5*50+HS5*50)))","v":0},null,{"$f":"IF(C5<>\"\",C5,\"\")","v":603},null,null,null,null,null,null,null,null,{"$f":"IF($C5=\"\",\"\", IF(IG5=1,0,IF(IE5<>0,500,HZ5*$AE5/$AH5+IA5/$AH5*5+IB5/$AH5*25+IC5*50+ID5*50)))","v":0}]
[null,{"$f":"IF(C6=0,\"\",ROW(C6)-4)","v":""},null,null,null,null,null,{"$f":"IF(C6=0,\"\",IF(OR(BB6=1,BC6<>0),BC6,\"-\"))","v":""},{"$f":"IF(C6=0,\"\",IF(OR(BM6=1,BN6<>0),BN6,\"-\"))","v":""},{"$f":"IF(C6=0,\"\",IF(OR(BX6=1,BY6<>0),BY6,\" -\"))","v":""},{"$f":"IF(C6=0,\"\",IF(OR(CJ6<>0,CI6=1),CJ6,\" -\"))","v":""},{"$f":"IF(C6=0,\"\",IF(OR(CU6<>0,CT6=1),CU6,\" -\"))","v":""},{"$f":"IF(C6=0,\"\",IF(OR(DF6<>0,DE6=1),DF6,\" -\"))","v":""},{"$f":"IF(C6=0,\"\",IF(OR(DQ6<>0,DP6=1),DQ6,\" -\"))","v":""},{"$f":"IF(C6=0,\"\",IF(OR(EB6<>0,EA6=1),EB6,\" -\"))","v":""},{"$f":"IF(C6=0,\"\",IF(OR(EM6<>0,EL6=1),EM6,\" -\"))","v":""},{"$f":"IF(C6=0,\"\",IF(OR(EX6<>0,EW6=1),EX6,\" -\"))","v":""},{"$f":"IF(C6=0,\"\",IF(OR(FI6<>0,FH6=1),FI6,\" -\"))","v":""},{"$f":"IF(C6=0,\"\",IF(OR(FT6<>0,FS6=1),FT6,\" -\"))","v":""},{"$f":"IF(C6=0,\"\",IF(OR(GE6<>0,GD6=1),GE6,\" -\"))","v":""},{"$f":"IF(C6=0,\"\",IF(OR(GP6<>0,GO6=1),GP6,\" -\"))","v":""},{"$f":"IF(C6=0,\"\",IF(OR(HA6<>0,GZ6=1),HA6,\" -\"))","v":""},{"$f":"IF(C6=0,\"\",IF(OR(HL6<>0,HK6=1),HL6,\" -\"))","v":""},{"$f":"IF(C6=0,\"\",IF(AJ6<>0,AJ6,\" -\"))","v":""},{"$f":"IF(C6=0,\"\",IF(OR(HW6<>0,HV6=1),HW6,\" -\"))","v":""},{"$f":"IF(C6=0,\"\",IF(OR(IH6<>0,IG6=1),IH6,\" -\"))","v":""},{"$f":"IF(C6=0,\"\",IF(AL6=1,\"DNF\",IF(AL6=2,\"DSQ\",IF(AM6<>1,\"~ \"&ROUND(SUM(H6:X6),3),ROUND(SUM(H6:X6),3)))))","v":""},null,null,{"$f":"IF(C6<>\"\",C6,\"\")","v":""},{"$f":"IF(AD6<>\"\",3,\"\")","v":""},null,null,{"$f":"IF(AD6<>\"\",(AF6/1000*AG6/1000)/2,\"\")","v":""},null,null,null,null,null,null,null,{"$f":"IF(C6=0,99999,IF(AL6>0,9999,SUM(H6:X6)-AN6))","v":99999},{"$f":"IF(C6=0,99999,IF(AL6=1,9999,SUM(Y6:Z6)))","v":99999},null,null,{"$f":"IF(C6<>\"\",C6,\"\")","v":""},null,null,null,null,null,null,null,null,{"$f":"IF($C6=\"\",\"\", IF(BB6=1,0,IF(AZ6<>0,500,AU6*$AE6/$AH6+AV6/$AH6*5+AW6/$AH6*25+AX6*50+AY6*50)))","v":""},null,{"$f":"IF(C6<>\"\",C6,\"\")","v":""},null,null,null,null,null,null,null,null,{"$f":"IF($C6=\"\",\"\", IF(BM6=1,0,IF(BK6<>0,500,BF6*$AE6/$AH6+BG6/$AH6*5+BH6/$AH6*25+BI6*50+BJ6*50)))","v":""},null,{"$f":"IF(C6<>\"\",C6,\"\")","v":""},null,null,null,null,null,null,null,null,{"$f":"IF($C6=\"\",\"\", IF(BX6=1,0,IF(BV6<>0,500,BQ6*$AE6/$AH6+BR6/$AH6*5+BS6/$AH6*25+BT6*50+BU6*50)))","v":""},null,{"$f":"IF(C6<>\"\",C6,\"\")","v":""},null,null,null,null,null,null,null,null,{"$f":"IF($C6=\"\",\"\", IF(CI6=1,0,IF(CG6<>0,500,CB6*$AE6/$AH6+CC6/$AH6*5+CD6/$AH6*25+CE6*50+CF6*50)))","v":""},null,{"$f":"IF(C6<>\"\",C6,\"\")","v":""},null,null,null,null,null,null,null,null,{"$f":"IF($C6=\"\",\"\", IF(CT6=1,0,IF(CR6<>0,500,CM6*$AE6/$AH6+CN6/$AH6*5+CO6/$AH6*25+CP6*50+CQ6*50)))","v":""},null,{"$f":"IF(C6<>\"\",C6,\"\")","v":""},null,null,null,null,null,null,null,null,{"$f":"IF($C6=\"\",\"\", IF(DE6=1,0,IF(DC6<>0,500,CX6*$AE6/$AH6+CY6/$AH6*5+CZ6/$AH6*25+DA6*50+DB6*50)))","v":""},null,{"$f":"IF(C6<>\"\",C6,\"\")","v":""},null,null,null,null,null,null,null,null,{"$f":"IF($C6=\"\",\"\", IF(DP6=1,0,IF(DN6<>0,500,DI6*$AE6/$AH6+DJ6/$AH6*5+DK6/$AH6*25+DL6*50+DM6*50)))","v":""},null,{"$f":"IF(C6<>\"\",C6,\"\")","v":""},null,null,null,null,null,null,null,null,{"$f":"IF($C6=\"\",\"\", IF(EA6=1,0,IF(DY6<>0,500,DT6*$AE6/$AH6+DU6/$AH6*5+DV6/$AH6*25+DW6*50+DX6*50)))","v":""},null,{"$f":"IF(C6<>\"\",C6,\"\")","v":""},null,null,null,null,null,null,null,null,{"$f":"IF($C6=\"\",\"\", IF(EL6=1,0,IF(EJ6<>0,500,EE6*$AE6/$AH6+EF6/$AH6*5+EG6/$AH6*25+EH6*50+EI6*50)))","v":""},null,{"$f":"IF(C6<>\"\",C6,\"\")","v":""},null,null,null,null,null,null,null,null,{"$f":"IF($C6=\"\",\"\", IF(EW6=1,0,IF(EU6<>0,500,EP6*$AE6/$AH6+EQ6/$AH6*5+ER6/$AH6*25+ES6*50+ET6*50)))","v":""},null,{"$f":"IF(C6<>\"\",C6,\"\")","v":""},null,null,null,null,null,null,null,null,{"$f":"IF($C6=\"\",\"\", IF(FH6=1,0,IF(FF6<>0,500,FA6*$AE6/$AH6+FB6/$AH6*5+FC6/$AH6*25+FD6*50+FE6*50)))","v":""},null,{"$f":"IF(C6<>\"\",C6,\"\")","v":""},null,null,null,null,null,null,null,null,{"$f":"IF($C6=\"\",\"\", IF(FS6=1,0,IF(FQ6<>0,500,FL6*$AE6/$AH6+FM6/$AH6*5+FN6/$AH6*25+FO6*50+FP6*50)))","v":""},null,{"$f":"IF(C6<>\"\",C6,\"\")","v":""},null,null,null,null,null,null,null,null,{"$f":"IF($C6=\"\",\"\", IF(GD6=1,0,IF(GB6<>0,500,FW6*$AE6/$AH6+FX6/$AH6*5+FY6/$AH6*25+FZ6*50+GA6*50)))","v":""},null,{"$f":"IF(C6<>\"\",C6,\"\")","v":""},null,null,null,null,null,null,null,null,{"$f":"IF($C6=\"\",\"\", IF(GO6=1,0,IF(GM6<>0,500,GH6*$AE6/$AH6+GI6/$AH6*5+GJ6/$AH6*25+GK6*50+GL6*50)))","v":""},null,{"$f":"IF(C6<>\"\",C6,\"\")","v":""},null,null,null,null,null,null,null,null,{"$f":"IF($C6=\"\",\"\", IF(GZ6=1,0,IF(GX6<>0,500,GS6*$AE6/$AH6+GT6/$AH6*5+GU6/$AH6*25+GV6*50+GW6*50)))","v":""},null,{"$f":"IF(C6<>\"\",C6,\"\")","v":""},null,null,null,null,null,null,null,null,{"$f":"IF($C6=\"\",\"\", IF(HK6=1,0,IF(HI6<>0,500,HD6*$AE6/$AH6+HE6/$AH6*5+HF6/$AH6*25+HG6*50+HH6*50)))","v":""},null,{"$f":"IF(C6<>\"\",C6,\"\")","v":""},null,null,null,null,null,null,null,null,{"$f":"IF($C6=\"\",\"\", IF(HV6=1,0,IF(HT6<>0,500,HO6*$AE6/$AH6+HP6/$AH6*5+HQ6/$AH6*25+HR6*50+HS6*50)))","v":""},null,{"$f":"IF(C6<>\"\",C6,\"\")","v":""},null,null,null,null,null,null,null,null,{"$f":"IF($C6=\"\",\"\", IF(IG6=1,0,IF(IE6<>0,500,HZ6*$AE6/$AH6+IA6/$AH6*5+IB6/$AH6*25+IC6*50+ID6*50)))","v":""}]
[null,{"$f":"IF(C7=0,\"\",ROW(C7)-4)","v":""},null,null,null,null,null,{"$f":"IF(C7=0,\"\",IF(OR(BB7=1,BC7<>0),BC7,\"-\"))","v":""},{"$f":"IF(C7=0,\"\",IF(OR(BM7=1,BN7<>0),BN7,\"-\"))","v":""},{"$f":"IF(C7=0,\"\",IF(OR(BX7=1,BY7<>0),BY7,\" -\"))","v":""},{"$f":"IF(C7=0,\"\",IF(OR(CJ7<>0,CI7=1),CJ7,\" -\"))","v":""},{"$f":"IF(C7=0,\"\",IF(OR(CU7<>0,CT7=1),CU7,\" -\"))","v":""},{"$f":"IF(C7=0,\"\",IF(OR(DF7<>0,DE7=1),DF7,\" -\"))","v":""},{"$f":"IF(C7=0,\"\",IF(OR(DQ7<>0,DP7=1),DQ7,\" -\"))","v":""},{"$f":"IF(C7=0,\"\",IF(OR(EB7<>0,EA7=1),EB7,\" -\"))","v":""},{"$f":"IF(C7=0,\"\",IF(OR(EM7<>0,EL7=1),EM7,\" -\"))","v":""},{"$f":"IF(C7=0,\"\",IF(OR(EX7<>0,EW7=1),EX7,\" -\"))","v":""},{"$f":"IF(C7=0,\"\",IF(OR(FI7<>0,FH7=1),FI7,\" -\"))","v":""},{"$f":"IF(C7=0,\"\",IF(OR(FT7<>0,FS7=1),FT7,\" -\"))","v":""},{"$f":"IF(C7=0,\"\",IF(OR(GE7<>0,GD7=1),GE7,\" -\"))","v":""},{"$f":"IF(C7=0,\"\",IF(OR(GP7<>0,GO7=1),GP7,\" -\"))","v":""},{"$f":"IF(C7=0,\"\",IF(OR(HA7<>0,GZ7=1),HA7,\" -\"))","v":""},{"$f":"IF(C7=0,\"\",IF(OR(HL7<>0,HK7=1),HL7,\" -\"))","v":""},{"$f":"IF(C7=0,\"\",IF(AJ7<>0,AJ7,\" -\"))","v":""},{"$f":"IF(C7=0,\"\",IF(OR(HW7<>0,HV7=1),HW7,\" -\"))","v":""},{"$f":"IF(C7=0,\"\",IF(OR(IH7<>0,IG7=1),IH7,\" -\"))","v":""},{"$f":"IF(C7=0,\"\",IF(AL7=1,\"DNF\",IF(AL7=2,\"DSQ\",IF(AM7<>1,\"~ \"&ROUND(SUM(H7:X7),3),ROUND(SUM(H7:X7),3)))))","v":""},null,null,{"$f":"IF(C7<>\"\",C7,\"\")","v":""},{"$f":"IF(AD7<>\"\",3,\"\")","v":""},null,null,{"$f":"IF(AD7<>\"\",(AF7/1000*AG7/1000)/2,\"\")","v":""},null,null,null,null,null,null,null,{"$f":"IF(C7=0,99999,IF(AL7>0,9999,SUM(H7:X7)-AN7))","v":99999},{"$f":"IF(C7=0,99999,IF(AL7=1,9999,SUM(Y7:Z7)))","v":99999},null,null,{"$f":"IF(C7<>\"\",C7,\"\")","v":""},null,null,null,null,null,null,null,null,{"$f":"IF($C7=\"\",\"\", IF(BB7=1,0,IF(AZ7<>0,500,AU7*$AE7/$AH7+AV7/$AH7*5+AW7/$AH7*25+AX7*50+AY7*50)))","v":""},null,{"$f":"IF(C7<>\"\",C7,\"\")","v":""},null,null,null,null,null,null,null,null,{"$f":"IF($C7=\"\",\"\", IF(BM7=1,0,IF(BK7<>0,500,BF7*$AE7/$AH7+BG7/$AH7*5+BH7/$AH7*25+BI7*50+BJ7*50)))","v":""},null,{"$f":"IF(C7<>\"\",C7,\"\")","v":""},null,null,null,null,null,null,null,null,{"$f":"IF($C7=\"\",\"\", IF(BX7=1,0,IF(BV7<>0,500,BQ7*$AE7/$AH7+BR7/$AH7*5+BS7/$AH7*25+BT7*50+BU7*50)))","v":""},null,{"$f":"IF(C7<>\"\",C7,\"\")","v":""},null,null,null,null,null,null,null,null,{"$f":"IF($C7=\"\",\"\", IF(CI7=1,0,IF(CG7<>0,500,CB7*$AE7/$AH7+CC7/$AH7*5+CD7/$AH7*25+CE7*50+CF7*50)))","v":""},null,{"$f":"IF(C7<>\"\",C7,\"\")","v":""},null,null,null,null,null,null,null,null,{"$f":"IF($C7=\"\",\"\", IF(CT7=1,0,IF(CR7<>0,500,CM7*$AE7/$AH7+CN7/$AH7*5+CO7/$AH7*25+CP7*50+CQ7*50)))","v":""},null,{"$f":"IF(C7<>\"\",C7,\"\")","v":""},null,null,null,null,null,null,null,null,{"$f":"IF($C7=\"\",\"\", IF(DE7=1,0,IF(DC7<>0,500,CX7*$AE7/$AH7+CY7/$AH7*5+CZ7/$AH7*25+DA7*50+DB7*50)))","v":""},null,{"$f":"IF(C7<>\"\",C7,\"\")","v":""},null,null,null,null,null,null,null,null,{"$f":"IF($C7=\"\",\"\", IF(DP7=1,0,IF(DN7<>0,500,DI7*$AE7/$AH7+DJ7/$AH7*5+DK7/$AH7*25+DL7*50+DM7*50)))","v":""},null,{"$f":"IF(C7<>\"\",C7,\"\")","v":""},null,null,null,null,null,null,null,null,{"$f":"IF($C7=\"\",\"\", IF(EA7=1,0,IF(DY7<>0,500,DT7*$AE7/$AH7+DU7/$AH7*5+DV7/$AH7*25+DW7*50+DX7*50)))","v":""},null,{"$f":"IF(C7<>\"\",C7,\"\")","v":""},null,null,null,null,null,null,null,null,{"$f":"IF($C7=\"\",\"\", IF(EL7=1,0,IF(EJ7<>0,500,EE7*$AE7/$AH7+EF7/$AH7*5+EG7/$AH7*25+EH7*50+EI7*50)))","v":""},null,{"$f":"IF(C7<>\"\",C7,\"\")","v":""},null,null,null,null,null,null,null,null,{"$f":"IF($C7=\"\",\"\", IF(EW7=1,0,IF(EU7<>0,500,EP7*$AE7/$AH7+EQ7/$AH7*5+ER7/$AH7*25+ES7*50+ET7*50)))","v":""},null,{"$f":"IF(C7<>\"\",C7,\"\")","v":""},null,null,null,null,null,null,null,null,{"$f":"IF($C7=\"\",\"\", IF(FH7=1,0,IF(FF7<>0,500,FA7*$AE7/$AH7+FB7/$AH7*5+FC7/$AH7*25+FD7*50+FE7*50)))","v":""},null,{"$f":"IF(C7<>\"\",C7,\"\")","v":""},null,null,null,null,null,null,null,null,{"$f":"IF($C7=\"\",\"\", IF(FS7=1,0,IF(FQ7<>0,500,FL7*$AE7/$AH7+FM7/$AH7*5+FN7/$AH7*25+FO7*50+FP7*50)))","v":""},null,{"$f":"IF(C7<>\"\",C7,\"\")","v":""},null,null,null,null,null,null,null,null,{"$f":"IF($C7=\"\",\"\", IF(GD7=1,0,IF(GB7<>0,500,FW7*$AE7/$AH7+FX7/$AH7*5+FY7/$AH7*25+FZ7*50+GA7*50)))","v":""},null,{"$f":"IF(C7<>\"\",C7,\"\")","v":""},null,null,null,null,null,null,null,null,{"$f":"IF($C7=\"\",\"\", IF(GO7=1,0,IF(GM7<>0,500,GH7*$AE7/$AH7+GI7/$AH7*5+GJ7/$AH7*25+GK7*50+GL7*50)))","v":""},null,{"$f":"IF(C7<>\"\",C7,\"\")","v":""},null,null,null,null,null,null,null,null,{"$f":"IF($C7=\"\",\"\", IF(GZ7=1,0,IF(GX7<>0,500,GS7*$AE7/$AH7+GT7/$AH7*5+GU7/$AH7*25+GV7*50+GW7*50)))","v":""},null,{"$f":"IF(C7<>\"\",C7,\"\")","v":""},null,null,null,null,null,null,null,null,{"$f":"IF($C7=\"\",\"\", IF(HK7=1,0,IF(HI7<>0,500,HD7*$AE7/$AH7+HE7/$AH7*5+HF7/$AH7*25+HG7*50+HH7*50)))","v":""},null,{"$f":"IF(C7<>\"\",C7,\"\")","v":""},null,null,null,null,null,null,null,null,{"$f":"IF($C7=\"\",\"\", IF(HV7=1,0,IF(HT7<>0,500,HO7*$AE7/$AH7+HP7/$AH7*5+HQ7/$AH7*25+HR7*50+HS7*50)))","v":""},null,{"$f":"IF(C7<>\"\",C7,\"\")","v":""},null,null,null,null,null,null,null,null,{"$f":"IF($C7=\"\",\"\", IF(IG7=1,0,IF(IE7<>0,500,HZ7*$AE7/$AH7+IA7/$AH7*5+IB7/$AH7*25+IC7*50+ID7*50)))","v":""}]
[null,{"$f":"IF(C8=0,\"\",ROW(C8)-4)","v":""},null,null,null,null,null,{"$f":"IF(C8=0,\"\",IF(OR(BB8=1,BC8<>0),BC8,\"-\"))","v":""},{"$f":"IF(C8=0,\"\",IF(OR(BM8=1,BN8<>0),BN8,\"-\"))","v":""},{"$f":"IF(C8=0,\"\",IF(OR(BX8=1,BY8<>0),BY8,\" -\"))","v":""},{"$f":"IF(C8=0,\"\",IF(OR(CJ8<>0,CI8=1),CJ8,\" -\"))","v":""},{"$f":"IF(C8=0,\"\",IF(OR(CU8<>0,CT8=1),CU8,\" -\"))","v":""},{"$f":"IF(C8=0,\"\",IF(OR(DF8<>0,DE8=1),DF8,\" -\"))","v":""},{"$f":"IF(C8=0,\"\",IF(OR(DQ8<>0,DP8=1),DQ8,\" -\"))","v":""},{"$f":"IF(C8=0,\"\",IF(OR(EB8<>0,EA8=1),EB8,\" -\"))","v":""},{"$f":"IF(C8=0,\"\",IF(OR(EM8<>0,EL8=1),EM8,\" -\"))","v":""},{"$f":"IF(C8=0,\"\",IF(OR(EX8<>0,EW8=1),EX8,\" -\"))","v":""},{"$f":"IF(C8=0,\"\",IF(OR(FI8<>0,FH8=1),FI8,\" -\"))","v":""},{"$f":"IF(C8=0,\"\",IF(OR(FT8<>0,FS8=1),FT8,\" -\"))","v":""},{"$f":"IF(C8=0,\"\",IF(OR(GE8<>0,GD8=1),GE8,\" -\"))","v":""},{"$f":"IF(C8=0,\"\",IF(OR(GP8<>0,GO8=1),GP8,\" -\"))","v":""},{"$f":"IF(C8=0,\"\",IF(OR(HA8<>0,GZ8=1),HA8,\" -\"))","v":""},{"$f":"IF(C8=0,\"\",IF(OR(HL8<>0,HK8=1),HL8,\" -\"))","v":""},{"$f":"IF(C8=0,\"\",IF(AJ8<>0,AJ8,\" -\"))","v":""},{"$f":"IF(C8=0,\"\",IF(OR(HW8<>0,HV8=1),HW8,\" -\"))","v":""},{"$f":"IF(C8=0,\"\",IF(OR(IH8<>0,IG8=1),IH8,\" -\"))","v":""},{"$f":"IF(C8=0,\"\",IF(AL8=1,\"DNF\",IF(AL8=2,\"DSQ\",IF(AM8<>1,\"~ \"&ROUND(SUM(H8:X8),3),ROUND(SUM(H8:X8),3)))))","v":""},null,null,{"$f":"IF(C8<>\"\",C8,\"\")","v":""},{"$f":"IF(AD8<>\"\",3,\"\")","v":""},null,null,{"$f":"IF(AD8<>\"\",(AF8/1000*AG8/1000)/2,\"\")","v":""},null,null,null,null,null,null,null,{"$f":"IF(C8=0,99999,IF(AL8>0,9999,SUM(H8:X8)-AN8))","v":99999},{"$f":"IF(C8=0,99999,IF(AL8=1,9999,SUM(Y8:Z8)))","v":99999},null,null,{"$f":"IF(C8<>\"\",C8,\"\")","v":""},null,null,null,null,null,null,null,null,{"$f":"IF($C8=\"\",\"\", IF(BB8=1,0,IF(AZ8<>0,500,AU8*$AE8/$AH8+AV8/$AH8*5+AW8/$AH8*25+AX8*50+AY8*50)))","v":""},null,{"$f":"IF(C8<>\"\",C8,\"\")","v":""},null,null,null,null,null,null,null,null,{"$f":"IF($C8=\"\",\"\", IF(BM8=1,0,IF(BK8<>0,500,BF8*$AE8/$AH8+BG8/$AH8*5+BH8/$AH8*25+BI8*50+BJ8*50)))","v":""},null,{"$f":"IF(C8<>\"\",C8,\"\")","v":""},null,null,null,null,null,null,null,null,{"$f":"IF($C8=\"\",\"\", IF(BX8=1,0,IF(BV8<>0,500,BQ8*$AE8/$AH8+BR8/$AH8*5+BS8/$AH8*25+BT8*50+BU8*50)))","v":""},null,{"$f":"IF(C8<>\"\",C8,\"\")","v":""},null,null,null,null,null,null,null,null,{"$f":"IF($C8=\"\",\"\", IF(CI8=1,0,IF(CG8<>0,500,CB8*$AE8/$AH8+CC8/$AH8*5+CD8/$AH8*25+CE8*50+CF8*50)))","v":""},null,{"$f":"IF(C8<>\"\",C8,\"\")","v":""},null,null,null,null,null,null,null,null,{"$f":"IF($C8=\"\",\"\", IF(CT8=1,0,IF(CR8<>0,500,CM8*$AE8/$AH8+CN8/$AH8*5+CO8/$AH8*25+CP8*50+CQ8*50)))","v":""},null,{"$f":"IF(C8<>\"\",C8,\"\")","v":""},null,null,null,null,null,null,null,null,{"$f":"IF($C8=\"\",\"\", IF(DE8=1,0,IF(DC8<>0,500,CX8*$AE8/$AH8+CY8/$AH8*5+CZ8/$AH8*25+DA8*50+DB8*50)))","v":""},null,{"$f":"IF(C8<>\"\",C8,\"\")","v":""},null,null,null,null,null,null,null,null,{"$f":"IF($C8=\"\",\"\", IF(DP8=1,0,IF(DN8<>0,500,DI8*$AE8/$AH8+DJ8/$AH8*5+DK8/$AH8*25+DL8*50+DM8*50)))","v":""},null,{"$f":"IF(C8<>\"\",C8,\"\")","v":""},null,null,null,null,null,null,null,null,{"$f":"IF($C8=\"\",\"\", IF(EA8=1,0,IF(DY8<>0,500,DT8*$AE8/$AH8+DU8/$AH8*5+DV8/$AH8*25+DW8*50+DX8*50)))","v":""},null,{"$f":"IF(C8<>\"\",C8,\"\")","v":""},null,null,null,null,null,null,null,null,{"$f":"IF($C8=\"\",\"\", IF(EL8=1,0,IF(EJ8<>0,500,EE8*$AE8/$AH8+EF8/$AH8*5+EG8/$AH8*25+EH8*50+EI8*50)))","v":""},null,{"$f":"IF(C8<>\"\",C8,\"\")","v":""},null,null,null,null,null,null,null,null,{"$f":"IF($C8=\"\",\"\", IF(EW8=1,0,IF(EU8<>0,500,EP8*$AE8/$AH8+EQ8/$AH8*5+ER8/$AH8*25+ES8*50+ET8*50)))","v":""},null,{"$f":"IF(C8<>\"\",C8,\"\")","v":""},null,null,null,null,null,null,null,null,{"$f":"IF($C8=\"\",\"\", IF(FH8=1,0,IF(FF8<>0,500,FA8*$AE8/$AH8+FB8/$AH8*5+FC8/$AH8*25+FD8*50+FE8*50)))","v":""},null,{"$f":"IF(C8<>\"\",C8,\"\")","v":""},null,null,null,null,null,null,null,null,{"$f":"IF($C8=\"\",\"\", IF(FS8=1,0,IF(FQ8<>0,500,FL8*$AE8/$AH8+FM8/$AH8*5+FN8/$AH8*25+FO8*50+FP8*50)))","v":""},null,{"$f":"IF(C8<>\"\",C8,\"\")","v":""},null,null,null,null,null,null,null,null,{"$f":"IF($C8=\"\",\"\", IF(GD8=1,0,IF(GB8<>0,500,FW8*$AE8/$AH8+FX8/$AH8*5+FY8/$AH8*25+FZ8*50+GA8*50)))","v":""},null,{"$f":"IF(C8<>\"\",C8,\"\")","v":""},null,null,null,null,null,null,null,null,{"$f":"IF($C8=\"\",\"\", IF(GO8=1,0,IF(GM8<>0,500,GH8*$AE8/$AH8+GI8/$AH8*5+GJ8/$AH8*25+GK8*50+GL8*50)))","v":""},null,{"$f":"IF(C8<>\"\",C8,\"\")","v":""},null,null,null,null,null,null,null,null,{"$f":"IF($C8=\"\",\"\", IF(GZ8=1,0,IF(GX8<>0,500,GS8*$AE8/$AH8+GT8/$AH8*5+GU8/$AH8*25+GV8*50+GW8*50)))","v":""},null,{"$f":"IF(C8<>\"\",C8,\"\")","v":""},null,null,null,null,null,null,null,null,{"$f":"IF($C8=\"\",\"\", IF(HK8=1,0,IF(HI8<>0,500,HD8*$AE8/$AH8+HE8/$AH8*5+HF8/$AH8*25+HG8*50+HH8*50)))","v":""},null,{"$f":"IF(C8<>\"\",C8,\"\")","v":""},null,null,null,null,null,null,null,null,{"$f":"IF($C8=\"\",\"\", IF(HV8=1,0,IF(HT8<>0,500,HO8*$AE8/$AH8+HP8/$AH8*5+HQ8/$AH8*25+HR8*50+HS8*50)))","v":""},null,{"$f":"IF(C8<>\"\",C8,\"\")","v":""},null,null,null,null,null,null,null,null,{"$f":"IF($C8=\"\",\"\", IF(IG8=1,0,IF(IE8<>0,500,HZ8*$AE8/$AH8+IA8/$AH8*5+IB8/$AH8*25+IC8*50+ID8*50)))","v":""}]
[null,{"$f":"IF(C9=0,\"\",ROW(C9)-4)","v":""},null,null,null,null,null,{"$f":"IF(C9=0,\"\",IF(OR(BB9=1,BC9<>0),BC9,\"-\"))","v":""},{"$f":"IF(C9=0,\"\",IF(OR(BM9=1,BN9<>0),BN9,\"-\"))","v":""},{"$f":"IF(C9=0,\"\",IF(OR(BX9=1,BY9<>0),BY9,\" -\"))","v":""},{"$f":"IF(C9=0,\"\",IF(OR(CJ9<>0,CI9=1),CJ9,\" -\"))","v":""},{"$f":"IF(C9=0,\"\",IF(OR(CU9<>0,CT9=1),CU9,\" -\"))","v":""},{"$f":"IF(C9=0,\"\",IF(OR(DF9<>0,DE9=1),DF9,\" -\"))","v":""},{"$f":"IF(C9=0,\"\",IF(OR(DQ9<>0,DP9=1),DQ9,\" -\"))","v":""},{"$f":"IF(C9=0,\"\",IF(OR(EB9<>0,EA9=1),EB9,\" -\"))","v":""},{"$f":"IF(C9=0,\"\",IF(OR(EM9<>0,EL9=1),EM9,\" -\"))","v":""},{"$f":"IF(C9=0,\"\",IF(OR(EX9<>0,EW9=1),EX9,\" -\"))","v":""},{"$f":"IF(C9=0,\"\",IF(OR(FI9<>0,FH9=1),FI9,\" -\"))","v":""},{"$f":"IF(C9=0,\"\",IF(OR(FT9<>0,FS9=1),FT9,\" -\"))","v":""},{"$f":"IF(C9=0,\"\",IF(OR(GE9<>0,GD9=1),GE9,\" -\"))","v":""},{"$f":"IF(C9=0,\"\",IF(OR(GP9<>0,GO9=1),GP9,\" -\"))","v":""},{"$f":"IF(C9=0,\"\",IF(OR(HA9<>0,GZ9=1),HA9,\" -\"))","v":""},{"$f":"IF(C9=0,\"\",IF(OR(HL9<>0,HK9=1),HL9,\" -\"))","v":""},{"$f":"IF(C9=0,\"\",IF(AJ9<>0,AJ9,\" -\"))","v":""},{"$f":"IF(C9=0,\"\",IF(OR(HW9<>0,HV9=1),HW9,\" -\"))","v":""},{"$f":"IF(C9=0,\"\",IF(OR(IH9<>0,IG9=1),IH9,\" -\"))","v":""},{"$f":"IF(C9=0,\"\",IF(AL9=1,\"DNF\",IF(AL9=2,\"DSQ\",IF(AM9<>1,\"~ \"&ROUND(SUM(H9:X9),3),ROUND(SUM(H9:X9),3)))))","v":""},null,null,{"$f":"IF(C9<>\"\",C9,\"\")","v":""},{"$f":"IF(AD9<>\"\",3,\"\")","v":""},null,null,{"$f":"IF(AD9<>\"\",(AF9/1000*AG9/1000)/2,\"\")","v":""},null,null,null,null,null,null,null,{"$f":"IF(C9=0,99999,IF(AL9>0,9999,SUM(H9:X9)-AN9))","v":99999},{"$f":"IF(C9=0,99999,IF(AL9=1,9999,SUM(Y9:Z9)))","v":99999},null,null,{"$f":"IF(C9<>\"\",C9,\"\")","v":""},null,null,null,null,null,null,null,null,{"$f":"IF($C9=\"\",\"\", IF(BB9=1,0,IF(AZ9<>0,500,AU9*$AE9/$AH9+AV9/$AH9*5+AW9/$AH9*25+AX9*50+AY9*50)))","v":""},null,{"$f":"IF(C9<>\"\",C9,\"\")","v":""},null,null,null,null,null,null,null,null,{"$f":"IF($C9=\"\",\"\", IF(BM9=1,0,IF(BK9<>0,500,BF9*$AE9/$AH9+BG9/$AH9*5+BH9/$AH9*25+BI9*50+BJ9*50)))","v":""},null,{"$f":"IF(C9<>\"\",C9,\"\")","v":""},null,null,null,null,null,null,null,null,{"$f":"IF($C9=\"\",\"\", IF(BX9=1,0,IF(BV9<>0,500,BQ9*$AE9/$AH9+BR9/$AH9*5+BS9/$AH9*25+BT9*50+BU9*50)))","v":""},null,{"$f":"IF(C9<>\"\",C9,\"\")","v":""},null,null,null,null,null,null,null,null,{"$f":"IF($C9=\"\",\"\", IF(CI9=1,0,IF(CG9<>0,500,CB9*$AE9/$AH9+CC9/$AH9*5+CD9/$AH9*25+CE9*50+CF9*50)))","v":""},null,{"$f":"IF(C9<>\"\",C9,\"\")","v":""},null,null,null,null,null,null,null,null,{"$f":"IF($C9=\"\",\"\", IF(CT9=1,0,IF(CR9<>0,500,CM9*$AE9/$AH9+CN9/$AH9*5+CO9/$AH9*25+CP9*50+CQ9*50)))","v":""},null,{"$f":"IF(C9<>\"\",C9,\"\")","v":""},null,null,null,null,null,null,null,null,{"$f":"IF($C9=\"\",\"\", IF(DE9=1,0,IF(DC9<>0,500,CX9*$AE9/$AH9+CY9/$AH9*5+CZ9/$AH9*25+DA9*50+DB9*50)))","v":""},null,{"$f":"IF(C9<>\"\",C9,\"\")","v":""},null,null,null,null,null,null,null,null,{"$f":"IF($C9=\"\",\"\", IF(DP9=1,0,IF(DN9<>0,500,DI9*$AE9/$AH9+DJ9/$AH9*5+DK9/$AH9*25+DL9*50+DM9*50)))","v":""},null,{"$f":"IF(C9<>\"\",C9,\"\")","v":""},null,null,null,null,null,null,null,null,{"$f":"IF($C9=\"\",\"\", IF(EA9=1,0,IF(DY9<>0,500,DT9*$AE9/$AH9+DU9/$AH9*5+DV9/$AH9*25+DW9*50+DX9*50)))","v":""},null,{"$f":"IF(C9<>\"\",C9,\"\")","v":""},null,null,null,null,null,null,null,null,{"$f":"IF($C9=\"\",\"\", IF(EL9=1,0,IF(EJ9<>0,500,EE9*$AE9/$AH9+EF9/$AH9*5+EG9/$AH9*25+EH9*50+EI9*50)))","v":""},null,{"$f":"IF(C9<>\"\",C9,\"\")","v":""},null,null,null,null,null,null,null,null,{"$f":"IF($C9=\"\",\"\", IF(EW9=1,0,IF(EU9<>0,500,EP9*$AE9/$AH9+EQ9/$AH9*5+ER9/$AH9*25+ES9*50+ET9*50)))","v":""},null,{"$f":"IF(C9<>\"\",C9,\"\")","v":""},null,null,null,null,null,null,null,null,{"$f":"IF($C9=\"\",\"\", IF(FH9=1,0,IF(FF9<>0,500,FA9*$AE9/$AH9+FB9/$AH9*5+FC9/$AH9*25+FD9*50+FE9*50)))","v":""},null,{"$f":"IF(C9<>\"\",C9,\"\")","v":""},null,null,null,null,null,null,null,null,{"$f":"IF($C9=\"\",\"\", IF(FS9=1,0,IF(FQ9<>0,500,FL9*$AE9/$AH9+FM9/$AH9*5+FN9/$AH9*25+FO9*50+FP9*50)))","v":""},null,{"$f":"IF(C9<>\"\",C9,\"\")","v":""},null,null,null,null,null,null,null,null,{"$f":"IF($C9=\"\",\"\", IF(GD9=1,0,IF(GB9<>0,500,FW9*$AE9/$AH9+FX9/$AH9*5+FY9/$AH9*25+FZ9*50+GA9*50)))","v":""},null,{"$f":"IF(C9<>\"\",C9,\"\")","v":""},null,null,null,null,null,null,null,null,{"$f":"IF($C9=\"\",\"\", IF(GO9=1,0,IF(GM9<>0,500,GH9*$AE9/$AH9+GI9/$AH9*5+GJ9/$AH9*25+GK9*50+GL9*50)))","v":""},null,{"$f":"IF(C9<>\"\",C9,\"\")","v":""},null,null,null,null,null,null,null,null,{"$f":"IF($C9=\"\",\"\", IF(GZ9=1,0,IF(GX9<>0,500,GS9*$AE9/$AH9+GT9/$AH9*5+GU9/$AH9*25+GV9*50+GW9*50)))","v":""},null,{"$f":"IF(C9<>\"\",C9,\"\")","v":""},null,null,null,null,null,null,null,null,{"$f":"IF($C9=\"\",\"\", IF(HK9=1,0,IF(HI9<>0,500,HD9*$AE9/$AH9+HE9/$AH9*5+HF9/$AH9*25+HG9*50+HH9*50)))","v":""},null,{"$f":"IF(C9<>\"\",C9,\"\")","v":""},null,null,null,null,null,null,null,null,{"$f":"IF($C9=\"\",\"\", IF(HV9=1,0,IF(HT9<>0,500,HO9*$AE9/$AH9+HP9/$AH9*5+HQ9/$AH9*25+HR9*50+HS9*50)))","v":""},null,{"$f":"IF(C9<>\"\",C9,\"\")","v":""},null,null,null,null,null,null,null,null,{"$f":"IF($C9=\"\",\"\", IF(IG9=1,0,IF(IE9<>0,500,HZ9*$AE9/$AH9+IA9/$AH9*5+IB9/$AH9*25+IC9*50+ID9*50)))","v":""}]
[null,{"$f":"IF(C10=0,\"\",ROW(C10)-4)","v":""},null,null,null,null,null,{"$f":"IF(C10=0,\"\",IF(OR(BB10=1,BC10<>0),BC10,\"-\"))","v":""},{"$f":"IF(C10=0,\"\",IF(OR(BM10=1,BN10<>0),BN10,\"-\"))","v":""},{"$f":"IF(C10=0,\"\",IF(OR(BX10=1,BY10<>0),BY10,\" -\"))","v":""},{"$f":"IF(C10=0,\"\",IF(OR(CJ10<>0,CI10=1),CJ10,\" -\"))","v":""},{"$f":"IF(C10=0,\"\",IF(OR(CU10<>0,CT10=1),CU10,\" -\"))","v":""},{"$f":"IF(C10=0,\"\",IF(OR(DF10<>0,DE10=1),DF10,\" -\"))","v":""},{"$f":"IF(C10=0,\"\",IF(OR(DQ10<>0,DP10=1),DQ10,\" -\"))","v":""},{"$f":"IF(C10=0,\"\",IF(OR(EB10<>0,EA10=1),EB10,\" -\"))","v":""},{"$f":"IF(C10=0,\"\",IF(OR(EM10<>0,EL10=1),EM10,\" -\"))","v":""},{"$f":"IF(C10=0,\"\",IF(OR(EX10<>0,EW10=1),EX10,\" -\"))","v":""},{"$f":"IF(C10=0,\"\",IF(OR(FI10<>0,FH10=1),FI10,\" -\"))","v":""},{"$f":"IF(C10=0,\"\",IF(OR(FT10<>0,FS10=1),FT10,\" -\"))","v":""},{"$f":"IF(C10=0,\"\",IF(OR(GE10<>0,GD10=1),GE10,\" -\"))","v":""},{"$f":"IF(C10=0,\"\",IF(OR(GP10<>0,GO10=1),GP10,\" -\"))","v":""},{"$f":"IF(C10=0,\"\",IF(OR(HA10<>0,GZ10=1),HA10,\" -\"))","v":""},{"$f":"IF(C10=0,\"\",IF(OR(HL10<>0,HK10=1),HL10,\" -\"))","v":""},{"$f":"IF(C10=0,\"\",IF(AJ10<>0,AJ10,\" -\"))","v":""},{"$f":"IF(C10=0,\"\",IF(OR(HW10<>0,HV10=1),HW10,\" -\"))","v":""},{"$f":"IF(C10=0,\"\",IF(OR(IH10<>0,IG10=1),IH10,\" -\"))","v":""},{"$f":"IF(C10=0,\"\",IF(AL10=1,\"DNF\",IF(AL10=2,\"DSQ\",IF(AM10<>1,\"~ \"&ROUND(SUM(H10:X10),3),ROUND(SUM(H10:X10),3)))))","v":""},null,null,{"$f":"IF(C10<>\"\",C10,\"\")","v":""},{"$f":"IF(AD10<>\"\",3,\"\")","v":""},null,null,{"$f":"IF(AD10<>\"\",(AF10/1000*AG10/1000)/2,\"\")","v":""},null,null,null,null,null,null,null,{"$f":"IF(C10=0,99999,IF(AL10>0,9999,SUM(H10:X10)-AN10))","v":99999},{"$f":"IF(C10=0,99999,IF(AL10=1,9999,SUM(Y10:Z10)))","v":99999},null,null,{"$f":"IF(C10<>\"\",C10,\"\")","v":""},null,null,null,null,null,null,null,null,{"$f":"IF($C10=\"\",\"\", IF(BB10=1,0,IF(AZ10<>0,500,AU10*$AE10/$AH10+AV10/$AH10*5+AW10/$AH10*25+AX10*50+AY10*50)))","v":""},null,{"$f":"IF(C10<>\"\",C10,\"\")","v":""},null,null,null,null,null,null,null,null,{"$f":"IF($C10=\"\",\"\", IF(BM10=1,0,IF(BK10<>0,500,BF10*$AE10/$AH10+BG10/$AH10*5+BH10/$AH10*25+BI10*50+BJ10*50)))","v":""},null,{"$f":"IF(C10<>\"\",C10,\"\")","v":""},null,null,null,null,null,null,null,null,{"$f":"IF($C10=\"\",\"\", IF(BX10=1,0,IF(BV10<>0,500,BQ10*$AE10/$AH10+BR10/$AH10*5+BS10/$AH10*25+BT10*50+BU10*50)))","v":""},null,{"$f":"IF(C10<>\"\",C10,\"\")","v":""},null,null,null,null,null,null,null,null,{"$f":"IF($C10=\"\",\"\", IF(CI10=1,0,IF(CG10<>0,500,CB10*$AE10/$AH10+CC10/$AH10*5+CD10/$AH10*25+CE10*50+CF10*50)))","v":""},null,{"$f":"IF(C10<>\"\",C10,\"\")","v":""},null,null,null,null,null,null,null,null,{"$f":"IF($C10=\"\",\"\", IF(CT10=1,0,IF(CR10<>0,500,CM10*$AE10/$AH10+CN10/$AH10*5+CO10/$AH10*25+CP10*50+CQ10*50)))","v":""},null,{"$f":"IF(C10<>\"\",C10,\"\")","v":""},null,null,null,null,null,null,null,null,{"$f":"IF($C10=\"\",\"\", IF(DE10=1,0,IF(DC10<>0,500,CX10*$AE10/$AH10+CY10/$AH10*5+CZ10/$AH10*25+DA10*50+DB10*50)))","v":""},null,{"$f":"IF(C10<>\"\",C10,\"\")","v":""},null,null,null,null,null,null,null,null,{"$f":"IF($C10=\"\",\"\", IF(DP10=1,0,IF(DN10<>0,500,DI10*$AE10/$AH10+DJ10/$AH10*5+DK10/$AH10*25+DL10*50+DM10*50)))","v":""},null,{"$f":"IF(C10<>\"\",C10,\"\")","v":""},null,null,null,null,null,null,null,null,{"$f":"IF($C10=\"\",\"\", IF(EA10=1,0,IF(DY10<>0,500,DT10*$AE10/$AH10+DU10/$AH10*5+DV10/$AH10*25+DW10*50+DX10*50)))","v":""},null,{"$f":"IF(C10<>\"\",C10,\"\")","v":""},null,null,null,null,null,null,null,null,{"$f":"IF($C10=\"\",\"\", IF(EL10=1,0,IF(EJ10<>0,500,EE10*$AE10/$AH10+EF10/$AH10*5+EG10/$AH10*25+EH10*50+EI10*50)))","v":""},null,{"$f":"IF(C10<>\"\",C10,\"\")","v":""},null,null,null,null,null,null,null,null,{"$f":"IF($C10=\"\",\"\", IF(EW10=1,0,IF(EU10<>0,500,EP10*$AE10/$AH10+EQ10/$AH10*5+ER10/$AH10*25+ES10*50+ET10*50)))","v":""},null,{"$f":"IF(C10<>\"\",C10,\"\")","v":""},null,null,null,null,null,null,null,null,{"$f":"IF($C10=\"\",\"\", IF(FH10=1,0,IF(FF10<>0,500,FA10*$AE10/$AH10+FB10/$AH10*5+FC10/$AH10*25+FD10*50+FE10*50)))","v":""},null,{"$f":"IF(C10<>\"\",C10,\"\")","v":""},null,null,null,null,null,null,null,null,{"$f":"IF($C10=\"\",\"\", IF(FS10=1,0,IF(FQ10<>0,500,FL10*$AE10/$AH10+FM10/$AH10*5+FN10/$AH10*25+FO10*50+FP10*50)))","v":""},null,{"$f":"IF(C10<>\"\",C10,\"\")","v":""},null,null,null,null,null,null,null,null,{"$f":"IF($C10=\"\",\"\", IF(GD10=1,0,IF(GB10<>0,500,FW10*$AE10/$AH10+FX10/$AH10*5+FY10/$AH10*25+FZ10*50+GA10*50)))","v":""},null,{"$f":"IF(C10<>\"\",C10,\"\")","v":""},null,null,null,null,null,null,null,null,{"$f":"IF($C10=\"\",\"\", IF(GO10=1,0,IF(GM10<>0,500,GH10*$AE10/$AH10+GI10/$AH10*5+GJ10/$AH10*25+GK10*50+GL10*50)))","v":""},null,{"$f":"IF(C10<>\"\",C10,\"\")","v":""},null,null,null,null,null,null,null,null,{"$f":"IF($C10=\"\",\"\", IF(GZ10=1,0,IF(GX10<>0,500,GS10*$AE10/$AH10+GT10/$AH10*5+GU10/$AH10*25+GV10*50+GW10*50)))","v":""},null,{"$f":"IF(C10<>\"\",C10,\"\")","v":""},null,null,null,null,null,null,null,null,{"$f":"IF($C10=\"\",\"\", IF(HK10=1,0,IF(HI10<>0,500,HD10*$AE10/$AH10+HE10/$AH10*5+HF10/$AH10*25+HG10*50+HH10*50)))","v":""},null,{"$f":"IF(C10<>\"\",C10,\"\")","v":""},null,null,null,null,null,null,null,null,{"$f":"IF($C10=\"\",\"\", IF(HV10=1,0,IF(HT10<>0,500,HO10*$AE10/$AH10+HP10/$AH10*5+HQ10/$AH10*25+HR10*50+HS10*50)))","v":""},null,{"$f":"IF(C10<>\"\",C10,\"\")","v":""},null,null,null,null,null,null,null,null,{"$f":"IF($C10=\"\",\"\", IF(IG10=1,0,IF(IE10<>0,500,HZ10*$AE10/$AH10+IA10/$AH10*5+IB10/$AH10*25+IC10*50+ID10*50)))","v":""}]
[null,{"$f":"IF(C11=0,\"\",ROW(C11)-4)","v":""},null,null,null,null,null,{"$f":"IF(C11=0,\"\",IF(OR(BB11=1,BC11<>0),BC11,\"-\"))","v":""},{"$f":"IF(C11=0,\"\",IF(OR(BM11=1,BN11<>0),BN11,\"-\"))","v":""},{"$f":"IF(C11=0,\"\",IF(OR(BX11=1,BY11<>0),BY11,\" -\"))","v":""},{"$f":"IF(C11=0,\"\",IF(OR(CJ11<>0,CI11=1),CJ11,\" -\"))","v":""},{"$f":"IF(C11=0,\"\",IF(OR(CU11<>0,CT11=1),CU11,\" -\"))","v":""},{"$f":"IF(C11=0,\"\",IF(OR(DF11<>0,DE11=1),DF11,\" -\"))","v":""},{"$f":"IF(C11=0,\"\",IF(OR(DQ11<>0,DP11=1),DQ11,\" -\"))","v":""},{"$f":"IF(C11=0,\"\",IF(OR(EB11<>0,EA11=1),EB11,\" -\"))","v":""},{"$f":"IF(C11=0,\"\",IF(OR(EM11<>0,EL11=1),EM11,\" -\"))","v":""},{"$f":"IF(C11=0,\"\",IF(OR(EX11<>0,EW11=1),EX11,\" -\"))","v":""},{"$f":"IF(C11=0,\"\",IF(OR(FI11<>0,FH11=1),FI11,\" -\"))","v":""},{"$f":"IF(C11=0,\"\",IF(OR(FT11<>0,FS11=1),FT11,\" -\"))","v":""},{"$f":"IF(C11=0,\"\",IF(OR(GE11<>0,GD11=1),GE11,\" -\"))","v":""},{"$f":"IF(C11=0,\"\",IF(OR(GP11<>0,GO11=1),GP11,\" -\"))","v":""},{"$f":"IF(C11=0,\"\",IF(OR(HA11<>0,GZ11=1),HA11,\" -\"))","v":""},{"$f":"IF(C11=0,\"\",IF(OR(HL11<>0,HK11=1),HL11,\" -\"))","v":""},{"$f":"IF(C11=0,\"\",IF(AJ11<>0,AJ11,\" -\"))","v":""},{"$f":"IF(C11=0,\"\",IF(OR(HW11<>0,HV11=1),HW11,\" -\"))","v":""},{"$f":"IF(C11=0,\"\",IF(OR(IH11<>0,IG11=1),IH11,\" -\"))","v":""},{"$f":"IF(C11=0,\"\",IF(AL11=1,\"DNF\",IF(AL11=2,\"DSQ\",IF(AM11<>1,\"~ \"&ROUND(SUM(H11:X11),3),ROUND(SUM(H11:X11),3)))))","v":""},null,null,{"$f":"IF(C11<>\"\",C11,\"\")","v":""},{"$f":"IF(AD11<>\"\",3,\"\")","v":""},null,null,{"$f":"IF(AD11<>\"\",(AF11/1000*AG11/1000)/2,\"\")","v":""},null,null,null,null,null,null,null,{"$f":"IF(C11=0,99999,IF(AL11>0,9999,SUM(H11:X11)-AN11))","v":99999},{"$f":"IF(C11=0,99999,IF(AL11=1,9999,SUM(Y11:Z11)))","v":99999},null,null,{"$f":"IF(C11<>\"\",C11,\"\")","v":""},null,null,null,null,null,null,null,null,{"$f":"IF($C11=\"\",\"\", IF(BB11=1,0,IF(AZ11<>0,500,AU11*$AE11/$AH11+AV11/$AH11*5+AW11/$AH11*25+AX11*50+AY11*50)))","v":""},null,{"$f":"IF(C11<>\"\",C11,\"\")","v":""},null,null,null,null,null,null,null,null,{"$f":"IF($C11=\"\",\"\", IF(BM11=1,0,IF(BK11<>0,500,BF11*$AE11/$AH11+BG11/$AH11*5+BH11/$AH11*25+BI11*50+BJ11*50)))","v":""},null,{"$f":"IF(C11<>\"\",C11,\"\")","v":""},null,null,null,null,null,null,null,null,{"$f":"IF($C11=\"\",\"\", IF(BX11=1,0,IF(BV11<>0,500,BQ11*$AE11/$AH11+BR11/$AH11*5+BS11/$AH11*25+BT11*50+BU11*50)))","v":""},null,{"$f":"IF(C11<>\"\",C11,\"\")","v":""},null,null,null,null,null,null,null,null,{"$f":"IF($C11=\"\",\"\", IF(CI11=1,0,IF(CG11<>0,500,CB11*$AE11/$AH11+CC11/$AH11*5+CD11/$AH11*25+CE11*50+CF11*50)))","v":""},null,{"$f":"IF(C11<>\"\",C11,\"\")","v":""},null,null,null,null,null,null,null,null,{"$f":"IF($C11=\"\",\"\", IF(CT11=1,0,IF(CR11<>0,500,CM11*$AE11/$AH11+CN11/$AH11*5+CO11/$AH11*25+CP11*50+CQ11*50)))","v":""},null,{"$f":"IF(C11<>\"\",C11,\"\")","v":""},null,null,null,null,null,null,null,null,{"$f":"IF($C11=\"\",\"\", IF(DE11=1,0,IF(DC11<>0,500,CX11*$AE11/$AH11+CY11/$AH11*5+CZ11/$AH11*25+DA11*50+DB11*50)))","v":""},null,{"$f":"IF(C11<>\"\",C11,\"\")","v":""},null,null,null,null,null,null,null,null,{"$f":"IF($C11=\"\",\"\", IF(DP11=1,0,IF(DN11<>0,500,DI11*$AE11/$AH11+DJ11/$AH11*5+DK11/$AH11*25+DL11*50+DM11*50)))","v":""},null,{"$f":"IF(C11<>\"\",C11,\"\")","v":""},null,null,null,null,null,null,null,null,{"$f":"IF($C11=\"\",\"\", IF(EA11=1,0,IF(DY11<>0,500,DT11*$AE11/$AH11+DU11/$AH11*5+DV11/$AH11*25+DW11*50+DX11*50)))","v":""},null,{"$f":"IF(C11<>\"\",C11,\"\")","v":""},null,null,null,null,null,null,null,null,{"$f":"IF($C11=\"\",\"\", IF(EL11=1,0,IF(EJ11<>0,500,EE11*$AE11/$AH11+EF11/$AH11*5+EG11/$AH11*25+EH11*50+EI11*50)))","v":""},null,{"$f":"IF(C11<>\"\",C11,\"\")","v":""},null,null,null,null,null,null,null,null,{"$f":"IF($C11=\"\",\"\", IF(EW11=1,0,IF(EU11<>0,500,EP11*$AE11/$AH11+EQ11/$AH11*5+ER11/$AH11*25+ES11*50+ET11*50)))","v":""},null,{"$f":"IF(C11<>\"\",C11,\"\")","v":""},null,null,null,null,null,null,null,null,{"$f":"IF($C11=\"\",\"\", IF(FH11=1,0,IF(FF11<>0,500,FA11*$AE11/$AH11+FB11/$AH11*5+FC11/$AH11*25+FD11*50+FE11*50)))","v":""},null,{"$f":"IF(C11<>\"\",C11,\"\")","v":""},null,null,null,null,null,null,null,null,{"$f":"IF($C11=\"\",\"\", IF(FS11=1,0,IF(FQ11<>0,500,FL11*$AE11/$AH11+FM11/$AH11*5+FN11/$AH11*25+FO11*50+FP11*50)))","v":""},null,{"$f":"IF(C11<>\"\",C11,\"\")","v":""},null,null,null,null,null,null,null,null,{"$f":"IF($C11=\"\",\"\", IF(GD11=1,0,IF(GB11<>0,500,FW11*$AE11/$AH11+FX11/$AH11*5+FY11/$AH11*25+FZ11*50+GA11*50)))","v":""},null,{"$f":"IF(C11<>\"\",C11,\"\")","v":""},null,null,null,null,null,null,null,null,{"$f":"IF($C11=\"\",\"\", IF(GO11=1,0,IF(GM11<>0,500,GH11*$AE11/$AH11+GI11/$AH11*5+GJ11/$AH11*25+GK11*50+GL11*50)))","v":""},null,{"$f":"IF(C11<>\"\",C11,\"\")","v":""},null,null,null,null,null,null,null,null,{"$f":"IF($C11=\"\",\"\", IF(GZ11=1,0,IF(GX11<>0,500,GS11*$AE11/$AH11+GT11/$AH11*5+GU11/$AH11*25+GV11*50+GW11*50)))","v":""},null,{"$f":"IF(C11<>\"\",C11,\"\")","v":""},null,null,null,null,null,null,null,null,{"$f":"IF($C11=\"\",\"\", IF(HK11=1,0,IF(HI11<>0,500,HD11*$AE11/$AH11+HE11/$AH11*5+HF11/$AH11*25+HG11*50+HH11*50)))","v":""},null,{"$f":"IF(C11<>\"\",C11,\"\")","v":""},null,null,null,null,null,null,null,null,{"$f":"IF($C11=\"\",\"\", IF(HV11=1,0,IF(HT11<>0,500,HO11*$AE11/$AH11+HP11/$AH11*5+HQ11/$AH11*25+HR11*50+HS11*50)))","v":""},null,{"$f":"IF(C11<>\"\",C11,\"\")","v":""},null,null,null,null,null,null,null,null,{"$f":"IF($C11=\"\",\"\", IF(IG11=1,0,IF(IE11<>0,500,HZ11*$AE11/$AH11+IA11/$AH11*5+IB11/$AH11*25+IC11*50+ID11*50)))","v":""}]
[null,{"$f":"IF(C12=0,\"\",ROW(C12)-4)","v":""},null,null,null,null,null,{"$f":"IF(C12=0,\"\",IF(OR(BB12=1,BC12<>0),BC12,\"-\"))","v":""},{"$f":"IF(C12=0,\"\",IF(OR(BM12=1,BN12<>0),BN12,\"-\"))","v":""},{"$f":"IF(C12=0,\"\",IF(OR(BX12=1,BY12<>0),BY12,\" -\"))","v":""},{"$f":"IF(C12=0,\"\",IF(OR(CJ12<>0,CI12=1),CJ12,\" -\"))","v":""},{"$f":"IF(C12=0,\"\",IF(OR(CU12<>0,CT12=1),CU12,\" -\"))","v":""},{"$f":"IF(C12=0,\"\",IF(OR(DF12<>0,DE12=1),DF12,\" -\"))","v":""},{"$f":"IF(C12=0,\"\",IF(OR(DQ12<>0,DP12=1),DQ12,\" -\"))","v":""},{"$f":"IF(C12=0,\"\",IF(OR(EB12<>0,EA12=1),EB12,\" -\"))","v":""},{"$f":"IF(C12=0,\"\",IF(OR(EM12<>0,EL12=1),EM12,\" -\"))","v":""},{"$f":"IF(C12=0,\"\",IF(OR(EX12<>0,EW12=1),EX12,\" -\"))","v":""},{"$f":"IF(C12=0,\"\",IF(OR(FI12<>0,FH12=1),FI12,\" -\"))","v":""},{"$f":"IF(C12=0,\"\",IF(OR(FT12<>0,FS12=1),FT12,\" -\"))","v":""},{"$f":"IF(C12=0,\"\",IF(OR(GE12<>0,GD12=1),GE12,\" -\"))","v":""},{"$f":"IF(C12=0,\"\",IF(OR(GP12<>0,GO12=1),GP12,\" -\"))","v":""},{"$f":"IF(C12=0,\"\",IF(OR(HA12<>0,GZ12=1),HA12,\" -\"))","v":""},{"$f":"IF(C12=0,\"\",IF(OR(HL12<>0,HK12=1),HL12,\" -\"))","v":""},{"$f":"IF(C12=0,\"\",IF(AJ12<>0,AJ12,\" -\"))","v":""},{"$f":"IF(C12=0,\"\",IF(OR(HW12<>0,HV12=1),HW12,\" -\"))","v":""},{"$f":"IF(C12=0,\"\",IF(OR(IH12<>0,IG12=1),IH12,\" -\"))","v":""},{"$f":"IF(C12=0,\"\",IF(AL12=1,\"DNF\",IF(AL12=2,\"DSQ\",IF(AM12<>1,\"~ \"&ROUND(SUM(H12:X12),3),ROUND(SUM(H12:X12),3)))))","v":""},null,null,{"$f":"IF(C12<>\"\",C12,\"\")","v":""},{"$f":"IF(AD12<>\"\",3,\"\")","v":""},null,null,{"$f":"IF(AD12<>\"\",(AF12/1000*AG12/1000)/2,\"\")","v":""},null,null,null,null,null,null,null,{"$f":"IF(C12=0,99999,IF(AL12>0,9999,SUM(H12:X12)-AN12))","v":99999},{"$f":"IF(C12=0,99999,IF(AL12=1,9999,SUM(Y12:Z12)))","v":99999},null,null,{"$f":"IF(C12<>\"\",C12,\"\")","v":""},null,null,null,null,null,null,null,null,{"$f":"IF($C12=\"\",\"\", IF(BB12=1,0,IF(AZ12<>0,500,AU12*$AE12/$AH12+AV12/$AH12*5+AW12/$AH12*25+AX12*50+AY12*50)))","v":""},null,{"$f":"IF(C12<>\"\",C12,\"\")","v":""},null,null,null,null,null,null,null,null,{"$f":"IF($C12=\"\",\"\", IF(BM12=1,0,IF(BK12<>0,500,BF12*$AE12/$AH12+BG12/$AH12*5+BH12/$AH12*25+BI12*50+BJ12*50)))","v":""},null,{"$f":"IF(C12<>\"\",C12,\"\")","v":""},null,null,null,null,null,null,null,null,{"$f":"IF($C12=\"\",\"\", IF(BX12=1,0,IF(BV12<>0,500,BQ12*$AE12/$AH12+BR12/$AH12*5+BS12/$AH12*25+BT12*50+BU12*50)))","v":""},null,{"$f":"IF(C12<>\"\",C12,\"\")","v":""},null,null,null,null,null,null,null,null,{"$f":"IF($C12=\"\",\"\", IF(CI12=1,0,IF(CG12<>0,500,CB12*$AE12/$AH12+CC12/$AH12*5+CD12/$AH12*25+CE12*50+CF12*50)))","v":""},null,{"$f":"IF(C12<>\"\",C12,\"\")","v":""},null,null,null,null,null,null,null,null,{"$f":"IF($C12=\"\",\"\", IF(CT12=1,0,IF(CR12<>0,500,CM12*$AE12/$AH12+CN12/$AH12*5+CO12/$AH12*25+CP12*50+CQ12*50)))","v":""},null,{"$f":"IF(C12<>\"\",C12,\"\")","v":""},null,null,null,null,null,null,null,null,{"$f":"IF($C12=\"\",\"\", IF(DE12=1,0,IF(DC12<>0,500,CX12*$AE12/$AH12+CY12/$AH12*5+CZ12/$AH12*25+DA12*50+DB12*50)))","v":""},null,{"$f":"IF(C12<>\"\",C12,\"\")","v":""},null,null,null,null,null,null,null,null,{"$f":"IF($C12=\"\",\"\", IF(DP12=1,0,IF(DN12<>0,500,DI12*$AE12/$AH12+DJ12/$AH12*5+DK12/$AH12*25+DL12*50+DM12*50)))","v":""},null,{"$f":"IF(C12<>\"\",C12,\"\")","v":""},null,null,null,null,null,null,null,null,{"$f":"IF($C12=\"\",\"\", IF(EA12=1,0,IF(DY12<>0,500,DT12*$AE12/$AH12+DU12/$AH12*5+DV12/$AH12*25+DW12*50+DX12*50)))","v":""},null,{"$f":"IF(C12<>\"\",C12,\"\")","v":""},null,null,null,null,null,null,null,null,{"$f":"IF($C12=\"\",\"\", IF(EL12=1,0,IF(EJ12<>0,500,EE12*$AE12/$AH12+EF12/$AH12*5+EG12/$AH12*25+EH12*50+EI12*50)))","v":""},null,{"$f":"IF(C12<>\"\",C12,\"\")","v":""},null,null,null,null,null,null,null,null,{"$f":"IF($C12=\"\",\"\", IF(EW12=1,0,IF(EU12<>0,500,EP12*$AE12/$AH12+EQ12/$AH12*5+ER12/$AH12*25+ES12*50+ET12*50)))","v":""},null,{"$f":"IF(C12<>\"\",C12,\"\")","v":""},null,null,null,null,null,null,null,null,{"$f":"IF($C12=\"\",\"\", IF(FH12=1,0,IF(FF12<>0,500,FA12*$AE12/$AH12+FB12/$AH12*5+FC12/$AH12*25+FD12*50+FE12*50)))","v":""},null,{"$f":"IF(C12<>\"\",C12,\"\")","v":""},null,null,null,null,null,null,null,null,{"$f":"IF($C12=\"\",\"\", IF(FS12=1,0,IF(FQ12<>0,500,FL12*$AE12/$AH12+FM12/$AH12*5+FN12/$AH12*25+FO12*50+FP12*50)))","v":""},null,{"$f":"IF(C12<>\"\",C12,\"\")","v":""},null,null,null,null,null,null,null,null,{"$f":"IF($C12=\"\",\"\", IF(GD12=1,0,IF(GB12<>0,500,FW12*$AE12/$AH12+FX12/$AH12*5+FY12/$AH12*25+FZ12*50+GA12*50)))","v":""},null,{"$f":"IF(C12<>\"\",C12,\"\")","v":""},null,null,null,null,null,null,null,null,{"$f":"IF($C12=\"\",\"\", IF(GO12=1,0,IF(GM12<>0,500,GH12*$AE12/$AH12+GI12/$AH12*5+GJ12/$AH12*25+GK12*50+GL12*50)))","v":""},null,{"$f":"IF(C12<>\"\",C12,\"\")","v":""},null,null,null,null,null,null,null,null,{"$f":"IF($C12=\"\",\"\", IF(GZ12=1,0,IF(GX12<>0,500,GS12*$AE12/$AH12+GT12/$AH12*5+GU12/$AH12*25+GV12*50+GW12*50)))","v":""},null,{"$f":"IF(C12<>\"\",C12,\"\")","v":""},null,null,null,null,null,null,null,null,{"$f":"IF($C12=\"\",\"\", IF(HK12=1,0,IF(HI12<>0,500,HD12*$AE12/$AH12+HE12/$AH12*5+HF12/$AH12*25+HG12*50+HH12*50)))","v":""},null,{"$f":"IF(C12<>\"\",C12,\"\")","v":""},null,null,null,null,null,null,null,null,{"$f":"IF($C12=\"\",\"\", IF(HV12=1,0,IF(HT12<>0,500,HO12*$AE12/$AH12+HP12/$AH12*5+HQ12/$AH12*25+HR12*50+HS12*50)))","v":""},null,{"$f":"IF(C12<>\"\",C12,\"\")","v":""},null,null,null,null,null,null,null,null,{"$f":"IF($C12=\"\",\"\", IF(IG12=1,0,IF(IE12<>0,500,HZ12*$AE12/$AH12+IA12/$AH12*5+IB12/$AH12*25+IC12*50+ID12*50)))","v":""}]
[null,{"$f":"IF(C13=0,\"\",ROW(C13)-4)","v":""},null,null,null,null,null,{"$f":"IF(C13=0,\"\",IF(OR(BB13=1,BC13<>0),BC13,\"-\"))","v":""},{"$f":"IF(C13=0,\"\",IF(OR(BM13=1,BN13<>0),BN13,\"-\"))","v":""},{"$f":"IF(C13=0,\"\",IF(OR(BX13=1,BY13<>0),BY13,\" -\"))","v":""},{"$f":"IF(C13=0,\"\",IF(OR(CJ13<>0,CI13=1),CJ13,\" -\"))","v":""},{"$f":"IF(C13=0,\"\",IF(OR(CU13<>0,CT13=1),CU13,\" -\"))","v":""},{"$f":"IF(C13=0,\"\",IF(OR(DF13<>0,DE13=1),DF13,\" -\"))","v":""},{"$f":"IF(C13=0,\"\",IF(OR(DQ13<>0,DP13=1),DQ13,\" -\"))","v":""},{"$f":"IF(C13=0,\"\",IF(OR(EB13<>0,EA13=1),EB13,\" -\"))","v":""},{"$f":"IF(C13=0,\"\",IF(OR(EM13<>0,EL13=1),EM13,\" -\"))","v":""},{"$f":"IF(C13=0,\"\",IF(OR(EX13<>0,EW13=1),EX13,\" -\"))","v":""},{"$f":"IF(C13=0,\"\",IF(OR(FI13<>0,FH13=1),FI13,\" -\"))","v":""},{"$f":"IF(C13=0,\"\",IF(OR(FT13<>0,FS13=1),FT13,\" -\"))","v":""},{"$f":"IF(C13=0,\"\",IF(OR(GE13<>0,GD13=1),GE13,\" -\"))","v":""},{"$f":"IF(C13=0,\"\",IF(OR(GP13<>0,GO13=1),GP13,\" -\"))","v":""},{"$f":"IF(C13=0,\"\",IF(OR(HA13<>0,GZ13=1),HA13,\" -\"))","v":""},{"$f":"IF(C13=0,\"\",IF(OR(HL13<>0,HK13=1),HL13,\" -\"))","v":""},{"$f":"IF(C13=0,\"\",IF(AJ13<>0,AJ13,\" -\"))","v":""},{"$f":"IF(C13=0,\"\",IF(OR(HW13<>0,HV13=1),HW13,\" -\"))","v":""},{"$f":"IF(C13=0,\"\",IF(OR(IH13<>0,IG13=1),IH13,\" -\"))","v":""},{"$f":"IF(C13=0,\"\",IF(AL13=1,\"DNF\",IF(AL13=2,\"DSQ\",IF(AM13<>1,\"~ \"&ROUND(SUM(H13:X13),3),ROUND(SUM(H13:X13),3)))))","v":""},null,null,{"$f":"IF(C13<>\"\",C13,\"\")","v":""},{"$f":"IF(AD13<>\"\",3,\"\")","v":""},null,null,{"$f":"IF(AD13<>\"\",(AF13/1000*AG13/1000)/2,\"\")","v":""},null,null,null,null,null,null,null,{"$f":"IF(C13=0,99999,IF(AL13>0,9999,SUM(H13:X13)-AN13))","v":99999},{"$f":"IF(C13=0,99999,IF(AL13=1,9999,SUM(Y13:Z13)))","v":99999},null,null,{"$f":"IF(C13<>\"\",C13,\"\")","v":""},null,null,null,null,null,null,null,null,{"$f":"IF($C13=\"\",\"\", IF(BB13=1,0,IF(AZ13<>0,500,AU13*$AE13/$AH13+AV13/$AH13*5+AW13/$AH13*25+AX13*50+AY13*50)))","v":""},null,{"$f":"IF(C13<>\"\",C13,\"\")","v":""},null,null,null,null,null,null,null,null,{"$f":"IF($C13=\"\",\"\", IF(BM13=1,0,IF(BK13<>0,500,BF13*$AE13/$AH13+BG13/$AH13*5+BH13/$AH13*25+BI13*50+BJ13*50)))","v":""},null,{"$f":"IF(C13<>\"\",C13,\"\")","v":""},null,null,null,null,null,null,null,null,{"$f":"IF($C13=\"\",\"\", IF(BX13=1,0,IF(BV13<>0,500,BQ13*$AE13/$AH13+BR13/$AH13*5+BS13/$AH13*25+BT13*50+BU13*50)))","v":""},null,{"$f":"IF(C13<>\"\",C13,\"\")","v":""},null,null,null,null,null,null,null,null,{"$f":"IF($C13=\"\",\"\", IF(CI13=1,0,IF(CG13<>0,500,CB13*$AE13/$AH13+CC13/$AH13*5+CD13/$AH13*25+CE13*50+CF13*50)))","v":""},null,{"$f":"IF(C13<>\"\",C13,\"\")","v":""},null,null,null,null,null,null,null,null,{"$f":"IF($C13=\"\",\"\", IF(CT13=1,0,IF(CR13<>0,500,CM13*$AE13/$AH13+CN13/$AH13*5+CO13/$AH13*25+CP13*50+CQ13*50)))","v":""},null,{"$f":"IF(C13<>\"\",C13,\"\")","v":""},null,null,null,null,null,null,null,null,{"$f":"IF($C13=\"\",\"\", IF(DE13=1,0,IF(DC13<>0,500,CX13*$AE13/$AH13+CY13/$AH13*5+CZ13/$AH13*25+DA13*50+DB13*50)))","v":""},null,{"$f":"IF(C13<>\"\",C13,\"\")","v":""},null,null,null,null,null,null,null,null,{"$f":"IF($C13=\"\",\"\", IF(DP13=1,0,IF(DN13<>0,500,DI13*$AE13/$AH13+DJ13/$AH13*5+DK13/$AH13*25+DL13*50+DM13*50)))","v":""},null,{"$f":"IF(C13<>\"\",C13,\"\")","v":""},null,null,null,null,null,null,null,null,{"$f":"IF($C13=\"\",\"\", IF(EA13=1,0,IF(DY13<>0,500,DT13*$AE13/$AH13+DU13/$AH13*5+DV13/$AH13*25+DW13*50+DX13*50)))","v":""},null,{"$f":"IF(C13<>\"\",C13,\"\")","v":""},null,null,null,null,null,null,null,null,{"$f":"IF($C13=\"\",\"\", IF(EL13=1,0,IF(EJ13<>0,500,EE13*$AE13/$AH13+EF13/$AH13*5+EG13/$AH13*25+EH13*50+EI13*50)))","v":""},null,{"$f":"IF(C13<>\"\",C13,\"\")","v":""},null,null,null,null,null,null,null,null,{"$f":"IF($C13=\"\",\"\", IF(EW13=1,0,IF(EU13<>0,500,EP13*$AE13/$AH13+EQ13/$AH13*5+ER13/$AH13*25+ES13*50+ET13*50)))","v":""},null,{"$f":"IF(C13<>\"\",C13,\"\")","v":""},null,null,null,null,null,null,null,null,{"$f":"IF($C13=\"\",\"\", IF(FH13=1,0,IF(FF13<>0,500,FA13*$AE13/$AH13+FB13/$AH13*5+FC13/$AH13*25+FD13*50+FE13*50)))","v":""},null,{"$f":"IF(C13<>\"\",C13,\"\")","v":""},null,null,null,null,null,null,null,null,{"$f":"IF($C13=\"\",\"\", IF(FS13=1,0,IF(FQ13<>0,500,FL13*$AE13/$AH13+FM13/$AH13*5+FN13/$AH13*25+FO13*50+FP13*50)))","v":""},null,{"$f":"IF(C13<>\"\",C13,\"\")","v":""},null,null,null,null,null,null,null,null,{"$f":"IF($C13=\"\",\"\", IF(GD13=1,0,IF(GB13<>0,500,FW13*$AE13/$AH13+FX13/$AH13*5+FY13/$AH13*25+FZ13*50+GA13*50)))","v":""},null,{"$f":"IF(C13<>\"\",C13,\"\")","v":""},null,null,null,null,null,null,null,null,{"$f":"IF($C13=\"\",\"\", IF(GO13=1,0,IF(GM13<>0,500,GH13*$AE13/$AH13+GI13/$AH13*5+GJ13/$AH13*25+GK13*50+GL13*50)))","v":""},null,{"$f":"IF(C13<>\"\",C13,\"\")","v":""},null,null,null,null,null,null,null,null,{"$f":"IF($C13=\"\",\"\", IF(GZ13=1,0,IF(GX13<>0,500,GS13*$AE13/$AH13+GT13/$AH13*5+GU13/$AH13*25+GV13*50+GW13*50)))","v":""},null,{"$f":"IF(C13<>\"\",C13,\"\")","v":""},null,null,null,null,null,null,null,null,{"$f":"IF($C13=\"\",\"\", IF(HK13=1,0,IF(HI13<>0,500,HD13*$AE13/$AH13+HE13/$AH13*5+HF13/$AH13*25+HG13*50+HH13*50)))","v":""},null,{"$f":"IF(C13<>\"\",C13,\"\")","v":""},null,null,null,null,null,null,null,null,{"$f":"IF($C13=\"\",\"\", IF(HV13=1,0,IF(HT13<>0,500,HO13*$AE13/$AH13+HP13/$AH13*5+HQ13/$AH13*25+HR13*50+HS13*50)))","v":""},null,{"$f":"IF(C13<>\"\",C13,\"\")","v":""},null,null,null,null,null,null,null,null,{"$f":"IF($C13=\"\",\"\", IF(IG13=1,0,IF(IE13<>0,500,HZ13*$AE13/$AH13+IA13/$AH13*5+IB13/$AH13*25+IC13*50+ID13*50)))","v":""}]
[null,{"$f":"IF(C14=0,\"\",ROW(C14)-4)","v":""},null,null,null,null,null,{"$f":"IF(C14=0,\"\",IF(OR(BB14=1,BC14<>0),BC14,\"-\"))","v":""},{"$f":"IF(C14=0,\"\",IF(OR(BM14=1,BN14<>0),BN14,\"-\"))","v":""},{"$f":"IF(C14=0,\"\",IF(OR(BX14=1,BY14<>0),BY14,\" -\"))","v":""},{"$f":"IF(C14=0,\"\",IF(OR(CJ14<>0,CI14=1),CJ14,\" -\"))","v":""},{"$f":"IF(C14=0,\"\",IF(OR(CU14<>0,CT14=1),CU14,\" -\"))","v":""},{"$f":"IF(C14=0,\"\",IF(OR(DF14<>0,DE14=1),DF14,\" -\"))","v":""},{"$f":"IF(C14=0,\"\",IF(OR(DQ14<>0,DP14=1),DQ14,\" -\"))","v":""},{"$f":"IF(C14=0,\"\",IF(OR(EB14<>0,EA14=1),EB14,\" -\"))","v":""},{"$f":"IF(C14=0,\"\",IF(OR(EM14<>0,EL14=1),EM14,\" -\"))","v":""},{"$f":"IF(C14=0,\"\",IF(OR(EX14<>0,EW14=1),EX14,\" -\"))","v":""},{"$f":"IF(C14=0,\"\",IF(OR(FI14<>0,FH14=1),FI14,\" -\"))","v":""},{"$f":"IF(C14=0,\"\",IF(OR(FT14<>0,FS14=1),FT14,\" -\"))","v":""},{"$f":"IF(C14=0,\"\",IF(OR(GE14<>0,GD14=1),GE14,\" -\"))","v":""},{"$f":"IF(C14=0,\"\",IF(OR(GP14<>0,GO14=1),GP14,\" -\"))","v":""},{"$f":"IF(C14=0,\"\",IF(OR(HA14<>0,GZ14=1),HA14,\" -\"))","v":""},{"$f":"IF(C14=0,\"\",IF(OR(HL14<>0,HK14=1),HL14,\" -\"))","v":""},{"$f":"IF(C14=0,\"\",IF(AJ14<>0,AJ14,\" -\"))","v":""},{"$f":"IF(C14=0,\"\",IF(OR(HW14<>0,HV14=1),HW14,\" -\"))","v":""},{"$f":"IF(C14=0,\"\",IF(OR(IH14<>0,IG14=1),IH14,\" -\"))","v":""},{"$f":"IF(C14=0,\"\",IF(AL14=1,\"DNF\",IF(AL14=2,\"DSQ\",IF(AM14<>1,\"~ \"&ROUND(SUM(H14:X14),3),ROUND(SUM(H14:X14),3)))))","v":""},null,null,{"$f":"IF(C14<>\"\",C14,\"\")","v":""},{"$f":"IF(AD14<>\"\",3,\"\")","v":""},null,null,{"$f":"IF(AD14<>\"\",(AF14/1000*AG14/1000)/2,\"\")","v":""},null,null,null,null,null,null,null,{"$f":"IF(C14=0,99999,IF(AL14>0,9999,SUM(H14:X14)-AN14))","v":99999},{"$f":"IF(C14=0,99999,IF(AL14=1,9999,SUM(Y14:Z14)))","v":99999},null,null,{"$f":"IF(C14<>\"\",C14,\"\")","v":""},null,null,null,null,null,null,null,null,{"$f":"IF($C14=\"\",\"\", IF(BB14=1,0,IF(AZ14<>0,500,AU14*$AE14/$AH14+AV14/$AH14*5+AW14/$AH14*25+AX14*50+AY14*50)))","v":""},null,{"$f":"IF(C14<>\"\",C14,\"\")","v":""},null,null,null,null,null,null,null,null,{"$f":"IF($C14=\"\",\"\", IF(BM14=1,0,IF(BK14<>0,500,BF14*$AE14/$AH14+BG14/$AH14*5+BH14/$AH14*25+BI14*50+BJ14*50)))","v":""},null,{"$f":"IF(C14<>\"\",C14,\"\")","v":""},null,null,null,null,null,null,null,null,{"$f":"IF($C14=\"\",\"\", IF(BX14=1,0,IF(BV14<>0,500,BQ14*$AE14/$AH14+BR14/$AH14*5+BS14/$AH14*25+BT14*50+BU14*50)))","v":""},null,{"$f":"IF(C14<>\"\",C14,\"\")","v":""},null,null,null,null,null,null,null,null,{"$f":"IF($C14=\"\",\"\", IF(CI14=1,0,IF(CG14<>0,500,CB14*$AE14/$AH14+CC14/$AH14*5+CD14/$AH14*25+CE14*50+CF14*50)))","v":""},null,{"$f":"IF(C14<>\"\",C14,\"\")","v":""},null,null,null,null,null,null,null,null,{"$f":"IF($C14=\"\",\"\", IF(CT14=1,0,IF(CR14<>0,500,CM14*$AE14/$AH14+CN14/$AH14*5+CO14/$AH14*25+CP14*50+CQ14*50)))","v":""},null,{"$f":"IF(C14<>\"\",C14,\"\")","v":""},null,null,null,null,null,null,null,null,{"$f":"IF($C14=\"\",\"\", IF(DE14=1,0,IF(DC14<>0,500,CX14*$AE14/$AH14+CY14/$AH14*5+CZ14/$AH14*25+DA14*50+DB14*50)))","v":""},null,{"$f":"IF(C14<>\"\",C14,\"\")","v":""},null,null,null,null,null,null,null,null,{"$f":"IF($C14=\"\",\"\", IF(DP14=1,0,IF(DN14<>0,500,DI14*$AE14/$AH14+DJ14/$AH14*5+DK14/$AH14*25+DL14*50+DM14*50)))","v":""},null,{"$f":"IF(C14<>\"\",C14,\"\")","v":""},null,null,null,null,null,null,null,null,{"$f":"IF($C14=\"\",\"\", IF(EA14=1,0,IF(DY14<>0,500,DT14*$AE14/$AH14+DU14/$AH14*5+DV14/$AH14*25+DW14*50+DX14*50)))","v":""},null,{"$f":"IF(C14<>\"\",C14,\"\")","v":""},null,null,null,null,null,null,null,null,{"$f":"IF($C14=\"\",\"\", IF(EL14=1,0,IF(EJ14<>0,500,EE14*$AE14/$AH14+EF14/$AH14*5+EG14/$AH14*25+EH14*50+EI14*50)))","v":""},null,{"$f":"IF(C14<>\"\",C14,\"\")","v":""},null,null,null,null,null,null,null,null,{"$f":"IF($C14=\"\",\"\", IF(EW14=1,0,IF(EU14<>0,500,EP14*$AE14/$AH14+EQ14/$AH14*5+ER14/$AH14*25+ES14*50+ET14*50)))","v":""},null,{"$f":"IF(C14<>\"\",C14,\"\")","v":""},null,null,null,null,null,null,null,null,{"$f":"IF($C14=\"\",\"\", IF(FH14=1,0,IF(FF14<>0,500,FA14*$AE14/$AH14+FB14/$AH14*5+FC14/$AH14*25+FD14*50+FE14*50)))","v":""},null,{"$f":"IF(C14<>\"\",C14,\"\")","v":""},null,null,null,null,null,null,null,null,{"$f":"IF($C14=\"\",\"\", IF(FS14=1,0,IF(FQ14<>0,500,FL14*$AE14/$AH14+FM14/$AH14*5+FN14/$AH14*25+FO14*50+FP14*50)))","v":""},null,{"$f":"IF(C14<>\"\",C14,\"\")","v":""},null,null,null,null,null,null,null,null,{"$f":"IF($C14=\"\",\"\", IF(GD14=1,0,IF(GB14<>0,500,FW14*$AE14/$AH14+FX14/$AH14*5+FY14/$AH14*25+FZ14*50+GA14*50)))","v":""},null,{"$f":"IF(C14<>\"\",C14,\"\")","v":""},null,null,null,null,null,null,null,null,{"$f":"IF($C14=\"\",\"\", IF(GO14=1,0,IF(GM14<>0,500,GH14*$AE14/$AH14+GI14/$AH14*5+GJ14/$AH14*25+GK14*50+GL14*50)))","v":""},null,{"$f":"IF(C14<>\"\",C14,\"\")","v":""},null,null,null,null,null,null,null,null,{"$f":"IF($C14=\"\",\"\", IF(GZ14=1,0,IF(GX14<>0,500,GS14*$AE14/$AH14+GT14/$AH14*5+GU14/$AH14*25+GV14*50+GW14*50)))","v":""},null,{"$f":"IF(C14<>\"\",C14,\"\")","v":""},null,null,null,null,null,null,null,null,{"$f":"IF($C14=\"\",\"\", IF(HK14=1,0,IF(HI14<>0,500,HD14*$AE14/$AH14+HE14/$AH14*5+HF14/$AH14*25+HG14*50+HH14*50)))","v":""},null,{"$f":"IF(C14<>\"\",C14,\"\")","v":""},null,null,null,null,null,null,null,null,{"$f":"IF($C14=\"\",\"\", IF(HV14=1,0,IF(HT14<>0,500,HO14*$AE14/$AH14+HP14/$AH14*5+HQ14/$AH14*25+HR14*50+HS14*50)))","v":""},null,{"$f":"IF(C14<>\"\",C14,\"\")","v":""},null,null,null,null,null,null,null,null,{"$f":"IF($C14=\"\",\"\", IF(IG14=1,0,IF(IE14<>0,500,HZ14*$AE14/$AH14+IA14/$AH14*5+IB14/$AH14*25+IC14*50+ID14*50)))","v":""}]
[null,{"$f":"IF(C15=0,\"\",ROW(C15)-4)","v":""},null,null,null,null,null,{"$f":"IF(C15=0,\"\",IF(OR(BB15=1,BC15<>0),BC15,\"-\"))","v":""},{"$f":"IF(C15=0,\"\",IF(OR(BM15=1,BN15<>0),BN15,\"-\"))","v":""},{"$f":"IF(C15=0,\"\",IF(OR(BX15=1,BY15<>0),BY15,\" -\"))","v":""},{"$f":"IF(C15=0,\"\",IF(OR(CJ15<>0,CI15=1),CJ15,\" -\"))","v":""},{"$f":"IF(C15=0,\"\",IF(OR(CU15<>0,CT15=1),CU15,\" -\"))","v":""},{"$f":"IF(C15=0,\"\",IF(OR(DF15<>0,DE15=1),DF15,\" -\"))","v":""},{"$f":"IF(C15=0,\"\",IF(OR(DQ15<>0,DP15=1),DQ15,\" -\"))","v":""},{"$f":"IF(C15=0,\"\",IF(OR(EB15<>0,EA15=1),EB15,\" -\"))","v":""},{"$f":"IF(C15=0,\"\",IF(OR(EM15<>0,EL15=1),EM15,\" -\"))","v":""},{"$f":"IF(C15=0,\"\",IF(OR(EX15<>0,EW15=1),EX15,\" -\"))","v":""},{"$f":"IF(C15=0,\"\",IF(OR(FI15<>0,FH15=1),FI15,\" -\"))","v":""},{"$f":"IF(C15=0,\"\",IF(OR(FT15<>0,FS15=1),FT15,\" -\"))","v":""},{"$f":"IF(C15=0,\"\",IF(OR(GE15<>0,GD15=1),GE15,\" -\"))","v":""},{"$f":"IF(C15=0,\"\",IF(OR(GP15<>0,GO15=1),GP15,\" -\"))","v":""},{"$f":"IF(C15=0,\"\",IF(OR(HA15<>0,GZ15=1),HA15,\" -\"))","v":""},{"$f":"IF(C15=0,\"\",IF(OR(HL15<>0,HK15=1),HL15,\" -\"))","v":""},{"$f":"IF(C15=0,\"\",IF(AJ15<>0,AJ15,\" -\"))","v":""},{"$f":"IF(C15=0,\"\",IF(OR(HW15<>0,HV15=1),HW15,\" -\"))","v":""},{"$f":"IF(C15=0,\"\",IF(OR(IH15<>0,IG15=1),IH15,\" -\"))","v":""},{"$f":"IF(C15=0,\"\",IF(AL15=1,\"DNF\",IF(AL15=2,\"DSQ\",IF(AM15<>1,\"~ \"&ROUND(SUM(H15:X15),3),ROUND(SUM(H15:X15),3)))))","v":""},null,null,{"$f":"IF(C15<>\"\",C15,\"\")","v":""},{"$f":"IF(AD15<>\"\",3,\"\")","v":""},null,null,{"$f":"IF(AD15<>\"\",(AF15/1000*AG15/1000)/2,\"\")","v":""},null,null,null,null,null,null,null,{"$f":"IF(C15=0,99999,IF(AL15>0,9999,SUM(H15:X15)-AN15))","v":99999},{"$f":"IF(C15=0,99999,IF(AL15=1,9999,SUM(Y15:Z15)))","v":99999},null,null,{"$f":"IF(C15<>\"\",C15,\"\")","v":""},null,null,null,null,null,null,null,null,{"$f":"IF($C15=\"\",\"\", IF(BB15=1,0,IF(AZ15<>0,500,AU15*$AE15/$AH15+AV15/$AH15*5+AW15/$AH15*25+AX15*50+AY15*50)))","v":""},null,{"$f":"IF(C15<>\"\",C15,\"\")","v":""},null,null,null,null,null,null,null,null,{"$f":"IF($C15=\"\",\"\", IF(BM15=1,0,IF(BK15<>0,500,BF15*$AE15/$AH15+BG15/$AH15*5+BH15/$AH15*25+BI15*50+BJ15*50)))","v":""},null,{"$f":"IF(C15<>\"\",C15,\"\")","v":""},null,null,null,null,null,null,null,null,{"$f":"IF($C15=\"\",\"\", IF(BX15=1,0,IF(BV15<>0,500,BQ15*$AE15/$AH15+BR15/$AH15*5+BS15/$AH15*25+BT15*50+BU15*50)))","v":""},null,{"$f":"IF(C15<>\"\",C15,\"\")","v":""},null,null,null,null,null,null,null,null,{"$f":"IF($C15=\"\",\"\", IF(CI15=1,0,IF(CG15<>0,500,CB15*$AE15/$AH15+CC15/$AH15*5+CD15/$AH15*25+CE15*50+CF15*50)))","v":""},null,{"$f":"IF(C15<>\"\",C15,\"\")","v":""},null,null,null,null,null,null,null,null,{"$f":"IF($C15=\"\",\"\", IF(CT15=1,0,IF(CR15<>0,500,CM15*$AE15/$AH15+CN15/$AH15*5+CO15/$AH15*25+CP15*50+CQ15*50)))","v":""},null,{"$f":"IF(C15<>\"\",C15,\"\")","v":""},null,null,null,null,null,null,null,null,{"$f":"IF($C15=\"\",\"\", IF(DE15=1,0,IF(DC15<>0,500,CX15*$AE15/$AH15+CY15/$AH15*5+CZ15/$AH15*25+DA15*50+DB15*50)))","v":""},null,{"$f":"IF(C15<>\"\",C15,\"\")","v":""},null,null,null,null,null,null,null,null,{"$f":"IF($C15=\"\",\"\", IF(DP15=1,0,IF(DN15<>0,500,DI15*$AE15/$AH15+DJ15/$AH15*5+DK15/$AH15*25+DL15*50+DM15*50)))","v":""},null,{"$f":"IF(C15<>\"\",C15,\"\")","v":""},null,null,null,null,null,null,null,null,{"$f":"IF($C15=\"\",\"\", IF(EA15=1,0,IF(DY15<>0,500,DT15*$AE15/$AH15+DU15/$AH15*5+DV15/$AH15*25+DW15*50+DX15*50)))","v":""},null,{"$f":"IF(C15<>\"\",C15,\"\")","v":""},null,null,null,null,null,null,null,null,{"$f":"IF($C15=\"\",\"\", IF(EL15=1,0,IF(EJ15<>0,500,EE15*$AE15/$AH15+EF15/$AH15*5+EG15/$AH15*25+EH15*50+EI15*50)))","v":""},null,{"$f":"IF(C15<>\"\",C15,\"\")","v":""},null,null,null,null,null,null,null,null,{"$f":"IF($C15=\"\",\"\", IF(EW15=1,0,IF(EU15<>0,500,EP15*$AE15/$AH15+EQ15/$AH15*5+ER15/$AH15*25+ES15*50+ET15*50)))","v":""},null,{"$f":"IF(C15<>\"\",C15,\"\")","v":""},null,null,null,null,null,null,null,null,{"$f":"IF($C15=\"\",\"\", IF(FH15=1,0,IF(FF15<>0,500,FA15*$AE15/$AH15+FB15/$AH15*5+FC15/$AH15*25+FD15*50+FE15*50)))","v":""},null,{"$f":"IF(C15<>\"\",C15,\"\")","v":""},null,null,null,null,null,null,null,null,{"$f":"IF($C15=\"\",\"\", IF(FS15=1,0,IF(FQ15<>0,500,FL15*$AE15/$AH15+FM15/$AH15*5+FN15/$AH15*25+FO15*50+FP15*50)))","v":""},null,{"$f":"IF(C15<>\"\",C15,\"\")","v":""},null,null,null,null,null,null,null,null,{"$f":"IF($C15=\"\",\"\", IF(GD15=1,0,IF(GB15<>0,500,FW15*$AE15/$AH15+FX15/$AH15*5+FY15/$AH15*25+FZ15*50+GA15*50)))","v":""},null,{"$f":"IF(C15<>\"\",C15,\"\")","v":""},null,null,null,null,null,null,null,null,{"$f":"IF($C15=\"\",\"\", IF(GO15=1,0,IF(GM15<>0,500,GH15*$AE15/$AH15+GI15/$AH15*5+GJ15/$AH15*25+GK15*50+GL15*50)))","v":""},null,{"$f":"IF(C15<>\"\",C15,\"\")","v":""},null,null,null,null,null,null,null,null,{"$f":"IF($C15=\"\",\"\", IF(GZ15=1,0,IF(GX15<>0,500,GS15*$AE15/$AH15+GT15/$AH15*5+GU15/$AH15*25+GV15*50+GW15*50)))","v":""},null,{"$f":"IF(C15<>\"\",C15,\"\")","v":""},null,null,null,null,null,null,null,null,{"$f":"IF($C15=\"\",\"\", IF(HK15=1,0,IF(HI15<>0,500,HD15*$AE15/$AH15+HE15/$AH15*5+HF15/$AH15*25+HG15*50+HH15*50)))","v":""},null,{"$f":"IF(C15<>\"\",C15,\"\")","v":""},null,null,null,null,null,null,null,null,{"$f":"IF($C15=\"\",\"\", IF(HV15=1,0,IF(HT15<>0,500,HO15*$AE15/$AH15+HP15/$AH15*5+HQ15/$AH15*25+HR15*50+HS15*50)))","v":""},null,{"$f":"IF(C15<>\"\",C15,\"\")","v":""},null,null,null,null,null,null,null,null,{"$f":"IF($C15=\"\",\"\", IF(IG15=1,0,IF(IE15<>0,500,HZ15*$AE15/$AH15+IA15/$AH15*5+IB15/$AH15*25+IC15*50+ID15*50)))","v":""}]
[null,{"$f":"IF(C16=0,\"\",ROW(C16)-4)","v":""},null,null,null,null,null,{"$f":"IF(C16=0,\"\",IF(OR(BB16=1,BC16<>0),BC16,\"-\"))","v":""},{"$f":"IF(C16=0,\"\",IF(OR(BM16=1,BN16<>0),BN16,\"-\"))","v":""},{"$f":"IF(C16=0,\"\",IF(OR(BX16=1,BY16<>0),BY16,\" -\"))","v":""},{"$f":"IF(C16=0,\"\",IF(OR(CJ16<>0,CI16=1),CJ16,\" -\"))","v":""},{"$f":"IF(C16=0,\"\",IF(OR(CU16<>0,CT16=1),CU16,\" -\"))","v":""},{"$f":"IF(C16=0,\"\",IF(OR(DF16<>0,DE16=1),DF16,\" -\"))","v":""},{"$f":"IF(C16=0,\"\",IF(OR(DQ16<>0,DP16=1),DQ16,\" -\"))","v":""},{"$f":"IF(C16=0,\"\",IF(OR(EB16<>0,EA16=1),EB16,\" -\"))","v":""},{"$f":"IF(C16=0,\"\",IF(OR(EM16<>0,EL16=1),EM16,\" -\"))","v":""},{"$f":"IF(C16=0,\"\",IF(OR(EX16<>0,EW16=1),EX16,\" -\"))","v":""},{"$f":"IF(C16=0,\"\",IF(OR(FI16<>0,FH16=1),FI16,\" -\"))","v":""},{"$f":"IF(C16=0,\"\",IF(OR(FT16<>0,FS16=1),FT16,\" -\"))","v":""},{"$f":"IF(C16=0,\"\",IF(OR(GE16<>0,GD16=1),GE16,\" -\"))","v":""},{"$f":"IF(C16=0,\"\",IF(OR(GP16<>0,GO16=1),GP16,\" -\"))","v":""},{"$f":"IF(C16=0,\"\",IF(OR(HA16<>0,GZ16=1),HA16,\" -\"))","v":""},{"$f":"IF(C16=0,\"\",IF(OR(HL16<>0,HK16=1),HL16,\" -\"))","v":""},{"$f":"IF(C16=0,\"\",IF(AJ16<>0,AJ16,\" -\"))","v":""},{"$f":"IF(C16=0,\"\",IF(OR(HW16<>0,HV16=1),HW16,\" -\"))","v":""},{"$f":"IF(C16=0,\"\",IF(OR(IH16<>0,IG16=1),IH16,\" -\"))","v":""},{"$f":"IF(C16=0,\"\",IF(AL16=1,\"DNF\",IF(AL16=2,\"DSQ\",IF(AM16<>1,\"~ \"&ROUND(SUM(H16:X16),3),ROUND(SUM(H16:X16),3)))))","v":""},null,null,{"$f":"IF(C16<>\"\",C16,\"\")","v":""},{"$f":"IF(AD16<>\"\",3,\"\")","v":""},null,null,{"$f":"IF(AD16<>\"\",(AF16/1000*AG16/1000)/2,\"\")","v":""},null,null,null,null,null,null,null,{"$f":"IF(C16=0,99999,IF(AL16>0,9999,SUM(H16:X16)-AN16))","v":99999},{"$f":"IF(C16=0,99999,IF(AL16=1,9999,SUM(Y16:Z16)))","v":99999},null,null,{"$f":"IF(C16<>\"\",C16,\"\")","v":""},null,null,null,null,null,null,null,null,{"$f":"IF($C16=\"\",\"\", IF(BB16=1,0,IF(AZ16<>0,500,AU16*$AE16/$AH16+AV16/$AH16*5+AW16/$AH16*25+AX16*50+AY16*50)))","v":""},null,{"$f":"IF(C16<>\"\",C16,\"\")","v":""},null,null,null,null,null,null,null,null,{"$f":"IF($C16=\"\",\"\", IF(BM16=1,0,IF(BK16<>0,500,BF16*$AE16/$AH16+BG16/$AH16*5+BH16/$AH16*25+BI16*50+BJ16*50)))","v":""},null,{"$f":"IF(C16<>\"\",C16,\"\")","v":""},null,null,null,null,null,null,null,null,{"$f":"IF($C16=\"\",\"\", IF(BX16=1,0,IF(BV16<>0,500,BQ16*$AE16/$AH16+BR16/$AH16*5+BS16/$AH16*25+BT16*50+BU16*50)))","v":""},null,{"$f":"IF(C16<>\"\",C16,\"\")","v":""},null,null,null,null,null,null,null,null,{"$f":"IF($C16=\"\",\"\", IF(CI16=1,0,IF(CG16<>0,500,CB16*$AE16/$AH16+CC16/$AH16*5+CD16/$AH16*25+CE16*50+CF16*50)))","v":""},null,{"$f":"IF(C16<>\"\",C16,\"\")","v":""},null,null,null,null,null,null,null,null,{"$f":"IF($C16=\"\",\"\", IF(CT16=1,0,IF(CR16<>0,500,CM16*$AE16/$AH16+CN16/$AH16*5+CO16/$AH16*25+CP16*50+CQ16*50)))","v":""},null,{"$f":"IF(C16<>\"\",C16,\"\")","v":""},null,null,null,null,null,null,null,null,{"$f":"IF($C16=\"\",\"\", IF(DE16=1,0,IF(DC16<>0,500,CX16*$AE16/$AH16+CY16/$AH16*5+CZ16/$AH16*25+DA16*50+DB16*50)))","v":""},null,{"$f":"IF(C16<>\"\",C16,\"\")","v":""},null,null,null,null,null,null,null,null,{"$f":"IF($C16=\"\",\"\", IF(DP16=1,0,IF(DN16<>0,500,DI16*$AE16/$AH16+DJ16/$AH16*5+DK16/$AH16*25+DL16*50+DM16*50)))","v":""},null,{"$f":"IF(C16<>\"\",C16,\"\")","v":""},null,null,null,null,null,null,null,null,{"$f":"IF($C16=\"\",\"\", IF(EA16=1,0,IF(DY16<>0,500,DT16*$AE16/$AH16+DU16/$AH16*5+DV16/$AH16*25+DW16*50+DX16*50)))","v":""},null,{"$f":"IF(C16<>\"\",C16,\"\")","v":""},null,null,null,null,null,null,null,null,{"$f":"IF($C16=\"\",\"\", IF(EL16=1,0,IF(EJ16<>0,500,EE16*$AE16/$AH16+EF16/$AH16*5+EG16/$AH16*25+EH16*50+EI16*50)))","v":""},null,{"$f":"IF(C16<>\"\",C16,\"\")","v":""},null,null,null,null,null,null,null,null,{"$f":"IF($C16=\"\",\"\", IF(EW16=1,0,IF(EU16<>0,500,EP16*$AE16/$AH16+EQ16/$AH16*5+ER16/$AH16*25+ES16*50+ET16*50)))","v":""},null,{"$f":"IF(C16<>\"\",C16,\"\")","v":""},null,null,null,null,null,null,null,null,{"$f":"IF($C16=\"\",\"\", IF(FH16=1,0,IF(FF16<>0,500,FA16*$AE16/$AH16+FB16/$AH16*5+FC16/$AH16*25+FD16*50+FE16*50)))","v":""},null,{"$f":"IF(C16<>\"\",C16,\"\")","v":""},null,null,null,null,null,null,null,null,{"$f":"IF($C16=\"\",\"\", IF(FS16=1,0,IF(FQ16<>0,500,FL16*$AE16/$AH16+FM16/$AH16*5+FN16/$AH16*25+FO16*50+FP16*50)))","v":""},null,{"$f":"IF(C16<>\"\",C16,\"\")","v":""},null,null,null,null,null,null,null,null,{"$f":"IF($C16=\"\",\"\", IF(GD16=1,0,IF(GB16<>0,500,FW16*$AE16/$AH16+FX16/$AH16*5+FY16/$AH16*25+FZ16*50+GA16*50)))","v":""},null,{"$f":"IF(C16<>\"\",C16,\"\")","v":""},null,null,null,null,null,null,null,null,{"$f":"IF($C16=\"\",\"\", IF(GO16=1,0,IF(GM16<>0,500,GH16*$AE16/$AH16+GI16/$AH16*5+GJ16/$AH16*25+GK16*50+GL16*50)))","v":""},null,{"$f":"IF(C16<>\"\",C16,\"\")","v":""},null,null,null,null,null,null,null,null,{"$f":"IF($C16=\"\",\"\", IF(GZ16=1,0,IF(GX16<>0,500,GS16*$AE16/$AH16+GT16/$AH16*5+GU16/$AH16*25+GV16*50+GW16*50)))","v":""},null,{"$f":"IF(C16<>\"\",C16,\"\")","v":""},null,null,null,null,null,null,null,null,{"$f":"IF($C16=\"\",\"\", IF(HK16=1,0,IF(HI16<>0,500,HD16*$AE16/$AH16+HE16/$AH16*5+HF16/$AH16*25+HG16*50+HH16*50)))","v":""},null,{"$f":"IF(C16<>\"\",C16,\"\")","v":""},null,null,null,null,null,null,null,null,{"$f":"IF($C16=\"\",\"\", IF(HV16=1,0,IF(HT16<>0,500,HO16*$AE16/$AH16+HP16/$AH16*5+HQ16/$AH16*25+HR16*50+HS16*50)))","v":""},null,{"$f":"IF(C16<>\"\",C16,\"\")","v":""},null,null,null,null,null,null,null,null,{"$f":"IF($C16=\"\",\"\", IF(IG16=1,0,IF(IE16<>0,500,HZ16*$AE16/$AH16+IA16/$AH16*5+IB16/$AH16*25+IC16*50+ID16*50)))","v":""}]
[null,{"$f":"IF(C17=0,\"\",ROW(C17)-4)","v":""},null,null,null,null,null,{"$f":"IF(C17=0,\"\",IF(OR(BB17=1,BC17<>0),BC17,\"-\"))","v":""},{"$f":"IF(C17=0,\"\",IF(OR(BM17=1,BN17<>0),BN17,\"-\"))","v":""},{"$f":"IF(C17=0,\"\",IF(OR(BX17=1,BY17<>0),BY17,\" -\"))","v":""},{"$f":"IF(C17=0,\"\",IF(OR(CJ17<>0,CI17=1),CJ17,\" -\"))","v":""},{"$f":"IF(C17=0,\"\",IF(OR(CU17<>0,CT17=1),CU17,\" -\"))","v":""},{"$f":"IF(C17=0,\"\",IF(OR(DF17<>0,DE17=1),DF17,\" -\"))","v":""},{"$f":"IF(C17=0,\"\",IF(OR(DQ17<>0,DP17=1),DQ17,\" -\"))","v":""},{"$f":"IF(C17=0,\"\",IF(OR(EB17<>0,EA17=1),EB17,\" -\"))","v":""},{"$f":"IF(C17=0,\"\",IF(OR(EM17<>0,EL17=1),EM17,\" -\"))","v":""},{"$f":"IF(C17=0,\"\",IF(OR(EX17<>0,EW17=1),EX17,\" -\"))","v":""},{"$f":"IF(C17=0,\"\",IF(OR(FI17<>0,FH17=1),FI17,\" -\"))","v":""},{"$f":"IF(C17=0,\"\",IF(OR(FT17<>0,FS17=1),FT17,\" -\"))","v":""},{"$f":"IF(C17=0,\"\",IF(OR(GE17<>0,GD17=1),GE17,\" -\"))","v":""},{"$f":"IF(C17=0,\"\",IF(OR(GP17<>0,GO17=1),GP17,\" -\"))","v":""},{"$f":"IF(C17=0,\"\",IF(OR(HA17<>0,GZ17=1),HA17,\" -\"))","v":""},{"$f":"IF(C17=0,\"\",IF(OR(HL17<>0,HK17=1),HL17,\" -\"))","v":""},{"$f":"IF(C17=0,\"\",IF(AJ17<>0,AJ17,\" -\"))","v":""},{"$f":"IF(C17=0,\"\",IF(OR(HW17<>0,HV17=1),HW17,\" -\"))","v":""},{"$f":"IF(C17=0,\"\",IF(OR(IH17<>0,IG17=1),IH17,\" -\"))","v":""},{"$f":"IF(C17=0,\"\",IF(AL17=1,\"DNF\",IF(AL17=2,\"DSQ\",IF(AM17<>1,\"~ \"&ROUND(SUM(H17:X17),3),ROUND(SUM(H17:X17),3)))))","v":""},null,null,{"$f":"IF(C17<>\"\",C17,\"\")","v":""},{"$f":"IF(AD17<>\"\",3,\"\")","v":""},null,null,{"$f":"IF(AD17<>\"\",(AF17/1000*AG17/1000)/2,\"\")","v":""},null,null,null,null,null,null,null,{"$f":"IF(C17=0,99999,IF(AL17>0,9999,SUM(H17:X17)-AN17))","v":99999},{"$f":"IF(C17=0,99999,IF(AL17=1,9999,SUM(Y17:Z17)))","v":99999},null,null,{"$f":"IF(C17<>\"\",C17,\"\")","v":""},null,null,null,null,null,null,null,null,{"$f":"IF($C17=\"\",\"\", IF(BB17=1,0,IF(AZ17<>0,500,AU17*$AE17/$AH17+AV17/$AH17*5+AW17/$AH17*25+AX17*50+AY17*50)))","v":""},null,{"$f":"IF(C17<>\"\",C17,\"\")","v":""},null,null,null,null,null,null,null,null,{"$f":"IF($C17=\"\",\"\", IF(BM17=1,0,IF(BK17<>0,500,BF17*$AE17/$AH17+BG17/$AH17*5+BH17/$AH17*25+BI17*50+BJ17*50)))","v":""},null,{"$f":"IF(C17<>\"\",C17,\"\")","v":""},null,null,null,null,null,null,null,null,{"$f":"IF($C17=\"\",\"\", IF(BX17=1,0,IF(BV17<>0,500,BQ17*$AE17/$AH17+BR17/$AH17*5+BS17/$AH17*25+BT17*50+BU17*50)))","v":""},null,{"$f":"IF(C17<>\"\",C17,\"\")","v":""},null,null,null,null,null,null,null,null,{"$f":"IF($C17=\"\",\"\", IF(CI17=1,0,IF(CG17<>0,500,CB17*$AE17/$AH17+CC17/$AH17*5+CD17/$AH17*25+CE17*50+CF17*50)))","v":""},null,{"$f":"IF(C17<>\"\",C17,\"\")","v":""},null,null,null,null,null,null,null,null,{"$f":"IF($C17=\"\",\"\", IF(CT17=1,0,IF(CR17<>0,500,CM17*$AE17/$AH17+CN17/$AH17*5+CO17/$AH17*25+CP17*50+CQ17*50)))","v":""},null,{"$f":"IF(C17<>\"\",C17,\"\")","v":""},null,null,null,null,null,null,null,null,{"$f":"IF($C17=\"\",\"\", IF(DE17=1,0,IF(DC17<>0,500,CX17*$AE17/$AH17+CY17/$AH17*5+CZ17/$AH17*25+DA17*50+DB17*50)))","v":""},null,{"$f":"IF(C17<>\"\",C17,\"\")","v":""},null,null,null,null,null,null,null,null,{"$f":"IF($C17=\"\",\"\", IF(DP17=1,0,IF(DN17<>0,500,DI17*$AE17/$AH17+DJ17/$AH17*5+DK17/$AH17*25+DL17*50+DM17*50)))","v":""},null,{"$f":"IF(C17<>\"\",C17,\"\")","v":""},null,null,null,null,null,null,null,null,{"$f":"IF($C17=\"\",\"\", IF(EA17=1,0,IF(DY17<>0,500,DT17*$AE17/$AH17+DU17/$AH17*5+DV17/$AH17*25+DW17*50+DX17*50)))","v":""},null,{"$f":"IF(C17<>\"\",C17,\"\")","v":""},null,null,null,null,null,null,null,null,{"$f":"IF($C17=\"\",\"\", IF(EL17=1,0,IF(EJ17<>0,500,EE17*$AE17/$AH17+EF17/$AH17*5+EG17/$AH17*25+EH17*50+EI17*50)))","v":""},null,{"$f":"IF(C17<>\"\",C17,\"\")","v":""},null,null,null,null,null,null,null,null,{"$f":"IF($C17=\"\",\"\", IF(EW17=1,0,IF(EU17<>0,500,EP17*$AE17/$AH17+EQ17/$AH17*5+ER17/$AH17*25+ES17*50+ET17*50)))","v":""},null,{"$f":"IF(C17<>\"\",C17,\"\")","v":""},null,null,null,null,null,null,null,null,{"$f":"IF($C17=\"\",\"\", IF(FH17=1,0,IF(FF17<>0,500,FA17*$AE17/$AH17+FB17/$AH17*5+FC17/$AH17*25+FD17*50+FE17*50)))","v":""},null,{"$f":"IF(C17<>\"\",C17,\"\")","v":""},null,null,null,null,null,null,null,null,{"$f":"IF($C17=\"\",\"\", IF(FS17=1,0,IF(FQ17<>0,500,FL17*$AE17/$AH17+FM17/$AH17*5+FN17/$AH17*25+FO17*50+FP17*50)))","v":""},null,{"$f":"IF(C17<>\"\",C17,\"\")","v":""},null,null,null,null,null,null,null,null,{"$f":"IF($C17=\"\",\"\", IF(GD17=1,0,IF(GB17<>0,500,FW17*$AE17/$AH17+FX17/$AH17*5+FY17/$AH17*25+FZ17*50+GA17*50)))","v":""},null,{"$f":"IF(C17<>\"\",C17,\"\")","v":""},null,null,null,null,null,null,null,null,{"$f":"IF($C17=\"\",\"\", IF(GO17=1,0,IF(GM17<>0,500,GH17*$AE17/$AH17+GI17/$AH17*5+GJ17/$AH17*25+GK17*50+GL17*50)))","v":""},null,{"$f":"IF(C17<>\"\",C17,\"\")","v":""},null,null,null,null,null,null,null,null,{"$f":"IF($C17=\"\",\"\", IF(GZ17=1,0,IF(GX17<>0,500,GS17*$AE17/$AH17+GT17/$AH17*5+GU17/$AH17*25+GV17*50+GW17*50)))","v":""},null,{"$f":"IF(C17<>\"\",C17,\"\")","v":""},null,null,null,null,null,null,null,null,{"$f":"IF($C17=\"\",\"\", IF(HK17=1,0,IF(HI17<>0,500,HD17*$AE17/$AH17+HE17/$AH17*5+HF17/$AH17*25+HG17*50+HH17*50)))","v":""},null,{"$f":"IF(C17<>\"\",C17,\"\")","v":""},null,null,null,null,null,null,null,null,{"$f":"IF($C17=\"\",\"\", IF(HV17=1,0,IF(HT17<>0,500,HO17*$AE17/$AH17+HP17/$AH17*5+HQ17/$AH17*25+HR17*50+HS17*50)))","v":""},null,{"$f":"IF(C17<>\"\",C17,\"\")","v":""},null,null,null,null,null,null,null,null,{"$f":"IF($C17=\"\",\"\", IF(IG17=1,0,IF(IE17<>0,500,HZ17*$AE17/$AH17+IA17/$AH17*5+IB17/$AH17*25+IC17*50+ID17*50)))","v":""}]
[null,{"$f":"IF(C18=0,\"\",ROW(C18)-4)","v":""},null,null,null,null,null,{"$f":"IF(C18=0,\"\",IF(OR(BB18=1,BC18<>0),BC18,\"-\"))","v":""},{"$f":"IF(C18=0,\"\",IF(OR(BM18=1,BN18<>0),BN18,\"-\"))","v":""},{"$f":"IF(C18=0,\"\",IF(OR(BX18=1,BY18<>0),BY18,\" -\"))","v":""},{"$f":"IF(C18=0,\"\",IF(OR(CJ18<>0,CI18=1),CJ18,\" -\"))","v":""},{"$f":"IF(C18=0,\"\",IF(OR(CU18<>0,CT18=1),CU18,\" -\"))","v":""},{"$f":"IF(C18=0,\"\",IF(OR(DF18<>0,DE18=1),DF18,\" -\"))","v":""},{"$f":"IF(C18=0,\"\",IF(OR(DQ18<>0,DP18=1),DQ18,\" -\"))","v":""},{"$f":"IF(C18=0,\"\",IF(OR(EB18<>0,EA18=1),EB18,\" -\"))","v":""},{"$f":"IF(C18=0,\"\",IF(OR(EM18<>0,EL18=1),EM18,\" -\"))","v":""},{"$f":"IF(C18=0,\"\",IF(OR(EX18<>0,EW18=1),EX18,\" -\"))","v":""},{"$f":"IF(C18=0,\"\",IF(OR(FI18<>0,FH18=1),FI18,\" -\"))","v":""},{"$f":"IF(C18=0,\"\",IF(OR(FT18<>0,FS18=1),FT18,\" -\"))","v":""},{"$f":"IF(C18=0,\"\",IF(OR(GE18<>0,GD18=1),GE18,\" -\"))","v":""},{"$f":"IF(C18=0,\"\",IF(OR(GP18<>0,GO18=1),GP18,\" -\"))","v":""},{"$f":"IF(C18=0,\"\",IF(OR(HA18<>0,GZ18=1),HA18,\" -\"))","v":""},{"$f":"IF(C18=0,\"\",IF(OR(HL18<>0,HK18=1),HL18,\" -\"))","v":""},{"$f":"IF(C18=0,\"\",IF(AJ18<>0,AJ18,\" -\"))","v":""},{"$f":"IF(C18=0,\"\",IF(OR(HW18<>0,HV18=1),HW18,\" -\"))","v":""},{"$f":"IF(C18=0,\"\",IF(OR(IH18<>0,IG18=1),IH18,\" -\"))","v":""},{"$f":"IF(C18=0,\"\",IF(AL18=1,\"DNF\",IF(AL18=2,\"DSQ\",IF(AM18<>1,\"~ \"&ROUND(SUM(H18:X18),3),ROUND(SUM(H18:X18),3)))))","v":""},null,null,{"$f":"IF(C18<>\"\",C18,\"\")","v":""},{"$f":"IF(AD18<>\"\",3,\"\")","v":""},null,null,{"$f":"IF(AD18<>\"\",(AF18/1000*AG18/1000)/2,\"\")","v":""},null,null,null,null,null,null,null,{"$f":"IF(C18=0,99999,IF(AL18>0,9999,SUM(H18:X18)-AN18))","v":99999},{"$f":"IF(C18=0,99999,IF(AL18=1,9999,SUM(Y18:Z18)))","v":99999},null,null,{"$f":"IF(C18<>\"\",C18,\"\")","v":""},null,null,null,null,null,null,null,null,{"$f":"IF($C18=\"\",\"\", IF(BB18=1,0,IF(AZ18<>0,500,AU18*$AE18/$AH18+AV18/$AH18*5+AW18/$AH18*25+AX18*50+AY18*50)))","v":""},null,{"$f":"IF(C18<>\"\",C18,\"\")","v":""},null,null,null,null,null,null,null,null,{"$f":"IF($C18=\"\",\"\", IF(BM18=1,0,IF(BK18<>0,500,BF18*$AE18/$AH18+BG18/$AH18*5+BH18/$AH18*25+BI18*50+BJ18*50)))","v":""},null,{"$f":"IF(C18<>\"\",C18,\"\")","v":""},null,null,null,null,null,null,null,null,{"$f":"IF($C18=\"\",\"\", IF(BX18=1,0,IF(BV18<>0,500,BQ18*$AE18/$AH18+BR18/$AH18*5+BS18/$AH18*25+BT18*50+BU18*50)))","v":""},null,{"$f":"IF(C18<>\"\",C18,\"\")","v":""},null,null,null,null,null,null,null,null,{"$f":"IF($C18=\"\",\"\", IF(CI18=1,0,IF(CG18<>0,500,CB18*$AE18/$AH18+CC18/$AH18*5+CD18/$AH18*25+CE18*50+CF18*50)))","v":""},null,{"$f":"IF(C18<>\"\",C18,\"\")","v":""},null,null,null,null,null,null,null,null,{"$f":"IF($C18=\"\",\"\", IF(CT18=1,0,IF(CR18<>0,500,CM18*$AE18/$AH18+CN18/$AH18*5+CO18/$AH18*25+CP18*50+CQ18*50)))","v":""},null,{"$f":"IF(C18<>\"\",C18,\"\")","v":""},null,null,null,null,null,null,null,null,{"$f":"IF($C18=\"\",\"\", IF(DE18=1,0,IF(DC18<>0,500,CX18*$AE18/$AH18+CY18/$AH18*5+CZ18/$AH18*25+DA18*50+DB18*50)))","v":""},null,{"$f":"IF(C18<>\"\",C18,\"\")","v":""},null,null,null,null,null,null,null,null,{"$f":"IF($C18=\"\",\"\", IF(DP18=1,0,IF(DN18<>0,500,DI18*$AE18/$AH18+DJ18/$AH18*5+DK18/$AH18*25+DL18*50+DM18*50)))","v":""},null,{"$f":"IF(C18<>\"\",C18,\"\")","v":""},null,null,null,null,null,null,null,null,{"$f":"IF($C18=\"\",\"\", IF(EA18=1,0,IF(DY18<>0,500,DT18*$AE18/$AH18+DU18/$AH18*5+DV18/$AH18*25+DW18*50+DX18*50)))","v":""},null,{"$f":"IF(C18<>\"\",C18,\"\")","v":""},null,null,null,null,null,null,null,null,{"$f":"IF($C18=\"\",\"\", IF(EL18=1,0,IF(EJ18<>0,500,EE18*$AE18/$AH18+EF18/$AH18*5+EG18/$AH18*25+EH18*50+EI18*50)))","v":""},null,{"$f":"IF(C18<>\"\",C18,\"\")","v":""},null,null,null,null,null,null,null,null,{"$f":"IF($C18=\"\",\"\", IF(EW18=1,0,IF(EU18<>0,500,EP18*$AE18/$AH18+EQ18/$AH18*5+ER18/$AH18*25+ES18*50+ET18*50)))","v":""},null,{"$f":"IF(C18<>\"\",C18,\"\")","v":""},null,null,null,null,null,null,null,null,{"$f":"IF($C18=\"\",\"\", IF(FH18=1,0,IF(FF18<>0,500,FA18*$AE18/$AH18+FB18/$AH18*5+FC18/$AH18*25+FD18*50+FE18*50)))","v":""},null,{"$f":"IF(C18<>\"\",C18,\"\")","v":""},null,null,null,null,null,null,null,null,{"$f":"IF($C18=\"\",\"\", IF(FS18=1,0,IF(FQ18<>0,500,FL18*$AE18/$AH18+FM18/$AH18*5+FN18/$AH18*25+FO18*50+FP18*50)))","v":""},null,{"$f":"IF(C18<>\"\",C18,\"\")","v":""},null,null,null,null,null,null,null,null,{"$f":"IF($C18=\"\",\"\", IF(GD18=1,0,IF(GB18<>0,500,FW18*$AE18/$AH18+FX18/$AH18*5+FY18/$AH18*25+FZ18*50+GA18*50)))","v":""},null,{"$f":"IF(C18<>\"\",C18,\"\")","v":""},null,null,null,null,null,null,null,null,{"$f":"IF($C18=\"\",\"\", IF(GO18=1,0,IF(GM18<>0,500,GH18*$AE18/$AH18+GI18/$AH18*5+GJ18/$AH18*25+GK18*50+GL18*50)))","v":""},null,{"$f":"IF(C18<>\"\",C18,\"\")","v":""},null,null,null,null,null,null,null,null,{"$f":"IF($C18=\"\",\"\", IF(GZ18=1,0,IF(GX18<>0,500,GS18*$AE18/$AH18+GT18/$AH18*5+GU18/$AH18*25+GV18*50+GW18*50)))","v":""},null,{"$f":"IF(C18<>\"\",C18,\"\")","v":""},null,null,null,null,null,null,null,null,{"$f":"IF($C18=\"\",\"\", IF(HK18=1,0,IF(HI18<>0,500,HD18*$AE18/$AH18+HE18/$AH18*5+HF18/$AH18*25+HG18*50+HH18*50)))","v":""},null,{"$f":"IF(C18<>\"\",C18,\"\")","v":""},null,null,null,null,null,null,null,null,{"$f":"IF($C18=\"\",\"\", IF(HV18=1,0,IF(HT18<>0,500,HO18*$AE18/$AH18+HP18/$AH18*5+HQ18/$AH18*25+HR18*50+HS18*50)))","v":""},null,{"$f":"IF(C18<>\"\",C18,\"\")","v":""},null,null,null,null,null,null,null,null,{"$f":"IF($C18=\"\",\"\", IF(IG18=1,0,IF(IE18<>0,500,HZ18*$AE18/$AH18+IA18/$AH18*5+IB18/$AH18*25+IC18*50+ID18*50)))","v":""}]
[null,{"$f":"IF(C19=0,\"\",ROW(C19)-4)","v":""},null,null,null,null,null,{"$f":"IF(C19=0,\"\",IF(OR(BB19=1,BC19<>0),BC19,\"-\"))","v":""},{"$f":"IF(C19=0,\"\",IF(OR(BM19=1,BN19<>0),BN19,\"-\"))","v":""},{"$f":"IF(C19=0,\"\",IF(OR(BX19=1,BY19<>0),BY19,\" -\"))","v":""},{"$f":"IF(C19=0,\"\",IF(OR(CJ19<>0,CI19=1),CJ19,\" -\"))","v":""},{"$f":"IF(C19=0,\"\",IF(OR(CU19<>0,CT19=1),CU19,\" -\"))","v":""},{"$f":"IF(C19=0,\"\",IF(OR(DF19<>0,DE19=1),DF19,\" -\"))","v":""},{"$f":"IF(C19=0,\"\",IF(OR(DQ19<>0,DP19=1),DQ19,\" -\"))","v":""},{"$f":"IF(C19=0,\"\",IF(OR(EB19<>0,EA19=1),EB19,\" -\"))","v":""},{"$f":"IF(C19=0,\"\",IF(OR(EM19<>0,EL19=1),EM19,\" -\"))","v":""},{"$f":"IF(C19=0,\"\",IF(OR(EX19<>0,EW19=1),EX19,\" -\"))","v":""},{"$f":"IF(C19=0,\"\",IF(OR(FI19<>0,FH19=1),FI19,\" -\"))","v":""},{"$f":"IF(C19=0,\"\",IF(OR(FT19<>0,FS19=1),FT19,\" -\"))","v":""},{"$f":"IF(C19=0,\"\",IF(OR(GE19<>0,GD19=1),GE19,\" -\"))","v":""},{"$f":"IF(C19=0,\"\",IF(OR(GP19<>0,GO19=1),GP19,\" -\"))","v":""},{"$f":"IF(C19=0,\"\",IF(OR(HA19<>0,GZ19=1),HA19,\" -\"))","v":""},{"$f":"IF(C19=0,\"\",IF(OR(HL19<>0,HK19=1),HL19,\" -\"))","v":""},{"$f":"IF(C19=0,\"\",IF(AJ19<>0,AJ19,\" -\"))","v":""},{"$f":"IF(C19=0,\"\",IF(OR(HW19<>0,HV19=1),HW19,\" -\"))","v":""},{"$f":"IF(C19=0,\"\",IF(OR(IH19<>0,IG19=1),IH19,\" -\"))","v":""},{"$f":"IF(C19=0,\"\",IF(AL19=1,\"DNF\",IF(AL19=2,\"DSQ\",IF(AM19<>1,\"~ \"&ROUND(SUM(H19:X19),3),ROUND(SUM(H19:X19),3)))))","v":""},null,null,{"$f":"IF(C19<>\"\",C19,\"\")","v":""},{"$f":"IF(AD19<>\"\",3,\"\")","v":""},null,null,{"$f":"IF(AD19<>\"\",(AF19/1000*AG19/1000)/2,\"\")","v":""},null,null,null,null,null,null,null,{"$f":"IF(C19=0,99999,IF(AL19>0,9999,SUM(H19:X19)-AN19))","v":99999},{"$f":"IF(C19=0,99999,IF(AL19=1,9999,SUM(Y19:Z19)))","v":99999},null,null,{"$f":"IF(C19<>\"\",C19,\"\")","v":""},null,null,null,null,null,null,null,null,{"$f":"IF($C19=\"\",\"\", IF(BB19=1,0,IF(AZ19<>0,500,AU19*$AE19/$AH19+AV19/$AH19*5+AW19/$AH19*25+AX19*50+AY19*50)))","v":""},null,{"$f":"IF(C19<>\"\",C19,\"\")","v":""},null,null,null,null,null,null,null,null,{"$f":"IF($C19=\"\",\"\", IF(BM19=1,0,IF(BK19<>0,500,BF19*$AE19/$AH19+BG19/$AH19*5+BH19/$AH19*25+BI19*50+BJ19*50)))","v":""},null,{"$f":"IF(C19<>\"\",C19,\"\")","v":""},null,null,null,null,null,null,null,null,{"$f":"IF($C19=\"\",\"\", IF(BX19=1,0,IF(BV19<>0,500,BQ19*$AE19/$AH19+BR19/$AH19*5+BS19/$AH19*25+BT19*50+BU19*50)))","v":""},null,{"$f":"IF(C19<>\"\",C19,\"\")","v":""},null,null,null,null,null,null,null,null,{"$f":"IF($C19=\"\",\"\", IF(CI19=1,0,IF(CG19<>0,500,CB19*$AE19/$AH19+CC19/$AH19*5+CD19/$AH19*25+CE19*50+CF19*50)))","v":""},null,{"$f":"IF(C19<>\"\",C19,\"\")","v":""},null,null,null,null,null,null,null,null,{"$f":"IF($C19=\"\",\"\", IF(CT19=1,0,IF(CR19<>0,500,CM19*$AE19/$AH19+CN19/$AH19*5+CO19/$AH19*25+CP19*50+CQ19*50)))","v":""},null,{"$f":"IF(C19<>\"\",C19,\"\")","v":""},null,null,null,null,null,null,null,null,{"$f":"IF($C19=\"\",\"\", IF(DE19=1,0,IF(DC19<>0,500,CX19*$AE19/$AH19+CY19/$AH19*5+CZ19/$AH19*25+DA19*50+DB19*50)))","v":""},null,{"$f":"IF(C19<>\"\",C19,\"\")","v":""},null,null,null,null,null,null,null,null,{"$f":"IF($C19=\"\",\"\", IF(DP19=1,0,IF(DN19<>0,500,DI19*$AE19/$AH19+DJ19/$AH19*5+DK19/$AH19*25+DL19*50+DM19*50)))","v":""},null,{"$f":"IF(C19<>\"\",C19,\"\")","v":""},null,null,null,null,null,null,null,null,{"$f":"IF($C19=\"\",\"\", IF(EA19=1,0,IF(DY19<>0,500,DT19*$AE19/$AH19+DU19/$AH19*5+DV19/$AH19*25+DW19*50+DX19*50)))","v":""},null,{"$f":"IF(C19<>\"\",C19,\"\")","v":""},null,null,null,null,null,null,null,null,{"$f":"IF($C19=\"\",\"\", IF(EL19=1,0,IF(EJ19<>0,500,EE19*$AE19/$AH19+EF19/$AH19*5+EG19/$AH19*25+EH19*50+EI19*50)))","v":""},null,{"$f":"IF(C19<>\"\",C19,\"\")","v":""},null,null,null,null,null,null,null,null,{"$f":"IF($C19=\"\",\"\", IF(EW19=1,0,IF(EU19<>0,500,EP19*$AE19/$AH19+EQ19/$AH19*5+ER19/$AH19*25+ES19*50+ET19*50)))","v":""},null,{"$f":"IF(C19<>\"\",C19,\"\")","v":""},null,null,null,null,null,null,null,null,{"$f":"IF($C19=\"\",\"\", IF(FH19=1,0,IF(FF19<>0,500,FA19*$AE19/$AH19+FB19/$AH19*5+FC19/$AH19*25+FD19*50+FE19*50)))","v":""},null,{"$f":"IF(C19<>\"\",C19,\"\")","v":""},null,null,null,null,null,null,null,null,{"$f":"IF($C19=\"\",\"\", IF(FS19=1,0,IF(FQ19<>0,500,FL19*$AE19/$AH19+FM19/$AH19*5+FN19/$AH19*25+FO19*50+FP19*50)))","v":""},null,{"$f":"IF(C19<>\"\",C19,\"\")","v":""},null,null,null,null,null,null,null,null,{"$f":"IF($C19=\"\",\"\", IF(GD19=1,0,IF(GB19<>0,500,FW19*$AE19/$AH19+FX19/$AH19*5+FY19/$AH19*25+FZ19*50+GA19*50)))","v":""},null,{"$f":"IF(C19<>\"\",C19,\"\")","v":""},null,null,null,null,null,null,null,null,{"$f":"IF($C19=\"\",\"\", IF(GO19=1,0,IF(GM19<>0,500,GH19*$AE19/$AH19+GI19/$AH19*5+GJ19/$AH19*25+GK19*50+GL19*50)))","v":""},null,{"$f":"IF(C19<>\"\",C19,\"\")","v":""},null,null,null,null,null,null,null,null,{"$f":"IF($C19=\"\",\"\", IF(GZ19=1,0,IF(GX19<>0,500,GS19*$AE19/$AH19+GT19/$AH19*5+GU19/$AH19*25+GV19*50+GW19*50)))","v":""},null,{"$f":"IF(C19<>\"\",C19,\"\")","v":""},null,null,null,null,null,null,null,null,{"$f":"IF($C19=\"\",\"\", IF(HK19=1,0,IF(HI19<>0,500,HD19*$AE19/$AH19+HE19/$AH19*5+HF19/$AH19*25+HG19*50+HH19*50)))","v":""},null,{"$f":"IF(C19<>\"\",C19,\"\")","v":""},null,null,null,null,null,null,null,null,{"$f":"IF($C19=\"\",\"\", IF(HV19=1,0,IF(HT19<>0,500,HO19*$AE19/$AH19+HP19/$AH19*5+HQ19/$AH19*25+HR19*50+HS19*50)))","v":""},null,{"$f":"IF(C19<>\"\",C19,\"\")","v":""},null,null,null,null,null,null,null,null,{"$f":"IF($C19=\"\",\"\", IF(IG19=1,0,IF(IE19<>0,500,HZ19*$AE19/$AH19+IA19/$AH19*5+IB19/$AH19*25+IC19*50+ID19*50)))","v":""}]
[null,{"$f":"IF(C20=0,\"\",ROW(C20)-4)","v":""},null,null,null,null,null,{"$f":"IF(C20=0,\"\",IF(OR(BB20=1,BC20<>0),BC20,\"-\"))","v":""},{"$f":"IF(C20=0,\"\",IF(OR(BM20=1,BN20<>0),BN20,\"-\"))","v":""},{"$f":"IF(C20=0,\"\",IF(OR(BX20=1,BY20<>0),BY20,\" -\"))","v":""},{"$f":"IF(C20=0,\"\",IF(OR(CJ20<>0,CI20=1),CJ20,\" -\"))","v":""},{"$f":"IF(C20=0,\"\",IF(OR(CU20<>0,CT20=1),CU20,\" -\"))","v":""},{"$f":"IF(C20=0,\"\",IF(OR(DF20<>0,DE20=1),DF20,\" -\"))","v":""},{"$f":"IF(C20=0,\"\",IF(OR(DQ20<>0,DP20=1),DQ20,\" -\"))","v":""},{"$f":"IF(C20=0,\"\",IF(OR(EB20<>0,EA20=1),EB20,\" -\"))","v":""},{"$f":"IF(C20=0,\"\",IF(OR(EM20<>0,EL20=1),EM20,\" -\"))","v":""},{"$f":"IF(C20=0,\"\",IF(OR(EX20<>0,EW20=1),EX20,\" -\"))","v":""},{"$f":"IF(C20=0,\"\",IF(OR(FI20<>0,FH20=1),FI20,\" -\"))","v":""},{"$f":"IF(C20=0,\"\",IF(OR(FT20<>0,FS20=1),FT20,\" -\"))","v":""},{"$f":"IF(C20=0,\"\",IF(OR(GE20<>0,GD20=1),GE20,\" -\"))","v":""},{"$f":"IF(C20=0,\"\",IF(OR(GP20<>0,GO20=1),GP20,\" -\"))","v":""},{"$f":"IF(C20=0,\"\",IF(OR(HA20<>0,GZ20=1),HA20,\" -\"))","v":""},{"$f":"IF(C20=0,\"\",IF(OR(HL20<>0,HK20=1),HL20,\" -\"))","v":""},{"$f":"IF(C20=0,\"\",IF(AJ20<>0,AJ20,\" -\"))","v":""},{"$f":"IF(C20=0,\"\",IF(OR(HW20<>0,HV20=1),HW20,\" -\"))","v":""},{"$f":"IF(C20=0,\"\",IF(OR(IH20<>0,IG20=1),IH20,\" -\"))","v":""},{"$f":"IF(C20=0,\"\",IF(AL20=1,\"DNF\",IF(AL20=2,\"DSQ\",IF(AM20<>1,\"~ \"&ROUND(SUM(H20:X20),3),ROUND(SUM(H20:X20),3)))))","v":""},null,null,{"$f":"IF(C20<>\"\",C20,\"\")","v":""},{"$f":"IF(AD20<>\"\",3,\"\")","v":""},null,null,{"$f":"IF(AD20<>\"\",(AF20/1000*AG20/1000)/2,\"\")","v":""},null,null,null,null,null,null,null,{"$f":"IF(C20=0,99999,IF(AL20>0,9999,SUM(H20:X20)-AN20))","v":99999},{"$f":"IF(C20=0,99999,IF(AL20=1,9999,SUM(Y20:Z20)))","v":99999},null,null,{"$f":"IF(C20<>\"\",C20,\"\")","v":""},null,null,null,null,null,null,null,null,{"$f":"IF($C20=\"\",\"\", IF(BB20=1,0,IF(AZ20<>0,500,AU20*$AE20/$AH20+AV20/$AH20*5+AW20/$AH20*25+AX20*50+AY20*50)))","v":""},null,{"$f":"IF(C20<>\"\",C20,\"\")","v":""},null,null,null,null,null,null,null,null,{"$f":"IF($C20=\"\",\"\", IF(BM20=1,0,IF(BK20<>0,500,BF20*$AE20/$AH20+BG20/$AH20*5+BH20/$AH20*25+BI20*50+BJ20*50)))","v":""},null,{"$f":"IF(C20<>\"\",C20,\"\")","v":""},null,null,null,null,null,null,null,null,{"$f":"IF($C20=\"\",\"\", IF(BX20=1,0,IF(BV20<>0,500,BQ20*$AE20/$AH20+BR20/$AH20*5+BS20/$AH20*25+BT20*50+BU20*50)))","v":""},null,{"$f":"IF(C20<>\"\",C20,\"\")","v":""},null,null,null,null,null,null,null,null,{"$f":"IF($C20=\"\",\"\", IF(CI20=1,0,IF(CG20<>0,500,CB20*$AE20/$AH20+CC20/$AH20*5+CD20/$AH20*25+CE20*50+CF20*50)))","v":""},null,{"$f":"IF(C20<>\"\",C20,\"\")","v":""},null,null,null,null,null,null,null,null,{"$f":"IF($C20=\"\",\"\", IF(CT20=1,0,IF(CR20<>0,500,CM20*$AE20/$AH20+CN20/$AH20*5+CO20/$AH20*25+CP20*50+CQ20*50)))","v":""},null,{"$f":"IF(C20<>\"\",C20,\"\")","v":""},null,null,null,null,null,null,null,null,{"$f":"IF($C20=\"\",\"\", IF(DE20=1,0,IF(DC20<>0,500,CX20*$AE20/$AH20+CY20/$AH20*5+CZ20/$AH20*25+DA20*50+DB20*50)))","v":""},null,{"$f":"IF(C20<>\"\",C20,\"\")","v":""},null,null,null,null,null,null,null,null,{"$f":"IF($C20=\"\",\"\", IF(DP20=1,0,IF(DN20<>0,500,DI20*$AE20/$AH20+DJ20/$AH20*5+DK20/$AH20*25+DL20*50+DM20*50)))","v":""},null,{"$f":"IF(C20<>\"\",C20,\"\")","v":""},null,null,null,null,null,null,null,null,{"$f":"IF($C20=\"\",\"\", IF(EA20=1,0,IF(DY20<>0,500,DT20*$AE20/$AH20+DU20/$AH20*5+DV20/$AH20*25+DW20*50+DX20*50)))","v":""},null,{"$f":"IF(C20<>\"\",C20,\"\")","v":""},null,null,null,null,null,null,null,null,{"$f":"IF($C20=\"\",\"\", IF(EL20=1,0,IF(EJ20<>0,500,EE20*$AE20/$AH20+EF20/$AH20*5+EG20/$AH20*25+EH20*50+EI20*50)))","v":""},null,{"$f":"IF(C20<>\"\",C20,\"\")","v":""},null,null,null,null,null,null,null,null,{"$f":"IF($C20=\"\",\"\", IF(EW20=1,0,IF(EU20<>0,500,EP20*$AE20/$AH20+EQ20/$AH20*5+ER20/$AH20*25+ES20*50+ET20*50)))","v":""},null,{"$f":"IF(C20<>\"\",C20,\"\")","v":""},null,null,null,null,null,null,null,null,{"$f":"IF($C20=\"\",\"\", IF(FH20=1,0,IF(FF20<>0,500,FA20*$AE20/$AH20+FB20/$AH20*5+FC20/$AH20*25+FD20*50+FE20*50)))","v":""},null,{"$f":"IF(C20<>\"\",C20,\"\")","v":""},null,null,null,null,null,null,null,null,{"$f":"IF($C20=\"\",\"\", IF(FS20=1,0,IF(FQ20<>0,500,FL20*$AE20/$AH20+FM20/$AH20*5+FN20/$AH20*25+FO20*50+FP20*50)))","v":""},null,{"$f":"IF(C20<>\"\",C20,\"\")","v":""},null,null,null,null,null,null,null,null,{"$f":"IF($C20=\"\",\"\", IF(GD20=1,0,IF(GB20<>0,500,FW20*$AE20/$AH20+FX20/$AH20*5+FY20/$AH20*25+FZ20*50+GA20*50)))","v":""},null,{"$f":"IF(C20<>\"\",C20,\"\")","v":""},null,null,null,null,null,null,null,null,{"$f":"IF($C20=\"\",\"\", IF(GO20=1,0,IF(GM20<>0,500,GH20*$AE20/$AH20+GI20/$AH20*5+GJ20/$AH20*25+GK20*50+GL20*50)))","v":""},null,{"$f":"IF(C20<>\"\",C20,\"\")","v":""},null,null,null,null,null,null,null,null,{"$f":"IF($C20=\"\",\"\", IF(GZ20=1,0,IF(GX20<>0,500,GS20*$AE20/$AH20+GT20/$AH20*5+GU20/$AH20*25+GV20*50+GW20*50)))","v":""},null,{"$f":"IF(C20<>\"\",C20,\"\")","v":""},null,null,null,null,null,null,null,null,{"$f":"IF($C20=\"\",\"\", IF(HK20=1,0,IF(HI20<>0,500,HD20*$AE20/$AH20+HE20/$AH20*5+HF20/$AH20*25+HG20*50+HH20*50)))","v":""},null,{"$f":"IF(C20<>\"\",C20,\"\")","v":""},null,null,null,null,null,null,null,null,{"$f":"IF($C20=\"\",\"\", IF(HV20=1,0,IF(HT20<>0,500,HO20*$AE20/$AH20+HP20/$AH20*5+HQ20/$AH20*25+HR20*50+HS20*50)))","v":""},null,{"$f":"IF(C20<>\"\",C20,\"\")","v":""},null,null,null,null,null,null,null,null,{"$f":"IF($C20=\"\",\"\", IF(IG20=1,0,IF(IE20<>0,500,HZ20*$AE20/$AH20+IA20/$AH20*5+IB20/$AH20*25+IC20*50+ID20*50)))","v":""}]
[null,{"$f":"IF(C21=0,\"\",ROW(C21)-4)","v":""},null,null,null,null,null,{"$f":"IF(C21=0,\"\",IF(OR(BB21=1,BC21<>0),BC21,\"-\"))","v":""},{"$f":"IF(C21=0,\"\",IF(OR(BM21=1,BN21<>0),BN21,\"-\"))","v":""},{"$f":"IF(C21=0,\"\",IF(OR(BX21=1,BY21<>0),BY21,\" -\"))","v":""},{"$f":"IF(C21=0,\"\",IF(OR(CJ21<>0,CI21=1),CJ21,\" -\"))","v":""},{"$f":"IF(C21=0,\"\",IF(OR(CU21<>0,CT21=1),CU21,\" -\"))","v":""},{"$f":"IF(C21=0,\"\",IF(OR(DF21<>0,DE21=1),DF21,\" -\"))","v":""},{"$f":"IF(C21=0,\"\",IF(OR(DQ21<>0,DP21=1),DQ21,\" -\"))","v":""},{"$f":"IF(C21=0,\"\",IF(OR(EB21<>0,EA21=1),EB21,\" -\"))","v":""},{"$f":"IF(C21=0,\"\",IF(OR(EM21<>0,EL21=1),EM21,\" -\"))","v":""},{"$f":"IF(C21=0,\"\",IF(OR(EX21<>0,EW21=1),EX21,\" -\"))","v":""},{"$f":"IF(C21=0,\"\",IF(OR(FI21<>0,FH21=1),FI21,\" -\"))","v":""},{"$f":"IF(C21=0,\"\",IF(OR(FT21<>0,FS21=1),FT21,\" -\"))","v":""},{"$f":"IF(C21=0,\"\",IF(OR(GE21<>0,GD21=1),GE21,\" -\"))","v":""},{"$f":"IF(C21=0,\"\",IF(OR(GP21<>0,GO21=1),GP21,\" -\"))","v":""},{"$f":"IF(C21=0,\"\",IF(OR(HA21<>0,GZ21=1),HA21,\" -\"))","v":""},{"$f":"IF(C21=0,\"\",IF(OR(HL21<>0,HK21=1),HL21,\" -\"))","v":""},{"$f":"IF(C21=0,\"\",IF(AJ21<>0,AJ21,\" -\"))","v":""},{"$f":"IF(C21=0,\"\",IF(OR(HW21<>0,HV21=1),HW21,\" -\"))","v":""},{"$f":"IF(C21=0,\"\",IF(OR(IH21<>0,IG21=1),IH21,\" -\"))","v":""},{"$f":"IF(C21=0,\"\",IF(AL21=1,\"DNF\",IF(AL21=2,\"DSQ\",IF(AM21<>1,\"~ \"&ROUND(SUM(H21:X21),3),ROUND(SUM(H21:X21),3)))))","v":""},null,null,{"$f":"IF(C21<>\"\",C21,\"\")","v":""},{"$f":"IF(AD21<>\"\",3,\"\")","v":""},null,null,{"$f":"IF(AD21<>\"\",(AF21/1000*AG21/1000)/2,\"\")","v":""},null,null,null,null,null,null,null,{"$f":"IF(C21=0,99999,IF(AL21>0,9999,SUM(H21:X21)-AN21))","v":99999},{"$f":"IF(C21=0,99999,IF(AL21=1,9999,SUM(Y21:Z21)))","v":99999},null,null,{"$f":"IF(C21<>\"\",C21,\"\")","v":""},null,null,null,null,null,null,null,null,{"$f":"IF($C21=\"\",\"\", IF(BB21=1,0,IF(AZ21<>0,500,AU21*$AE21/$AH21+AV21/$AH21*5+AW21/$AH21*25+AX21*50+AY21*50)))","v":""},null,{"$f":"IF(C21<>\"\",C21,\"\")","v":""},null,null,null,null,null,null,null,null,{"$f":"IF($C21=\"\",\"\", IF(BM21=1,0,IF(BK21<>0,500,BF21*$AE21/$AH21+BG21/$AH21*5+BH21/$AH21*25+BI21*50+BJ21*50)))","v":""},null,{"$f":"IF(C21<>\"\",C21,\"\")","v":""},null,null,null,null,null,null,null,null,{"$f":"IF($C21=\"\",\"\", IF(BX21=1,0,IF(BV21<>0,500,BQ21*$AE21/$AH21+BR21/$AH21*5+BS21/$AH21*25+BT21*50+BU21*50)))","v":""},null,{"$f":"IF(C21<>\"\",C21,\"\")","v":""},null,null,null,null,null,null,null,null,{"$f":"IF($C21=\"\",\"\", IF(CI21=1,0,IF(CG21<>0,500,CB21*$AE21/$AH21+CC21/$AH21*5+CD21/$AH21*25+CE21*50+CF21*50)))","v":""},null,{"$f":"IF(C21<>\"\",C21,\"\")","v":""},null,null,null,null,null,null,null,null,{"$f":"IF($C21=\"\",\"\", IF(CT21=1,0,IF(CR21<>0,500,CM21*$AE21/$AH21+CN21/$AH21*5+CO21/$AH21*25+CP21*50+CQ21*50)))","v":""},null,{"$f":"IF(C21<>\"\",C21,\"\")","v":""},null,null,null,null,null,null,null,null,{"$f":"IF($C21=\"\",\"\", IF(DE21=1,0,IF(DC21<>0,500,CX21*$AE21/$AH21+CY21/$AH21*5+CZ21/$AH21*25+DA21*50+DB21*50)))","v":""},null,{"$f":"IF(C21<>\"\",C21,\"\")","v":""},null,null,null,null,null,null,null,null,{"$f":"IF($C21=\"\",\"\", IF(DP21=1,0,IF(DN21<>0,500,DI21*$AE21/$AH21+DJ21/$AH21*5+DK21/$AH21*25+DL21*50+DM21*50)))","v":""},null,{"$f":"IF(C21<>\"\",C21,\"\")","v":""},null,null,null,null,null,null,null,null,{"$f":"IF($C21=\"\",\"\", IF(EA21=1,0,IF(DY21<>0,500,DT21*$AE21/$AH21+DU21/$AH21*5+DV21/$AH21*25+DW21*50+DX21*50)))","v":""},null,{"$f":"IF(C21<>\"\",C21,\"\")","v":""},null,null,null,null,null,null,null,null,{"$f":"IF($C21=\"\",\"\", IF(EL21=1,0,IF(EJ21<>0,500,EE21*$AE21/$AH21+EF21/$AH21*5+EG21/$AH21*25+EH21*50+EI21*50)))","v":""},null,{"$f":"IF(C21<>\"\",C21,\"\")","v":""},null,null,null,null,null,null,null,null,{"$f":"IF($C21=\"\",\"\", IF(EW21=1,0,IF(EU21<>0,500,EP21*$AE21/$AH21+EQ21/$AH21*5+ER21/$AH21*25+ES21*50+ET21*50)))","v":""},null,{"$f":"IF(C21<>\"\",C21,\"\")","v":""},null,null,null,null,null,null,null,null,{"$f":"IF($C21=\"\",\"\", IF(FH21=1,0,IF(FF21<>0,500,FA21*$AE21/$AH21+FB21/$AH21*5+FC21/$AH21*25+FD21*50+FE21*50)))","v":""},null,{"$f":"IF(C21<>\"\",C21,\"\")","v":""},null,null,null,null,null,null,null,null,{"$f":"IF($C21=\"\",\"\", IF(FS21=1,0,IF(FQ21<>0,500,FL21*$AE21/$AH21+FM21/$AH21*5+FN21/$AH21*25+FO21*50+FP21*50)))","v":""},null,{"$f":"IF(C21<>\"\",C21,\"\")","v":""},null,null,null,null,null,null,null,null,{"$f":"IF($C21=\"\",\"\", IF(GD21=1,0,IF(GB21<>0,500,FW21*$AE21/$AH21+FX21/$AH21*5+FY21/$AH21*25+FZ21*50+GA21*50)))","v":""},null,{"$f":"IF(C21<>\"\",C21,\"\")","v":""},null,null,null,null,null,null,null,null,{"$f":"IF($C21=\"\",\"\", IF(GO21=1,0,IF(GM21<>0,500,GH21*$AE21/$AH21+GI21/$AH21*5+GJ21/$AH21*25+GK21*50+GL21*50)))","v":""},null,{"$f":"IF(C21<>\"\",C21,\"\")","v":""},null,null,null,null,null,null,null,null,{"$f":"IF($C21=\"\",\"\", IF(GZ21=1,0,IF(GX21<>0,500,GS21*$AE21/$AH21+GT21/$AH21*5+GU21/$AH21*25+GV21*50+GW21*50)))","v":""},null,{"$f":"IF(C21<>\"\",C21,\"\")","v":""},null,null,null,null,null,null,null,null,{"$f":"IF($C21=\"\",\"\", IF(HK21=1,0,IF(HI21<>0,500,HD21*$AE21/$AH21+HE21/$AH21*5+HF21/$AH21*25+HG21*50+HH21*50)))","v":""},null,{"$f":"IF(C21<>\"\",C21,\"\")","v":""},null,null,null,null,null,null,null,null,{"$f":"IF($C21=\"\",\"\", IF(HV21=1,0,IF(HT21<>0,500,HO21*$AE21/$AH21+HP21/$AH21*5+HQ21/$AH21*25+HR21*50+HS21*50)))","v":""},null,{"$f":"IF(C21<>\"\",C21,\"\")","v":""},null,null,null,null,null,null,null,null,{"$f":"IF($C21=\"\",\"\", IF(IG21=1,0,IF(IE21<>0,500,HZ21*$AE21/$AH21+IA21/$AH21*5+IB21/$AH21*25+IC21*50+ID21*50)))","v":""}]
[null,{"$f":"IF(C22=0,\"\",ROW(C22)-4)","v":""},null,null,null,null,null,{"$f":"IF(C22=0,\"\",IF(OR(BB22=1,BC22<>0),BC22,\"-\"))","v":""},{"$f":"IF(C22=0,\"\",IF(OR(BM22=1,BN22<>0),BN22,\"-\"))","v":""},{"$f":"IF(C22=0,\"\",IF(OR(BX22=1,BY22<>0),BY22,\" -\"))","v":""},{"$f":"IF(C22=0,\"\",IF(OR(CJ22<>0,CI22=1),CJ22,\" -\"))","v":""},{"$f":"IF(C22=0,\"\",IF(OR(CU22<>0,CT22=1),CU22,\" -\"))","v":""},{"$f":"IF(C22=0,\"\",IF(OR(DF22<>0,DE22=1),DF22,\" -\"))","v":""},{"$f":"IF(C22=0,\"\",IF(OR(DQ22<>0,DP22=1),DQ22,\" -\"))","v":""},{"$f":"IF(C22=0,\"\",IF(OR(EB22<>0,EA22=1),EB22,\" -\"))","v":""},{"$f":"IF(C22=0,\"\",IF(OR(EM22<>0,EL22=1),EM22,\" -\"))","v":""},{"$f":"IF(C22=0,\"\",IF(OR(EX22<>0,EW22=1),EX22,\" -\"))","v":""},{"$f":"IF(C22=0,\"\",IF(OR(FI22<>0,FH22=1),FI22,\" -\"))","v":""},{"$f":"IF(C22=0,\"\",IF(OR(FT22<>0,FS22=1),FT22,\" -\"))","v":""},{"$f":"IF(C22=0,\"\",IF(OR(GE22<>0,GD22=1),GE22,\" -\"))","v":""},{"$f":"IF(C22=0,\"\",IF(OR(GP22<>0,GO22=1),GP22,\" -\"))","v":""},{"$f":"IF(C22=0,\"\",IF(OR(HA22<>0,GZ22=1),HA22,\" -\"))","v":""},{"$f":"IF(C22=0,\"\",IF(OR(HL22<>0,HK22=1),HL22,\" -\"))","v":""},{"$f":"IF(C22=0,\"\",IF(AJ22<>0,AJ22,\" -\"))","v":""},{"$f":"IF(C22=0,\"\",IF(OR(HW22<>0,HV22=1),HW22,\" -\"))","v":""},{"$f":"IF(C22=0,\"\",IF(OR(IH22<>0,IG22=1),IH22,\" -\"))","v":""},{"$f":"IF(C22=0,\"\",IF(AL22=1,\"DNF\",IF(AL22=2,\"DSQ\",IF(AM22<>1,\"~ \"&ROUND(SUM(H22:X22),3),ROUND(SUM(H22:X22),3)))))","v":""},null,null,{"$f":"IF(C22<>\"\",C22,\"\")","v":""},{"$f":"IF(AD22<>\"\",3,\"\")","v":""},null,null,{"$f":"IF(AD22<>\"\",(AF22/1000*AG22/1000)/2,\"\")","v":""},null,null,null,null,null,null,null,{"$f":"IF(C22=0,99999,IF(AL22>0,9999,SUM(H22:X22)-AN22))","v":99999},{"$f":"IF(C22=0,99999,IF(AL22=1,9999,SUM(Y22:Z22)))","v":99999},null,null,{"$f":"IF(C22<>\"\",C22,\"\")","v":""},null,null,null,null,null,null,null,null,{"$f":"IF($C22=\"\",\"\", IF(BB22=1,0,IF(AZ22<>0,500,AU22*$AE22/$AH22+AV22/$AH22*5+AW22/$AH22*25+AX22*50+AY22*50)))","v":""},null,{"$f":"IF(C22<>\"\",C22,\"\")","v":""},null,null,null,null,null,null,null,null,{"$f":"IF($C22=\"\",\"\", IF(BM22=1,0,IF(BK22<>0,500,BF22*$AE22/$AH22+BG22/$AH22*5+BH22/$AH22*25+BI22*50+BJ22*50)))","v":""},null,{"$f":"IF(C22<>\"\",C22,\"\")","v":""},null,null,null,null,null,null,null,null,{"$f":"IF($C22=\"\",\"\", IF(BX22=1,0,IF(BV22<>0,500,BQ22*$AE22/$AH22+BR22/$AH22*5+BS22/$AH22*25+BT22*50+BU22*50)))","v":""},null,{"$f":"IF(C22<>\"\",C22,\"\")","v":""},null,null,null,null,null,null,null,null,{"$f":"IF($C22=\"\",\"\", IF(CI22=1,0,IF(CG22<>0,500,CB22*$AE22/$AH22+CC22/$AH22*5+CD22/$AH22*25+CE22*50+CF22*50)))","v":""},null,{"$f":"IF(C22<>\"\",C22,\"\")","v":""},null,null,null,null,null,null,null,null,{"$f":"IF($C22=\"\",\"\", IF(CT22=1,0,IF(CR22<>0,500,CM22*$AE22/$AH22+CN22/$AH22*5+CO22/$AH22*25+CP22*50+CQ22*50)))","v":""},null,{"$f":"IF(C22<>\"\",C22,\"\")","v":""},null,null,null,null,null,null,null,null,{"$f":"IF($C22=\"\",\"\", IF(DE22=1,0,IF(DC22<>0,500,CX22*$AE22/$AH22+CY22/$AH22*5+CZ22/$AH22*25+DA22*50+DB22*50)))","v":""},null,{"$f":"IF(C22<>\"\",C22,\"\")","v":""},null,null,null,null,null,null,null,null,{"$f":"IF($C22=\"\",\"\", IF(DP22=1,0,IF(DN22<>0,500,DI22*$AE22/$AH22+DJ22/$AH22*5+DK22/$AH22*25+DL22*50+DM22*50)))","v":""},null,{"$f":"IF(C22<>\"\",C22,\"\")","v":""},null,null,null,null,null,null,null,null,{"$f":"IF($C22=\"\",\"\", IF(EA22=1,0,IF(DY22<>0,500,DT22*$AE22/$AH22+DU22/$AH22*5+DV22/$AH22*25+DW22*50+DX22*50)))","v":""},null,{"$f":"IF(C22<>\"\",C22,\"\")","v":""},null,null,null,null,null,null,null,null,{"$f":"IF($C22=\"\",\"\", IF(EL22=1,0,IF(EJ22<>0,500,EE22*$AE22/$AH22+EF22/$AH22*5+EG22/$AH22*25+EH22*50+EI22*50)))","v":""},null,{"$f":"IF(C22<>\"\",C22,\"\")","v":""},null,null,null,null,null,null,null,null,{"$f":"IF($C22=\"\",\"\", IF(EW22=1,0,IF(EU22<>0,500,EP22*$AE22/$AH22+EQ22/$AH22*5+ER22/$AH22*25+ES22*50+ET22*50)))","v":""},null,{"$f":"IF(C22<>\"\",C22,\"\")","v":""},null,null,null,null,null,null,null,null,{"$f":"IF($C22=\"\",\"\", IF(FH22=1,0,IF(FF22<>0,500,FA22*$AE22/$AH22+FB22/$AH22*5+FC22/$AH22*25+FD22*50+FE22*50)))","v":""},null,{"$f":"IF(C22<>\"\",C22,\"\")","v":""},null,null,null,null,null,null,null,null,{"$f":"IF($C22=\"\",\"\", IF(FS22=1,0,IF(FQ22<>0,500,FL22*$AE22/$AH22+FM22/$AH22*5+FN22/$AH22*25+FO22*50+FP22*50)))","v":""},null,{"$f":"IF(C22<>\"\",C22,\"\")","v":""},null,null,null,null,null,null,null,null,{"$f":"IF($C22=\"\",\"\", IF(GD22=1,0,IF(GB22<>0,500,FW22*$AE22/$AH22+FX22/$AH22*5+FY22/$AH22*25+FZ22*50+GA22*50)))","v":""},null,{"$f":"IF(C22<>\"\",C22,\"\")","v":""},null,null,null,null,null,null,null,null,{"$f":"IF($C22=\"\",\"\", IF(GO22=1,0,IF(GM22<>0,500,GH22*$AE22/$AH22+GI22/$AH22*5+GJ22/$AH22*25+GK22*50+GL22*50)))","v":""},null,{"$f":"IF(C22<>\"\",C22,\"\")","v":""},null,null,null,null,null,null,null,null,{"$f":"IF($C22=\"\",\"\", IF(GZ22=1,0,IF(GX22<>0,500,GS22*$AE22/$AH22+GT22/$AH22*5+GU22/$AH22*25+GV22*50+GW22*50)))","v":""},null,{"$f":"IF(C22<>\"\",C22,\"\")","v":""},null,null,null,null,null,null,null,null,{"$f":"IF($C22=\"\",\"\", IF(HK22=1,0,IF(HI22<>0,500,HD22*$AE22/$AH22+HE22/$AH22*5+HF22/$AH22*25+HG22*50+HH22*50)))","v":""},null,{"$f":"IF(C22<>\"\",C22,\"\")","v":""},null,null,null,null,null,null,null,null,{"$f":"IF($C22=\"\",\"\", IF(HV22=1,0,IF(HT22<>0,500,HO22*$AE22/$AH22+HP22/$AH22*5+HQ22/$AH22*25+HR22*50+HS22*50)))","v":""},null,{"$f":"IF(C22<>\"\",C22,\"\")","v":""},null,null,null,null,null,null,null,null,{"$f":"IF($C22=\"\",\"\", IF(IG22=1,0,IF(IE22<>0,500,HZ22*$AE22/$AH22+IA22/$AH22*5+IB22/$AH22*25+IC22*50+ID22*50)))","v":""}]
[null,{"$f":"IF(C23=0,\"\",ROW(C23)-4)","v":""},null,null,null,null,null,{"$f":"IF(C23=0,\"\",IF(OR(BB23=1,BC23<>0),BC23,\"-\"))","v":""},{"$f":"IF(C23=0,\"\",IF(OR(BM23=1,BN23<>0),BN23,\"-\"))","v":""},{"$f":"IF(C23=0,\"\",IF(OR(BX23=1,BY23<>0),BY23,\" -\"))","v":""},{"$f":"IF(C23=0,\"\",IF(OR(CJ23<>0,CI23=1),CJ23,\" -\"))","v":""},{"$f":"IF(C23=0,\"\",IF(OR(CU23<>0,CT23=1),CU23,\" -\"))","v":""},{"$f":"IF(C23=0,\"\",IF(OR(DF23<>0,DE23=1),DF23,\" -\"))","v":""},{"$f":"IF(C23=0,\"\",IF(OR(DQ23<>0,DP23=1),DQ23,\" -\"))","v":""},{"$f":"IF(C23=0,\"\",IF(OR(EB23<>0,EA23=1),EB23,\" -\"))","v":""},{"$f":"IF(C23=0,\"\",IF(OR(EM23<>0,EL23=1),EM23,\" -\"))","v":""},{"$f":"IF(C23=0,\"\",IF(OR(EX23<>0,EW23=1),EX23,\" -\"))","v":""},{"$f":"IF(C23=0,\"\",IF(OR(FI23<>0,FH23=1),FI23,\" -\"))","v":""},{"$f":"IF(C23=0,\"\",IF(OR(FT23<>0,FS23=1),FT23,\" -\"))","v":""},{"$f":"IF(C23=0,\"\",IF(OR(GE23<>0,GD23=1),GE23,\" -\"))","v":""},{"$f":"IF(C23=0,\"\",IF(OR(GP23<>0,GO23=1),GP23,\" -\"))","v":""},{"$f":"IF(C23=0,\"\",IF(OR(HA23<>0,GZ23=1),HA23,\" -\"))","v":""},{"$f":"IF(C23=0,\"\",IF(OR(HL23<>0,HK23=1),HL23,\" -\"))","v":""},{"$f":"IF(C23=0,\"\",IF(AJ23<>0,AJ23,\" -\"))","v":""},{"$f":"IF(C23=0,\"\",IF(OR(HW23<>0,HV23=1),HW23,\" -\"))","v":""},{"$f":"IF(C23=0,\"\",IF(OR(IH23<>0,IG23=1),IH23,\" -\"))","v":""},{"$f":"IF(C23=0,\"\",IF(AL23=1,\"DNF\",IF(AL23=2,\"DSQ\",IF(AM23<>1,\"~ \"&ROUND(SUM(H23:X23),3),ROUND(SUM(H23:X23),3)))))","v":""},null,null,{"$f":"IF(C23<>\"\",C23,\"\")","v":""},{"$f":"IF(AD23<>\"\",3,\"\")","v":""},null,null,{"$f":"IF(AD23<>\"\",(AF23/1000*AG23/1000)/2,\"\")","v":""},null,null,null,null,null,null,null,{"$f":"IF(C23=0,99999,IF(AL23>0,9999,SUM(H23:X23)-AN23))","v":99999},{"$f":"IF(C23=0,99999,IF(AL23=1,9999,SUM(Y23:Z23)))","v":99999},null,null,{"$f":"IF(C23<>\"\",C23,\"\")","v":""},null,null,null,null,null,null,null,null,{"$f":"IF($C23=\"\",\"\", IF(BB23=1,0,IF(AZ23<>0,500,AU23*$AE23/$AH23+AV23/$AH23*5+AW23/$AH23*25+AX23*50+AY23*50)))","v":""},null,{"$f":"IF(C23<>\"\",C23,\"\")","v":""},null,null,null,null,null,null,null,null,{"$f":"IF($C23=\"\",\"\", IF(BM23=1,0,IF(BK23<>0,500,BF23*$AE23/$AH23+BG23/$AH23*5+BH23/$AH23*25+BI23*50+BJ23*50)))","v":""},null,{"$f":"IF(C23<>\"\",C23,\"\")","v":""},null,null,null,null,null,null,null,null,{"$f":"IF($C23=\"\",\"\", IF(BX23=1,0,IF(BV23<>0,500,BQ23*$AE23/$AH23+BR23/$AH23*5+BS23/$AH23*25+BT23*50+BU23*50)))","v":""},null,{"$f":"IF(C23<>\"\",C23,\"\")","v":""},null,null,null,null,null,null,null,null,{"$f":"IF($C23=\"\",\"\", IF(CI23=1,0,IF(CG23<>0,500,CB23*$AE23/$AH23+CC23/$AH23*5+CD23/$AH23*25+CE23*50+CF23*50)))","v":""},null,{"$f":"IF(C23<>\"\",C23,\"\")","v":""},null,null,null,null,null,null,null,null,{"$f":"IF($C23=\"\",\"\", IF(CT23=1,0,IF(CR23<>0,500,CM23*$AE23/$AH23+CN23/$AH23*5+CO23/$AH23*25+CP23*50+CQ23*50)))","v":""},null,{"$f":"IF(C23<>\"\",C23,\"\")","v":""},null,null,null,null,null,null,null,null,{"$f":"IF($C23=\"\",\"\", IF(DE23=1,0,IF(DC23<>0,500,CX23*$AE23/$AH23+CY23/$AH23*5+CZ23/$AH23*25+DA23*50+DB23*50)))","v":""},null,{"$f":"IF(C23<>\"\",C23,\"\")","v":""},null,null,null,null,null,null,null,null,{"$f":"IF($C23=\"\",\"\", IF(DP23=1,0,IF(DN23<>0,500,DI23*$AE23/$AH23+DJ23/$AH23*5+DK23/$AH23*25+DL23*50+DM23*50)))","v":""},null,{"$f":"IF(C23<>\"\",C23,\"\")","v":""},null,null,null,null,null,null,null,null,{"$f":"IF($C23=\"\",\"\", IF(EA23=1,0,IF(DY23<>0,500,DT23*$AE23/$AH23+DU23/$AH23*5+DV23/$AH23*25+DW23*50+DX23*50)))","v":""},null,{"$f":"IF(C23<>\"\",C23,\"\")","v":""},null,null,null,null,null,null,null,null,{"$f":"IF($C23=\"\",\"\", IF(EL23=1,0,IF(EJ23<>0,500,EE23*$AE23/$AH23+EF23/$AH23*5+EG23/$AH23*25+EH23*50+EI23*50)))","v":""},null,{"$f":"IF(C23<>\"\",C23,\"\")","v":""},null,null,null,null,null,null,null,null,{"$f":"IF($C23=\"\",\"\", IF(EW23=1,0,IF(EU23<>0,500,EP23*$AE23/$AH23+EQ23/$AH23*5+ER23/$AH23*25+ES23*50+ET23*50)))","v":""},null,{"$f":"IF(C23<>\"\",C23,\"\")","v":""},null,null,null,null,null,null,null,null,{"$f":"IF($C23=\"\",\"\", IF(FH23=1,0,IF(FF23<>0,500,FA23*$AE23/$AH23+FB23/$AH23*5+FC23/$AH23*25+FD23*50+FE23*50)))","v":""},null,{"$f":"IF(C23<>\"\",C23,\"\")","v":""},null,null,null,null,null,null,null,null,{"$f":"IF($C23=\"\",\"\", IF(FS23=1,0,IF(FQ23<>0,500,FL23*$AE23/$AH23+FM23/$AH23*5+FN23/$AH23*25+FO23*50+FP23*50)))","v":""},null,{"$f":"IF(C23<>\"\",C23,\"\")","v":""},null,null,null,null,null,null,null,null,{"$f":"IF($C23=\"\",\"\", IF(GD23=1,0,IF(GB23<>0,500,FW23*$AE23/$AH23+FX23/$AH23*5+FY23/$AH23*25+FZ23*50+GA23*50)))","v":""},null,{"$f":"IF(C23<>\"\",C23,\"\")","v":""},null,null,null,null,null,null,null,null,{"$f":"IF($C23=\"\",\"\", IF(GO23=1,0,IF(GM23<>0,500,GH23*$AE23/$AH23+GI23/$AH23*5+GJ23/$AH23*25+GK23*50+GL23*50)))","v":""},null,{"$f":"IF(C23<>\"\",C23,\"\")","v":""},null,null,null,null,null,null,null,null,{"$f":"IF($C23=\"\",\"\", IF(GZ23=1,0,IF(GX23<>0,500,GS23*$AE23/$AH23+GT23/$AH23*5+GU23/$AH23*25+GV23*50+GW23*50)))","v":""},null,{"$f":"IF(C23<>\"\",C23,\"\")","v":""},null,null,null,null,null,null,null,null,{"$f":"IF($C23=\"\",\"\", IF(HK23=1,0,IF(HI23<>0,500,HD23*$AE23/$AH23+HE23/$AH23*5+HF23/$AH23*25+HG23*50+HH23*50)))","v":""},null,{"$f":"IF(C23<>\"\",C23,\"\")","v":""},null,null,null,null,null,null,null,null,{"$f":"IF($C23=\"\",\"\", IF(HV23=1,0,IF(HT23<>0,500,HO23*$AE23/$AH23+HP23/$AH23*5+HQ23/$AH23*25+HR23*50+HS23*50)))","v":""},null,{"$f":"IF(C23<>\"\",C23,\"\")","v":""},null,null,null,null,null,null,null,null,{"$f":"IF($C23=\"\",\"\", IF(IG23=1,0,IF(IE23<>0,500,HZ23*$AE23/$AH23+IA23/$AH23*5+IB23/$AH23*25+IC23*50+ID23*50)))","v":""}]
[null,{"$f":"IF(C24=0,\"\",ROW(C24)-4)","v":""},null,null,null,null,null,{"$f":"IF(C24=0,\"\",IF(OR(BB24=1,BC24<>0),BC24,\"-\"))","v":""},{"$f":"IF(C24=0,\"\",IF(OR(BM24=1,BN24<>0),BN24,\"-\"))","v":""},{"$f":"IF(C24=0,\"\",IF(OR(BX24=1,BY24<>0),BY24,\" -\"))","v":""},{"$f":"IF(C24=0,\"\",IF(OR(CJ24<>0,CI24=1),CJ24,\" -\"))","v":""},{"$f":"IF(C24=0,\"\",IF(OR(CU24<>0,CT24=1),CU24,\" -\"))","v":""},{"$f":"IF(C24=0,\"\",IF(OR(DF24<>0,DE24=1),DF24,\" -\"))","v":""},{"$f":"IF(C24=0,\"\",IF(OR(DQ24<>0,DP24=1),DQ24,\" -\"))","v":""},{"$f":"IF(C24=0,\"\",IF(OR(EB24<>0,EA24=1),EB24,\" -\"))","v":""},{"$f":"IF(C24=0,\"\",IF(OR(EM24<>0,EL24=1),EM24,\" -\"))","v":""},{"$f":"IF(C24=0,\"\",IF(OR(EX24<>0,EW24=1),EX24,\" -\"))","v":""},{"$f":"IF(C24=0,\"\",IF(OR(FI24<>0,FH24=1),FI24,\" -\"))","v":""},{"$f":"IF(C24=0,\"\",IF(OR(FT24<>0,FS24=1),FT24,\" -\"))","v":""},{"$f":"IF(C24=0,\"\",IF(OR(GE24<>0,GD24=1),GE24,\" -\"))","v":""},{"$f":"IF(C24=0,\"\",IF(OR(GP24<>0,GO24=1),GP24,\" -\"))","v":""},{"$f":"IF(C24=0,\"\",IF(OR(HA24<>0,GZ24=1),HA24,\" -\"))","v":""},{"$f":"IF(C24=0,\"\",IF(OR(HL24<>0,HK24=1),HL24,\" -\"))","v":""},{"$f":"IF(C24=0,\"\",IF(AJ24<>0,AJ24,\" -\"))","v":""},{"$f":"IF(C24=0,\"\",IF(OR(HW24<>0,HV24=1),HW24,\" -\"))","v":""},{"$f":"IF(C24=0,\"\",IF(OR(IH24<>0,IG24=1),IH24,\" -\"))","v":""},{"$f":"IF(C24=0,\"\",IF(AL24=1,\"DNF\",IF(AL24=2,\"DSQ\",IF(AM24<>1,\"~ \"&ROUND(SUM(H24:X24),3),ROUND(SUM(H24:X24),3)))))","v":""},null,null,{"$f":"IF(C24<>\"\",C24,\"\")","v":""},{"$f":"IF(AD24<>\"\",3,\"\")","v":""},null,null,{"$f":"IF(AD24<>\"\",(AF24/1000*AG24/1000)/2,\"\")","v":""},null,null,null,null,null,null,null,{"$f":"IF(C24=0,99999,IF(AL24>0,9999,SUM(H24:X24)-AN24))","v":99999},{"$f":"IF(C24=0,99999,IF(AL24=1,9999,SUM(Y24:Z24)))","v":99999},null,null,{"$f":"IF(C24<>\"\",C24,\"\")","v":""},null,null,null,null,null,null,null,null,{"$f":"IF($C24=\"\",\"\", IF(BB24=1,0,IF(AZ24<>0,500,AU24*$AE24/$AH24+AV24/$AH24*5+AW24/$AH24*25+AX24*50+AY24*50)))","v":""},null,{"$f":"IF(C24<>\"\",C24,\"\")","v":""},null,null,null,null,null,null,null,null,{"$f":"IF($C24=\"\",\"\", IF(BM24=1,0,IF(BK24<>0,500,BF24*$AE24/$AH24+BG24/$AH24*5+BH24/$AH24*25+BI24*50+BJ24*50)))","v":""},null,{"$f":"IF(C24<>\"\",C24,\"\")","v":""},null,null,null,null,null,null,null,null,{"$f":"IF($C24=\"\",\"\", IF(BX24=1,0,IF(BV24<>0,500,BQ24*$AE24/$AH24+BR24/$AH24*5+BS24/$AH24*25+BT24*50+BU24*50)))","v":""},null,{"$f":"IF(C24<>\"\",C24,\"\")","v":""},null,null,null,null,null,null,null,null,{"$f":"IF($C24=\"\",\"\", IF(CI24=1,0,IF(CG24<>0,500,CB24*$AE24/$AH24+CC24/$AH24*5+CD24/$AH24*25+CE24*50+CF24*50)))","v":""},null,{"$f":"IF(C24<>\"\",C24,\"\")","v":""},null,null,null,null,null,null,null,null,{"$f":"IF($C24=\"\",\"\", IF(CT24=1,0,IF(CR24<>0,500,CM24*$AE24/$AH24+CN24/$AH24*5+CO24/$AH24*25+CP24*50+CQ24*50)))","v":""},null,{"$f":"IF(C24<>\"\",C24,\"\")","v":""},null,null,null,null,null,null,null,null,{"$f":"IF($C24=\"\",\"\", IF(DE24=1,0,IF(DC24<>0,500,CX24*$AE24/$AH24+CY24/$AH24*5+CZ24/$AH24*25+DA24*50+DB24*50)))","v":""},null,{"$f":"IF(C24<>\"\",C24,\"\")","v":""},null,null,null,null,null,null,null,null,{"$f":"IF($C24=\"\",\"\", IF(DP24=1,0,IF(DN24<>0,500,DI24*$AE24/$AH24+DJ24/$AH24*5+DK24/$AH24*25+DL24*50+DM24*50)))","v":""},null,{"$f":"IF(C24<>\"\",C24,\"\")","v":""},null,null,null,null,null,null,null,null,{"$f":"IF($C24=\"\",\"\", IF(EA24=1,0,IF(DY24<>0,500,DT24*$AE24/$AH24+DU24/$AH24*5+DV24/$AH24*25+DW24*50+DX24*50)))","v":""},null,{"$f":"IF(C24<>\"\",C24,\"\")","v":""},null,null,null,null,null,null,null,null,{"$f":"IF($C24=\"\",\"\", IF(EL24=1,0,IF(EJ24<>0,500,EE24*$AE24/$AH24+EF24/$AH24*5+EG24/$AH24*25+EH24*50+EI24*50)))","v":""},null,{"$f":"IF(C24<>\"\",C24,\"\")","v":""},null,null,null,null,null,null,null,null,{"$f":"IF($C24=\"\",\"\", IF(EW24=1,0,IF(EU24<>0,500,EP24*$AE24/$AH24+EQ24/$AH24*5+ER24/$AH24*25+ES24*50+ET24*50)))","v":""},null,{"$f":"IF(C24<>\"\",C24,\"\")","v":""},null,null,null,null,null,null,null,null,{"$f":"IF($C24=\"\",\"\", IF(FH24=1,0,IF(FF24<>0,500,FA24*$AE24/$AH24+FB24/$AH24*5+FC24/$AH24*25+FD24*50+FE24*50)))","v":""},null,{"$f":"IF(C24<>\"\",C24,\"\")","v":""},null,null,null,null,null,null,null,null,{"$f":"IF($C24=\"\",\"\", IF(FS24=1,0,IF(FQ24<>0,500,FL24*$AE24/$AH24+FM24/$AH24*5+FN24/$AH24*25+FO24*50+FP24*50)))","v":""},null,{"$f":"IF(C24<>\"\",C24,\"\")","v":""},null,null,null,null,null,null,null,null,{"$f":"IF($C24=\"\",\"\", IF(GD24=1,0,IF(GB24<>0,500,FW24*$AE24/$AH24+FX24/$AH24*5+FY24/$AH24*25+FZ24*50+GA24*50)))","v":""},null,{"$f":"IF(C24<>\"\",C24,\"\")","v":""},null,null,null,null,null,null,null,null,{"$f":"IF($C24=\"\",\"\", IF(GO24=1,0,IF(GM24<>0,500,GH24*$AE24/$AH24+GI24/$AH24*5+GJ24/$AH24*25+GK24*50+GL24*50)))","v":""},null,{"$f":"IF(C24<>\"\",C24,\"\")","v":""},null,null,null,null,null,null,null,null,{"$f":"IF($C24=\"\",\"\", IF(GZ24=1,0,IF(GX24<>0,500,GS24*$AE24/$AH24+GT24/$AH24*5+GU24/$AH24*25+GV24*50+GW24*50)))","v":""},null,{"$f":"IF(C24<>\"\",C24,\"\")","v":""},null,null,null,null,null,null,null,null,{"$f":"IF($C24=\"\",\"\", IF(HK24=1,0,IF(HI24<>0,500,HD24*$AE24/$AH24+HE24/$AH24*5+HF24/$AH24*25+HG24*50+HH24*50)))","v":""},null,{"$f":"IF(C24<>\"\",C24,\"\")","v":""},null,null,null,null,null,null,null,null,{"$f":"IF($C24=\"\",\"\", IF(HV24=1,0,IF(HT24<>0,500,HO24*$AE24/$AH24+HP24/$AH24*5+HQ24/$AH24*25+HR24*50+HS24*50)))","v":""},null,{"$f":"IF(C24<>\"\",C24,\"\")","v":""},null,null,null,null,null,null,null,null,{"$f":"IF($C24=\"\",\"\", IF(IG24=1,0,IF(IE24<>0,500,HZ24*$AE24/$AH24+IA24/$AH24*5+IB24/$AH24*25+IC24*50+ID24*50)))","v":""}]
[null,{"$f":"IF(C25=0,\"\",ROW(C25)-4)","v":""},null,null,null,null,null,{"$f":"IF(C25=0,\"\",IF(OR(BB25=1,BC25<>0),BC25,\"-\"))","v":""},{"$f":"IF(C25=0,\"\",IF(OR(BM25=1,BN25<>0),BN25,\"-\"))","v":""},{"$f":"IF(C25=0,\"\",IF(OR(BX25=1,BY25<>0),BY25,\" -\"))","v":""},{"$f":"IF(C25=0,\"\",IF(OR(CJ25<>0,CI25=1),CJ25,\" -\"))","v":""},{"$f":"IF(C25=0,\"\",IF(OR(CU25<>0,CT25=1),CU25,\" -\"))","v":""},{"$f":"IF(C25=0,\"\",IF(OR(DF25<>0,DE25=1),DF25,\" -\"))","v":""},{"$f":"IF(C25=0,\"\",IF(OR(DQ25<>0,DP25=1),DQ25,\" -\"))","v":""},{"$f":"IF(C25=0,\"\",IF(OR(EB25<>0,EA25=1),EB25,\" -\"))","v":""},{"$f":"IF(C25=0,\"\",IF(OR(EM25<>0,EL25=1),EM25,\" -\"))","v":""},{"$f":"IF(C25=0,\"\",IF(OR(EX25<>0,EW25=1),EX25,\" -\"))","v":""},{"$f":"IF(C25=0,\"\",IF(OR(FI25<>0,FH25=1),FI25,\" -\"))","v":""},{"$f":"IF(C25=0,\"\",IF(OR(FT25<>0,FS25=1),FT25,\" -\"))","v":""},{"$f":"IF(C25=0,\"\",IF(OR(GE25<>0,GD25=1),GE25,\" -\"))","v":""},{"$f":"IF(C25=0,\"\",IF(OR(GP25<>0,GO25=1),GP25,\" -\"))","v":""},{"$f":"IF(C25=0,\"\",IF(OR(HA25<>0,GZ25=1),HA25,\" -\"))","v":""},{"$f":"IF(C25=0,\"\",IF(OR(HL25<>0,HK25=1),HL25,\" -\"))","v":""},{"$f":"IF(C25=0,\"\",IF(AJ25<>0,AJ25,\" -\"))","v":""},{"$f":"IF(C25=0,\"\",IF(OR(HW25<>0,HV25=1),HW25,\" -\"))","v":""},{"$f":"IF(C25=0,\"\",IF(OR(IH25<>0,IG25=1),IH25,\" -\"))","v":""},{"$f":"IF(C25=0,\"\",IF(AL25=1,\"DNF\",IF(AL25=2,\"DSQ\",IF(AM25<>1,\"~ \"&ROUND(SUM(H25:X25),3),ROUND(SUM(H25:X25),3)))))","v":""},null,null,{"$f":"IF(C25<>\"\",C25,\"\")","v":""},{"$f":"IF(AD25<>\"\",3,\"\")","v":""},null,null,{"$f":"IF(AD25<>\"\",(AF25/1000*AG25/1000)/2,\"\")","v":""},null,null,null,null,null,null,null,{"$f":"IF(C25=0,99999,IF(AL25>0,9999,SUM(H25:X25)-AN25))","v":99999},{"$f":"IF(C25=0,99999,IF(AL25=1,9999,SUM(Y25:Z25)))","v":99999},null,null,{"$f":"IF(C25<>\"\",C25,\"\")","v":""},null,null,null,null,null,null,null,null,{"$f":"IF($C25=\"\",\"\", IF(BB25=1,0,IF(AZ25<>0,500,AU25*$AE25/$AH25+AV25/$AH25*5+AW25/$AH25*25+AX25*50+AY25*50)))","v":""},null,{"$f":"IF(C25<>\"\",C25,\"\")","v":""},null,null,null,null,null,null,null,null,{"$f":"IF($C25=\"\",\"\", IF(BM25=1,0,IF(BK25<>0,500,BF25*$AE25/$AH25+BG25/$AH25*5+BH25/$AH25*25+BI25*50+BJ25*50)))","v":""},null,{"$f":"IF(C25<>\"\",C25,\"\")","v":""},null,null,null,null,null,null,null,null,{"$f":"IF($C25=\"\",\"\", IF(BX25=1,0,IF(BV25<>0,500,BQ25*$AE25/$AH25+BR25/$AH25*5+BS25/$AH25*25+BT25*50+BU25*50)))","v":""},null,{"$f":"IF(C25<>\"\",C25,\"\")","v":""},null,null,null,null,null,null,null,null,{"$f":"IF($C25=\"\",\"\", IF(CI25=1,0,IF(CG25<>0,500,CB25*$AE25/$AH25+CC25/$AH25*5+CD25/$AH25*25+CE25*50+CF25*50)))","v":""},null,{"$f":"IF(C25<>\"\",C25,\"\")","v":""},null,null,null,null,null,null,null,null,{"$f":"IF($C25=\"\",\"\", IF(CT25=1,0,IF(CR25<>0,500,CM25*$AE25/$AH25+CN25/$AH25*5+CO25/$AH25*25+CP25*50+CQ25*50)))","v":""},null,{"$f":"IF(C25<>\"\",C25,\"\")","v":""},null,null,null,null,null,null,null,null,{"$f":"IF($C25=\"\",\"\", IF(DE25=1,0,IF(DC25<>0,500,CX25*$AE25/$AH25+CY25/$AH25*5+CZ25/$AH25*25+DA25*50+DB25*50)))","v":""},null,{"$f":"IF(C25<>\"\",C25,\"\")","v":""},null,null,null,null,null,null,null,null,{"$f":"IF($C25=\"\",\"\", IF(DP25=1,0,IF(DN25<>0,500,DI25*$AE25/$AH25+DJ25/$AH25*5+DK25/$AH25*25+DL25*50+DM25*50)))","v":""},null,{"$f":"IF(C25<>\"\",C25,\"\")","v":""},null,null,null,null,null,null,null,null,{"$f":"IF($C25=\"\",\"\", IF(EA25=1,0,IF(DY25<>0,500,DT25*$AE25/$AH25+DU25/$AH25*5+DV25/$AH25*25+DW25*50+DX25*50)))","v":""},null,{"$f":"IF(C25<>\"\",C25,\"\")","v":""},null,null,null,null,null,null,null,null,{"$f":"IF($C25=\"\",\"\", IF(EL25=1,0,IF(EJ25<>0,500,EE25*$AE25/$AH25+EF25/$AH25*5+EG25/$AH25*25+EH25*50+EI25*50)))","v":""},null,{"$f":"IF(C25<>\"\",C25,\"\")","v":""},null,null,null,null,null,null,null,null,{"$f":"IF($C25=\"\",\"\", IF(EW25=1,0,IF(EU25<>0,500,EP25*$AE25/$AH25+EQ25/$AH25*5+ER25/$AH25*25+ES25*50+ET25*50)))","v":""},null,{"$f":"IF(C25<>\"\",C25,\"\")","v":""},null,null,null,null,null,null,null,null,{"$f":"IF($C25=\"\",\"\", IF(FH25=1,0,IF(FF25<>0,500,FA25*$AE25/$AH25+FB25/$AH25*5+FC25/$AH25*25+FD25*50+FE25*50)))","v":""},null,{"$f":"IF(C25<>\"\",C25,\"\")","v":""},null,null,null,null,null,null,null,null,{"$f":"IF($C25=\"\",\"\", IF(FS25=1,0,IF(FQ25<>0,500,FL25*$AE25/$AH25+FM25/$AH25*5+FN25/$AH25*25+FO25*50+FP25*50)))","v":""},null,{"$f":"IF(C25<>\"\",C25,\"\")","v":""},null,null,null,null,null,null,null,null,{"$f":"IF($C25=\"\",\"\", IF(GD25=1,0,IF(GB25<>0,500,FW25*$AE25/$AH25+FX25/$AH25*5+FY25/$AH25*25+FZ25*50+GA25*50)))","v":""},null,{"$f":"IF(C25<>\"\",C25,\"\")","v":""},null,null,null,null,null,null,null,null,{"$f":"IF($C25=\"\",\"\", IF(GO25=1,0,IF(GM25<>0,500,GH25*$AE25/$AH25+GI25/$AH25*5+GJ25/$AH25*25+GK25*50+GL25*50)))","v":""},null,{"$f":"IF(C25<>\"\",C25,\"\")","v":""},null,null,null,null,null,null,null,null,{"$f":"IF($C25=\"\",\"\", IF(GZ25=1,0,IF(GX25<>0,500,GS25*$AE25/$AH25+GT25/$AH25*5+GU25/$AH25*25+GV25*50+GW25*50)))","v":""},null,{"$f":"IF(C25<>\"\",C25,\"\")","v":""},null,null,null,null,null,null,null,null,{"$f":"IF($C25=\"\",\"\", IF(HK25=1,0,IF(HI25<>0,500,HD25*$AE25/$AH25+HE25/$AH25*5+HF25/$AH25*25+HG25*50+HH25*50)))","v":""},null,{"$f":"IF(C25<>\"\",C25,\"\")","v":""},null,null,null,null,null,null,null,null,{"$f":"IF($C25=\"\",\"\", IF(HV25=1,0,IF(HT25<>0,500,HO25*$AE25/$AH25+HP25/$AH25*5+HQ25/$AH25*25+HR25*50+HS25*50)))","v":""},null,{"$f":"IF(C25<>\"\",C25,\"\")","v":""},null,null,null,null,null,null,null,null,{"$f":"IF($C25=\"\",\"\", IF(IG25=1,0,IF(IE25<>0,500,HZ25*$AE25/$AH25+IA25/$AH25*5+IB25/$AH25*25+IC25*50+ID25*50)))","v":""}]
[null,{"$f":"IF(C26=0,\"\",ROW(C26)-4)","v":""},null,null,null,null,null,{"$f":"IF(C26=0,\"\",IF(OR(BB26=1,BC26<>0),BC26,\"-\"))","v":""},{"$f":"IF(C26=0,\"\",IF(OR(BM26=1,BN26<>0),BN26,\"-\"))","v":""},{"$f":"IF(C26=0,\"\",IF(OR(BX26=1,BY26<>0),BY26,\" -\"))","v":""},{"$f":"IF(C26=0,\"\",IF(OR(CJ26<>0,CI26=1),CJ26,\" -\"))","v":""},{"$f":"IF(C26=0,\"\",IF(OR(CU26<>0,CT26=1),CU26,\" -\"))","v":""},{"$f":"IF(C26=0,\"\",IF(OR(DF26<>0,DE26=1),DF26,\" -\"))","v":""},{"$f":"IF(C26=0,\"\",IF(OR(DQ26<>0,DP26=1),DQ26,\" -\"))","v":""},{"$f":"IF(C26=0,\"\",IF(OR(EB26<>0,EA26=1),EB26,\" -\"))","v":""},{"$f":"IF(C26=0,\"\",IF(OR(EM26<>0,EL26=1),EM26,\" -\"))","v":""},{"$f":"IF(C26=0,\"\",IF(OR(EX26<>0,EW26=1),EX26,\" -\"))","v":""},{"$f":"IF(C26=0,\"\",IF(OR(FI26<>0,FH26=1),FI26,\" -\"))","v":""},{"$f":"IF(C26=0,\"\",IF(OR(FT26<>0,FS26=1),FT26,\" -\"))","v":""},{"$f":"IF(C26=0,\"\",IF(OR(GE26<>0,GD26=1),GE26,\" -\"))","v":""},{"$f":"IF(C26=0,\"\",IF(OR(GP26<>0,GO26=1),GP26,\" -\"))","v":""},{"$f":"IF(C26=0,\"\",IF(OR(HA26<>0,GZ26=1),HA26,\" -\"))","v":""},{"$f":"IF(C26=0,\"\",IF(OR(HL26<>0,HK26=1),HL26,\" -\"))","v":""},{"$f":"IF(C26=0,\"\",IF(AJ26<>0,AJ26,\" -\"))","v":""},{"$f":"IF(C26=0,\"\",IF(OR(HW26<>0,HV26=1),HW26,\" -\"))","v":""},{"$f":"IF(C26=0,\"\",IF(OR(IH26<>0,IG26=1),IH26,\" -\"))","v":""},{"$f":"IF(C26=0,\"\",IF(AL26=1,\"DNF\",IF(AL26=2,\"DSQ\",IF(AM26<>1,\"~ \"&ROUND(SUM(H26:X26),3),ROUND(SUM(H26:X26),3)))))","v":""},null,null,{"$f":"IF(C26<>\"\",C26,\"\")","v":""},{"$f":"IF(AD26<>\"\",3,\"\")","v":""},null,null,{"$f":"IF(AD26<>\"\",(AF26/1000*AG26/1000)/2,\"\")","v":""},null,null,null,null,null,null,null,{"$f":"IF(C26=0,99999,IF(AL26>0,9999,SUM(H26:X26)-AN26))","v":99999},{"$f":"IF(C26=0,99999,IF(AL26=1,9999,SUM(Y26:Z26)))","v":99999},null,null,{"$f":"IF(C26<>\"\",C26,\"\")","v":""},null,null,null,null,null,null,null,null,{"$f":"IF($C26=\"\",\"\", IF(BB26=1,0,IF(AZ26<>0,500,AU26*$AE26/$AH26+AV26/$AH26*5+AW26/$AH26*25+AX26*50+AY26*50)))","v":""},null,{"$f":"IF(C26<>\"\",C26,\"\")","v":""},null,null,null,null,null,null,null,null,{"$f":"IF($C26=\"\",\"\", IF(BM26=1,0,IF(BK26<>0,500,BF26*$AE26/$AH26+BG26/$AH26*5+BH26/$AH26*25+BI26*50+BJ26*50)))","v":""},null,{"$f":"IF(C26<>\"\",C26,\"\")","v":""},null,null,null,null,null,null,null,null,{"$f":"IF($C26=\"\",\"\", IF(BX26=1,0,IF(BV26<>0,500,BQ26*$AE26/$AH26+BR26/$AH26*5+BS26/$AH26*25+BT26*50+BU26*50)))","v":""},null,{"$f":"IF(C26<>\"\",C26,\"\")","v":""},null,null,null,null,null,null,null,null,{"$f":"IF($C26=\"\",\"\", IF(CI26=1,0,IF(CG26<>0,500,CB26*$AE26/$AH26+CC26/$AH26*5+CD26/$AH26*25+CE26*50+CF26*50)))","v":""},null,{"$f":"IF(C26<>\"\",C26,\"\")","v":""},null,null,null,null,null,null,null,null,{"$f":"IF($C26=\"\",\"\", IF(CT26=1,0,IF(CR26<>0,500,CM26*$AE26/$AH26+CN26/$AH26*5+CO26/$AH26*25+CP26*50+CQ26*50)))","v":""},null,{"$f":"IF(C26<>\"\",C26,\"\")","v":""},null,null,null,null,null,null,null,null,{"$f":"IF($C26=\"\",\"\", IF(DE26=1,0,IF(DC26<>0,500,CX26*$AE26/$AH26+CY26/$AH26*5+CZ26/$AH26*25+DA26*50+DB26*50)))","v":""},null,{"$f":"IF(C26<>\"\",C26,\"\")","v":""},null,null,null,null,null,null,null,null,{"$f":"IF($C26=\"\",\"\", IF(DP26=1,0,IF(DN26<>0,500,DI26*$AE26/$AH26+DJ26/$AH26*5+DK26/$AH26*25+DL26*50+DM26*50)))","v":""},null,{"$f":"IF(C26<>\"\",C26,\"\")","v":""},null,null,null,null,null,null,null,null,{"$f":"IF($C26=\"\",\"\", IF(EA26=1,0,IF(DY26<>0,500,DT26*$AE26/$AH26+DU26/$AH26*5+DV26/$AH26*25+DW26*50+DX26*50)))","v":""},null,{"$f":"IF(C26<>\"\",C26,\"\")","v":""},null,null,null,null,null,null,null,null,{"$f":"IF($C26=\"\",\"\", IF(EL26=1,0,IF(EJ26<>0,500,EE26*$AE26/$AH26+EF26/$AH26*5+EG26/$AH26*25+EH26*50+EI26*50)))","v":""},null,{"$f":"IF(C26<>\"\",C26,\"\")","v":""},null,null,null,null,null,null,null,null,{"$f":"IF($C26=\"\",\"\", IF(EW26=1,0,IF(EU26<>0,500,EP26*$AE26/$AH26+EQ26/$AH26*5+ER26/$AH26*25+ES26*50+ET26*50)))","v":""},null,{"$f":"IF(C26<>\"\",C26,\"\")","v":""},null,null,null,null,null,null,null,null,{"$f":"IF($C26=\"\",\"\", IF(FH26=1,0,IF(FF26<>0,500,FA26*$AE26/$AH26+FB26/$AH26*5+FC26/$AH26*25+FD26*50+FE26*50)))","v":""},null,{"$f":"IF(C26<>\"\",C26,\"\")","v":""},null,null,null,null,null,null,null,null,{"$f":"IF($C26=\"\",\"\", IF(FS26=1,0,IF(FQ26<>0,500,FL26*$AE26/$AH26+FM26/$AH26*5+FN26/$AH26*25+FO26*50+FP26*50)))","v":""},null,{"$f":"IF(C26<>\"\",C26,\"\")","v":""},null,null,null,null,null,null,null,null,{"$f":"IF($C26=\"\",\"\", IF(GD26=1,0,IF(GB26<>0,500,FW26*$AE26/$AH26+FX26/$AH26*5+FY26/$AH26*25+FZ26*50+GA26*50)))","v":""},null,{"$f":"IF(C26<>\"\",C26,\"\")","v":""},null,null,null,null,null,null,null,null,{"$f":"IF($C26=\"\",\"\", IF(GO26=1,0,IF(GM26<>0,500,GH26*$AE26/$AH26+GI26/$AH26*5+GJ26/$AH26*25+GK26*50+GL26*50)))","v":""},null,{"$f":"IF(C26<>\"\",C26,\"\")","v":""},null,null,null,null,null,null,null,null,{"$f":"IF($C26=\"\",\"\", IF(GZ26=1,0,IF(GX26<>0,500,GS26*$AE26/$AH26+GT26/$AH26*5+GU26/$AH26*25+GV26*50+GW26*50)))","v":""},null,{"$f":"IF(C26<>\"\",C26,\"\")","v":""},null,null,null,null,null,null,null,null,{"$f":"IF($C26=\"\",\"\", IF(HK26=1,0,IF(HI26<>0,500,HD26*$AE26/$AH26+HE26/$AH26*5+HF26/$AH26*25+HG26*50+HH26*50)))","v":""},null,{"$f":"IF(C26<>\"\",C26,\"\")","v":""},null,null,null,null,null,null,null,null,{"$f":"IF($C26=\"\",\"\", IF(HV26=1,0,IF(HT26<>0,500,HO26*$AE26/$AH26+HP26/$AH26*5+HQ26/$AH26*25+HR26*50+HS26*50)))","v":""},null,{"$f":"IF(C26<>\"\",C26,\"\")","v":""},null,null,null,null,null,null,null,null,{"$f":"IF($C26=\"\",\"\", IF(IG26=1,0,IF(IE26<>0,500,HZ26*$AE26/$AH26+IA26/$AH26*5+IB26/$AH26*25+IC26*50+ID26*50)))","v":""}]
[null,{"$f":"IF(C27=0,\"\",ROW(C27)-4)","v":""},null,null,null,null,null,{"$f":"IF(C27=0,\"\",IF(OR(BB27=1,BC27<>0),BC27,\"-\"))","v":""},{"$f":"IF(C27=0,\"\",IF(OR(BM27=1,BN27<>0),BN27,\"-\"))","v":""},{"$f":"IF(C27=0,\"\",IF(OR(BX27=1,BY27<>0),BY27,\" -\"))","v":""},{"$f":"IF(C27=0,\"\",IF(OR(CJ27<>0,CI27=1),CJ27,\" -\"))","v":""},{"$f":"IF(C27=0,\"\",IF(OR(CU27<>0,CT27=1),CU27,\" -\"))","v":""},{"$f":"IF(C27=0,\"\",IF(OR(DF27<>0,DE27=1),DF27,\" -\"))","v":""},{"$f":"IF(C27=0,\"\",IF(OR(DQ27<>0,DP27=1),DQ27,\" -\"))","v":""},{"$f":"IF(C27=0,\"\",IF(OR(EB27<>0,EA27=1),EB27,\" -\"))","v":""},{"$f":"IF(C27=0,\"\",IF(OR(EM27<>0,EL27=1),EM27,\" -\"))","v":""},{"$f":"IF(C27=0,\"\",IF(OR(EX27<>0,EW27=1),EX27,\" -\"))","v":""},{"$f":"IF(C27=0,\"\",IF(OR(FI27<>0,FH27=1),FI27,\" -\"))","v":""},{"$f":"IF(C27=0,\"\",IF(OR(FT27<>0,FS27=1),FT27,\" -\"))","v":""},{"$f":"IF(C27=0,\"\",IF(OR(GE27<>0,GD27=1),GE27,\" -\"))","v":""},{"$f":"IF(C27=0,\"\",IF(OR(GP27<>0,GO27=1),GP27,\" -\"))","v":""},{"$f":"IF(C27=0,\"\",IF(OR(HA27<>0,GZ27=1),HA27,\" -\"))","v":""},{"$f":"IF(C27=0,\"\",IF(OR(HL27<>0,HK27=1),HL27,\" -\"))","v":""},{"$f":"IF(C27=0,\"\",IF(AJ27<>0,AJ27,\" -\"))","v":""},{"$f":"IF(C27=0,\"\",IF(OR(HW27<>0,HV27=1),HW27,\" -\"))","v":""},{"$f":"IF(C27=0,\"\",IF(OR(IH27<>0,IG27=1),IH27,\" -\"))","v":""},{"$f":"IF(C27=0,\"\",IF(AL27=1,\"DNF\",IF(AL27=2,\"DSQ\",IF(AM27<>1,\"~ \"&ROUND(SUM(H27:X27),3),ROUND(SUM(H27:X27),3)))))","v":""},null,null,{"$f":"IF(C27<>\"\",C27,\"\")","v":""},{"$f":"IF(AD27<>\"\",3,\"\")","v":""},null,null,{"$f":"IF(AD27<>\"\",(AF27/1000*AG27/1000)/2,\"\")","v":""},null,null,null,null,null,null,null,{"$f":"IF(C27=0,99999,IF(AL27>0,9999,SUM(H27:X27)-AN27))","v":99999},{"$f":"IF(C27=0,99999,IF(AL27=1,9999,SUM(Y27:Z27)))","v":99999},null,null,{"$f":"IF(C27<>\"\",C27,\"\")","v":""},null,null,null,null,null,null,null,null,{"$f":"IF($C27=\"\",\"\", IF(BB27=1,0,IF(AZ27<>0,500,AU27*$AE27/$AH27+AV27/$AH27*5+AW27/$AH27*25+AX27*50+AY27*50)))","v":""},null,{"$f":"IF(C27<>\"\",C27,\"\")","v":""},null,null,null,null,null,null,null,null,{"$f":"IF($C27=\"\",\"\", IF(BM27=1,0,IF(BK27<>0,500,BF27*$AE27/$AH27+BG27/$AH27*5+BH27/$AH27*25+BI27*50+BJ27*50)))","v":""},null,{"$f":"IF(C27<>\"\",C27,\"\")","v":""},null,null,null,null,null,null,null,null,{"$f":"IF($C27=\"\",\"\", IF(BX27=1,0,IF(BV27<>0,500,BQ27*$AE27/$AH27+BR27/$AH27*5+BS27/$AH27*25+BT27*50+BU27*50)))","v":""},null,{"$f":"IF(C27<>\"\",C27,\"\")","v":""},null,null,null,null,null,null,null,null,{"$f":"IF($C27=\"\",\"\", IF(CI27=1,0,IF(CG27<>0,500,CB27*$AE27/$AH27+CC27/$AH27*5+CD27/$AH27*25+CE27*50+CF27*50)))","v":""},null,{"$f":"IF(C27<>\"\",C27,\"\")","v":""},null,null,null,null,null,null,null,null,{"$f":"IF($C27=\"\",\"\", IF(CT27=1,0,IF(CR27<>0,500,CM27*$AE27/$AH27+CN27/$AH27*5+CO27/$AH27*25+CP27*50+CQ27*50)))","v":""},null,{"$f":"IF(C27<>\"\",C27,\"\")","v":""},null,null,null,null,null,null,null,null,{"$f":"IF($C27=\"\",\"\", IF(DE27=1,0,IF(DC27<>0,500,CX27*$AE27/$AH27+CY27/$AH27*5+CZ27/$AH27*25+DA27*50+DB27*50)))","v":""},null,{"$f":"IF(C27<>\"\",C27,\"\")","v":""},null,null,null,null,null,null,null,null,{"$f":"IF($C27=\"\",\"\", IF(DP27=1,0,IF(DN27<>0,500,DI27*$AE27/$AH27+DJ27/$AH27*5+DK27/$AH27*25+DL27*50+DM27*50)))","v":""},null,{"$f":"IF(C27<>\"\",C27,\"\")","v":""},null,null,null,null,null,null,null,null,{"$f":"IF($C27=\"\",\"\", IF(EA27=1,0,IF(DY27<>0,500,DT27*$AE27/$AH27+DU27/$AH27*5+DV27/$AH27*25+DW27*50+DX27*50)))","v":""},null,{"$f":"IF(C27<>\"\",C27,\"\")","v":""},null,null,null,null,null,null,null,null,{"$f":"IF($C27=\"\",\"\", IF(EL27=1,0,IF(EJ27<>0,500,EE27*$AE27/$AH27+EF27/$AH27*5+EG27/$AH27*25+EH27*50+EI27*50)))","v":""},null,{"$f":"IF(C27<>\"\",C27,\"\")","v":""},null,null,null,null,null,null,null,null,{"$f":"IF($C27=\"\",\"\", IF(EW27=1,0,IF(EU27<>0,500,EP27*$AE27/$AH27+EQ27/$AH27*5+ER27/$AH27*25+ES27*50+ET27*50)))","v":""},null,{"$f":"IF(C27<>\"\",C27,\"\")","v":""},null,null,null,null,null,null,null,null,{"$f":"IF($C27=\"\",\"\", IF(FH27=1,0,IF(FF27<>0,500,FA27*$AE27/$AH27+FB27/$AH27*5+FC27/$AH27*25+FD27*50+FE27*50)))","v":""},null,{"$f":"IF(C27<>\"\",C27,\"\")","v":""},null,null,null,null,null,null,null,null,{"$f":"IF($C27=\"\",\"\", IF(FS27=1,0,IF(FQ27<>0,500,FL27*$AE27/$AH27+FM27/$AH27*5+FN27/$AH27*25+FO27*50+FP27*50)))","v":""},null,{"$f":"IF(C27<>\"\",C27,\"\")","v":""},null,null,null,null,null,null,null,null,{"$f":"IF($C27=\"\",\"\", IF(GD27=1,0,IF(GB27<>0,500,FW27*$AE27/$AH27+FX27/$AH27*5+FY27/$AH27*25+FZ27*50+GA27*50)))","v":""},null,{"$f":"IF(C27<>\"\",C27,\"\")","v":""},null,null,null,null,null,null,null,null,{"$f":"IF($C27=\"\",\"\", IF(GO27=1,0,IF(GM27<>0,500,GH27*$AE27/$AH27+GI27/$AH27*5+GJ27/$AH27*25+GK27*50+GL27*50)))","v":""},null,{"$f":"IF(C27<>\"\",C27,\"\")","v":""},null,null,null,null,null,null,null,null,{"$f":"IF($C27=\"\",\"\", IF(GZ27=1,0,IF(GX27<>0,500,GS27*$AE27/$AH27+GT27/$AH27*5+GU27/$AH27*25+GV27*50+GW27*50)))","v":""},null,{"$f":"IF(C27<>\"\",C27,\"\")","v":""},null,null,null,null,null,null,null,null,{"$f":"IF($C27=\"\",\"\", IF(HK27=1,0,IF(HI27<>0,500,HD27*$AE27/$AH27+HE27/$AH27*5+HF27/$AH27*25+HG27*50+HH27*50)))","v":""},null,{"$f":"IF(C27<>\"\",C27,\"\")","v":""},null,null,null,null,null,null,null,null,{"$f":"IF($C27=\"\",\"\", IF(HV27=1,0,IF(HT27<>0,500,HO27*$AE27/$AH27+HP27/$AH27*5+HQ27/$AH27*25+HR27*50+HS27*50)))","v":""},null,{"$f":"IF(C27<>\"\",C27,\"\")","v":""},null,null,null,null,null,null,null,null,{"$f":"IF($C27=\"\",\"\", IF(IG27=1,0,IF(IE27<>0,500,HZ27*$AE27/$AH27+IA27/$AH27*5+IB27/$AH27*25+IC27*50+ID27*50)))","v":""}]
[null,{"$f":"IF(C28=0,\"\",ROW(C28)-4)","v":""},null,null,null,null,null,{"$f":"IF(C28=0,\"\",IF(OR(BB28=1,BC28<>0),BC28,\"-\"))","v":""},{"$f":"IF(C28=0,\"\",IF(OR(BM28=1,BN28<>0),BN28,\"-\"))","v":""},{"$f":"IF(C28=0,\"\",IF(OR(BX28=1,BY28<>0),BY28,\" -\"))","v":""},{"$f":"IF(C28=0,\"\",IF(OR(CJ28<>0,CI28=1),CJ28,\" -\"))","v":""},{"$f":"IF(C28=0,\"\",IF(OR(CU28<>0,CT28=1),CU28,\" -\"))","v":""},{"$f":"IF(C28=0,\"\",IF(OR(DF28<>0,DE28=1),DF28,\" -\"))","v":""},{"$f":"IF(C28=0,\"\",IF(OR(DQ28<>0,DP28=1),DQ28,\" -\"))","v":""},{"$f":"IF(C28=0,\"\",IF(OR(EB28<>0,EA28=1),EB28,\" -\"))","v":""},{"$f":"IF(C28=0,\"\",IF(OR(EM28<>0,EL28=1),EM28,\" -\"))","v":""},{"$f":"IF(C28=0,\"\",IF(OR(EX28<>0,EW28=1),EX28,\" -\"))","v":""},{"$f":"IF(C28=0,\"\",IF(OR(FI28<>0,FH28=1),FI28,\" -\"))","v":""},{"$f":"IF(C28=0,\"\",IF(OR(FT28<>0,FS28=1),FT28,\" -\"))","v":""},{"$f":"IF(C28=0,\"\",IF(OR(GE28<>0,GD28=1),GE28,\" -\"))","v":""},{"$f":"IF(C28=0,\"\",IF(OR(GP28<>0,GO28=1),GP28,\" -\"))","v":""},{"$f":"IF(C28=0,\"\",IF(OR(HA28<>0,GZ28=1),HA28,\" -\"))","v":""},{"$f":"IF(C28=0,\"\",IF(OR(HL28<>0,HK28=1),HL28,\" -\"))","v":""},{"$f":"IF(C28=0,\"\",IF(AJ28<>0,AJ28,\" -\"))","v":""},{"$f":"IF(C28=0,\"\",IF(OR(HW28<>0,HV28=1),HW28,\" -\"))","v":""},{"$f":"IF(C28=0,\"\",IF(OR(IH28<>0,IG28=1),IH28,\" -\"))","v":""},{"$f":"IF(C28=0,\"\",IF(AL28=1,\"DNF\",IF(AL28=2,\"DSQ\",IF(AM28<>1,\"~ \"&ROUND(SUM(H28:X28),3),ROUND(SUM(H28:X28),3)))))","v":""},null,null,{"$f":"IF(C28<>\"\",C28,\"\")","v":""},{"$f":"IF(AD28<>\"\",3,\"\")","v":""},null,null,{"$f":"IF(AD28<>\"\",(AF28/1000*AG28/1000)/2,\"\")","v":""},null,null,null,null,null,null,null,{"$f":"IF(C28=0,99999,IF(AL28>0,9999,SUM(H28:X28)-AN28))","v":99999},{"$f":"IF(C28=0,99999,IF(AL28=1,9999,SUM(Y28:Z28)))","v":99999},null,null,{"$f":"IF(C28<>\"\",C28,\"\")","v":""},null,null,null,null,null,null,null,null,{"$f":"IF($C28=\"\",\"\", IF(BB28=1,0,IF(AZ28<>0,500,AU28*$AE28/$AH28+AV28/$AH28*5+AW28/$AH28*25+AX28*50+AY28*50)))","v":""},null,{"$f":"IF(C28<>\"\",C28,\"\")","v":""},null,null,null,null,null,null,null,null,{"$f":"IF($C28=\"\",\"\", IF(BM28=1,0,IF(BK28<>0,500,BF28*$AE28/$AH28+BG28/$AH28*5+BH28/$AH28*25+BI28*50+BJ28*50)))","v":""},null,{"$f":"IF(C28<>\"\",C28,\"\")","v":""},null,null,null,null,null,null,null,null,{"$f":"IF($C28=\"\",\"\", IF(BX28=1,0,IF(BV28<>0,500,BQ28*$AE28/$AH28+BR28/$AH28*5+BS28/$AH28*25+BT28*50+BU28*50)))","v":""},null,{"$f":"IF(C28<>\"\",C28,\"\")","v":""},null,null,null,null,null,null,null,null,{"$f":"IF($C28=\"\",\"\", IF(CI28=1,0,IF(CG28<>0,500,CB28*$AE28/$AH28+CC28/$AH28*5+CD28/$AH28*25+CE28*50+CF28*50)))","v":""},null,{"$f":"IF(C28<>\"\",C28,\"\")","v":""},null,null,null,null,null,null,null,null,{"$f":"IF($C28=\"\",\"\", IF(CT28=1,0,IF(CR28<>0,500,CM28*$AE28/$AH28+CN28/$AH28*5+CO28/$AH28*25+CP28*50+CQ28*50)))","v":""},null,{"$f":"IF(C28<>\"\",C28,\"\")","v":""},null,null,null,null,null,null,null,null,{"$f":"IF($C28=\"\",\"\", IF(DE28=1,0,IF(DC28<>0,500,CX28*$AE28/$AH28+CY28/$AH28*5+CZ28/$AH28*25+DA28*50+DB28*50)))","v":""},null,{"$f":"IF(C28<>\"\",C28,\"\")","v":""},null,null,null,null,null,null,null,null,{"$f":"IF($C28=\"\",\"\", IF(DP28=1,0,IF(DN28<>0,500,DI28*$AE28/$AH28+DJ28/$AH28*5+DK28/$AH28*25+DL28*50+DM28*50)))","v":""},null,{"$f":"IF(C28<>\"\",C28,\"\")","v":""},null,null,null,null,null,null,null,null,{"$f":"IF($C28=\"\",\"\", IF(EA28=1,0,IF(DY28<>0,500,DT28*$AE28/$AH28+DU28/$AH28*5+DV28/$AH28*25+DW28*50+DX28*50)))","v":""},null,{"$f":"IF(C28<>\"\",C28,\"\")","v":""},null,null,null,null,null,null,null,null,{"$f":"IF($C28=\"\",\"\", IF(EL28=1,0,IF(EJ28<>0,500,EE28*$AE28/$AH28+EF28/$AH28*5+EG28/$AH28*25+EH28*50+EI28*50)))","v":""},null,{"$f":"IF(C28<>\"\",C28,\"\")","v":""},null,null,null,null,null,null,null,null,{"$f":"IF($C28=\"\",\"\", IF(EW28=1,0,IF(EU28<>0,500,EP28*$AE28/$AH28+EQ28/$AH28*5+ER28/$AH28*25+ES28*50+ET28*50)))","v":""},null,{"$f":"IF(C28<>\"\",C28,\"\")","v":""},null,null,null,null,null,null,null,null,{"$f":"IF($C28=\"\",\"\", IF(FH28=1,0,IF(FF28<>0,500,FA28*$AE28/$AH28+FB28/$AH28*5+FC28/$AH28*25+FD28*50+FE28*50)))","v":""},null,{"$f":"IF(C28<>\"\",C28,\"\")","v":""},null,null,null,null,null,null,null,null,{"$f":"IF($C28=\"\",\"\", IF(FS28=1,0,IF(FQ28<>0,500,FL28*$AE28/$AH28+FM28/$AH28*5+FN28/$AH28*25+FO28*50+FP28*50)))","v":""},null,{"$f":"IF(C28<>\"\",C28,\"\")","v":""},null,null,null,null,null,null,null,null,{"$f":"IF($C28=\"\",\"\", IF(GD28=1,0,IF(GB28<>0,500,FW28*$AE28/$AH28+FX28/$AH28*5+FY28/$AH28*25+FZ28*50+GA28*50)))","v":""},null,{"$f":"IF(C28<>\"\",C28,\"\")","v":""},null,null,null,null,null,null,null,null,{"$f":"IF($C28=\"\",\"\", IF(GO28=1,0,IF(GM28<>0,500,GH28*$AE28/$AH28+GI28/$AH28*5+GJ28/$AH28*25+GK28*50+GL28*50)))","v":""},null,{"$f":"IF(C28<>\"\",C28,\"\")","v":""},null,null,null,null,null,null,null,null,{"$f":"IF($C28=\"\",\"\", IF(GZ28=1,0,IF(GX28<>0,500,GS28*$AE28/$AH28+GT28/$AH28*5+GU28/$AH28*25+GV28*50+GW28*50)))","v":""},null,{"$f":"IF(C28<>\"\",C28,\"\")","v":""},null,null,null,null,null,null,null,null,{"$f":"IF($C28=\"\",\"\", IF(HK28=1,0,IF(HI28<>0,500,HD28*$AE28/$AH28+HE28/$AH28*5+HF28/$AH28*25+HG28*50+HH28*50)))","v":""},null,{"$f":"IF(C28<>\"\",C28,\"\")","v":""},null,null,null,null,null,null,null,null,{"$f":"IF($C28=\"\",\"\", IF(HV28=1,0,IF(HT28<>0,500,HO28*$AE28/$AH28+HP28/$AH28*5+HQ28/$AH28*25+HR28*50+HS28*50)))","v":""},null,{"$f":"IF(C28<>\"\",C28,\"\")","v":""},null,null,null,null,null,null,null,null,{"$f":"IF($C28=\"\",\"\", IF(IG28=1,0,IF(IE28<>0,500,HZ28*$AE28/$AH28+IA28/$AH28*5+IB28/$AH28*25+IC28*50+ID28*50)))","v":""}]
[null,{"$f":"IF(C29=0,\"\",ROW(C29)-4)","v":""},null,null,null,null,null,{"$f":"IF(C29=0,\"\",IF(OR(BB29=1,BC29<>0),BC29,\"-\"))","v":""},{"$f":"IF(C29=0,\"\",IF(OR(BM29=1,BN29<>0),BN29,\"-\"))","v":""},{"$f":"IF(C29=0,\"\",IF(OR(BX29=1,BY29<>0),BY29,\" -\"))","v":""},{"$f":"IF(C29=0,\"\",IF(OR(CJ29<>0,CI29=1),CJ29,\" -\"))","v":""},{"$f":"IF(C29=0,\"\",IF(OR(CU29<>0,CT29=1),CU29,\" -\"))","v":""},{"$f":"IF(C29=0,\"\",IF(OR(DF29<>0,DE29=1),DF29,\" -\"))","v":""},{"$f":"IF(C29=0,\"\",IF(OR(DQ29<>0,DP29=1),DQ29,\" -\"))","v":""},{"$f":"IF(C29=0,\"\",IF(OR(EB29<>0,EA29=1),EB29,\" -\"))","v":""},{"$f":"IF(C29=0,\"\",IF(OR(EM29<>0,EL29=1),EM29,\" -\"))","v":""},{"$f":"IF(C29=0,\"\",IF(OR(EX29<>0,EW29=1),EX29,\" -\"))","v":""},{"$f":"IF(C29=0,\"\",IF(OR(FI29<>0,FH29=1),FI29,\" -\"))","v":""},{"$f":"IF(C29=0,\"\",IF(OR(FT29<>0,FS29=1),FT29,\" -\"))","v":""},{"$f":"IF(C29=0,\"\",IF(OR(GE29<>0,GD29=1),GE29,\" -\"))","v":""},{"$f":"IF(C29=0,\"\",IF(OR(GP29<>0,GO29=1),GP29,\" -\"))","v":""},{"$f":"IF(C29=0,\"\",IF(OR(HA29<>0,GZ29=1),HA29,\" -\"))","v":""},{"$f":"IF(C29=0,\"\",IF(OR(HL29<>0,HK29=1),HL29,\" -\"))","v":""},{"$f":"IF(C29=0,\"\",IF(AJ29<>0,AJ29,\" -\"))","v":""},{"$f":"IF(C29=0,\"\",IF(OR(HW29<>0,HV29=1),HW29,\" -\"))","v":""},{"$f":"IF(C29=0,\"\",IF(OR(IH29<>0,IG29=1),IH29,\" -\"))","v":""},{"$f":"IF(C29=0,\"\",IF(AL29=1,\"DNF\",IF(AL29=2,\"DSQ\",IF(AM29<>1,\"~ \"&ROUND(SUM(H29:X29),3),ROUND(SUM(H29:X29),3)))))","v":""},null,null,{"$f":"IF(C29<>\"\",C29,\"\")","v":""},{"$f":"IF(AD29<>\"\",3,\"\")","v":""},null,null,{"$f":"IF(AD29<>\"\",(AF29/1000*AG29/1000)/2,\"\")","v":""},null,null,null,null,null,null,null,{"$f":"IF(C29=0,99999,IF(AL29>0,9999,SUM(H29:X29)-AN29))","v":99999},{"$f":"IF(C29=0,99999,IF(AL29=1,9999,SUM(Y29:Z29)))","v":99999},null,null,{"$f":"IF(C29<>\"\",C29,\"\")","v":""},null,null,null,null,null,null,null,null,{"$f":"IF($C29=\"\",\"\", IF(BB29=1,0,IF(AZ29<>0,500,AU29*$AE29/$AH29+AV29/$AH29*5+AW29/$AH29*25+AX29*50+AY29*50)))","v":""},null,{"$f":"IF(C29<>\"\",C29,\"\")","v":""},null,null,null,null,null,null,null,null,{"$f":"IF($C29=\"\",\"\", IF(BM29=1,0,IF(BK29<>0,500,BF29*$AE29/$AH29+BG29/$AH29*5+BH29/$AH29*25+BI29*50+BJ29*50)))","v":""},null,{"$f":"IF(C29<>\"\",C29,\"\")","v":""},null,null,null,null,null,null,null,null,{"$f":"IF($C29=\"\",\"\", IF(BX29=1,0,IF(BV29<>0,500,BQ29*$AE29/$AH29+BR29/$AH29*5+BS29/$AH29*25+BT29*50+BU29*50)))","v":""},null,{"$f":"IF(C29<>\"\",C29,\"\")","v":""},null,null,null,null,null,null,null,null,{"$f":"IF($C29=\"\",\"\", IF(CI29=1,0,IF(CG29<>0,500,CB29*$AE29/$AH29+CC29/$AH29*5+CD29/$AH29*25+CE29*50+CF29*50)))","v":""},null,{"$f":"IF(C29<>\"\",C29,\"\")","v":""},null,null,null,null,null,null,null,null,{"$f":"IF($C29=\"\",\"\", IF(CT29=1,0,IF(CR29<>0,500,CM29*$AE29/$AH29+CN29/$AH29*5+CO29/$AH29*25+CP29*50+CQ29*50)))","v":""},null,{"$f":"IF(C29<>\"\",C29,\"\")","v":""},null,null,null,null,null,null,null,null,{"$f":"IF($C29=\"\",\"\", IF(DE29=1,0,IF(DC29<>0,500,CX29*$AE29/$AH29+CY29/$AH29*5+CZ29/$AH29*25+DA29*50+DB29*50)))","v":""},null,{"$f":"IF(C29<>\"\",C29,\"\")","v":""},null,null,null,null,null,null,null,null,{"$f":"IF($C29=\"\",\"\", IF(DP29=1,0,IF(DN29<>0,500,DI29*$AE29/$AH29+DJ29/$AH29*5+DK29/$AH29*25+DL29*50+DM29*50)))","v":""},null,{"$f":"IF(C29<>\"\",C29,\"\")","v":""},null,null,null,null,null,null,null,null,{"$f":"IF($C29=\"\",\"\", IF(EA29=1,0,IF(DY29<>0,500,DT29*$AE29/$AH29+DU29/$AH29*5+DV29/$AH29*25+DW29*50+DX29*50)))","v":""},null,{"$f":"IF(C29<>\"\",C29,\"\")","v":""},null,null,null,null,null,null,null,null,{"$f":"IF($C29=\"\",\"\", IF(EL29=1,0,IF(EJ29<>0,500,EE29*$AE29/$AH29+EF29/$AH29*5+EG29/$AH29*25+EH29*50+EI29*50)))","v":""},null,{"$f":"IF(C29<>\"\",C29,\"\")","v":""},null,null,null,null,null,null,null,null,{"$f":"IF($C29=\"\",\"\", IF(EW29=1,0,IF(EU29<>0,500,EP29*$AE29/$AH29+EQ29/$AH29*5+ER29/$AH29*25+ES29*50+ET29*50)))","v":""},null,{"$f":"IF(C29<>\"\",C29,\"\")","v":""},null,null,null,null,null,null,null,null,{"$f":"IF($C29=\"\",\"\", IF(FH29=1,0,IF(FF29<>0,500,FA29*$AE29/$AH29+FB29/$AH29*5+FC29/$AH29*25+FD29*50+FE29*50)))","v":""},null,{"$f":"IF(C29<>\"\",C29,\"\")","v":""},null,null,null,null,null,null,null,null,{"$f":"IF($C29=\"\",\"\", IF(FS29=1,0,IF(FQ29<>0,500,FL29*$AE29/$AH29+FM29/$AH29*5+FN29/$AH29*25+FO29*50+FP29*50)))","v":""},null,{"$f":"IF(C29<>\"\",C29,\"\")","v":""},null,null,null,null,null,null,null,null,{"$f":"IF($C29=\"\",\"\", IF(GD29=1,0,IF(GB29<>0,500,FW29*$AE29/$AH29+FX29/$AH29*5+FY29/$AH29*25+FZ29*50+GA29*50)))","v":""},null,{"$f":"IF(C29<>\"\",C29,\"\")","v":""},null,null,null,null,null,null,null,null,{"$f":"IF($C29=\"\",\"\", IF(GO29=1,0,IF(GM29<>0,500,GH29*$AE29/$AH29+GI29/$AH29*5+GJ29/$AH29*25+GK29*50+GL29*50)))","v":""},null,{"$f":"IF(C29<>\"\",C29,\"\")","v":""},null,null,null,null,null,null,null,null,{"$f":"IF($C29=\"\",\"\", IF(GZ29=1,0,IF(GX29<>0,500,GS29*$AE29/$AH29+GT29/$AH29*5+GU29/$AH29*25+GV29*50+GW29*50)))","v":""},null,{"$f":"IF(C29<>\"\",C29,\"\")","v":""},null,null,null,null,null,null,null,null,{"$f":"IF($C29=\"\",\"\", IF(HK29=1,0,IF(HI29<>0,500,HD29*$AE29/$AH29+HE29/$AH29*5+HF29/$AH29*25+HG29*50+HH29*50)))","v":""},null,{"$f":"IF(C29<>\"\",C29,\"\")","v":""},null,null,null,null,null,null,null,null,{"$f":"IF($C29=\"\",\"\", IF(HV29=1,0,IF(HT29<>0,500,HO29*$AE29/$AH29+HP29/$AH29*5+HQ29/$AH29*25+HR29*50+HS29*50)))","v":""},null,{"$f":"IF(C29<>\"\",C29,\"\")","v":""},null,null,null,null,null,null,null,null,{"$f":"IF($C29=\"\",\"\", IF(IG29=1,0,IF(IE29<>0,500,HZ29*$AE29/$AH29+IA29/$AH29*5+IB29/$AH29*25+IC29*50+ID29*50)))","v":""}]
[null,{"$f":"IF(C30=0,\"\",ROW(C30)-4)","v":""},null,null,null,null,null,{"$f":"IF(C30=0,\"\",IF(OR(BB30=1,BC30<>0),BC30,\"-\"))","v":""},{"$f":"IF(C30=0,\"\",IF(OR(BM30=1,BN30<>0),BN30,\"-\"))","v":""},{"$f":"IF(C30=0,\"\",IF(OR(BX30=1,BY30<>0),BY30,\" -\"))","v":""},{"$f":"IF(C30=0,\"\",IF(OR(CJ30<>0,CI30=1),CJ30,\" -\"))","v":""},{"$f":"IF(C30=0,\"\",IF(OR(CU30<>0,CT30=1),CU30,\" -\"))","v":""},{"$f":"IF(C30=0,\"\",IF(OR(DF30<>0,DE30=1),DF30,\" -\"))","v":""},{"$f":"IF(C30=0,\"\",IF(OR(DQ30<>0,DP30=1),DQ30,\" -\"))","v":""},{"$f":"IF(C30=0,\"\",IF(OR(EB30<>0,EA30=1),EB30,\" -\"))","v":""},{"$f":"IF(C30=0,\"\",IF(OR(EM30<>0,EL30=1),EM30,\" -\"))","v":""},{"$f":"IF(C30=0,\"\",IF(OR(EX30<>0,EW30=1),EX30,\" -\"))","v":""},{"$f":"IF(C30=0,\"\",IF(OR(FI30<>0,FH30=1),FI30,\" -\"))","v":""},{"$f":"IF(C30=0,\"\",IF(OR(FT30<>0,FS30=1),FT30,\" -\"))","v":""},{"$f":"IF(C30=0,\"\",IF(OR(GE30<>0,GD30=1),GE30,\" -\"))","v":""},{"$f":"IF(C30=0,\"\",IF(OR(GP30<>0,GO30=1),GP30,\" -\"))","v":""},{"$f":"IF(C30=0,\"\",IF(OR(HA30<>0,GZ30=1),HA30,\" -\"))","v":""},{"$f":"IF(C30=0,\"\",IF(OR(HL30<>0,HK30=1),HL30,\" -\"))","v":""},{"$f":"IF(C30=0,\"\",IF(AJ30<>0,AJ30,\" -\"))","v":""},{"$f":"IF(C30=0,\"\",IF(OR(HW30<>0,HV30=1),HW30,\" -\"))","v":""},{"$f":"IF(C30=0,\"\",IF(OR(IH30<>0,IG30=1),IH30,\" -\"))","v":""},{"$f":"IF(C30=0,\"\",IF(AL30=1,\"DNF\",IF(AL30=2,\"DSQ\",IF(AM30<>1,\"~ \"&ROUND(SUM(H30:X30),3),ROUND(SUM(H30:X30),3)))))","v":""},null,null,{"$f":"IF(C30<>\"\",C30,\"\")","v":""},{"$f":"IF(AD30<>\"\",3,\"\")","v":""},null,null,{"$f":"IF(AD30<>\"\",(AF30/1000*AG30/1000)/2,\"\")","v":""},null,null,null,null,null,null,null,{"$f":"IF(C30=0,99999,IF(AL30>0,9999,SUM(H30:X30)-AN30))","v":99999},{"$f":"IF(C30=0,99999,IF(AL30=1,9999,SUM(Y30:Z30)))","v":99999},null,null,{"$f":"IF(C30<>\"\",C30,\"\")","v":""},null,null,null,null,null,null,null,null,{"$f":"IF($C30=\"\",\"\", IF(BB30=1,0,IF(AZ30<>0,500,AU30*$AE30/$AH30+AV30/$AH30*5+AW30/$AH30*25+AX30*50+AY30*50)))","v":""},null,{"$f":"IF(C30<>\"\",C30,\"\")","v":""},null,null,null,null,null,null,null,null,{"$f":"IF($C30=\"\",\"\", IF(BM30=1,0,IF(BK30<>0,500,BF30*$AE30/$AH30+BG30/$AH30*5+BH30/$AH30*25+BI30*50+BJ30*50)))","v":""},null,{"$f":"IF(C30<>\"\",C30,\"\")","v":""},null,null,null,null,null,null,null,null,{"$f":"IF($C30=\"\",\"\", IF(BX30=1,0,IF(BV30<>0,500,BQ30*$AE30/$AH30+BR30/$AH30*5+BS30/$AH30*25+BT30*50+BU30*50)))","v":""},null,{"$f":"IF(C30<>\"\",C30,\"\")","v":""},null,null,null,null,null,null,null,null,{"$f":"IF($C30=\"\",\"\", IF(CI30=1,0,IF(CG30<>0,500,CB30*$AE30/$AH30+CC30/$AH30*5+CD30/$AH30*25+CE30*50+CF30*50)))","v":""},null,{"$f":"IF(C30<>\"\",C30,\"\")","v":""},null,null,null,null,null,null,null,null,{"$f":"IF($C30=\"\",\"\", IF(CT30=1,0,IF(CR30<>0,500,CM30*$AE30/$AH30+CN30/$AH30*5+CO30/$AH30*25+CP30*50+CQ30*50)))","v":""},null,{"$f":"IF(C30<>\"\",C30,\"\")","v":""},null,null,null,null,null,null,null,null,{"$f":"IF($C30=\"\",\"\", IF(DE30=1,0,IF(DC30<>0,500,CX30*$AE30/$AH30+CY30/$AH30*5+CZ30/$AH30*25+DA30*50+DB30*50)))","v":""},null,{"$f":"IF(C30<>\"\",C30,\"\")","v":""},null,null,null,null,null,null,null,null,{"$f":"IF($C30=\"\",\"\", IF(DP30=1,0,IF(DN30<>0,500,DI30*$AE30/$AH30+DJ30/$AH30*5+DK30/$AH30*25+DL30*50+DM30*50)))","v":""},null,{"$f":"IF(C30<>\"\",C30,\"\")","v":""},null,null,null,null,null,null,null,null,{"$f":"IF($C30=\"\",\"\", IF(EA30=1,0,IF(DY30<>0,500,DT30*$AE30/$AH30+DU30/$AH30*5+DV30/$AH30*25+DW30*50+DX30*50)))","v":""},null,{"$f":"IF(C30<>\"\",C30,\"\")","v":""},null,null,null,null,null,null,null,null,{"$f":"IF($C30=\"\",\"\", IF(EL30=1,0,IF(EJ30<>0,500,EE30*$AE30/$AH30+EF30/$AH30*5+EG30/$AH30*25+EH30*50+EI30*50)))","v":""},null,{"$f":"IF(C30<>\"\",C30,\"\")","v":""},null,null,null,null,null,null,null,null,{"$f":"IF($C30=\"\",\"\", IF(EW30=1,0,IF(EU30<>0,500,EP30*$AE30/$AH30+EQ30/$AH30*5+ER30/$AH30*25+ES30*50+ET30*50)))","v":""},null,{"$f":"IF(C30<>\"\",C30,\"\")","v":""},null,null,null,null,null,null,null,null,{"$f":"IF($C30=\"\",\"\", IF(FH30=1,0,IF(FF30<>0,500,FA30*$AE30/$AH30+FB30/$AH30*5+FC30/$AH30*25+FD30*50+FE30*50)))","v":""},null,{"$f":"IF(C30<>\"\",C30,\"\")","v":""},null,null,null,null,null,null,null,null,{"$f":"IF($C30=\"\",\"\", IF(FS30=1,0,IF(FQ30<>0,500,FL30*$AE30/$AH30+FM30/$AH30*5+FN30/$AH30*25+FO30*50+FP30*50)))","v":""},null,{"$f":"IF(C30<>\"\",C30,\"\")","v":""},null,null,null,null,null,null,null,null,{"$f":"IF($C30=\"\",\"\", IF(GD30=1,0,IF(GB30<>0,500,FW30*$AE30/$AH30+FX30/$AH30*5+FY30/$AH30*25+FZ30*50+GA30*50)))","v":""},null,{"$f":"IF(C30<>\"\",C30,\"\")","v":""},null,null,null,null,null,null,null,null,{"$f":"IF($C30=\"\",\"\", IF(GO30=1,0,IF(GM30<>0,500,GH30*$AE30/$AH30+GI30/$AH30*5+GJ30/$AH30*25+GK30*50+GL30*50)))","v":""},null,{"$f":"IF(C30<>\"\",C30,\"\")","v":""},null,null,null,null,null,null,null,null,{"$f":"IF($C30=\"\",\"\", IF(GZ30=1,0,IF(GX30<>0,500,GS30*$AE30/$AH30+GT30/$AH30*5+GU30/$AH30*25+GV30*50+GW30*50)))","v":""},null,{"$f":"IF(C30<>\"\",C30,\"\")","v":""},null,null,null,null,null,null,null,null,{"$f":"IF($C30=\"\",\"\", IF(HK30=1,0,IF(HI30<>0,500,HD30*$AE30/$AH30+HE30/$AH30*5+HF30/$AH30*25+HG30*50+HH30*50)))","v":""},null,{"$f":"IF(C30<>\"\",C30,\"\")","v":""},null,null,null,null,null,null,null,null,{"$f":"IF($C30=\"\",\"\", IF(HV30=1,0,IF(HT30<>0,500,HO30*$AE30/$AH30+HP30/$AH30*5+HQ30/$AH30*25+HR30*50+HS30*50)))","v":""},null,{"$f":"IF(C30<>\"\",C30,\"\")","v":""},null,null,null,null,null,null,null,null,{"$f":"IF($C30=\"\",\"\", IF(IG30=1,0,IF(IE30<>0,500,HZ30*$AE30/$AH30+IA30/$AH30*5+IB30/$AH30*25+IC30*50+ID30*50)))","v":""}]
[null,{"$f":"IF(C31=0,\"\",ROW(C31)-4)","v":""},null,null,null,null,null,{"$f":"IF(C31=0,\"\",IF(OR(BB31=1,BC31<>0),BC31,\"-\"))","v":""},{"$f":"IF(C31=0,\"\",IF(OR(BM31=1,BN31<>0),BN31,\"-\"))","v":""},{"$f":"IF(C31=0,\"\",IF(OR(BX31=1,BY31<>0),BY31,\" -\"))","v":""},{"$f":"IF(C31=0,\"\",IF(OR(CJ31<>0,CI31=1),CJ31,\" -\"))","v":""},{"$f":"IF(C31=0,\"\",IF(OR(CU31<>0,CT31=1),CU31,\" -\"))","v":""},{"$f":"IF(C31=0,\"\",IF(OR(DF31<>0,DE31=1),DF31,\" -\"))","v":""},{"$f":"IF(C31=0,\"\",IF(OR(DQ31<>0,DP31=1),DQ31,\" -\"))","v":""},{"$f":"IF(C31=0,\"\",IF(OR(EB31<>0,EA31=1),EB31,\" -\"))","v":""},{"$f":"IF(C31=0,\"\",IF(OR(EM31<>0,EL31=1),EM31,\" -\"))","v":""},{"$f":"IF(C31=0,\"\",IF(OR(EX31<>0,EW31=1),EX31,\" -\"))","v":""},{"$f":"IF(C31=0,\"\",IF(OR(FI31<>0,FH31=1),FI31,\" -\"))","v":""},{"$f":"IF(C31=0,\"\",IF(OR(FT31<>0,FS31=1),FT31,\" -\"))","v":""},{"$f":"IF(C31=0,\"\",IF(OR(GE31<>0,GD31=1),GE31,\" -\"))","v":""},{"$f":"IF(C31=0,\"\",IF(OR(GP31<>0,GO31=1),GP31,\" -\"))","v":""},{"$f":"IF(C31=0,\"\",IF(OR(HA31<>0,GZ31=1),HA31,\" -\"))","v":""},{"$f":"IF(C31=0,\"\",IF(OR(HL31<>0,HK31=1),HL31,\" -\"))","v":""},{"$f":"IF(C31=0,\"\",IF(AJ31<>0,AJ31,\" -\"))","v":""},{"$f":"IF(C31=0,\"\",IF(OR(HW31<>0,HV31=1),HW31,\" -\"))","v":""},{"$f":"IF(C31=0,\"\",IF(OR(IH31<>0,IG31=1),IH31,\" -\"))","v":""},{"$f":"IF(C31=0,\"\",IF(AL31=1,\"DNF\",IF(AL31=2,\"DSQ\",IF(AM31<>1,\"~ \"&ROUND(SUM(H31:X31),3),ROUND(SUM(H31:X31),3)))))","v":""},null,null,{"$f":"IF(C31<>\"\",C31,\"\")","v":""},{"$f":"IF(AD31<>\"\",3,\"\")","v":""},null,null,{"$f":"IF(AD31<>\"\",(AF31/1000*AG31/1000)/2,\"\")","v":""},null,null,null,null,null,null,null,{"$f":"IF(C31=0,99999,IF(AL31>0,9999,SUM(H31:X31)-AN31))","v":99999},{"$f":"IF(C31=0,99999,IF(AL31=1,9999,SUM(Y31:Z31)))","v":99999},null,null,{"$f":"IF(C31<>\"\",C31,\"\")","v":""},null,null,null,null,null,null,null,null,{"$f":"IF($C31=\"\",\"\", IF(BB31=1,0,IF(AZ31<>0,500,AU31*$AE31/$AH31+AV31/$AH31*5+AW31/$AH31*25+AX31*50+AY31*50)))","v":""},null,{"$f":"IF(C31<>\"\",C31,\"\")","v":""},null,null,null,null,null,null,null,null,{"$f":"IF($C31=\"\",\"\", IF(BM31=1,0,IF(BK31<>0,500,BF31*$AE31/$AH31+BG31/$AH31*5+BH31/$AH31*25+BI31*50+BJ31*50)))","v":""},null,{"$f":"IF(C31<>\"\",C31,\"\")","v":""},null,null,null,null,null,null,null,null,{"$f":"IF($C31=\"\",\"\", IF(BX31=1,0,IF(BV31<>0,500,BQ31*$AE31/$AH31+BR31/$AH31*5+BS31/$AH31*25+BT31*50+BU31*50)))","v":""},null,{"$f":"IF(C31<>\"\",C31,\"\")","v":""},null,null,null,null,null,null,null,null,{"$f":"IF($C31=\"\",\"\", IF(CI31=1,0,IF(CG31<>0,500,CB31*$AE31/$AH31+CC31/$AH31*5+CD31/$AH31*25+CE31*50+CF31*50)))","v":""},null,{"$f":"IF(C31<>\"\",C31,\"\")","v":""},null,null,null,null,null,null,null,null,{"$f":"IF($C31=\"\",\"\", IF(CT31=1,0,IF(CR31<>0,500,CM31*$AE31/$AH31+CN31/$AH31*5+CO31/$AH31*25+CP31*50+CQ31*50)))","v":""},null,{"$f":"IF(C31<>\"\",C31,\"\")","v":""},null,null,null,null,null,null,null,null,{"$f":"IF($C31=\"\",\"\", IF(DE31=1,0,IF(DC31<>0,500,CX31*$AE31/$AH31+CY31/$AH31*5+CZ31/$AH31*25+DA31*50+DB31*50)))","v":""},null,{"$f":"IF(C31<>\"\",C31,\"\")","v":""},null,null,null,null,null,null,null,null,{"$f":"IF($C31=\"\",\"\", IF(DP31=1,0,IF(DN31<>0,500,DI31*$AE31/$AH31+DJ31/$AH31*5+DK31/$AH31*25+DL31*50+DM31*50)))","v":""},null,{"$f":"IF(C31<>\"\",C31,\"\")","v":""},null,null,null,null,null,null,null,null,{"$f":"IF($C31=\"\",\"\", IF(EA31=1,0,IF(DY31<>0,500,DT31*$AE31/$AH31+DU31/$AH31*5+DV31/$AH31*25+DW31*50+DX31*50)))","v":""},null,{"$f":"IF(C31<>\"\",C31,\"\")","v":""},null,null,null,null,null,null,null,null,{"$f":"IF($C31=\"\",\"\", IF(EL31=1,0,IF(EJ31<>0,500,EE31*$AE31/$AH31+EF31/$AH31*5+EG31/$AH31*25+EH31*50+EI31*50)))","v":""},null,{"$f":"IF(C31<>\"\",C31,\"\")","v":""},null,null,null,null,null,null,null,null,{"$f":"IF($C31=\"\",\"\", IF(EW31=1,0,IF(EU31<>0,500,EP31*$AE31/$AH31+EQ31/$AH31*5+ER31/$AH31*25+ES31*50+ET31*50)))","v":""},null,{"$f":"IF(C31<>\"\",C31,\"\")","v":""},null,null,null,null,null,null,null,null,{"$f":"IF($C31=\"\",\"\", IF(FH31=1,0,IF(FF31<>0,500,FA31*$AE31/$AH31+FB31/$AH31*5+FC31/$AH31*25+FD31*50+FE31*50)))","v":""},null,{"$f":"IF(C31<>\"\",C31,\"\")","v":""},null,null,null,null,null,null,null,null,{"$f":"IF($C31=\"\",\"\", IF(FS31=1,0,IF(FQ31<>0,500,FL31*$AE31/$AH31+FM31/$AH31*5+FN31/$AH31*25+FO31*50+FP31*50)))","v":""},null,{"$f":"IF(C31<>\"\",C31,\"\")","v":""},null,null,null,null,null,null,null,null,{"$f":"IF($C31=\"\",\"\", IF(GD31=1,0,IF(GB31<>0,500,FW31*$AE31/$AH31+FX31/$AH31*5+FY31/$AH31*25+FZ31*50+GA31*50)))","v":""},null,{"$f":"IF(C31<>\"\",C31,\"\")","v":""},null,null,null,null,null,null,null,null,{"$f":"IF($C31=\"\",\"\", IF(GO31=1,0,IF(GM31<>0,500,GH31*$AE31/$AH31+GI31/$AH31*5+GJ31/$AH31*25+GK31*50+GL31*50)))","v":""},null,{"$f":"IF(C31<>\"\",C31,\"\")","v":""},null,null,null,null,null,null,null,null,{"$f":"IF($C31=\"\",\"\", IF(GZ31=1,0,IF(GX31<>0,500,GS31*$AE31/$AH31+GT31/$AH31*5+GU31/$AH31*25+GV31*50+GW31*50)))","v":""},null,{"$f":"IF(C31<>\"\",C31,\"\")","v":""},null,null,null,null,null,null,null,null,{"$f":"IF($C31=\"\",\"\", IF(HK31=1,0,IF(HI31<>0,500,HD31*$AE31/$AH31+HE31/$AH31*5+HF31/$AH31*25+HG31*50+HH31*50)))","v":""},null,{"$f":"IF(C31<>\"\",C31,\"\")","v":""},null,null,null,null,null,null,null,null,{"$f":"IF($C31=\"\",\"\", IF(HV31=1,0,IF(HT31<>0,500,HO31*$AE31/$AH31+HP31/$AH31*5+HQ31/$AH31*25+HR31*50+HS31*50)))","v":""},null,{"$f":"IF(C31<>\"\",C31,\"\")","v":""},null,null,null,null,null,null,null,null,{"$f":"IF($C31=\"\",\"\", IF(IG31=1,0,IF(IE31<>0,500,HZ31*$AE31/$AH31+IA31/$AH31*5+IB31/$AH31*25+IC31*50+ID31*50)))","v":""}]
[null,{"$f":"IF(C32=0,\"\",ROW(C32)-4)","v":""},null,null,null,null,null,{"$f":"IF(C32=0,\"\",IF(OR(BB32=1,BC32<>0),BC32,\"-\"))","v":""},{"$f":"IF(C32=0,\"\",IF(OR(BM32=1,BN32<>0),BN32,\"-\"))","v":""},{"$f":"IF(C32=0,\"\",IF(OR(BX32=1,BY32<>0),BY32,\" -\"))","v":""},{"$f":"IF(C32=0,\"\",IF(OR(CJ32<>0,CI32=1),CJ32,\" -\"))","v":""},{"$f":"IF(C32=0,\"\",IF(OR(CU32<>0,CT32=1),CU32,\" -\"))","v":""},{"$f":"IF(C32=0,\"\",IF(OR(DF32<>0,DE32=1),DF32,\" -\"))","v":""},{"$f":"IF(C32=0,\"\",IF(OR(DQ32<>0,DP32=1),DQ32,\" -\"))","v":""},{"$f":"IF(C32=0,\"\",IF(OR(EB32<>0,EA32=1),EB32,\" -\"))","v":""},{"$f":"IF(C32=0,\"\",IF(OR(EM32<>0,EL32=1),EM32,\" -\"))","v":""},{"$f":"IF(C32=0,\"\",IF(OR(EX32<>0,EW32=1),EX32,\" -\"))","v":""},{"$f":"IF(C32=0,\"\",IF(OR(FI32<>0,FH32=1),FI32,\" -\"))","v":""},{"$f":"IF(C32=0,\"\",IF(OR(FT32<>0,FS32=1),FT32,\" -\"))","v":""},{"$f":"IF(C32=0,\"\",IF(OR(GE32<>0,GD32=1),GE32,\" -\"))","v":""},{"$f":"IF(C32=0,\"\",IF(OR(GP32<>0,GO32=1),GP32,\" -\"))","v":""},{"$f":"IF(C32=0,\"\",IF(OR(HA32<>0,GZ32=1),HA32,\" -\"))","v":""},{"$f":"IF(C32=0,\"\",IF(OR(HL32<>0,HK32=1),HL32,\" -\"))","v":""},{"$f":"IF(C32=0,\"\",IF(AJ32<>0,AJ32,\" -\"))","v":""},{"$f":"IF(C32=0,\"\",IF(OR(HW32<>0,HV32=1),HW32,\" -\"))","v":""},{"$f":"IF(C32=0,\"\",IF(OR(IH32<>0,IG32=1),IH32,\" -\"))","v":""},{"$f":"IF(C32=0,\"\",IF(AL32=1,\"DNF\",IF(AL32=2,\"DSQ\",IF(AM32<>1,\"~ \"&ROUND(SUM(H32:X32),3),ROUND(SUM(H32:X32),3)))))","v":""},null,null,{"$f":"IF(C32<>\"\",C32,\"\")","v":""},{"$f":"IF(AD32<>\"\",3,\"\")","v":""},null,null,{"$f":"IF(AD32<>\"\",(AF32/1000*AG32/1000)/2,\"\")","v":""},null,null,null,null,null,null,null,{"$f":"IF(C32=0,99999,IF(AL32>0,9999,SUM(H32:X32)-AN32))","v":99999},{"$f":"IF(C32=0,99999,IF(AL32=1,9999,SUM(Y32:Z32)))","v":99999},null,null,{"$f":"IF(C32<>\"\",C32,\"\")","v":""},null,null,null,null,null,null,null,null,{"$f":"IF($C32=\"\",\"\", IF(BB32=1,0,IF(AZ32<>0,500,AU32*$AE32/$AH32+AV32/$AH32*5+AW32/$AH32*25+AX32*50+AY32*50)))","v":""},null,{"$f":"IF(C32<>\"\",C32,\"\")","v":""},null,null,null,null,null,null,null,null,{"$f":"IF($C32=\"\",\"\", IF(BM32=1,0,IF(BK32<>0,500,BF32*$AE32/$AH32+BG32/$AH32*5+BH32/$AH32*25+BI32*50+BJ32*50)))","v":""},null,{"$f":"IF(C32<>\"\",C32,\"\")","v":""},null,null,null,null,null,null,null,null,{"$f":"IF($C32=\"\",\"\", IF(BX32=1,0,IF(BV32<>0,500,BQ32*$AE32/$AH32+BR32/$AH32*5+BS32/$AH32*25+BT32*50+BU32*50)))","v":""},null,{"$f":"IF(C32<>\"\",C32,\"\")","v":""},null,null,null,null,null,null,null,null,{"$f":"IF($C32=\"\",\"\", IF(CI32=1,0,IF(CG32<>0,500,CB32*$AE32/$AH32+CC32/$AH32*5+CD32/$AH32*25+CE32*50+CF32*50)))","v":""},null,{"$f":"IF(C32<>\"\",C32,\"\")","v":""},null,null,null,null,null,null,null,null,{"$f":"IF($C32=\"\",\"\", IF(CT32=1,0,IF(CR32<>0,500,CM32*$AE32/$AH32+CN32/$AH32*5+CO32/$AH32*25+CP32*50+CQ32*50)))","v":""},null,{"$f":"IF(C32<>\"\",C32,\"\")","v":""},null,null,null,null,null,null,null,null,{"$f":"IF($C32=\"\",\"\", IF(DE32=1,0,IF(DC32<>0,500,CX32*$AE32/$AH32+CY32/$AH32*5+CZ32/$AH32*25+DA32*50+DB32*50)))","v":""},null,{"$f":"IF(C32<>\"\",C32,\"\")","v":""},null,null,null,null,null,null,null,null,{"$f":"IF($C32=\"\",\"\", IF(DP32=1,0,IF(DN32<>0,500,DI32*$AE32/$AH32+DJ32/$AH32*5+DK32/$AH32*25+DL32*50+DM32*50)))","v":""},null,{"$f":"IF(C32<>\"\",C32,\"\")","v":""},null,null,null,null,null,null,null,null,{"$f":"IF($C32=\"\",\"\", IF(EA32=1,0,IF(DY32<>0,500,DT32*$AE32/$AH32+DU32/$AH32*5+DV32/$AH32*25+DW32*50+DX32*50)))","v":""},null,{"$f":"IF(C32<>\"\",C32,\"\")","v":""},null,null,null,null,null,null,null,null,{"$f":"IF($C32=\"\",\"\", IF(EL32=1,0,IF(EJ32<>0,500,EE32*$AE32/$AH32+EF32/$AH32*5+EG32/$AH32*25+EH32*50+EI32*50)))","v":""},null,{"$f":"IF(C32<>\"\",C32,\"\")","v":""},null,null,null,null,null,null,null,null,{"$f":"IF($C32=\"\",\"\", IF(EW32=1,0,IF(EU32<>0,500,EP32*$AE32/$AH32+EQ32/$AH32*5+ER32/$AH32*25+ES32*50+ET32*50)))","v":""},null,{"$f":"IF(C32<>\"\",C32,\"\")","v":""},null,null,null,null,null,null,null,null,{"$f":"IF($C32=\"\",\"\", IF(FH32=1,0,IF(FF32<>0,500,FA32*$AE32/$AH32+FB32/$AH32*5+FC32/$AH32*25+FD32*50+FE32*50)))","v":""},null,{"$f":"IF(C32<>\"\",C32,\"\")","v":""},null,null,null,null,null,null,null,null,{"$f":"IF($C32=\"\",\"\", IF(FS32=1,0,IF(FQ32<>0,500,FL32*$AE32/$AH32+FM32/$AH32*5+FN32/$AH32*25+FO32*50+FP32*50)))","v":""},null,{"$f":"IF(C32<>\"\",C32,\"\")","v":""},null,null,null,null,null,null,null,null,{"$f":"IF($C32=\"\",\"\", IF(GD32=1,0,IF(GB32<>0,500,FW32*$AE32/$AH32+FX32/$AH32*5+FY32/$AH32*25+FZ32*50+GA32*50)))","v":""},null,{"$f":"IF(C32<>\"\",C32,\"\")","v":""},null,null,null,null,null,null,null,null,{"$f":"IF($C32=\"\",\"\", IF(GO32=1,0,IF(GM32<>0,500,GH32*$AE32/$AH32+GI32/$AH32*5+GJ32/$AH32*25+GK32*50+GL32*50)))","v":""},null,{"$f":"IF(C32<>\"\",C32,\"\")","v":""},null,null,null,null,null,null,null,null,{"$f":"IF($C32=\"\",\"\", IF(GZ32=1,0,IF(GX32<>0,500,GS32*$AE32/$AH32+GT32/$AH32*5+GU32/$AH32*25+GV32*50+GW32*50)))","v":""},null,{"$f":"IF(C32<>\"\",C32,\"\")","v":""},null,null,null,null,null,null,null,null,{"$f":"IF($C32=\"\",\"\", IF(HK32=1,0,IF(HI32<>0,500,HD32*$AE32/$AH32+HE32/$AH32*5+HF32/$AH32*25+HG32*50+HH32*50)))","v":""},null,{"$f":"IF(C32<>\"\",C32,\"\")","v":""},null,null,null,null,null,null,null,null,{"$f":"IF($C32=\"\",\"\", IF(HV32=1,0,IF(HT32<>0,500,HO32*$AE32/$AH32+HP32/$AH32*5+HQ32/$AH32*25+HR32*50+HS32*50)))","v":""},null,{"$f":"IF(C32<>\"\",C32,\"\")","v":""},null,null,null,null,null,null,null,null,{"$f":"IF($C32=\"\",\"\", IF(IG32=1,0,IF(IE32<>0,500,HZ32*$AE32/$AH32+IA32/$AH32*5+IB32/$AH32*25+IC32*50+ID32*50)))","v":""}]
[null,{"$f":"IF(C33=0,\"\",ROW(C33)-4)","v":""},null,null,null,null,null,{"$f":"IF(C33=0,\"\",IF(OR(BB33=1,BC33<>0),BC33,\"-\"))","v":""},{"$f":"IF(C33=0,\"\",IF(OR(BM33=1,BN33<>0),BN33,\"-\"))","v":""},{"$f":"IF(C33=0,\"\",IF(OR(BX33=1,BY33<>0),BY33,\" -\"))","v":""},{"$f":"IF(C33=0,\"\",IF(OR(CJ33<>0,CI33=1),CJ33,\" -\"))","v":""},{"$f":"IF(C33=0,\"\",IF(OR(CU33<>0,CT33=1),CU33,\" -\"))","v":""},{"$f":"IF(C33=0,\"\",IF(OR(DF33<>0,DE33=1),DF33,\" -\"))","v":""},{"$f":"IF(C33=0,\"\",IF(OR(DQ33<>0,DP33=1),DQ33,\" -\"))","v":""},{"$f":"IF(C33=0,\"\",IF(OR(EB33<>0,EA33=1),EB33,\" -\"))","v":""},{"$f":"IF(C33=0,\"\",IF(OR(EM33<>0,EL33=1),EM33,\" -\"))","v":""},{"$f":"IF(C33=0,\"\",IF(OR(EX33<>0,EW33=1),EX33,\" -\"))","v":""},{"$f":"IF(C33=0,\"\",IF(OR(FI33<>0,FH33=1),FI33,\" -\"))","v":""},{"$f":"IF(C33=0,\"\",IF(OR(FT33<>0,FS33=1),FT33,\" -\"))","v":""},{"$f":"IF(C33=0,\"\",IF(OR(GE33<>0,GD33=1),GE33,\" -\"))","v":""},{"$f":"IF(C33=0,\"\",IF(OR(GP33<>0,GO33=1),GP33,\" -\"))","v":""},{"$f":"IF(C33=0,\"\",IF(OR(HA33<>0,GZ33=1),HA33,\" -\"))","v":""},{"$f":"IF(C33=0,\"\",IF(OR(HL33<>0,HK33=1),HL33,\" -\"))","v":""},{"$f":"IF(C33=0,\"\",IF(AJ33<>0,AJ33,\" -\"))","v":""},{"$f":"IF(C33=0,\"\",IF(OR(HW33<>0,HV33=1),HW33,\" -\"))","v":""},{"$f":"IF(C33=0,\"\",IF(OR(IH33<>0,IG33=1),IH33,\" -\"))","v":""},{"$f":"IF(C33=0,\"\",IF(AL33=1,\"DNF\",IF(AL33=2,\"DSQ\",IF(AM33<>1,\"~ \"&ROUND(SUM(H33:X33),3),ROUND(SUM(H33:X33),3)))))","v":""},null,null,{"$f":"IF(C33<>\"\",C33,\"\")","v":""},{"$f":"IF(AD33<>\"\",3,\"\")","v":""},null,null,{"$f":"IF(AD33<>\"\",(AF33/1000*AG33/1000)/2,\"\")","v":""},null,null,null,null,null,null,null,{"$f":"IF(C33=0,99999,IF(AL33>0,9999,SUM(H33:X33)-AN33))","v":99999},{"$f":"IF(C33=0,99999,IF(AL33=1,9999,SUM(Y33:Z33)))","v":99999},null,null,{"$f":"IF(C33<>\"\",C33,\"\")","v":""},null,null,null,null,null,null,null,null,{"$f":"IF($C33=\"\",\"\", IF(BB33=1,0,IF(AZ33<>0,500,AU33*$AE33/$AH33+AV33/$AH33*5+AW33/$AH33*25+AX33*50+AY33*50)))","v":""},null,{"$f":"IF(C33<>\"\",C33,\"\")","v":""},null,null,null,null,null,null,null,null,{"$f":"IF($C33=\"\",\"\", IF(BM33=1,0,IF(BK33<>0,500,BF33*$AE33/$AH33+BG33/$AH33*5+BH33/$AH33*25+BI33*50+BJ33*50)))","v":""},null,{"$f":"IF(C33<>\"\",C33,\"\")","v":""},null,null,null,null,null,null,null,null,{"$f":"IF($C33=\"\",\"\", IF(BX33=1,0,IF(BV33<>0,500,BQ33*$AE33/$AH33+BR33/$AH33*5+BS33/$AH33*25+BT33*50+BU33*50)))","v":""},null,{"$f":"IF(C33<>\"\",C33,\"\")","v":""},null,null,null,null,null,null,null,null,{"$f":"IF($C33=\"\",\"\", IF(CI33=1,0,IF(CG33<>0,500,CB33*$AE33/$AH33+CC33/$AH33*5+CD33/$AH33*25+CE33*50+CF33*50)))","v":""},null,{"$f":"IF(C33<>\"\",C33,\"\")","v":""},null,null,null,null,null,null,null,null,{"$f":"IF($C33=\"\",\"\", IF(CT33=1,0,IF(CR33<>0,500,CM33*$AE33/$AH33+CN33/$AH33*5+CO33/$AH33*25+CP33*50+CQ33*50)))","v":""},null,{"$f":"IF(C33<>\"\",C33,\"\")","v":""},null,null,null,null,null,null,null,null,{"$f":"IF($C33=\"\",\"\", IF(DE33=1,0,IF(DC33<>0,500,CX33*$AE33/$AH33+CY33/$AH33*5+CZ33/$AH33*25+DA33*50+DB33*50)))","v":""},null,{"$f":"IF(C33<>\"\",C33,\"\")","v":""},null,null,null,null,null,null,null,null,{"$f":"IF($C33=\"\",\"\", IF(DP33=1,0,IF(DN33<>0,500,DI33*$AE33/$AH33+DJ33/$AH33*5+DK33/$AH33*25+DL33*50+DM33*50)))","v":""},null,{"$f":"IF(C33<>\"\",C33,\"\")","v":""},null,null,null,null,null,null,null,null,{"$f":"IF($C33=\"\",\"\", IF(EA33=1,0,IF(DY33<>0,500,DT33*$AE33/$AH33+DU33/$AH33*5+DV33/$AH33*25+DW33*50+DX33*50)))","v":""},null,{"$f":"IF(C33<>\"\",C33,\"\")","v":""},null,null,null,null,null,null,null,null,{"$f":"IF($C33=\"\",\"\", IF(EL33=1,0,IF(EJ33<>0,500,EE33*$AE33/$AH33+EF33/$AH33*5+EG33/$AH33*25+EH33*50+EI33*50)))","v":""},null,{"$f":"IF(C33<>\"\",C33,\"\")","v":""},null,null,null,null,null,null,null,null,{"$f":"IF($C33=\"\",\"\", IF(EW33=1,0,IF(EU33<>0,500,EP33*$AE33/$AH33+EQ33/$AH33*5+ER33/$AH33*25+ES33*50+ET33*50)))","v":""},null,{"$f":"IF(C33<>\"\",C33,\"\")","v":""},null,null,null,null,null,null,null,null,{"$f":"IF($C33=\"\",\"\", IF(FH33=1,0,IF(FF33<>0,500,FA33*$AE33/$AH33+FB33/$AH33*5+FC33/$AH33*25+FD33*50+FE33*50)))","v":""},null,{"$f":"IF(C33<>\"\",C33,\"\")","v":""},null,null,null,null,null,null,null,null,{"$f":"IF($C33=\"\",\"\", IF(FS33=1,0,IF(FQ33<>0,500,FL33*$AE33/$AH33+FM33/$AH33*5+FN33/$AH33*25+FO33*50+FP33*50)))","v":""},null,{"$f":"IF(C33<>\"\",C33,\"\")","v":""},null,null,null,null,null,null,null,null,{"$f":"IF($C33=\"\",\"\", IF(GD33=1,0,IF(GB33<>0,500,FW33*$AE33/$AH33+FX33/$AH33*5+FY33/$AH33*25+FZ33*50+GA33*50)))","v":""},null,{"$f":"IF(C33<>\"\",C33,\"\")","v":""},null,null,null,null,null,null,null,null,{"$f":"IF($C33=\"\",\"\", IF(GO33=1,0,IF(GM33<>0,500,GH33*$AE33/$AH33+GI33/$AH33*5+GJ33/$AH33*25+GK33*50+GL33*50)))","v":""},null,{"$f":"IF(C33<>\"\",C33,\"\")","v":""},null,null,null,null,null,null,null,null,{"$f":"IF($C33=\"\",\"\", IF(GZ33=1,0,IF(GX33<>0,500,GS33*$AE33/$AH33+GT33/$AH33*5+GU33/$AH33*25+GV33*50+GW33*50)))","v":""},null,{"$f":"IF(C33<>\"\",C33,\"\")","v":""},null,null,null,null,null,null,null,null,{"$f":"IF($C33=\"\",\"\", IF(HK33=1,0,IF(HI33<>0,500,HD33*$AE33/$AH33+HE33/$AH33*5+HF33/$AH33*25+HG33*50+HH33*50)))","v":""},null,{"$f":"IF(C33<>\"\",C33,\"\")","v":""},null,null,null,null,null,null,null,null,{"$f":"IF($C33=\"\",\"\", IF(HV33=1,0,IF(HT33<>0,500,HO33*$AE33/$AH33+HP33/$AH33*5+HQ33/$AH33*25+HR33*50+HS33*50)))","v":""},null,{"$f":"IF(C33<>\"\",C33,\"\")","v":""},null,null,null,null,null,null,null,null,{"$f":"IF($C33=\"\",\"\", IF(IG33=1,0,IF(IE33<>0,500,HZ33*$AE33/$AH33+IA33/$AH33*5+IB33/$AH33*25+IC33*50+ID33*50)))","v":""}]
[null,{"$f":"IF(C34=0,\"\",ROW(C34)-4)","v":""},null,null,null,null,null,{"$f":"IF(C34=0,\"\",IF(OR(BB34=1,BC34<>0),BC34,\"-\"))","v":""},{"$f":"IF(C34=0,\"\",IF(OR(BM34=1,BN34<>0),BN34,\"-\"))","v":""},{"$f":"IF(C34=0,\"\",IF(OR(BX34=1,BY34<>0),BY34,\" -\"))","v":""},{"$f":"IF(C34=0,\"\",IF(OR(CJ34<>0,CI34=1),CJ34,\" -\"))","v":""},{"$f":"IF(C34=0,\"\",IF(OR(CU34<>0,CT34=1),CU34,\" -\"))","v":""},{"$f":"IF(C34=0,\"\",IF(OR(DF34<>0,DE34=1),DF34,\" -\"))","v":""},{"$f":"IF(C34=0,\"\",IF(OR(DQ34<>0,DP34=1),DQ34,\" -\"))","v":""},{"$f":"IF(C34=0,\"\",IF(OR(EB34<>0,EA34=1),EB34,\" -\"))","v":""},{"$f":"IF(C34=0,\"\",IF(OR(EM34<>0,EL34=1),EM34,\" -\"))","v":""},{"$f":"IF(C34=0,\"\",IF(OR(EX34<>0,EW34=1),EX34,\" -\"))","v":""},{"$f":"IF(C34=0,\"\",IF(OR(FI34<>0,FH34=1),FI34,\" -\"))","v":""},{"$f":"IF(C34=0,\"\",IF(OR(FT34<>0,FS34=1),FT34,\" -\"))","v":""},{"$f":"IF(C34=0,\"\",IF(OR(GE34<>0,GD34=1),GE34,\" -\"))","v":""},{"$f":"IF(C34=0,\"\",IF(OR(GP34<>0,GO34=1),GP34,\" -\"))","v":""},{"$f":"IF(C34=0,\"\",IF(OR(HA34<>0,GZ34=1),HA34,\" -\"))","v":""},{"$f":"IF(C34=0,\"\",IF(OR(HL34<>0,HK34=1),HL34,\" -\"))","v":""},{"$f":"IF(C34=0,\"\",IF(AJ34<>0,AJ34,\" -\"))","v":""},{"$f":"IF(C34=0,\"\",IF(OR(HW34<>0,HV34=1),HW34,\" -\"))","v":""},{"$f":"IF(C34=0,\"\",IF(OR(IH34<>0,IG34=1),IH34,\" -\"))","v":""},{"$f":"IF(C34=0,\"\",IF(AL34=1,\"DNF\",IF(AL34=2,\"DSQ\",IF(AM34<>1,\"~ \"&ROUND(SUM(H34:X34),3),ROUND(SUM(H34:X34),3)))))","v":""},null,null,{"$f":"IF(C34<>\"\",C34,\"\")","v":""},{"$f":"IF(AD34<>\"\",3,\"\")","v":""},null,null,{"$f":"IF(AD34<>\"\",(AF34/1000*AG34/1000)/2,\"\")","v":""},null,null,null,null,null,null,null,{"$f":"IF(C34=0,99999,IF(AL34>0,9999,SUM(H34:X34)-AN34))","v":99999},{"$f":"IF(C34=0,99999,IF(AL34=1,9999,SUM(Y34:Z34)))","v":99999},null,null,{"$f":"IF(C34<>\"\",C34,\"\")","v":""},null,null,null,null,null,null,null,null,{"$f":"IF($C34=\"\",\"\", IF(BB34=1,0,IF(AZ34<>0,500,AU34*$AE34/$AH34+AV34/$AH34*5+AW34/$AH34*25+AX34*50+AY34*50)))","v":""},null,{"$f":"IF(C34<>\"\",C34,\"\")","v":""},null,null,null,null,null,null,null,null,{"$f":"IF($C34=\"\",\"\", IF(BM34=1,0,IF(BK34<>0,500,BF34*$AE34/$AH34+BG34/$AH34*5+BH34/$AH34*25+BI34*50+BJ34*50)))","v":""},null,{"$f":"IF(C34<>\"\",C34,\"\")","v":""},null,null,null,null,null,null,null,null,{"$f":"IF($C34=\"\",\"\", IF(BX34=1,0,IF(BV34<>0,500,BQ34*$AE34/$AH34+BR34/$AH34*5+BS34/$AH34*25+BT34*50+BU34*50)))","v":""},null,{"$f":"IF(C34<>\"\",C34,\"\")","v":""},null,null,null,null,null,null,null,null,{"$f":"IF($C34=\"\",\"\", IF(CI34=1,0,IF(CG34<>0,500,CB34*$AE34/$AH34+CC34/$AH34*5+CD34/$AH34*25+CE34*50+CF34*50)))","v":""},null,{"$f":"IF(C34<>\"\",C34,\"\")","v":""},null,null,null,null,null,null,null,null,{"$f":"IF($C34=\"\",\"\", IF(CT34=1,0,IF(CR34<>0,500,CM34*$AE34/$AH34+CN34/$AH34*5+CO34/$AH34*25+CP34*50+CQ34*50)))","v":""},null,{"$f":"IF(C34<>\"\",C34,\"\")","v":""},null,null,null,null,null,null,null,null,{"$f":"IF($C34=\"\",\"\", IF(DE34=1,0,IF(DC34<>0,500,CX34*$AE34/$AH34+CY34/$AH34*5+CZ34/$AH34*25+DA34*50+DB34*50)))","v":""},null,{"$f":"IF(C34<>\"\",C34,\"\")","v":""},null,null,null,null,null,null,null,null,{"$f":"IF($C34=\"\",\"\", IF(DP34=1,0,IF(DN34<>0,500,DI34*$AE34/$AH34+DJ34/$AH34*5+DK34/$AH34*25+DL34*50+DM34*50)))","v":""},null,{"$f":"IF(C34<>\"\",C34,\"\")","v":""},null,null,null,null,null,null,null,null,{"$f":"IF($C34=\"\",\"\", IF(EA34=1,0,IF(DY34<>0,500,DT34*$AE34/$AH34+DU34/$AH34*5+DV34/$AH34*25+DW34*50+DX34*50)))","v":""},null,{"$f":"IF(C34<>\"\",C34,\"\")","v":""},null,null,null,null,null,null,null,null,{"$f":"IF($C34=\"\",\"\", IF(EL34=1,0,IF(EJ34<>0,500,EE34*$AE34/$AH34+EF34/$AH34*5+EG34/$AH34*25+EH34*50+EI34*50)))","v":""},null,{"$f":"IF(C34<>\"\",C34,\"\")","v":""},null,null,null,null,null,null,null,null,{"$f":"IF($C34=\"\",\"\", IF(EW34=1,0,IF(EU34<>0,500,EP34*$AE34/$AH34+EQ34/$AH34*5+ER34/$AH34*25+ES34*50+ET34*50)))","v":""},null,{"$f":"IF(C34<>\"\",C34,\"\")","v":""},null,null,null,null,null,null,null,null,{"$f":"IF($C34=\"\",\"\", IF(FH34=1,0,IF(FF34<>0,500,FA34*$AE34/$AH34+FB34/$AH34*5+FC34/$AH34*25+FD34*50+FE34*50)))","v":""},null,{"$f":"IF(C34<>\"\",C34,\"\")","v":""},null,null,null,null,null,null,null,null,{"$f":"IF($C34=\"\",\"\", IF(FS34=1,0,IF(FQ34<>0,500,FL34*$AE34/$AH34+FM34/$AH34*5+FN34/$AH34*25+FO34*50+FP34*50)))","v":""},null,{"$f":"IF(C34<>\"\",C34,\"\")","v":""},null,null,null,null,null,null,null,null,{"$f":"IF($C34=\"\",\"\", IF(GD34=1,0,IF(GB34<>0,500,FW34*$AE34/$AH34+FX34/$AH34*5+FY34/$AH34*25+FZ34*50+GA34*50)))","v":""},null,{"$f":"IF(C34<>\"\",C34,\"\")","v":""},null,null,null,null,null,null,null,null,{"$f":"IF($C34=\"\",\"\", IF(GO34=1,0,IF(GM34<>0,500,GH34*$AE34/$AH34+GI34/$AH34*5+GJ34/$AH34*25+GK34*50+GL34*50)))","v":""},null,{"$f":"IF(C34<>\"\",C34,\"\")","v":""},null,null,null,null,null,null,null,null,{"$f":"IF($C34=\"\",\"\", IF(GZ34=1,0,IF(GX34<>0,500,GS34*$AE34/$AH34+GT34/$AH34*5+GU34/$AH34*25+GV34*50+GW34*50)))","v":""},null,{"$f":"IF(C34<>\"\",C34,\"\")","v":""},null,null,null,null,null,null,null,null,{"$f":"IF($C34=\"\",\"\", IF(HK34=1,0,IF(HI34<>0,500,HD34*$AE34/$AH34+HE34/$AH34*5+HF34/$AH34*25+HG34*50+HH34*50)))","v":""},null,{"$f":"IF(C34<>\"\",C34,\"\")","v":""},null,null,null,null,null,null,null,null,{"$f":"IF($C34=\"\",\"\", IF(HV34=1,0,IF(HT34<>0,500,HO34*$AE34/$AH34+HP34/$AH34*5+HQ34/$AH34*25+HR34*50+HS34*50)))","v":""},null,{"$f":"IF(C34<>\"\",C34,\"\")","v":""},null,null,null,null,null,null,null,null,{"$f":"IF($C34=\"\",\"\", IF(IG34=1,0,IF(IE34<>0,500,HZ34*$AE34/$AH34+IA34/$AH34*5+IB34/$AH34*25+IC34*50+ID34*50)))","v":""}]
[null,{"$f":"IF(C35=0,\"\",ROW(C35)-4)","v":""},null,null,null,null,null,{"$f":"IF(C35=0,\"\",IF(OR(BB35=1,BC35<>0),BC35,\"-\"))","v":""},{"$f":"IF(C35=0,\"\",IF(OR(BM35=1,BN35<>0),BN35,\"-\"))","v":""},{"$f":"IF(C35=0,\"\",IF(OR(BX35=1,BY35<>0),BY35,\" -\"))","v":""},{"$f":"IF(C35=0,\"\",IF(OR(CJ35<>0,CI35=1),CJ35,\" -\"))","v":""},{"$f":"IF(C35=0,\"\",IF(OR(CU35<>0,CT35=1),CU35,\" -\"))","v":""},{"$f":"IF(C35=0,\"\",IF(OR(DF35<>0,DE35=1),DF35,\" -\"))","v":""},{"$f":"IF(C35=0,\"\",IF(OR(DQ35<>0,DP35=1),DQ35,\" -\"))","v":""},{"$f":"IF(C35=0,\"\",IF(OR(EB35<>0,EA35=1),EB35,\" -\"))","v":""},{"$f":"IF(C35=0,\"\",IF(OR(EM35<>0,EL35=1),EM35,\" -\"))","v":""},{"$f":"IF(C35=0,\"\",IF(OR(EX35<>0,EW35=1),EX35,\" -\"))","v":""},{"$f":"IF(C35=0,\"\",IF(OR(FI35<>0,FH35=1),FI35,\" -\"))","v":""},{"$f":"IF(C35=0,\"\",IF(OR(FT35<>0,FS35=1),FT35,\" -\"))","v":""},{"$f":"IF(C35=0,\"\",IF(OR(GE35<>0,GD35=1),GE35,\" -\"))","v":""},{"$f":"IF(C35=0,\"\",IF(OR(GP35<>0,GO35=1),GP35,\" -\"))","v":""},{"$f":"IF(C35=0,\"\",IF(OR(HA35<>0,GZ35=1),HA35,\" -\"))","v":""},{"$f":"IF(C35=0,\"\",IF(OR(HL35<>0,HK35=1),HL35,\" -\"))","v":""},{"$f":"IF(C35=0,\"\",IF(AJ35<>0,AJ35,\" -\"))","v":""},{"$f":"IF(C35=0,\"\",IF(OR(HW35<>0,HV35=1),HW35,\" -\"))","v":""},{"$f":"IF(C35=0,\"\",IF(OR(IH35<>0,IG35=1),IH35,\" -\"))","v":""},{"$f":"IF(C35=0,\"\",IF(AL35=1,\"DNF\",IF(AL35=2,\"DSQ\",IF(AM35<>1,\"~ \"&ROUND(SUM(H35:X35),3),ROUND(SUM(H35:X35),3)))))","v":""},null,null,{"$f":"IF(C35<>\"\",C35,\"\")","v":""},{"$f":"IF(AD35<>\"\",3,\"\")","v":""},null,null,{"$f":"IF(AD35<>\"\",(AF35/1000*AG35/1000)/2,\"\")","v":""},null,null,null,null,null,null,null,{"$f":"IF(C35=0,99999,IF(AL35>0,9999,SUM(H35:X35)-AN35))","v":99999},{"$f":"IF(C35=0,99999,IF(AL35=1,9999,SUM(Y35:Z35)))","v":99999},null,null,{"$f":"IF(C35<>\"\",C35,\"\")","v":""},null,null,null,null,null,null,null,null,{"$f":"IF($C35=\"\",\"\", IF(BB35=1,0,IF(AZ35<>0,500,AU35*$AE35/$AH35+AV35/$AH35*5+AW35/$AH35*25+AX35*50+AY35*50)))","v":""},null,{"$f":"IF(C35<>\"\",C35,\"\")","v":""},null,null,null,null,null,null,null,null,{"$f":"IF($C35=\"\",\"\", IF(BM35=1,0,IF(BK35<>0,500,BF35*$AE35/$AH35+BG35/$AH35*5+BH35/$AH35*25+BI35*50+BJ35*50)))","v":""},null,{"$f":"IF(C35<>\"\",C35,\"\")","v":""},null,null,null,null,null,null,null,null,{"$f":"IF($C35=\"\",\"\", IF(BX35=1,0,IF(BV35<>0,500,BQ35*$AE35/$AH35+BR35/$AH35*5+BS35/$AH35*25+BT35*50+BU35*50)))","v":""},null,{"$f":"IF(C35<>\"\",C35,\"\")","v":""},null,null,null,null,null,null,null,null,{"$f":"IF($C35=\"\",\"\", IF(CI35=1,0,IF(CG35<>0,500,CB35*$AE35/$AH35+CC35/$AH35*5+CD35/$AH35*25+CE35*50+CF35*50)))","v":""},null,{"$f":"IF(C35<>\"\",C35,\"\")","v":""},null,null,null,null,null,null,null,null,{"$f":"IF($C35=\"\",\"\", IF(CT35=1,0,IF(CR35<>0,500,CM35*$AE35/$AH35+CN35/$AH35*5+CO35/$AH35*25+CP35*50+CQ35*50)))","v":""},null,{"$f":"IF(C35<>\"\",C35,\"\")","v":""},null,null,null,null,null,null,null,null,{"$f":"IF($C35=\"\",\"\", IF(DE35=1,0,IF(DC35<>0,500,CX35*$AE35/$AH35+CY35/$AH35*5+CZ35/$AH35*25+DA35*50+DB35*50)))","v":""},null,{"$f":"IF(C35<>\"\",C35,\"\")","v":""},null,null,null,null,null,null,null,null,{"$f":"IF($C35=\"\",\"\", IF(DP35=1,0,IF(DN35<>0,500,DI35*$AE35/$AH35+DJ35/$AH35*5+DK35/$AH35*25+DL35*50+DM35*50)))","v":""},null,{"$f":"IF(C35<>\"\",C35,\"\")","v":""},null,null,null,null,null,null,null,null,{"$f":"IF($C35=\"\",\"\", IF(EA35=1,0,IF(DY35<>0,500,DT35*$AE35/$AH35+DU35/$AH35*5+DV35/$AH35*25+DW35*50+DX35*50)))","v":""},null,{"$f":"IF(C35<>\"\",C35,\"\")","v":""},null,null,null,null,null,null,null,null,{"$f":"IF($C35=\"\",\"\", IF(EL35=1,0,IF(EJ35<>0,500,EE35*$AE35/$AH35+EF35/$AH35*5+EG35/$AH35*25+EH35*50+EI35*50)))","v":""},null,{"$f":"IF(C35<>\"\",C35,\"\")","v":""},null,null,null,null,null,null,null,null,{"$f":"IF($C35=\"\",\"\", IF(EW35=1,0,IF(EU35<>0,500,EP35*$AE35/$AH35+EQ35/$AH35*5+ER35/$AH35*25+ES35*50+ET35*50)))","v":""},null,{"$f":"IF(C35<>\"\",C35,\"\")","v":""},null,null,null,null,null,null,null,null,{"$f":"IF($C35=\"\",\"\", IF(FH35=1,0,IF(FF35<>0,500,FA35*$AE35/$AH35+FB35/$AH35*5+FC35/$AH35*25+FD35*50+FE35*50)))","v":""},null,{"$f":"IF(C35<>\"\",C35,\"\")","v":""},null,null,null,null,null,null,null,null,{"$f":"IF($C35=\"\",\"\", IF(FS35=1,0,IF(FQ35<>0,500,FL35*$AE35/$AH35+FM35/$AH35*5+FN35/$AH35*25+FO35*50+FP35*50)))","v":""},null,{"$f":"IF(C35<>\"\",C35,\"\")","v":""},null,null,null,null,null,null,null,null,{"$f":"IF($C35=\"\",\"\", IF(GD35=1,0,IF(GB35<>0,500,FW35*$AE35/$AH35+FX35/$AH35*5+FY35/$AH35*25+FZ35*50+GA35*50)))","v":""},null,{"$f":"IF(C35<>\"\",C35,\"\")","v":""},null,null,null,null,null,null,null,null,{"$f":"IF($C35=\"\",\"\", IF(GO35=1,0,IF(GM35<>0,500,GH35*$AE35/$AH35+GI35/$AH35*5+GJ35/$AH35*25+GK35*50+GL35*50)))","v":""},null,{"$f":"IF(C35<>\"\",C35,\"\")","v":""},null,null,null,null,null,null,null,null,{"$f":"IF($C35=\"\",\"\", IF(GZ35=1,0,IF(GX35<>0,500,GS35*$AE35/$AH35+GT35/$AH35*5+GU35/$AH35*25+GV35*50+GW35*50)))","v":""},null,{"$f":"IF(C35<>\"\",C35,\"\")","v":""},null,null,null,null,null,null,null,null,{"$f":"IF($C35=\"\",\"\", IF(HK35=1,0,IF(HI35<>0,500,HD35*$AE35/$AH35+HE35/$AH35*5+HF35/$AH35*25+HG35*50+HH35*50)))","v":""},null,{"$f":"IF(C35<>\"\",C35,\"\")","v":""},null,null,null,null,null,null,null,null,{"$f":"IF($C35=\"\",\"\", IF(HV35=1,0,IF(HT35<>0,500,HO35*$AE35/$AH35+HP35/$AH35*5+HQ35/$AH35*25+HR35*50+HS35*50)))","v":""},null,{"$f":"IF(C35<>\"\",C35,\"\")","v":""},null,null,null,null,null,null,null,null,{"$f":"IF($C35=\"\",\"\", IF(IG35=1,0,IF(IE35<>0,500,HZ35*$AE35/$AH35+IA35/$AH35*5+IB35/$AH35*25+IC35*50+ID35*50)))","v":""}]
[null,{"$f":"IF(C36=0,\"\",ROW(C36)-4)","v":""},null,null,null,null,null,{"$f":"IF(C36=0,\"\",IF(OR(BB36=1,BC36<>0),BC36,\"-\"))","v":""},{"$f":"IF(C36=0,\"\",IF(OR(BM36=1,BN36<>0),BN36,\"-\"))","v":""},{"$f":"IF(C36=0,\"\",IF(OR(BX36=1,BY36<>0),BY36,\" -\"))","v":""},{"$f":"IF(C36=0,\"\",IF(OR(CJ36<>0,CI36=1),CJ36,\" -\"))","v":""},{"$f":"IF(C36=0,\"\",IF(OR(CU36<>0,CT36=1),CU36,\" -\"))","v":""},{"$f":"IF(C36=0,\"\",IF(OR(DF36<>0,DE36=1),DF36,\" -\"))","v":""},{"$f":"IF(C36=0,\"\",IF(OR(DQ36<>0,DP36=1),DQ36,\" -\"))","v":""},{"$f":"IF(C36=0,\"\",IF(OR(EB36<>0,EA36=1),EB36,\" -\"))","v":""},{"$f":"IF(C36=0,\"\",IF(OR(EM36<>0,EL36=1),EM36,\" -\"))","v":""},{"$f":"IF(C36=0,\"\",IF(OR(EX36<>0,EW36=1),EX36,\" -\"))","v":""},{"$f":"IF(C36=0,\"\",IF(OR(FI36<>0,FH36=1),FI36,\" -\"))","v":""},{"$f":"IF(C36=0,\"\",IF(OR(FT36<>0,FS36=1),FT36,\" -\"))","v":""},{"$f":"IF(C36=0,\"\",IF(OR(GE36<>0,GD36=1),GE36,\" -\"))","v":""},{"$f":"IF(C36=0,\"\",IF(OR(GP36<>0,GO36=1),GP36,\" -\"))","v":""},{"$f":"IF(C36=0,\"\",IF(OR(HA36<>0,GZ36=1),HA36,\" -\"))","v":""},{"$f":"IF(C36=0,\"\",IF(OR(HL36<>0,HK36=1),HL36,\" -\"))","v":""},{"$f":"IF(C36=0,\"\",IF(AJ36<>0,AJ36,\" -\"))","v":""},{"$f":"IF(C36=0,\"\",IF(OR(HW36<>0,HV36=1),HW36,\" -\"))","v":""},{"$f":"IF(C36=0,\"\",IF(OR(IH36<>0,IG36=1),IH36,\" -\"))","v":""},{"$f":"IF(C36=0,\"\",IF(AL36=1,\"DNF\",IF(AL36=2,\"DSQ\",IF(AM36<>1,\"~ \"&ROUND(SUM(H36:X36),3),ROUND(SUM(H36:X36),3)))))","v":""},null,null,{"$f":"IF(C36<>\"\",C36,\"\")","v":""},{"$f":"IF(AD36<>\"\",3,\"\")","v":""},null,null,{"$f":"IF(AD36<>\"\",(AF36/1000*AG36/1000)/2,\"\")","v":""},null,null,null,null,null,null,null,{"$f":"IF(C36=0,99999,IF(AL36>0,9999,SUM(H36:X36)-AN36))","v":99999},{"$f":"IF(C36=0,99999,IF(AL36=1,9999,SUM(Y36:Z36)))","v":99999},null,null,{"$f":"IF(C36<>\"\",C36,\"\")","v":""},null,null,null,null,null,null,null,null,{"$f":"IF($C36=\"\",\"\", IF(BB36=1,0,IF(AZ36<>0,500,AU36*$AE36/$AH36+AV36/$AH36*5+AW36/$AH36*25+AX36*50+AY36*50)))","v":""},null,{"$f":"IF(C36<>\"\",C36,\"\")","v":""},null,null,null,null,null,null,null,null,{"$f":"IF($C36=\"\",\"\", IF(BM36=1,0,IF(BK36<>0,500,BF36*$AE36/$AH36+BG36/$AH36*5+BH36/$AH36*25+BI36*50+BJ36*50)))","v":""},null,{"$f":"IF(C36<>\"\",C36,\"\")","v":""},null,null,null,null,null,null,null,null,{"$f":"IF($C36=\"\",\"\", IF(BX36=1,0,IF(BV36<>0,500,BQ36*$AE36/$AH36+BR36/$AH36*5+BS36/$AH36*25+BT36*50+BU36*50)))","v":""},null,{"$f":"IF(C36<>\"\",C36,\"\")","v":""},null,null,null,null,null,null,null,null,{"$f":"IF($C36=\"\",\"\", IF(CI36=1,0,IF(CG36<>0,500,CB36*$AE36/$AH36+CC36/$AH36*5+CD36/$AH36*25+CE36*50+CF36*50)))","v":""},null,{"$f":"IF(C36<>\"\",C36,\"\")","v":""},null,null,null,null,null,null,null,null,{"$f":"IF($C36=\"\",\"\", IF(CT36=1,0,IF(CR36<>0,500,CM36*$AE36/$AH36+CN36/$AH36*5+CO36/$AH36*25+CP36*50+CQ36*50)))","v":""},null,{"$f":"IF(C36<>\"\",C36,\"\")","v":""},null,null,null,null,null,null,null,null,{"$f":"IF($C36=\"\",\"\", IF(DE36=1,0,IF(DC36<>0,500,CX36*$AE36/$AH36+CY36/$AH36*5+CZ36/$AH36*25+DA36*50+DB36*50)))","v":""},null,{"$f":"IF(C36<>\"\",C36,\"\")","v":""},null,null,null,null,null,null,null,null,{"$f":"IF($C36=\"\",\"\", IF(DP36=1,0,IF(DN36<>0,500,DI36*$AE36/$AH36+DJ36/$AH36*5+DK36/$AH36*25+DL36*50+DM36*50)))","v":""},null,{"$f":"IF(C36<>\"\",C36,\"\")","v":""},null,null,null,null,null,null,null,null,{"$f":"IF($C36=\"\",\"\", IF(EA36=1,0,IF(DY36<>0,500,DT36*$AE36/$AH36+DU36/$AH36*5+DV36/$AH36*25+DW36*50+DX36*50)))","v":""},null,{"$f":"IF(C36<>\"\",C36,\"\")","v":""},null,null,null,null,null,null,null,null,{"$f":"IF($C36=\"\",\"\", IF(EL36=1,0,IF(EJ36<>0,500,EE36*$AE36/$AH36+EF36/$AH36*5+EG36/$AH36*25+EH36*50+EI36*50)))","v":""},null,{"$f":"IF(C36<>\"\",C36,\"\")","v":""},null,null,null,null,null,null,null,null,{"$f":"IF($C36=\"\",\"\", IF(EW36=1,0,IF(EU36<>0,500,EP36*$AE36/$AH36+EQ36/$AH36*5+ER36/$AH36*25+ES36*50+ET36*50)))","v":""},null,{"$f":"IF(C36<>\"\",C36,\"\")","v":""},null,null,null,null,null,null,null,null,{"$f":"IF($C36=\"\",\"\", IF(FH36=1,0,IF(FF36<>0,500,FA36*$AE36/$AH36+FB36/$AH36*5+FC36/$AH36*25+FD36*50+FE36*50)))","v":""},null,{"$f":"IF(C36<>\"\",C36,\"\")","v":""},null,null,null,null,null,null,null,null,{"$f":"IF($C36=\"\",\"\", IF(FS36=1,0,IF(FQ36<>0,500,FL36*$AE36/$AH36+FM36/$AH36*5+FN36/$AH36*25+FO36*50+FP36*50)))","v":""},null,{"$f":"IF(C36<>\"\",C36,\"\")","v":""},null,null,null,null,null,null,null,null,{"$f":"IF($C36=\"\",\"\", IF(GD36=1,0,IF(GB36<>0,500,FW36*$AE36/$AH36+FX36/$AH36*5+FY36/$AH36*25+FZ36*50+GA36*50)))","v":""},null,{"$f":"IF(C36<>\"\",C36,\"\")","v":""},null,null,null,null,null,null,null,null,{"$f":"IF($C36=\"\",\"\", IF(GO36=1,0,IF(GM36<>0,500,GH36*$AE36/$AH36+GI36/$AH36*5+GJ36/$AH36*25+GK36*50+GL36*50)))","v":""},null,{"$f":"IF(C36<>\"\",C36,\"\")","v":""},null,null,null,null,null,null,null,null,{"$f":"IF($C36=\"\",\"\", IF(GZ36=1,0,IF(GX36<>0,500,GS36*$AE36/$AH36+GT36/$AH36*5+GU36/$AH36*25+GV36*50+GW36*50)))","v":""},null,{"$f":"IF(C36<>\"\",C36,\"\")","v":""},null,null,null,null,null,null,null,null,{"$f":"IF($C36=\"\",\"\", IF(HK36=1,0,IF(HI36<>0,500,HD36*$AE36/$AH36+HE36/$AH36*5+HF36/$AH36*25+HG36*50+HH36*50)))","v":""},null,{"$f":"IF(C36<>\"\",C36,\"\")","v":""},null,null,null,null,null,null,null,null,{"$f":"IF($C36=\"\",\"\", IF(HV36=1,0,IF(HT36<>0,500,HO36*$AE36/$AH36+HP36/$AH36*5+HQ36/$AH36*25+HR36*50+HS36*50)))","v":""},null,{"$f":"IF(C36<>\"\",C36,\"\")","v":""},null,null,null,null,null,null,null,null,{"$f":"IF($C36=\"\",\"\", IF(IG36=1,0,IF(IE36<>0,500,HZ36*$AE36/$AH36+IA36/$AH36*5+IB36/$AH36*25+IC36*50+ID36*50)))","v":""}]
[null,{"$f":"IF(C37=0,\"\",ROW(C37)-4)","v":""},null,null,null,null,null,{"$f":"IF(C37=0,\"\",IF(OR(BB37=1,BC37<>0),BC37,\"-\"))","v":""},{"$f":"IF(C37=0,\"\",IF(OR(BM37=1,BN37<>0),BN37,\"-\"))","v":""},{"$f":"IF(C37=0,\"\",IF(OR(BX37=1,BY37<>0),BY37,\" -\"))","v":""},{"$f":"IF(C37=0,\"\",IF(OR(CJ37<>0,CI37=1),CJ37,\" -\"))","v":""},{"$f":"IF(C37=0,\"\",IF(OR(CU37<>0,CT37=1),CU37,\" -\"))","v":""},{"$f":"IF(C37=0,\"\",IF(OR(DF37<>0,DE37=1),DF37,\" -\"))","v":""},{"$f":"IF(C37=0,\"\",IF(OR(DQ37<>0,DP37=1),DQ37,\" -\"))","v":""},{"$f":"IF(C37=0,\"\",IF(OR(EB37<>0,EA37=1),EB37,\" -\"))","v":""},{"$f":"IF(C37=0,\"\",IF(OR(EM37<>0,EL37=1),EM37,\" -\"))","v":""},{"$f":"IF(C37=0,\"\",IF(OR(EX37<>0,EW37=1),EX37,\" -\"))","v":""},{"$f":"IF(C37=0,\"\",IF(OR(FI37<>0,FH37=1),FI37,\" -\"))","v":""},{"$f":"IF(C37=0,\"\",IF(OR(FT37<>0,FS37=1),FT37,\" -\"))","v":""},{"$f":"IF(C37=0,\"\",IF(OR(GE37<>0,GD37=1),GE37,\" -\"))","v":""},{"$f":"IF(C37=0,\"\",IF(OR(GP37<>0,GO37=1),GP37,\" -\"))","v":""},{"$f":"IF(C37=0,\"\",IF(OR(HA37<>0,GZ37=1),HA37,\" -\"))","v":""},{"$f":"IF(C37=0,\"\",IF(OR(HL37<>0,HK37=1),HL37,\" -\"))","v":""},{"$f":"IF(C37=0,\"\",IF(AJ37<>0,AJ37,\" -\"))","v":""},{"$f":"IF(C37=0,\"\",IF(OR(HW37<>0,HV37=1),HW37,\" -\"))","v":""},{"$f":"IF(C37=0,\"\",IF(OR(IH37<>0,IG37=1),IH37,\" -\"))","v":""},{"$f":"IF(C37=0,\"\",IF(AL37=1,\"DNF\",IF(AL37=2,\"DSQ\",IF(AM37<>1,\"~ \"&ROUND(SUM(H37:X37),3),ROUND(SUM(H37:X37),3)))))","v":""},null,null,{"$f":"IF(C37<>\"\",C37,\"\")","v":""},{"$f":"IF(AD37<>\"\",3,\"\")","v":""},null,null,{"$f":"IF(AD37<>\"\",(AF37/1000*AG37/1000)/2,\"\")","v":""},null,null,null,null,null,null,null,{"$f":"IF(C37=0,99999,IF(AL37>0,9999,SUM(H37:X37)-AN37))","v":99999},{"$f":"IF(C37=0,99999,IF(AL37=1,9999,SUM(Y37:Z37)))","v":99999},null,null,{"$f":"IF(C37<>\"\",C37,\"\")","v":""},null,null,null,null,null,null,null,null,{"$f":"IF($C37=\"\",\"\", IF(BB37=1,0,IF(AZ37<>0,500,AU37*$AE37/$AH37+AV37/$AH37*5+AW37/$AH37*25+AX37*50+AY37*50)))","v":""},null,{"$f":"IF(C37<>\"\",C37,\"\")","v":""},null,null,null,null,null,null,null,null,{"$f":"IF($C37=\"\",\"\", IF(BM37=1,0,IF(BK37<>0,500,BF37*$AE37/$AH37+BG37/$AH37*5+BH37/$AH37*25+BI37*50+BJ37*50)))","v":""},null,{"$f":"IF(C37<>\"\",C37,\"\")","v":""},null,null,null,null,null,null,null,null,{"$f":"IF($C37=\"\",\"\", IF(BX37=1,0,IF(BV37<>0,500,BQ37*$AE37/$AH37+BR37/$AH37*5+BS37/$AH37*25+BT37*50+BU37*50)))","v":""},null,{"$f":"IF(C37<>\"\",C37,\"\")","v":""},null,null,null,null,null,null,null,null,{"$f":"IF($C37=\"\",\"\", IF(CI37=1,0,IF(CG37<>0,500,CB37*$AE37/$AH37+CC37/$AH37*5+CD37/$AH37*25+CE37*50+CF37*50)))","v":""},null,{"$f":"IF(C37<>\"\",C37,\"\")","v":""},null,null,null,null,null,null,null,null,{"$f":"IF($C37=\"\",\"\", IF(CT37=1,0,IF(CR37<>0,500,CM37*$AE37/$AH37+CN37/$AH37*5+CO37/$AH37*25+CP37*50+CQ37*50)))","v":""},null,{"$f":"IF(C37<>\"\",C37,\"\")","v":""},null,null,null,null,null,null,null,null,{"$f":"IF($C37=\"\",\"\", IF(DE37=1,0,IF(DC37<>0,500,CX37*$AE37/$AH37+CY37/$AH37*5+CZ37/$AH37*25+DA37*50+DB37*50)))","v":""},null,{"$f":"IF(C37<>\"\",C37,\"\")","v":""},null,null,null,null,null,null,null,null,{"$f":"IF($C37=\"\",\"\", IF(DP37=1,0,IF(DN37<>0,500,DI37*$AE37/$AH37+DJ37/$AH37*5+DK37/$AH37*25+DL37*50+DM37*50)))","v":""},null,{"$f":"IF(C37<>\"\",C37,\"\")","v":""},null,null,null,null,null,null,null,null,{"$f":"IF($C37=\"\",\"\", IF(EA37=1,0,IF(DY37<>0,500,DT37*$AE37/$AH37+DU37/$AH37*5+DV37/$AH37*25+DW37*50+DX37*50)))","v":""},null,{"$f":"IF(C37<>\"\",C37,\"\")","v":""},null,null,null,null,null,null,null,null,{"$f":"IF($C37=\"\",\"\", IF(EL37=1,0,IF(EJ37<>0,500,EE37*$AE37/$AH37+EF37/$AH37*5+EG37/$AH37*25+EH37*50+EI37*50)))","v":""},null,{"$f":"IF(C37<>\"\",C37,\"\")","v":""},null,null,null,null,null,null,null,null,{"$f":"IF($C37=\"\",\"\", IF(EW37=1,0,IF(EU37<>0,500,EP37*$AE37/$AH37+EQ37/$AH37*5+ER37/$AH37*25+ES37*50+ET37*50)))","v":""},null,{"$f":"IF(C37<>\"\",C37,\"\")","v":""},null,null,null,null,null,null,null,null,{"$f":"IF($C37=\"\",\"\", IF(FH37=1,0,IF(FF37<>0,500,FA37*$AE37/$AH37+FB37/$AH37*5+FC37/$AH37*25+FD37*50+FE37*50)))","v":""},null,{"$f":"IF(C37<>\"\",C37,\"\")","v":""},null,null,null,null,null,null,null,null,{"$f":"IF($C37=\"\",\"\", IF(FS37=1,0,IF(FQ37<>0,500,FL37*$AE37/$AH37+FM37/$AH37*5+FN37/$AH37*25+FO37*50+FP37*50)))","v":""},null,{"$f":"IF(C37<>\"\",C37,\"\")","v":""},null,null,null,null,null,null,null,null,{"$f":"IF($C37=\"\",\"\", IF(GD37=1,0,IF(GB37<>0,500,FW37*$AE37/$AH37+FX37/$AH37*5+FY37/$AH37*25+FZ37*50+GA37*50)))","v":""},null,{"$f":"IF(C37<>\"\",C37,\"\")","v":""},null,null,null,null,null,null,null,null,{"$f":"IF($C37=\"\",\"\", IF(GO37=1,0,IF(GM37<>0,500,GH37*$AE37/$AH37+GI37/$AH37*5+GJ37/$AH37*25+GK37*50+GL37*50)))","v":""},null,{"$f":"IF(C37<>\"\",C37,\"\")","v":""},null,null,null,null,null,null,null,null,{"$f":"IF($C37=\"\",\"\", IF(GZ37=1,0,IF(GX37<>0,500,GS37*$AE37/$AH37+GT37/$AH37*5+GU37/$AH37*25+GV37*50+GW37*50)))","v":""},null,{"$f":"IF(C37<>\"\",C37,\"\")","v":""},null,null,null,null,null,null,null,null,{"$f":"IF($C37=\"\",\"\", IF(HK37=1,0,IF(HI37<>0,500,HD37*$AE37/$AH37+HE37/$AH37*5+HF37/$AH37*25+HG37*50+HH37*50)))","v":""},null,{"$f":"IF(C37<>\"\",C37,\"\")","v":""},null,null,null,null,null,null,null,null,{"$f":"IF($C37=\"\",\"\", IF(HV37=1,0,IF(HT37<>0,500,HO37*$AE37/$AH37+HP37/$AH37*5+HQ37/$AH37*25+HR37*50+HS37*50)))","v":""},null,{"$f":"IF(C37<>\"\",C37,\"\")","v":""},null,null,null,null,null,null,null,null,{"$f":"IF($C37=\"\",\"\", IF(IG37=1,0,IF(IE37<>0,500,HZ37*$AE37/$AH37+IA37/$AH37*5+IB37/$AH37*25+IC37*50+ID37*50)))","v":""}]
[null,{"$f":"IF(C38=0,\"\",ROW(C38)-4)","v":""},null,null,null,null,null,{"$f":"IF(C38=0,\"\",IF(OR(BB38=1,BC38<>0),BC38,\"-\"))","v":""},{"$f":"IF(C38=0,\"\",IF(OR(BM38=1,BN38<>0),BN38,\"-\"))","v":""},{"$f":"IF(C38=0,\"\",IF(OR(BX38=1,BY38<>0),BY38,\" -\"))","v":""},{"$f":"IF(C38=0,\"\",IF(OR(CJ38<>0,CI38=1),CJ38,\" -\"))","v":""},{"$f":"IF(C38=0,\"\",IF(OR(CU38<>0,CT38=1),CU38,\" -\"))","v":""},{"$f":"IF(C38=0,\"\",IF(OR(DF38<>0,DE38=1),DF38,\" -\"))","v":""},{"$f":"IF(C38=0,\"\",IF(OR(DQ38<>0,DP38=1),DQ38,\" -\"))","v":""},{"$f":"IF(C38=0,\"\",IF(OR(EB38<>0,EA38=1),EB38,\" -\"))","v":""},{"$f":"IF(C38=0,\"\",IF(OR(EM38<>0,EL38=1),EM38,\" -\"))","v":""},{"$f":"IF(C38=0,\"\",IF(OR(EX38<>0,EW38=1),EX38,\" -\"))","v":""},{"$f":"IF(C38=0,\"\",IF(OR(FI38<>0,FH38=1),FI38,\" -\"))","v":""},{"$f":"IF(C38=0,\"\",IF(OR(FT38<>0,FS38=1),FT38,\" -\"))","v":""},{"$f":"IF(C38=0,\"\",IF(OR(GE38<>0,GD38=1),GE38,\" -\"))","v":""},{"$f":"IF(C38=0,\"\",IF(OR(GP38<>0,GO38=1),GP38,\" -\"))","v":""},{"$f":"IF(C38=0,\"\",IF(OR(HA38<>0,GZ38=1),HA38,\" -\"))","v":""},{"$f":"IF(C38=0,\"\",IF(OR(HL38<>0,HK38=1),HL38,\" -\"))","v":""},{"$f":"IF(C38=0,\"\",IF(AJ38<>0,AJ38,\" -\"))","v":""},{"$f":"IF(C38=0,\"\",IF(OR(HW38<>0,HV38=1),HW38,\" -\"))","v":""},{"$f":"IF(C38=0,\"\",IF(OR(IH38<>0,IG38=1),IH38,\" -\"))","v":""},{"$f":"IF(C38=0,\"\",IF(AL38=1,\"DNF\",IF(AL38=2,\"DSQ\",IF(AM38<>1,\"~ \"&ROUND(SUM(H38:X38),3),ROUND(SUM(H38:X38),3)))))","v":""},null,null,{"$f":"IF(C38<>\"\",C38,\"\")","v":""},{"$f":"IF(AD38<>\"\",3,\"\")","v":""},null,null,{"$f":"IF(AD38<>\"\",(AF38/1000*AG38/1000)/2,\"\")","v":""},null,null,null,null,null,null,null,{"$f":"IF(C38=0,99999,IF(AL38>0,9999,SUM(H38:X38)-AN38))","v":99999},{"$f":"IF(C38=0,99999,IF(AL38=1,9999,SUM(Y38:Z38)))","v":99999},null,null,{"$f":"IF(C38<>\"\",C38,\"\")","v":""},null,null,null,null,null,null,null,null,{"$f":"IF($C38=\"\",\"\", IF(BB38=1,0,IF(AZ38<>0,500,AU38*$AE38/$AH38+AV38/$AH38*5+AW38/$AH38*25+AX38*50+AY38*50)))","v":""},null,{"$f":"IF(C38<>\"\",C38,\"\")","v":""},null,null,null,null,null,null,null,null,{"$f":"IF($C38=\"\",\"\", IF(BM38=1,0,IF(BK38<>0,500,BF38*$AE38/$AH38+BG38/$AH38*5+BH38/$AH38*25+BI38*50+BJ38*50)))","v":""},null,{"$f":"IF(C38<>\"\",C38,\"\")","v":""},null,null,null,null,null,null,null,null,{"$f":"IF($C38=\"\",\"\", IF(BX38=1,0,IF(BV38<>0,500,BQ38*$AE38/$AH38+BR38/$AH38*5+BS38/$AH38*25+BT38*50+BU38*50)))","v":""},null,{"$f":"IF(C38<>\"\",C38,\"\")","v":""},null,null,null,null,null,null,null,null,{"$f":"IF($C38=\"\",\"\", IF(CI38=1,0,IF(CG38<>0,500,CB38*$AE38/$AH38+CC38/$AH38*5+CD38/$AH38*25+CE38*50+CF38*50)))","v":""},null,{"$f":"IF(C38<>\"\",C38,\"\")","v":""},null,null,null,null,null,null,null,null,{"$f":"IF($C38=\"\",\"\", IF(CT38=1,0,IF(CR38<>0,500,CM38*$AE38/$AH38+CN38/$AH38*5+CO38/$AH38*25+CP38*50+CQ38*50)))","v":""},null,{"$f":"IF(C38<>\"\",C38,\"\")","v":""},null,null,null,null,null,null,null,null,{"$f":"IF($C38=\"\",\"\", IF(DE38=1,0,IF(DC38<>0,500,CX38*$AE38/$AH38+CY38/$AH38*5+CZ38/$AH38*25+DA38*50+DB38*50)))","v":""},null,{"$f":"IF(C38<>\"\",C38,\"\")","v":""},null,null,null,null,null,null,null,null,{"$f":"IF($C38=\"\",\"\", IF(DP38=1,0,IF(DN38<>0,500,DI38*$AE38/$AH38+DJ38/$AH38*5+DK38/$AH38*25+DL38*50+DM38*50)))","v":""},null,{"$f":"IF(C38<>\"\",C38,\"\")","v":""},null,null,null,null,null,null,null,null,{"$f":"IF($C38=\"\",\"\", IF(EA38=1,0,IF(DY38<>0,500,DT38*$AE38/$AH38+DU38/$AH38*5+DV38/$AH38*25+DW38*50+DX38*50)))","v":""},null,{"$f":"IF(C38<>\"\",C38,\"\")","v":""},null,null,null,null,null,null,null,null,{"$f":"IF($C38=\"\",\"\", IF(EL38=1,0,IF(EJ38<>0,500,EE38*$AE38/$AH38+EF38/$AH38*5+EG38/$AH38*25+EH38*50+EI38*50)))","v":""},null,{"$f":"IF(C38<>\"\",C38,\"\")","v":""},null,null,null,null,null,null,null,null,{"$f":"IF($C38=\"\",\"\", IF(EW38=1,0,IF(EU38<>0,500,EP38*$AE38/$AH38+EQ38/$AH38*5+ER38/$AH38*25+ES38*50+ET38*50)))","v":""},null,{"$f":"IF(C38<>\"\",C38,\"\")","v":""},null,null,null,null,null,null,null,null,{"$f":"IF($C38=\"\",\"\", IF(FH38=1,0,IF(FF38<>0,500,FA38*$AE38/$AH38+FB38/$AH38*5+FC38/$AH38*25+FD38*50+FE38*50)))","v":""},null,{"$f":"IF(C38<>\"\",C38,\"\")","v":""},null,null,null,null,null,null,null,null,{"$f":"IF($C38=\"\",\"\", IF(FS38=1,0,IF(FQ38<>0,500,FL38*$AE38/$AH38+FM38/$AH38*5+FN38/$AH38*25+FO38*50+FP38*50)))","v":""},null,{"$f":"IF(C38<>\"\",C38,\"\")","v":""},null,null,null,null,null,null,null,null,{"$f":"IF($C38=\"\",\"\", IF(GD38=1,0,IF(GB38<>0,500,FW38*$AE38/$AH38+FX38/$AH38*5+FY38/$AH38*25+FZ38*50+GA38*50)))","v":""},null,{"$f":"IF(C38<>\"\",C38,\"\")","v":""},null,null,null,null,null,null,null,null,{"$f":"IF($C38=\"\",\"\", IF(GO38=1,0,IF(GM38<>0,500,GH38*$AE38/$AH38+GI38/$AH38*5+GJ38/$AH38*25+GK38*50+GL38*50)))","v":""},null,{"$f":"IF(C38<>\"\",C38,\"\")","v":""},null,null,null,null,null,null,null,null,{"$f":"IF($C38=\"\",\"\", IF(GZ38=1,0,IF(GX38<>0,500,GS38*$AE38/$AH38+GT38/$AH38*5+GU38/$AH38*25+GV38*50+GW38*50)))","v":""},null,{"$f":"IF(C38<>\"\",C38,\"\")","v":""},null,null,null,null,null,null,null,null,{"$f":"IF($C38=\"\",\"\", IF(HK38=1,0,IF(HI38<>0,500,HD38*$AE38/$AH38+HE38/$AH38*5+HF38/$AH38*25+HG38*50+HH38*50)))","v":""},null,{"$f":"IF(C38<>\"\",C38,\"\")","v":""},null,null,null,null,null,null,null,null,{"$f":"IF($C38=\"\",\"\", IF(HV38=1,0,IF(HT38<>0,500,HO38*$AE38/$AH38+HP38/$AH38*5+HQ38/$AH38*25+HR38*50+HS38*50)))","v":""},null,{"$f":"IF(C38<>\"\",C38,\"\")","v":""},null,null,null,null,null,null,null,null,{"$f":"IF($C38=\"\",\"\", IF(IG38=1,0,IF(IE38<>0,500,HZ38*$AE38/$AH38+IA38/$AH38*5+IB38/$AH38*25+IC38*50+ID38*50)))","v":""}]
[null,{"$f":"IF(C39=0,\"\",ROW(C39)-4)","v":""},null,null,null,null,null,{"$f":"IF(C39=0,\"\",IF(OR(BB39=1,BC39<>0),BC39,\"-\"))","v":""},{"$f":"IF(C39=0,\"\",IF(OR(BM39=1,BN39<>0),BN39,\"-\"))","v":""},{"$f":"IF(C39=0,\"\",IF(OR(BX39=1,BY39<>0),BY39,\" -\"))","v":""},{"$f":"IF(C39=0,\"\",IF(OR(CJ39<>0,CI39=1),CJ39,\" -\"))","v":""},{"$f":"IF(C39=0,\"\",IF(OR(CU39<>0,CT39=1),CU39,\" -\"))","v":""},{"$f":"IF(C39=0,\"\",IF(OR(DF39<>0,DE39=1),DF39,\" -\"))","v":""},{"$f":"IF(C39=0,\"\",IF(OR(DQ39<>0,DP39=1),DQ39,\" -\"))","v":""},{"$f":"IF(C39=0,\"\",IF(OR(EB39<>0,EA39=1),EB39,\" -\"))","v":""},{"$f":"IF(C39=0,\"\",IF(OR(EM39<>0,EL39=1),EM39,\" -\"))","v":""},{"$f":"IF(C39=0,\"\",IF(OR(EX39<>0,EW39=1),EX39,\" -\"))","v":""},{"$f":"IF(C39=0,\"\",IF(OR(FI39<>0,FH39=1),FI39,\" -\"))","v":""},{"$f":"IF(C39=0,\"\",IF(OR(FT39<>0,FS39=1),FT39,\" -\"))","v":""},{"$f":"IF(C39=0,\"\",IF(OR(GE39<>0,GD39=1),GE39,\" -\"))","v":""},{"$f":"IF(C39=0,\"\",IF(OR(GP39<>0,GO39=1),GP39,\" -\"))","v":""},{"$f":"IF(C39=0,\"\",IF(OR(HA39<>0,GZ39=1),HA39,\" -\"))","v":""},{"$f":"IF(C39=0,\"\",IF(OR(HL39<>0,HK39=1),HL39,\" -\"))","v":""},{"$f":"IF(C39=0,\"\",IF(AJ39<>0,AJ39,\" -\"))","v":""},{"$f":"IF(C39=0,\"\",IF(OR(HW39<>0,HV39=1),HW39,\" -\"))","v":""},{"$f":"IF(C39=0,\"\",IF(OR(IH39<>0,IG39=1),IH39,\" -\"))","v":""},{"$f":"IF(C39=0,\"\",IF(AL39=1,\"DNF\",IF(AL39=2,\"DSQ\",IF(AM39<>1,\"~ \"&ROUND(SUM(H39:X39),3),ROUND(SUM(H39:X39),3)))))","v":""},null,null,{"$f":"IF(C39<>\"\",C39,\"\")","v":""},{"$f":"IF(AD39<>\"\",3,\"\")","v":""},null,null,{"$f":"IF(AD39<>\"\",(AF39/1000*AG39/1000)/2,\"\")","v":""},null,null,null,null,null,null,null,{"$f":"IF(C39=0,99999,IF(AL39>0,9999,SUM(H39:X39)-AN39))","v":99999},{"$f":"IF(C39=0,99999,IF(AL39=1,9999,SUM(Y39:Z39)))","v":99999},null,null,{"$f":"IF(C39<>\"\",C39,\"\")","v":""},null,null,null,null,null,null,null,null,{"$f":"IF($C39=\"\",\"\", IF(BB39=1,0,IF(AZ39<>0,500,AU39*$AE39/$AH39+AV39/$AH39*5+AW39/$AH39*25+AX39*50+AY39*50)))","v":""},null,{"$f":"IF(C39<>\"\",C39,\"\")","v":""},null,null,null,null,null,null,null,null,{"$f":"IF($C39=\"\",\"\", IF(BM39=1,0,IF(BK39<>0,500,BF39*$AE39/$AH39+BG39/$AH39*5+BH39/$AH39*25+BI39*50+BJ39*50)))","v":""},null,{"$f":"IF(C39<>\"\",C39,\"\")","v":""},null,null,null,null,null,null,null,null,{"$f":"IF($C39=\"\",\"\", IF(BX39=1,0,IF(BV39<>0,500,BQ39*$AE39/$AH39+BR39/$AH39*5+BS39/$AH39*25+BT39*50+BU39*50)))","v":""},null,{"$f":"IF(C39<>\"\",C39,\"\")","v":""},null,null,null,null,null,null,null,null,{"$f":"IF($C39=\"\",\"\", IF(CI39=1,0,IF(CG39<>0,500,CB39*$AE39/$AH39+CC39/$AH39*5+CD39/$AH39*25+CE39*50+CF39*50)))","v":""},null,{"$f":"IF(C39<>\"\",C39,\"\")","v":""},null,null,null,null,null,null,null,null,{"$f":"IF($C39=\"\",\"\", IF(CT39=1,0,IF(CR39<>0,500,CM39*$AE39/$AH39+CN39/$AH39*5+CO39/$AH39*25+CP39*50+CQ39*50)))","v":""},null,{"$f":"IF(C39<>\"\",C39,\"\")","v":""},null,null,null,null,null,null,null,null,{"$f":"IF($C39=\"\",\"\", IF(DE39=1,0,IF(DC39<>0,500,CX39*$AE39/$AH39+CY39/$AH39*5+CZ39/$AH39*25+DA39*50+DB39*50)))","v":""},null,{"$f":"IF(C39<>\"\",C39,\"\")","v":""},null,null,null,null,null,null,null,null,{"$f":"IF($C39=\"\",\"\", IF(DP39=1,0,IF(DN39<>0,500,DI39*$AE39/$AH39+DJ39/$AH39*5+DK39/$AH39*25+DL39*50+DM39*50)))","v":""},null,{"$f":"IF(C39<>\"\",C39,\"\")","v":""},null,null,null,null,null,null,null,null,{"$f":"IF($C39=\"\",\"\", IF(EA39=1,0,IF(DY39<>0,500,DT39*$AE39/$AH39+DU39/$AH39*5+DV39/$AH39*25+DW39*50+DX39*50)))","v":""},null,{"$f":"IF(C39<>\"\",C39,\"\")","v":""},null,null,null,null,null,null,null,null,{"$f":"IF($C39=\"\",\"\", IF(EL39=1,0,IF(EJ39<>0,500,EE39*$AE39/$AH39+EF39/$AH39*5+EG39/$AH39*25+EH39*50+EI39*50)))","v":""},null,{"$f":"IF(C39<>\"\",C39,\"\")","v":""},null,null,null,null,null,null,null,null,{"$f":"IF($C39=\"\",\"\", IF(EW39=1,0,IF(EU39<>0,500,EP39*$AE39/$AH39+EQ39/$AH39*5+ER39/$AH39*25+ES39*50+ET39*50)))","v":""},null,{"$f":"IF(C39<>\"\",C39,\"\")","v":""},null,null,null,null,null,null,null,null,{"$f":"IF($C39=\"\",\"\", IF(FH39=1,0,IF(FF39<>0,500,FA39*$AE39/$AH39+FB39/$AH39*5+FC39/$AH39*25+FD39*50+FE39*50)))","v":""},null,{"$f":"IF(C39<>\"\",C39,\"\")","v":""},null,null,null,null,null,null,null,null,{"$f":"IF($C39=\"\",\"\", IF(FS39=1,0,IF(FQ39<>0,500,FL39*$AE39/$AH39+FM39/$AH39*5+FN39/$AH39*25+FO39*50+FP39*50)))","v":""},null,{"$f":"IF(C39<>\"\",C39,\"\")","v":""},null,null,null,null,null,null,null,null,{"$f":"IF($C39=\"\",\"\", IF(GD39=1,0,IF(GB39<>0,500,FW39*$AE39/$AH39+FX39/$AH39*5+FY39/$AH39*25+FZ39*50+GA39*50)))","v":""},null,{"$f":"IF(C39<>\"\",C39,\"\")","v":""},null,null,null,null,null,null,null,null,{"$f":"IF($C39=\"\",\"\", IF(GO39=1,0,IF(GM39<>0,500,GH39*$AE39/$AH39+GI39/$AH39*5+GJ39/$AH39*25+GK39*50+GL39*50)))","v":""},null,{"$f":"IF(C39<>\"\",C39,\"\")","v":""},null,null,null,null,null,null,null,null,{"$f":"IF($C39=\"\",\"\", IF(GZ39=1,0,IF(GX39<>0,500,GS39*$AE39/$AH39+GT39/$AH39*5+GU39/$AH39*25+GV39*50+GW39*50)))","v":""},null,{"$f":"IF(C39<>\"\",C39,\"\")","v":""},null,null,null,null,null,null,null,null,{"$f":"IF($C39=\"\",\"\", IF(HK39=1,0,IF(HI39<>0,500,HD39*$AE39/$AH39+HE39/$AH39*5+HF39/$AH39*25+HG39*50+HH39*50)))","v":""},null,{"$f":"IF(C39<>\"\",C39,\"\")","v":""},null,null,null,null,null,null,null,null,{"$f":"IF($C39=\"\",\"\", IF(HV39=1,0,IF(HT39<>0,500,HO39*$AE39/$AH39+HP39/$AH39*5+HQ39/$AH39*25+HR39*50+HS39*50)))","v":""},null,{"$f":"IF(C39<>\"\",C39,\"\")","v":""},null,null,null,null,null,null,null,null,{"$f":"IF($C39=\"\",\"\", IF(IG39=1,0,IF(IE39<>0,500,HZ39*$AE39/$AH39+IA39/$AH39*5+IB39/$AH39*25+IC39*50+ID39*50)))","v":""}]
[]
[]
[]
[null,null,null,null,null," "]